{"text_format":"1","workbook":"xlsx","n_sheets":48,"sheets":["Q_1","Q_2","Q_3","Q_4","Q_5","Q_6","Q_7","Q_8","Q_9","Q_10","Q_11","Q_12","Q_13","Q_14","Q_15","Q_16","Q_17","Q_18","Q_19","Q_20","SG_1","SG_2","SG_3","SG_4","SG_5","SG_6","SG_7","SG_8","SG_9","SG_10","SG_11","SG_12","SG_13","SG_14","SG_15","SG_16","SG_17","SG_18","SG_19","SG_20","Sumy_All_Q","Grafy","Questions","Technický návod","Stručný návod","Podrobný návod","Pomo","Pomo_1"],"not_rendered":{"charts":21,"images":141,"macros":1,"external_links":0,"defined_names":3,"comments":0,"pivot_tables":0},"unopened":[],"bounds":{"document_bytes":16777216,"sheet_cells":100000,"rows_first":2000,"rows_last":500,"rows_between":2000,"halvings":0,"cell_chars":16384,"cell_head_chars":4096},"cells_cut":0,"cells_raw":0,"read":"whole","date_system":"1900"}

{"sheet":"Q_1","index":0,"n_rows":72,"n_cols":70,"rows_kept":72,"cut":false,"hidden":false,"merged":[]}
["\"1. S kým z triedy by si chcel sedieť v jednej lavici?\""]
[null,3]
[null,28,null,1,2,3,4,5,6,7,8,9,10,11,12,13,14,15,16,17,18,19,20,21,22,23,24,25,26,27,28]
[null,null,null,"\"01_Oso m\"","\"02_Oso m\"","\"03_Oso m\"","\"04_Oso m\"","\"05_Oso m\"","\"*06_Oso m\"","\"07_Oso m\"","\"08_Oso m\"","\"09_Oso f\"","\"**10_Oso m\"","\"11_Oso m\"","\"12_Oso m\"","\"13_Oso m\"","\"14_Oso m\"","\"15_Oso f\"","\"16_Oso f\"","\"17_Oso f\"","\"18_Oso f\"","\"19_Oso f\"","\"20_Oso f\"","\"21_Oso f\"","\"22_Oso f\"","\"23_Oso f\"","\"24_Oso f\"","\"25_Oso f\"","\"26_Oso f\"","\"27_Oso f\"","\"28_Oso f\""]
["→",1,"\"01_Oso m\"",null,null,null,null,1,null,null,null,null,3,2,null,null,null,null,null,null,null,null,null,null,null,null,null,null,null,null,null,3,null,null,null,null,null,null,null,null,null,null,2,0,1,1,4,0,4,4,6,2,3,3,1,2,0,2,0,4,1,2,2,5,10,3,3,2,8,6]
[null,2,"\"02_Oso m\"",null,null,null,null,null,null,null,1,3,null,2,null,null,null,null,null,null,null,null,null,null,null,null,null,null,null,null,null,3,null,null,null,null,null,null,null,null,null,null,2,0,0,0,1,0,0,2,1,0,1,0,1,2,0,0,0,3,1,0,0,1,2,1,2,1,3,3]
[null,3,"\"03_Oso m\"",null,null,null,null,null,null,null,null,2,null,null,3,null,null,null,null,null,null,null,null,null,null,null,null,null,null,null,1,3,null,null,null,null,null,null,null,null,null,null,0,0,1,1,1,0,2,0,3,0,2,1,0,0,0,2,0,1,0,2,1,1,2,2,1,0,2,2]
[null,4,"\"04_Oso m\"",null,null,null,null,null,null,null,null,null,null,null,null,null,null,null,null,null,null,null,null,null,null,3,null,1,null,null,2,3,null,null,null,null,null,null,null,null,null,null,0,0,0,0,2,0,2,2,2,2,0,2,0,0,0,0,0,0,0,0,1,3,6,0,0,1,3,1]
[null,5,"\"05_Oso m\"",1,null,null,null,null,null,3,null,2,null,null,null,null,null,null,null,null,null,null,null,null,null,null,null,null,null,null,null,3,null,null,null,null,null,null,null,null,null,null,7.1428571428571423,0,0,0,3.5714285714285712,0,0,7.1428571428571423,3.5714285714285712,0,3.5714285714285712,0,3.5714285714285712,7.1428571428571423,0,0,0,10.714285714285714,3.5714285714285712,0,0,3.5714285714285712,7.1428571428571423,3.5714285714285712,7.1428571428571423,3.5714285714285712,10.714285714285714,10.714285714285714]
[null,6,"\"*06_Oso m\"",null,null,null,null,null,null,null,null,null,3,1,2,null,null,null,null,null,null,null,null,null,null,null,null,null,null,null,null,3,null,null,null,null,null,null,null,null,null,null,0,0,3.5714285714285712,3.5714285714285712,3.5714285714285712,0,7.1428571428571423,0,10.714285714285714,0,7.1428571428571423,3.5714285714285712,0,0,0,7.1428571428571423,0,3.5714285714285712,0,7.1428571428571423,3.5714285714285712,3.5714285714285712,7.1428571428571423,7.1428571428571423,3.5714285714285712,0,7.1428571428571423,7.1428571428571423]
[null,7,"\"07_Oso m\"",null,null,null,null,3,null,null,null,1,null,null,null,null,null,null,null,null,null,null,null,null,null,null,null,null,null,null,2,3,null,null,null,null,null,null,null,null,null,null,0,0,0,0,7.1428571428571423,0,7.1428571428571423,7.1428571428571423,7.1428571428571423,7.1428571428571423,0,7.1428571428571423,0,0,0,0,0,0,0,0,3.5714285714285712,10.714285714285714,21.428571428571427,0,0,3.5714285714285712,10.714285714285714,3.5714285714285712]
[null,8,"\"08_Oso m\"",null,null,null,null,null,null,2,null,3,null,null,null,null,null,null,null,null,null,null,null,null,null,null,null,null,null,null,1,3,null,null,null,null,null,null,null,null,null,null,7.1428571428571423,0,3.5714285714285712,3.5714285714285712,14.285714285714285,0,14.285714285714285,14.285714285714285,21.428571428571427,7.1428571428571423,10.714285714285714,10.714285714285714,3.5714285714285712,7.1428571428571423,0,7.1428571428571423,0,14.285714285714285,3.5714285714285712,7.1428571428571423,7.1428571428571423,17.857142857142858,35.714285714285715,10.714285714285714,10.714285714285714,7.1428571428571423,28.571428571428569,21.428571428571427]
[null,9,"\"09_Oso f\"",null,null,2,null,null,null,3,null,null,null,null,null,null,null,null,null,null,null,null,null,null,null,null,null,null,null,null,1,3]
[null,10,"\"**10_Oso m\"",1,null,null,null,2,null,null,3,null,null,null,null,null,null,null,null,null,null,null,null,null,null,null,null,null,null,null,null,3]
[null,11,"\"11_Oso m\"",null,null,null,null,null,null,2,1,null,null,null,null,null,null,null,null,null,null,null,null,null,null,null,null,null,null,null,3,3]
[null,12,"\"12_Oso m\"",null,null,null,null,null,null,null,null,null,null,null,null,null,null,null,null,null,null,null,2,3,null,1,null,null,null,null,null,3]
[null,13,"\"13_Oso m\"",null,null,null,2,null,null,null,null,null,null,null,3,null,1,null,null,null,null,null,null,null,null,null,null,null,null,null,null,3]
[null,14,"\"14_Oso m\"",null,null,null,null,null,null,null,3,2,null,null,null,1,null,null,null,null,null,null,null,null,null,null,null,null,null,null,null,3]
[null,15,"\"15_Oso f\"",null,null,null,null,null,null,null,null,null,null,null,null,null,null,null,null,null,null,null,null,null,3,2,null,null,1,null,null,3]
[null,16,"\"16_Oso f\"",null,null,null,null,null,null,null,null,null,null,null,null,null,null,null,null,null,null,null,null,null,3,null,2,null,null,1,null,3]
[null,17,"\"17_Oso f\"",null,null,null,null,null,null,null,null,null,null,null,null,null,null,null,2,null,null,null,null,null,1,null,null,null,null,3,null,3]
[null,18,"\"18_Oso f\"",null,null,null,null,null,null,null,null,null,null,null,null,null,null,null,null,null,null,null,2,null,null,3,null,null,null,1,null,3]
[null,19,"\"19_Oso f\"",null,null,null,null,null,null,null,null,null,null,null,null,null,null,null,null,null,1,null,null,null,null,3,null,null,null,2,null,3]
[null,20,"\"20_Oso f\"",null,null,null,null,null,null,null,null,null,null,null,null,null,null,null,null,null,2,null,null,null,null,3,null,null,null,1,null,3]
[null,21,"\"21_Oso f\"",null,null,null,null,null,null,null,null,null,null,null,null,null,null,null,null,null,null,null,null,null,3,null,1,null,null,2,null,3]
[null,22,"\"22_Oso f\"",null,null,null,null,null,null,null,null,null,null,null,null,null,null,null,null,null,null,null,null,null,null,2,null,1,null,3,null,3]
[null,23,"\"23_Oso f\"",null,null,null,null,3,null,null,null,null,null,null,null,null,null,null,null,null,1,null,null,null,null,null,null,2,null,null,null,3]
[null,24,"\"24_Oso f\"",null,null,null,null,null,null,null,null,null,null,null,null,null,null,null,null,null,null,1,null,2,null,null,null,null,3,null,null,3]
[null,25,"\"25_Oso f\"",null,null,null,null,null,null,null,null,null,null,null,null,null,null,null,null,null,null,null,null,null,2,1,null,null,null,3,null,3]
[null,26,"\"26_Oso f\"",null,null,null,null,null,null,null,null,null,null,null,null,null,1,null,null,null,null,null,null,null,null,3,2,null,null,null,null,3]
[null,27,"\"27_Oso f\"",null,null,null,null,null,null,null,null,null,null,null,null,null,null,null,2,null,1,null,null,null,null,3,null,null,null,null,null,3]
[null,28,"\"28_Oso f\"",null,null,null,null,null,null,null,null,null,null,null,null,null,null,null,null,null,null,null,null,null,null,null,null,null,null,null,null,0]
[null,null,"Suma volieb 1 + 2 + 3 spolu",2,0,1,1,4,0,4,4,6,2,3,3,1,2,0,2,0,4,1,2,2,5,10,3,3,2,8,6,{"$f":"SUM($D$33:$AE$33)","v":81}]
[null,null,"Suma volieb 1",{"$f":"COUNTIF(D5:D32,1)","v":2},0,0,0,1,0,0,2,1,0,1,0,1,2,0,0,0,3,1,0,0,1,2,1,2,1,3,3]
[null,null,"Suma volieb 2",{"$f":"COUNTIF(D5:D32,2)","v":0},0,1,1,1,0,2,0,3,0,2,1,0,0,0,2,0,1,0,2,1,1,2,2,1,0,2,2]
[null,null,"Suma volieb 3",{"$f":"COUNTIF(D5:D32,3)","v":0},0,0,0,2,0,2,2,2,2,0,2,0,0,0,0,0,0,0,0,1,3,6,0,0,1,3,1]
[null,null,"Percento Suma volieb 1",{"$f":"(D34/$B$3)*100","v":7.1428571428571423},0,0,0,3.5714285714285712,0,0,7.1428571428571423,3.5714285714285712,0,3.5714285714285712,0,3.5714285714285712,7.1428571428571423,0,0,0,10.714285714285714,3.5714285714285712,0,0,3.5714285714285712,7.1428571428571423,3.5714285714285712,7.1428571428571423,3.5714285714285712,10.714285714285714,10.714285714285714]
[null,null,"Percento Suma volieb 2",{"$f":"(D35/$B$3)*100","v":0},0,3.5714285714285712,3.5714285714285712,3.5714285714285712,0,7.1428571428571423,0,10.714285714285714,0,7.1428571428571423,3.5714285714285712,0,0,0,7.1428571428571423,0,3.5714285714285712,0,7.1428571428571423,3.5714285714285712,3.5714285714285712,7.1428571428571423,7.1428571428571423,3.5714285714285712,0,7.1428571428571423,7.1428571428571423]
[null,null,"Percento Suma volieb 3",{"$f":"(D36/$B$3)*100","v":0},0,0,0,7.1428571428571423,0,7.1428571428571423,7.1428571428571423,7.1428571428571423,7.1428571428571423,0,7.1428571428571423,0,0,0,0,0,0,0,0,3.5714285714285712,10.714285714285714,21.428571428571427,0,0,3.5714285714285712,10.714285714285714,3.5714285714285712]
[null,null,"Percento Suma volieb 1 + 2 + 3 spolu",{"$f":"(D33/$B$3)*100","v":7.1428571428571423},0,3.5714285714285712,3.5714285714285712,14.285714285714285,0,14.285714285714285,14.285714285714285,21.428571428571427,7.1428571428571423,10.714285714285714,10.714285714285714,3.5714285714285712,7.1428571428571423,0,7.1428571428571423,0,14.285714285714285,3.5714285714285712,7.1428571428571423,7.1428571428571423,17.857142857142858,35.714285714285715,10.714285714285714,10.714285714285714,7.1428571428571423,28.571428571428569,21.428571428571427]
[]
[null,null,null,1,2,3,4,5,6,7,8,9,10,11,12,13,14,15,16,17,18,19,20,21,22,23,24,25,26,27,28]
[null,null,null,"\"01_Oso m\"","\"02_Oso m\"","\"03_Oso m\"","\"04_Oso m\"","\"05_Oso m\"","\"*06_Oso m\"","\"07_Oso m\"","\"08_Oso m\"","\"09_Oso f\"","\"**10_Oso m\"","\"11_Oso m\"","\"12_Oso m\"","\"13_Oso m\"","\"14_Oso m\"","\"15_Oso f\"","\"16_Oso f\"","\"17_Oso f\"","\"18_Oso f\"","\"19_Oso f\"","\"20_Oso f\"","\"21_Oso f\"","\"22_Oso f\"","\"23_Oso f\"","\"24_Oso f\"","\"25_Oso f\"","\"26_Oso f\"","\"27_Oso f\"","\"28_Oso f\""]
[null,1,"\"01_Oso m\"",{"$f":"IF(D5<>0,D$3,\"\")","v":""},"","","",5,"","","","",10,11,"","","","","","","","","","","","","","","","","",null," 5, 10, 11,",null,null,null,5,10,11,2]
[null,2,"\"02_Oso m\"",{"$f":"IF(D6<>0,D$3,\"\")","v":""},"","","","","","",8,9,"",11,"","","","","","","","","","","","","","","","","",null," 8, 9, 11,",null,null,null,8,9,11,0]
[null,3,"\"03_Oso m\"",{"$f":"IF(D7<>0,D$3,\"\")","v":""},"","","","","","","",9,"","",12,"","","","","","","","","","","","","","","",28,null," 9, 12, 28,",null,null,null,9,12,28,1]
[null,4,"\"04_Oso m\"",{"$f":"IF(D8<>0,D$3,\"\")","v":""},"","","","","","","","","","","","","","","","","","","","","",23,"",25,"","",28,null," 23, 25, 28,",null,null,null,23,25,28,0]
[null,5,"\"05_Oso m\"",{"$f":"IF(D9<>0,D$3,\"\")","v":1},"","","","","",7,"",9,"","","","","","","","","","","","","","","","","","","",null," 1, 7, 9,",null,null,null,1,7,9,2]
[null,6,"\"*06_Oso m\"",{"$f":"IF(D10<>0,D$3,\"\")","v":""},"","","","","","","","",10,11,12,"","","","","","","","","","","","","","","","",null," 10, 11, 12,",null,null,null,10,11,12,0]
[null,7,"\"07_Oso m\"",{"$f":"IF(D11<>0,D$3,\"\")","v":""},"","","",5,"","","",9,"","","","","","","","","","","","","","","","","","",28,null," 5, 9, 28,",null,null,null,5,9,28,2]
[null,8,"\"08_Oso m\"",{"$f":"IF(D12<>0,D$3,\"\")","v":""},"","","","","",7,"",9,"","","","","","","","","","","","","","","","","","",28,null," 7, 9, 28,",null,null,null,7,9,28,0]
[null,9,"\"09_Oso f\"",{"$f":"IF(D13<>0,D$3,\"\")","v":""},"",3,"","","",7,"","","","","","","","","","","","","","","","","","","","",28,null," 3, 7, 28,",null,null,null,3,7,28,2]
[null,10,"\"**10_Oso m\"",{"$f":"IF(D14<>0,D$3,\"\")","v":1},"","","",5,"","",8,"","","","","","","","","","","","","","","","","","","","",null," 1, 5, 8,",null,null,null,1,5,8,1]
[null,11,"\"11_Oso m\"",{"$f":"IF(D15<>0,D$3,\"\")","v":""},"","","","","",7,8,"","","","","","","","","","","","","","","","","","","",28,null," 7, 8, 28,",null,null,null,7,8,28,0]
[null,12,"\"12_Oso m\"",{"$f":"IF(D16<>0,D$3,\"\")","v":""},"","","","","","","","","","","","","","","","","","",20,21,"",23,"","","","","",null," 20, 21, 23,",null,null,null,20,21,23,0]
[null,13,"\"13_Oso m\"",{"$f":"IF(D17<>0,D$3,\"\")","v":""},"","",4,"","","","","","","",12,"",14,"","","","","","","","","","","","","","",null," 4, 12, 14,",null,null,null,4,12,14,1]
[null,14,"\"14_Oso m\"",{"$f":"IF(D18<>0,D$3,\"\")","v":""},"","","","","","",8,9,"","","",13,"","","","","","","","","","","","","","","",null," 8, 9, 13,",null,null,null,8,9,13,1]
[null,15,"\"15_Oso f\"",{"$f":"IF(D19<>0,D$3,\"\")","v":""},"","","","","","","","","","","","","","","","","","","","",22,23,"","",26,"","",null," 22, 23, 26,",null,null,null,22,23,26,0]
[null,16,"\"16_Oso f\"",{"$f":"IF(D20<>0,D$3,\"\")","v":""},"","","","","","","","","","","","","","","","","","","","",22,"",24,"","",27,"",null," 22, 24, 27,",null,null,null,22,24,27,1]
[null,17,"\"17_Oso f\"",{"$f":"IF(D21<>0,D$3,\"\")","v":""},"","","","","","","","","","","","","","",16,"","","","","",22,"","","","",27,"",null," 16, 22, 27,",null,null,null,16,22,27,0]
[null,18,"\"18_Oso f\"",{"$f":"IF(D22<>0,D$3,\"\")","v":""},"","","","","","","","","","","","","","","","","","",20,"","",23,"","","",27,"",null," 20, 23, 27,",null,null,null,20,23,27,3]
[null,19,"\"19_Oso f\"",{"$f":"IF(D23<>0,D$3,\"\")","v":""},"","","","","","","","","","","","","","","","",18,"","","","",23,"","","",27,"",null," 18, 23, 27,",null,null,null,18,23,27,0]
[null,20,"\"20_Oso f\"",{"$f":"IF(D24<>0,D$3,\"\")","v":""},"","","","","","","","","","","","","","","","",18,"","","","",23,"","","",27,"",null," 18, 23, 27,",null,null,null,18,23,27,1]
[null,21,"\"21_Oso f\"",{"$f":"IF(D25<>0,D$3,\"\")","v":""},"","","","","","","","","","","","","","","","","","","","",22,"",24,"","",27,"",null," 22, 24, 27,",null,null,null,22,24,27,1]
[null,22,"\"22_Oso f\"",{"$f":"IF(D26<>0,D$3,\"\")","v":""},"","","","","","","","","","","","","","","","","","","","","",23,"",25,"",27,"",null," 23, 25, 27,",null,null,null,23,25,27,1]
[null,23,"\"23_Oso f\"",{"$f":"IF(D27<>0,D$3,\"\")","v":""},"","","",5,"","","","","","","","","","","","",18,"","","","","","",25,"","","",null," 5, 18, 25,",null,null,null,5,18,25,2]
[null,24,"\"24_Oso f\"",{"$f":"IF(D28<>0,D$3,\"\")","v":""},"","","","","","","","","","","","","","","","","",19,"",21,"","","","",26,"","",null," 19, 21, 26,",null,null,null,19,21,26,2]
[null,25,"\"25_Oso f\"",{"$f":"IF(D29<>0,D$3,\"\")","v":""},"","","","","","","","","","","","","","","","","","","","",22,23,"","","",27,"",null," 22, 23, 27,",null,null,null,22,23,27,2]
[null,26,"\"26_Oso f\"",{"$f":"IF(D30<>0,D$3,\"\")","v":""},"","","","","","","","","","","","",14,"","","","","","","","",23,24,"","","","",null," 14, 23, 24,",null,null,null,14,23,24,1]
[null,27,"\"27_Oso f\"",{"$f":"IF(D31<>0,D$3,\"\")","v":""},"","","","","","","","","","","","","","",16,"",18,"","","","",23,"","","","","",null," 16, 18, 23,",null,null,null,16,18,23,2]
[null,28,"\"28_Oso f\"",{"$f":"IF(D32<>0,D$3,\"\")","v":""},"","","","","","","","","","","","","","","","","","","","","","","","","","","",null," 0, 0, 0,",null,null,null,0,0,0,0]
[null,null,null,null,null,null,null,null,null,null,null,null,null,null,null,null,null,null,null,null,null,null,null,null,null,null,null,null,null,null,null,null,null,null,null,null,null,null,null,{"$f":"SUM($AN$44:$AN$71)","v":28}]

{"sheet":"Q_2","index":1,"n_rows":72,"n_cols":70,"rows_kept":72,"cut":false,"hidden":false,"merged":[]}
["\"2. S kým z triedy by si najradšej písaval úlohy a učieval sa?\""]
[null,3]
[null,28,null,1,2,3,4,5,6,7,8,9,10,11,12,13,14,15,16,17,18,19,20,21,22,23,24,25,26,27,28]
[null,null,null,"\"01_Oso m\"","\"02_Oso m\"","\"03_Oso m\"","\"04_Oso m\"","\"05_Oso m\"","\"*06_Oso m\"","\"07_Oso m\"","\"08_Oso m\"","\"09_Oso f\"","\"**10_Oso m\"","\"11_Oso m\"","\"12_Oso m\"","\"13_Oso m\"","\"14_Oso m\"","\"15_Oso f\"","\"16_Oso f\"","\"17_Oso f\"","\"18_Oso f\"","\"19_Oso f\"","\"20_Oso f\"","\"21_Oso f\"","\"22_Oso f\"","\"23_Oso f\"","\"24_Oso f\"","\"25_Oso f\"","\"26_Oso f\"","\"27_Oso f\"","\"28_Oso f\""]
["→",1,"\"01_Oso m\"",null,null,null,null,1,null,3,null,null,null,2,null,null,null,null,null,null,null,null,null,null,null,null,null,null,null,null,null,3,null,null,null,null,null,null,null,null,null,null,1,0,3,1,1,0,6,4,7,0,1,0,1,2,2,0,0,5,2,1,1,1,14,0,9,6,5,8]
[null,2,"\"02_Oso m\"",null,null,null,null,null,null,3,1,2,null,null,null,null,null,null,null,null,null,null,null,null,null,null,null,null,null,null,null,3,null,null,null,null,null,null,null,null,null,null,1,0,1,0,1,0,3,2,2,0,0,0,0,1,1,0,0,2,0,0,1,0,5,0,3,3,1,0]
[null,3,"\"03_Oso m\"",null,null,null,null,null,null,1,null,null,null,null,null,null,null,null,null,null,null,null,null,null,null,2,null,null,null,null,3,3,null,null,null,null,null,null,null,null,null,null,0,0,2,0,0,0,0,1,4,0,1,0,0,1,0,0,0,1,1,1,0,0,5,0,4,3,1,2]
[null,4,"\"04_Oso m\"",null,null,null,null,null,null,null,null,1,null,null,null,3,2,null,null,null,null,null,null,null,null,null,null,null,null,null,null,3,null,null,null,null,null,null,null,null,null,null,0,0,0,1,0,0,3,1,1,0,0,0,1,0,1,0,0,2,1,0,0,1,4,0,2,0,3,6]
[null,5,"\"05_Oso m\"",1,null,null,null,null,null,null,null,2,null,null,null,null,null,null,null,null,null,null,null,null,null,null,null,null,null,null,3,3,null,null,null,null,null,null,null,null,null,null,3.5714285714285712,0,3.5714285714285712,0,3.5714285714285712,0,10.714285714285714,7.1428571428571423,7.1428571428571423,0,0,0,0,3.5714285714285712,3.5714285714285712,0,0,7.1428571428571423,0,0,3.5714285714285712,0,17.857142857142858,0,10.714285714285714,10.714285714285714,3.5714285714285712,0]
[null,6,"\"*06_Oso m\"",null,null,null,null,null,null,null,null,null,null,null,null,null,null,null,null,null,null,null,null,null,null,3,null,2,1,null,null,3,null,null,null,null,null,null,null,null,null,null,0,0,7.1428571428571423,0,0,0,0,3.5714285714285712,14.285714285714285,0,3.5714285714285712,0,0,3.5714285714285712,0,0,0,3.5714285714285712,3.5714285714285712,3.5714285714285712,0,0,17.857142857142858,0,14.285714285714285,10.714285714285714,3.5714285714285712,7.1428571428571423]
[null,7,"\"07_Oso m\"",null,null,2,null,null,null,null,null,1,null,null,null,null,null,null,null,null,null,null,null,null,null,null,null,null,null,null,3,3,null,null,null,null,null,null,null,null,null,null,0,0,0,3.5714285714285712,0,0,10.714285714285714,3.5714285714285712,3.5714285714285712,0,0,0,3.5714285714285712,0,3.5714285714285712,0,0,7.1428571428571423,3.5714285714285712,0,0,3.5714285714285712,14.285714285714285,0,7.1428571428571423,0,10.714285714285714,21.428571428571427]
[null,8,"\"08_Oso m\"",null,null,null,null,null,null,1,null,2,null,null,null,null,null,null,null,null,null,null,null,null,null,null,null,null,null,null,3,3,null,null,null,null,null,null,null,null,null,null,3.5714285714285712,0,10.714285714285714,3.5714285714285712,3.5714285714285712,0,21.428571428571427,14.285714285714285,25,0,3.5714285714285712,0,3.5714285714285712,7.1428571428571423,7.1428571428571423,0,0,17.857142857142858,7.1428571428571423,3.5714285714285712,3.5714285714285712,3.5714285714285712,50,0,32.142857142857146,21.428571428571427,17.857142857142858,28.571428571428569]
[null,9,"\"09_Oso f\"",null,null,1,null,null,null,3,null,null,null,null,null,null,null,null,null,null,null,null,null,null,null,null,null,null,null,null,2,3]
[null,10,"\"**10_Oso m\"",null,null,2,null,null,null,null,null,3,null,null,null,null,null,null,null,null,null,null,null,null,null,1,null,null,null,null,null,3]
[null,11,"\"11_Oso m\"",null,null,null,null,null,null,1,2,null,null,null,null,null,null,null,null,null,null,null,null,null,null,null,null,null,null,null,3,3]
[null,12,"\"12_Oso m\"",null,null,null,null,null,null,null,3,null,null,null,null,null,null,null,null,null,null,null,null,null,null,1,null,null,null,2,null,3]
[null,13,"\"13_Oso m\"",null,null,null,3,null,null,null,null,null,null,null,null,null,1,null,null,null,null,null,null,null,null,null,null,null,null,null,2,3]
[null,14,"\"14_Oso m\"",null,null,null,null,null,null,null,1,2,null,null,null,null,null,null,null,null,null,null,null,null,null,null,null,null,null,null,3,3]
[null,15,"\"15_Oso f\"",null,null,null,null,null,null,null,null,null,null,null,null,null,null,null,null,null,null,null,null,null,null,3,null,2,1,null,null,3]
[null,16,"\"16_Oso f\"",null,null,null,null,null,null,null,null,null,null,null,null,null,null,null,null,null,null,null,null,null,null,3,null,2,null,1,null,3]
[null,17,"\"17_Oso f\"",null,null,null,null,null,null,null,null,null,null,null,null,null,null,1,null,null,null,null,null,null,null,null,null,null,2,3,null,3]
[null,18,"\"18_Oso f\"",null,null,null,null,null,null,null,null,null,null,null,null,null,null,null,null,null,null,2,null,null,null,1,null,null,null,3,null,3]
[null,19,"\"19_Oso f\"",null,null,null,null,null,null,null,null,null,null,null,null,null,null,null,null,null,1,null,null,null,null,2,null,null,null,3,null,3]
[null,20,"\"20_Oso f\"",null,null,null,null,null,null,null,null,null,null,null,null,null,null,null,null,null,1,null,null,null,null,3,null,2,null,null,null,3]
[null,21,"\"21_Oso f\"",null,null,null,null,null,null,null,null,null,null,null,null,null,null,null,null,null,3,null,null,null,null,2,null,1,null,null,null,3]
[null,22,"\"22_Oso f\"",null,null,null,null,null,null,null,null,null,null,null,null,null,null,null,null,null,null,null,null,null,null,2,null,3,1,null,null,3]
[null,23,"\"23_Oso f\"",null,null,null,null,null,null,null,null,null,null,null,null,null,null,null,null,null,3,null,2,null,null,null,null,1,null,null,null,3]
[null,24,"\"24_Oso f\"",null,null,null,null,null,null,null,null,null,null,null,null,null,null,null,null,null,null,3,null,1,null,null,null,null,2,null,null,3]
[null,25,"\"25_Oso f\"",null,null,null,null,null,null,null,null,null,null,null,null,null,null,null,null,null,null,null,null,null,3,1,null,null,2,null,null,3]
[null,26,"\"26_Oso f\"",null,null,null,null,null,null,null,null,null,null,null,null,null,null,3,null,null,null,null,null,null,null,2,null,1,null,null,null,3]
[null,27,"\"27_Oso f\"",null,null,null,null,null,null,null,null,null,null,null,null,null,null,null,null,null,2,null,null,null,null,1,null,3,null,null,null,3]
[null,28,"\"28_Oso f\"",null,null,null,null,null,null,null,null,null,null,null,null,null,null,null,null,null,null,null,null,null,null,null,null,null,null,null,null,0]
[null,null,"Suma volieb 1 + 2 + 3 spolu",1,0,3,1,1,0,6,4,7,0,1,0,1,2,2,0,0,5,2,1,1,1,14,0,9,6,5,8,{"$f":"SUM($D$33:$AE$33)","v":81}]
[null,null,"Suma volieb 1",{"$f":"COUNTIF(D5:D32,1)","v":1},0,1,0,1,0,3,2,2,0,0,0,0,1,1,0,0,2,0,0,1,0,5,0,3,3,1,0]
[null,null,"Suma volieb 2",{"$f":"COUNTIF(D5:D32,2)","v":0},0,2,0,0,0,0,1,4,0,1,0,0,1,0,0,0,1,1,1,0,0,5,0,4,3,1,2]
[null,null,"Suma volieb 3",{"$f":"COUNTIF(D5:D32,3)","v":0},0,0,1,0,0,3,1,1,0,0,0,1,0,1,0,0,2,1,0,0,1,4,0,2,0,3,6]
[null,null,"Percento Suma volieb 1",{"$f":"(D34/$B$3)*100","v":3.5714285714285712},0,3.5714285714285712,0,3.5714285714285712,0,10.714285714285714,7.1428571428571423,7.1428571428571423,0,0,0,0,3.5714285714285712,3.5714285714285712,0,0,7.1428571428571423,0,0,3.5714285714285712,0,17.857142857142858,0,10.714285714285714,10.714285714285714,3.5714285714285712,0]
[null,null,"Percento Suma volieb 2",{"$f":"(D35/$B$3)*100","v":0},0,7.1428571428571423,0,0,0,0,3.5714285714285712,14.285714285714285,0,3.5714285714285712,0,0,3.5714285714285712,0,0,0,3.5714285714285712,3.5714285714285712,3.5714285714285712,0,0,17.857142857142858,0,14.285714285714285,10.714285714285714,3.5714285714285712,7.1428571428571423]
[null,null,"Percento Suma volieb 3",{"$f":"(D36/$B$3)*100","v":0},0,0,3.5714285714285712,0,0,10.714285714285714,3.5714285714285712,3.5714285714285712,0,0,0,3.5714285714285712,0,3.5714285714285712,0,0,7.1428571428571423,3.5714285714285712,0,0,3.5714285714285712,14.285714285714285,0,7.1428571428571423,0,10.714285714285714,21.428571428571427]
[null,null,"Percento Suma volieb 1 + 2 + 3 spolu",{"$f":"(D33/$B$3)*100","v":3.5714285714285712},0,10.714285714285714,3.5714285714285712,3.5714285714285712,0,21.428571428571427,14.285714285714285,25,0,3.5714285714285712,0,3.5714285714285712,7.1428571428571423,7.1428571428571423,0,0,17.857142857142858,7.1428571428571423,3.5714285714285712,3.5714285714285712,3.5714285714285712,50,0,32.142857142857146,21.428571428571427,17.857142857142858,28.571428571428569]
[]
[null,null,null,1,2,3,4,5,6,7,8,9,10,11,12,13,14,15,16,17,18,19,20,21,22,23,24,25,26,27,28]
[null,null,null,"\"01_Oso m\"","\"02_Oso m\"","\"03_Oso m\"","\"04_Oso m\"","\"05_Oso m\"","\"*06_Oso m\"","\"07_Oso m\"","\"08_Oso m\"","\"09_Oso f\"","\"**10_Oso m\"","\"11_Oso m\"","\"12_Oso m\"","\"13_Oso m\"","\"14_Oso m\"","\"15_Oso f\"","\"16_Oso f\"","\"17_Oso f\"","\"18_Oso f\"","\"19_Oso f\"","\"20_Oso f\"","\"21_Oso f\"","\"22_Oso f\"","\"23_Oso f\"","\"24_Oso f\"","\"25_Oso f\"","\"26_Oso f\"","\"27_Oso f\"","\"28_Oso f\""]
[null,1,"\"01_Oso m\"",{"$f":"IF(D5<>0,D$3,\"\")","v":""},"","","",5,"",7,"","","",11,"","","","","","","","","","","","","","","","","",null," 5, 7, 11,",null,null,null,5,7,11,1]
[null,2,"\"02_Oso m\"","","","","","","",7,8,9,"","","","","","","","","","","","","","","","","","","",null," 7, 8, 9,",null,null,null,7,8,9,0]
[null,3,"\"03_Oso m\"","","","","","","",7,"","","","","","","","","","","","","","","",23,"","","","",28,null," 7, 23, 28,",null,null,null,7,23,28,1]
[null,4,"\"04_Oso m\"","","","","","","","","",9,"","","",13,14,"","","","","","","","","","","","","","",null," 9, 13, 14,",null,null,null,9,13,14,1]
[null,5,"\"05_Oso m\"",1,"","","","","","","",9,"","","","","","","","","","","","","","","","","","",28,null," 1, 9, 28,",null,null,null,1,9,28,1]
[null,6,"\"*06_Oso m\"","","","","","","","","","","","","","","","","","","","","","","",23,"",25,26,"","",null," 23, 25, 26,",null,null,null,23,25,26,0]
[null,7,"\"07_Oso m\"","","",3,"","","","","",9,"","","","","","","","","","","","","","","","","","",28,null," 3, 9, 28,",null,null,null,3,9,28,2]
[null,8,"\"08_Oso m\"","","","","","","",7,"",9,"","","","","","","","","","","","","","","","","","",28,null," 7, 9, 28,",null,null,null,7,9,28,0]
[null,9,"\"09_Oso f\"","","",3,"","","",7,"","","","","","","","","","","","","","","","","","","","",28,null," 3, 7, 28,",null,null,null,3,7,28,1]
[null,10,"\"**10_Oso m\"","","",3,{"$f":"IF(G14<>0,G$3,\"\")","v":""},"","","","",9,"","","","","","","","","","","","","",23,"","","","","",null," 3, 9, 23,",null,null,null,3,9,23,0]
[null,11,"\"11_Oso m\"",{"$f":"IF(D15<>0,D$3,\"\")","v":""},"","","","","",7,8,"","","","","","","","","","","","","","","","","","","",28,null," 7, 8, 28,",null,null,null,7,8,28,0]
[null,12,"\"12_Oso m\"","","","","","","","",8,"","","","","","","","","","","","","","",23,"","","",27,"",null," 8, 23, 27,",null,null,null,8,23,27,0]
[null,13,"\"13_Oso m\"","","","",4,"","","","","","","","","",14,"","","","","","","","","","","","","",28,null," 4, 14, 28,",null,null,null,4,14,28,1]
[null,14,"\"14_Oso m\"","","","","","","","",8,9,"","","","","","","","","","","","","","","","","","",28,null," 8, 9, 28,",null,null,null,8,9,28,0]
[null,15,"\"15_Oso f\"","","","","","","","","","","","","","","","","","","","","","","",23,"",25,26,"","",null," 23, 25, 26,",null,null,null,23,25,26,1]
[null,16,"\"16_Oso f\"","","","","","","","","","","","","","","","","","","","","","","",23,"",25,"",27,"",null," 23, 25, 27,",null,null,null,23,25,27,0]
[null,17,"\"17_Oso f\"","","","","","","","","","","","","","","",15,"","","","","","","","","","",26,27,"",null," 15, 26, 27,",null,null,null,15,26,27,0]
[null,18,"\"18_Oso f\"","","","","","","","","","","","","","","","","","","",19,"","","",23,"","","",27,"",null," 19, 23, 27,",null,null,null,19,23,27,3]
[null,19,"\"19_Oso f\"","","","","","","","","","","","","","","","","","",18,"","","","",23,"","","",27,"",null," 18, 23, 27,",null,null,null,18,23,27,1]
[null,20,"\"20_Oso f\"","","","",{"$f":"IF(G24<>0,G$3,\"\")","v":""},"","","","","","","","","","","","","",18,"","","","",23,"",25,"","","",null," 18, 23, 25,",null,null,null,18,23,25,1]
[null,21,"\"21_Oso f\"",{"$f":"IF(D25<>0,D$3,\"\")","v":""},"","","","","","","","","","","","","","","","",18,"","","","",23,"",25,"","","",null," 18, 23, 25,",null,null,null,18,23,25,0]
[null,22,"\"22_Oso f\"","","","","","","","","","","","","","","","","","","","","","","",23,"",25,26,"","",null," 23, 25, 26,",null,null,null,23,25,26,1]
[null,23,"\"23_Oso f\"","","","","","","","","","","","","","","","","","",18,"",20,"","","","",25,"","","",null," 18, 20, 25,",null,null,null,18,20,25,3]
[null,24,"\"24_Oso f\"","","","","","","","","","","","","","","","","","","",19,"",21,"","","","",26,"","",null," 19, 21, 26,",null,null,null,19,21,26,0]
[null,25,"\"25_Oso f\"","","","","","","","","","","","","","","","","","","","","","",22,23,"","",26,"","",null," 22, 23, 26,",null,null,null,22,23,26,3]
[null,26,"\"26_Oso f\"","","","","","","","","","","","","","","",15,"","","","","","","",23,"",25,"","","",null," 15, 23, 25,",null,null,null,15,23,25,2]
[null,27,"\"27_Oso f\"","","","","","","","","","","","","","","","","","",18,"","","","",23,"",25,"","","",null," 18, 23, 25,",null,null,null,18,23,25,1]
[null,28,"\"28_Oso f\"","","","","","","","","","","","","","","","","","","","","","","","","","","","","",null," 0, 0, 0,",null,null,null,0,0,0,0]
[null,null,null,null,null,null,null,null,null,null,null,null,null,null,null,null,null,null,null,null,null,null,null,null,null,null,null,null,null,null,null,null,null,null,null,null,null,null,null,{"$f":"SUM($AN$44:$AN$71)","v":24}]

{"sheet":"Q_3","index":2,"n_rows":72,"n_cols":70,"rows_kept":72,"cut":false,"hidden":false,"merged":[]}
["\"3. S kým z triedy by si chcel stráviť prázdniny na pustom ostrove?\""]
[null,3]
[null,28,null,1,2,3,4,5,6,7,8,9,10,11,12,13,14,15,16,17,18,19,20,21,22,23,24,25,26,27,28]
[null,null,null,"\"01_Oso m\"","\"02_Oso m\"","\"03_Oso m\"","\"04_Oso m\"","\"05_Oso m\"","\"*06_Oso m\"","\"07_Oso m\"","\"08_Oso m\"","\"09_Oso f\"","\"**10_Oso m\"","\"11_Oso m\"","\"12_Oso m\"","\"13_Oso m\"","\"14_Oso m\"","\"15_Oso f\"","\"16_Oso f\"","\"17_Oso f\"","\"18_Oso f\"","\"19_Oso f\"","\"20_Oso f\"","\"21_Oso f\"","\"22_Oso f\"","\"23_Oso f\"","\"24_Oso f\"","\"25_Oso f\"","\"26_Oso f\"","\"27_Oso f\"","\"28_Oso f\""]
["→",1,"\"01_Oso m\"",null,null,null,null,1,null,null,null,null,2,3,null,null,null,null,null,null,null,null,null,null,null,null,null,null,null,null,null,3,null,null,null,null,null,null,null,null,null,null,1,0,2,0,4,2,4,4,5,3,4,4,0,1,1,4,1,5,2,3,4,3,9,1,3,1,6,4]
[null,2,"\"02_Oso m\"",null,null,null,null,null,null,3,2,1,null,null,null,null,null,null,null,null,null,null,null,null,null,null,null,null,null,null,null,3,null,null,null,null,null,null,null,null,null,null,0,0,0,0,2,1,0,3,1,1,2,0,0,1,0,1,1,0,1,2,1,1,2,1,2,0,2,2]
[null,3,"\"03_Oso m\"",null,null,null,null,null,null,3,null,2,null,null,null,null,null,null,null,null,null,null,null,null,null,null,null,null,null,null,1,3,null,null,null,null,null,null,null,null,null,null,0,0,0,0,1,1,2,1,2,1,1,3,0,0,1,1,0,2,0,1,1,1,4,0,1,0,3,0]
[null,4,"\"04_Oso m\"",null,null,null,null,1,null,null,null,3,null,null,2,null,null,null,null,null,null,null,null,null,null,null,null,null,null,null,null,3,null,null,null,null,null,null,null,null,null,null,1,0,2,0,1,0,2,0,2,1,1,1,0,0,0,2,0,3,1,0,2,1,3,0,0,1,1,2]
[null,5,"\"05_Oso m\"",null,null,null,null,null,2,null,null,null,1,null,null,null,null,null,null,null,null,null,null,null,null,null,null,null,null,null,3,3,null,null,null,null,null,null,null,null,null,null,0,0,0,0,7.1428571428571423,3.5714285714285712,0,10.714285714285714,3.5714285714285712,3.5714285714285712,7.1428571428571423,0,0,3.5714285714285712,0,3.5714285714285712,3.5714285714285712,0,3.5714285714285712,7.1428571428571423,3.5714285714285712,3.5714285714285712,7.1428571428571423,3.5714285714285712,7.1428571428571423,0,7.1428571428571423,7.1428571428571423]
[null,6,"\"*06_Oso m\"",null,null,null,null,null,null,null,null,null,3,1,2,null,null,null,null,null,null,null,null,null,null,null,null,null,null,null,null,3,null,null,null,null,null,null,null,null,null,null,0,0,0,0,3.5714285714285712,3.5714285714285712,7.1428571428571423,3.5714285714285712,7.1428571428571423,3.5714285714285712,3.5714285714285712,10.714285714285714,0,0,3.5714285714285712,3.5714285714285712,0,7.1428571428571423,0,3.5714285714285712,3.5714285714285712,3.5714285714285712,14.285714285714285,0,3.5714285714285712,0,10.714285714285714,0]
[null,7,"\"07_Oso m\"",null,null,3,null,null,null,null,1,null,null,2,null,null,null,null,null,null,null,null,null,null,null,null,null,null,null,null,null,3,null,null,null,null,null,null,null,null,null,null,3.5714285714285712,0,7.1428571428571423,0,3.5714285714285712,0,7.1428571428571423,0,7.1428571428571423,3.5714285714285712,3.5714285714285712,3.5714285714285712,0,0,0,7.1428571428571423,0,10.714285714285714,3.5714285714285712,0,7.1428571428571423,3.5714285714285712,10.714285714285714,0,0,3.5714285714285712,3.5714285714285712,7.1428571428571423]
[null,8,"\"08_Oso m\"",null,null,null,null,null,null,null,null,3,null,1,2,null,null,null,null,null,null,null,null,null,null,null,null,null,null,null,null,3,null,null,null,null,null,null,null,null,null,null,3.5714285714285712,0,7.1428571428571423,0,14.285714285714285,7.1428571428571423,14.285714285714285,14.285714285714285,17.857142857142858,10.714285714285714,14.285714285714285,14.285714285714285,0,3.5714285714285712,3.5714285714285712,14.285714285714285,3.5714285714285712,17.857142857142858,7.1428571428571423,10.714285714285714,14.285714285714285,10.714285714285714,32.142857142857146,3.5714285714285712,10.714285714285714,3.5714285714285712,21.428571428571427,14.285714285714285]
[null,9,"\"09_Oso f\"",null,null,3,null,null,null,2,null,null,null,null,null,null,null,null,null,null,null,null,null,null,null,null,null,null,null,null,1,3]
[null,10,"\"**10_Oso m\"",3,null,null,null,2,1,null,null,null,null,null,null,null,null,null,null,null,null,null,null,null,null,null,null,null,null,null,null,3]
[null,11,"\"11_Oso m\"",null,null,null,null,null,null,2,1,null,null,null,null,null,null,null,null,null,null,null,null,null,null,null,null,null,null,null,3,3]
[null,12,"\"12_Oso m\"",null,null,null,null,null,null,null,null,null,null,null,null,null,null,null,null,null,null,null,2,null,null,1,null,null,null,3,null,3]
[null,13,"\"13_Oso m\"",null,null,null,null,null,null,null,null,2,null,null,3,null,1,null,null,null,null,null,null,null,null,null,null,null,null,null,null,3]
[null,14,"\"14_Oso m\"",null,null,null,null,null,null,null,1,null,null,null,null,null,null,null,null,null,null,null,null,null,null,2,null,null,3,null,null,3]
[null,15,"\"15_Oso f\"",null,null,null,null,null,null,null,null,null,null,null,null,null,null,null,null,null,null,null,null,null,1,3,null,2,null,null,null,3]
[null,16,"\"16_Oso f\"",null,null,null,null,null,null,null,null,null,null,null,null,null,null,null,null,null,3,null,1,null,null,null,null,null,null,2,null,3]
[null,17,"\"17_Oso f\"",null,null,null,null,null,null,null,null,null,null,null,null,null,null,null,1,null,null,null,null,3,2,null,null,null,null,null,null,3]
[null,18,"\"18_Oso f\"",null,null,null,null,null,null,null,null,null,null,null,null,null,null,null,3,null,null,null,null,null,null,2,null,null,null,1,null,3]
[null,19,"\"19_Oso f\"",null,null,null,null,null,null,null,null,null,null,null,null,null,null,null,null,1,null,null,null,null,null,3,null,null,null,2,null,3]
[null,20,"\"20_Oso f\"",null,null,null,null,null,null,null,null,null,null,null,null,null,null,null,null,null,3,null,null,null,null,2,null,null,null,1,null,3]
[null,21,"\"21_Oso f\"",null,null,null,null,null,null,null,null,null,null,null,null,null,null,null,null,null,2,3,null,null,null,null,1,null,null,null,null,3]
[null,22,"\"22_Oso f\"",null,null,null,null,null,null,null,null,null,null,null,null,null,null,null,2,null,null,null,null,1,null,3,null,null,null,null,null,3]
[null,23,"\"23_Oso f\"",null,null,null,null,3,null,null,null,null,null,null,null,null,null,null,null,null,2,null,null,null,null,null,null,1,null,null,null,3]
[null,24,"\"24_Oso f\"",null,null,null,null,null,null,null,null,null,null,null,null,null,null,2,null,null,null,null,null,3,null,null,null,1,null,null,null,3]
[null,25,"\"25_Oso f\"",null,null,null,null,null,null,null,null,null,null,null,null,null,null,null,3,null,null,null,null,null,null,1,null,null,null,2,null,3]
[null,26,"\"26_Oso f\"",null,null,null,null,null,null,null,null,null,null,null,null,null,null,null,null,null,null,null,1,2,3,null,null,null,null,null,null,3]
[null,27,"\"27_Oso f\"",null,null,null,null,null,null,null,null,null,null,null,null,null,null,null,null,null,3,1,null,null,null,2,null,null,null,null,null,3]
[null,28,"\"28_Oso f\"",null,null,null,null,null,null,null,null,null,null,null,null,null,null,null,null,null,null,null,null,null,null,null,null,null,null,null,null,0]
[null,null,"Suma volieb 1 + 2 + 3 spolu",1,0,2,0,4,2,4,4,5,3,4,4,0,1,1,4,1,5,2,3,4,3,9,1,3,1,6,4,{"$f":"SUM($D$33:$AE$33)","v":81}]
[null,null,"Suma volieb 1",{"$f":"COUNTIF(D5:D32,1)","v":0},0,0,0,2,1,0,3,1,1,2,0,0,1,0,1,1,0,1,2,1,1,2,1,2,0,2,2]
[null,null,"Suma volieb 2",{"$f":"COUNTIF(D5:D32,2)","v":0},0,0,0,1,1,2,1,2,1,1,3,0,0,1,1,0,2,0,1,1,1,4,0,1,0,3,0]
[null,null,"Suma volieb 3",{"$f":"COUNTIF(D5:D32,3)","v":1},0,2,0,1,0,2,0,2,1,1,1,0,0,0,2,0,3,1,0,2,1,3,0,0,1,1,2]
[null,null,"Percento Suma volieb 1",{"$f":"(D34/$B$3)*100","v":0},0,0,0,7.1428571428571423,3.5714285714285712,0,10.714285714285714,3.5714285714285712,3.5714285714285712,7.1428571428571423,0,0,3.5714285714285712,0,3.5714285714285712,3.5714285714285712,0,3.5714285714285712,7.1428571428571423,3.5714285714285712,3.5714285714285712,7.1428571428571423,3.5714285714285712,7.1428571428571423,0,7.1428571428571423,7.1428571428571423]
[null,null,"Percento Suma volieb 2",{"$f":"(D35/$B$3)*100","v":0},0,0,0,3.5714285714285712,3.5714285714285712,7.1428571428571423,3.5714285714285712,7.1428571428571423,3.5714285714285712,3.5714285714285712,10.714285714285714,0,0,3.5714285714285712,3.5714285714285712,0,7.1428571428571423,0,3.5714285714285712,3.5714285714285712,3.5714285714285712,14.285714285714285,0,3.5714285714285712,0,10.714285714285714,0]
[null,null,"Percento Suma volieb 3",{"$f":"(D36/$B$3)*100","v":3.5714285714285712},0,7.1428571428571423,0,3.5714285714285712,0,7.1428571428571423,0,7.1428571428571423,3.5714285714285712,3.5714285714285712,3.5714285714285712,0,0,0,7.1428571428571423,0,10.714285714285714,3.5714285714285712,0,7.1428571428571423,3.5714285714285712,10.714285714285714,0,0,3.5714285714285712,3.5714285714285712,7.1428571428571423]
[null,null,"Percento Suma volieb 1 + 2 + 3 spolu",{"$f":"(D33/$B$3)*100","v":3.5714285714285712},0,7.1428571428571423,0,14.285714285714285,7.1428571428571423,14.285714285714285,14.285714285714285,17.857142857142858,10.714285714285714,14.285714285714285,14.285714285714285,0,3.5714285714285712,3.5714285714285712,14.285714285714285,3.5714285714285712,17.857142857142858,7.1428571428571423,10.714285714285714,14.285714285714285,10.714285714285714,32.142857142857146,3.5714285714285712,10.714285714285714,3.5714285714285712,21.428571428571427,14.285714285714285]
[]
[null,null,null,1,2,3,4,5,6,7,8,9,10,11,12,13,14,15,16,17,18,19,20,21,22,23,24,25,26,27,28]
[null,null,null,"\"01_Oso m\"","\"02_Oso m\"","\"03_Oso m\"","\"04_Oso m\"","\"05_Oso m\"","\"*06_Oso m\"","\"07_Oso m\"","\"08_Oso m\"","\"09_Oso f\"","\"**10_Oso m\"","\"11_Oso m\"","\"12_Oso m\"","\"13_Oso m\"","\"14_Oso m\"","\"15_Oso f\"","\"16_Oso f\"","\"17_Oso f\"","\"18_Oso f\"","\"19_Oso f\"","\"20_Oso f\"","\"21_Oso f\"","\"22_Oso f\"","\"23_Oso f\"","\"24_Oso f\"","\"25_Oso f\"","\"26_Oso f\"","\"27_Oso f\"","\"28_Oso f\""]
[null,1,"\"01_Oso m\"",{"$f":"IF(D5<>0,D$3,\"\")","v":""},"","","",5,"","","","",10,11,"","","","","","","","","","","","","","","","","",null," 5, 10, 11,",null,null,null,5,10,11,1]
[null,2,"\"02_Oso m\"","","","","","","",7,8,9,"","","","","","","","","","","","","","","","","","","",null," 7, 8, 9,",null,null,null,7,8,9,0]
[null,3,"\"03_Oso m\"","","","","","","",7,"",9,"","","","","","","","","","","","","","","","","","",28,null," 7, 9, 28,",null,null,null,7,9,28,2]
[null,4,"\"04_Oso m\"","","","","",5,"","","",9,"","",12,"","","","","","","","","","","","","","","","",null," 5, 9, 12,",null,null,null,5,9,12,0]
[null,5,"\"05_Oso m\"","","","","","",6,"","","",10,"","","","","","","","","","","","","","","","","",28,null," 6, 10, 28,",null,null,null,6,10,28,1]
[null,6,"\"*06_Oso m\"","","","","","","","","","",10,11,12,"","","","","","","","","","","","","","","","",null," 10, 11, 12,",null,null,null,10,11,12,1]
[null,7,"\"07_Oso m\"","","",3,"","","","",8,"","",11,"","","","","","","","","","","","","","","","","",null," 3, 8, 11,",null,null,null,3,8,11,2]
[null,8,"\"08_Oso m\"","","","","","","","","",9,"",11,12,"","","","","","","","","","","","","","","","",null," 9, 11, 12,",null,null,null,9,11,12,1]
[null,9,"\"09_Oso f\"","","",3,"","","",7,"","","","","","","","","","","","","","","","","","","","",28,null," 3, 7, 28,",null,null,null,3,7,28,1]
[null,10,"\"**10_Oso m\"",1,"","",{"$f":"IF(G14<>0,G$3,\"\")","v":""},5,6,"","","","","","","","","","","","","","","","","","","","","","",null," 1, 5, 6,",null,null,null,1,5,6,3]
[null,11,"\"11_Oso m\"",{"$f":"IF(D15<>0,D$3,\"\")","v":""},"","","","","",7,8,"","","","","","","","","","","","","","","","","","","",28,null," 7, 8, 28,",null,null,null,7,8,28,2]
[null,12,"\"12_Oso m\"","","","","","","","","","","","","","","","","","","","",20,"","",23,"","","",27,"",null," 20, 23, 27,",null,null,null,20,23,27,0]
[null,13,"\"13_Oso m\"","","","","","","","","",9,"","",12,"",14,"","","","","","","","","","","","","","",null," 9, 12, 14,",null,null,null,9,12,14,0]
[null,14,"\"14_Oso m\"","","","","","","","",8,"","","","","","","","","","","","","","",23,"","",26,"","",null," 8, 23, 26,",null,null,null,8,23,26,0]
[null,15,"\"15_Oso f\"","","","","","","","","","","","","","","","","","","","","","",22,23,"",25,"","","",null," 22, 23, 25,",null,null,null,22,23,25,0]
[null,16,"\"16_Oso f\"","","","","","","","","","","","","","","","","","",18,"",20,"","","","","","",27,"",null," 18, 20, 27,",null,null,null,18,20,27,1]
[null,17,"\"17_Oso f\"","","","","","","","","","","","","","","","",16,"","","","",21,22,"","","","","","",null," 16, 21, 22,",null,null,null,16,21,22,0]
[null,18,"\"18_Oso f\"","","","","","","","","","","","","","","","",16,"","","","","","",23,"","","",27,"",null," 16, 23, 27,",null,null,null,16,23,27,3]
[null,19,"\"19_Oso f\"","","","","","","","","","","","","","","","","",17,"","","","","",23,"","","",27,"",null," 17, 23, 27,",null,null,null,17,23,27,1]
[null,20,"\"20_Oso f\"","","","",{"$f":"IF(G24<>0,G$3,\"\")","v":""},"","","","","","","","","","","","","",18,"","","","",23,"","","",27,"",null," 18, 23, 27,",null,null,null,18,23,27,0]
[null,21,"\"21_Oso f\"",{"$f":"IF(D25<>0,D$3,\"\")","v":""},"","","","","","","","","","","","","","","","",18,19,"","","","",24,"","","","",null," 18, 19, 24,",null,null,null,18,19,24,1]
[null,22,"\"22_Oso f\"","","","","","","","","","","","","","","","",16,"","","","",21,"",23,"","","","","",null," 16, 21, 23,",null,null,null,16,21,23,0]
[null,23,"\"23_Oso f\"","","","","",5,"","","","","","","","","","","","",18,"","","","","","",25,"","","",null," 5, 18, 25,",null,null,null,5,18,25,2]
[null,24,"\"24_Oso f\"","","","","","","","","","","","","","","",15,"","","","","",21,"","","",25,"","","",null," 15, 21, 25,",null,null,null,15,21,25,1]
[null,25,"\"25_Oso f\"","","","","","","","","","","","","","","","",16,"","","","","","",23,"","","",27,"",null," 16, 23, 27,",null,null,null,16,23,27,1]
[null,26,"\"26_Oso f\"","","","","","","","","","","","","","","","","","","","",20,21,22,"","","","","","",null," 20, 21, 22,",null,null,null,20,21,22,0]
[null,27,"\"27_Oso f\"","","","","","","","","","","","","","","","","","",18,19,"","","",23,"","","","","",null," 18, 19, 23,",null,null,null,18,19,23,2]
[null,28,"\"28_Oso f\"","","","","","","","","","","","","","","","","","","","","","","","","","","","","",null," 0, 0, 0,",null,null,null,0,0,0,0]
[null,null,null,null,null,null,null,null,null,null,null,null,null,null,null,null,null,null,null,null,null,null,null,null,null,null,null,null,null,null,null,null,null,null,null,null,null,null,null,{"$f":"SUM($AN$44:$AN$71)","v":26}]

{"sheet":"Q_4","index":3,"n_rows":72,"n_cols":70,"rows_kept":72,"cut":false,"hidden":false,"merged":[]}
["\"4. Kto by najlepšie dokázal hájiť záujmy triedy?\""]
[null,3]
[null,28,null,1,2,3,4,5,6,7,8,9,10,11,12,13,14,15,16,17,18,19,20,21,22,23,24,25,26,27,28]
[null,null,null,"\"01_Oso m\"","\"02_Oso m\"","\"03_Oso m\"","\"04_Oso m\"","\"05_Oso m\"","\"*06_Oso m\"","\"07_Oso m\"","\"08_Oso m\"","\"09_Oso f\"","\"**10_Oso m\"","\"11_Oso m\"","\"12_Oso m\"","\"13_Oso m\"","\"14_Oso m\"","\"15_Oso f\"","\"16_Oso f\"","\"17_Oso f\"","\"18_Oso f\"","\"19_Oso f\"","\"20_Oso f\"","\"21_Oso f\"","\"22_Oso f\"","\"23_Oso f\"","\"24_Oso f\"","\"25_Oso f\"","\"26_Oso f\"","\"27_Oso f\"","\"28_Oso f\""]
["→",1,"\"01_Oso m\"",null,null,null,null,null,null,null,null,null,null,null,null,null,null,1,null,null,null,null,null,null,null,3,null,null,2,null,null,3,null,null,null,null,null,null,null,null,null,null,0,0,0,0,2,0,2,1,10,0,0,0,0,0,8,0,0,2,0,3,0,0,25,0,12,8,0,8]
[null,2,"\"02_Oso m\"",null,null,null,null,null,null,3,null,null,null,null,null,null,null,null,null,null,null,null,null,null,null,1,null,2,null,null,null,3,null,null,null,null,null,null,null,null,null,null,0,0,0,0,0,0,0,0,2,0,0,0,0,0,4,0,0,1,0,0,0,0,17,0,2,0,0,1]
[null,3,"\"03_Oso m\"",null,null,null,null,null,null,null,null,null,null,null,null,null,null,null,null,null,null,null,null,null,null,1,null,null,2,null,3,3,null,null,null,null,null,null,null,null,null,null,0,0,0,0,0,0,1,0,3,0,0,0,0,0,1,0,0,0,0,2,0,0,4,0,6,6,0,4]
[null,4,"\"04_Oso m\"",null,null,null,null,null,null,null,null,2,null,null,null,null,null,1,null,null,null,null,null,null,null,3,null,null,null,null,null,3,null,null,null,null,null,null,null,null,null,null,0,0,0,0,2,0,1,1,5,0,0,0,0,0,3,0,0,1,0,1,0,0,4,0,4,2,0,3]
[null,5,"\"05_Oso m\"",null,null,null,null,null,null,null,null,3,null,null,null,null,null,null,null,null,null,null,null,null,null,2,null,null,null,null,1,3,null,null,null,null,null,null,null,null,null,null,0,0,0,0,0,0,0,0,7.1428571428571423,0,0,0,0,0,14.285714285714285,0,0,3.5714285714285712,0,0,0,0,60.714285714285708,0,7.1428571428571423,0,0,3.5714285714285712]
[null,6,"\"*06_Oso m\"",null,null,null,null,null,null,null,3,null,null,null,null,null,null,null,null,null,null,null,null,null,null,1,null,null,2,null,null,3,null,null,null,null,null,null,null,null,null,null,0,0,0,0,0,0,3.5714285714285712,0,10.714285714285714,0,0,0,0,0,3.5714285714285712,0,0,0,0,7.1428571428571423,0,0,14.285714285714285,0,21.428571428571427,21.428571428571427,0,14.285714285714285]
[null,7,"\"07_Oso m\"",null,null,null,null,null,null,null,null,null,null,null,null,null,null,3,null,null,null,null,null,null,null,1,null,null,2,null,null,3,null,null,null,null,null,null,null,null,null,null,0,0,0,0,7.1428571428571423,0,3.5714285714285712,3.5714285714285712,17.857142857142858,0,0,0,0,0,10.714285714285714,0,0,3.5714285714285712,0,3.5714285714285712,0,0,14.285714285714285,0,14.285714285714285,7.1428571428571423,0,10.714285714285714]
[null,8,"\"08_Oso m\"",null,null,null,null,null,null,null,null,3,null,null,null,null,null,null,null,null,null,null,null,null,null,1,null,null,2,null,null,3,null,null,null,null,null,null,null,null,null,null,0,0,0,0,7.1428571428571423,0,7.1428571428571423,3.5714285714285712,35.714285714285715,0,0,0,0,0,28.571428571428569,0,0,7.1428571428571423,0,10.714285714285714,0,0,89.285714285714292,0,42.857142857142854,28.571428571428569,0,28.571428571428569]
[null,9,"\"09_Oso f\"",null,null,null,null,null,null,null,null,null,null,null,null,null,null,null,null,null,null,null,null,null,null,1,null,3,null,null,2,3]
[null,10,"\"**10_Oso m\"",null,null,null,null,null,null,null,null,1,null,null,null,null,null,null,null,null,null,null,null,null,null,3,null,null,null,null,2,3]
[null,11,"\"11_Oso m\"",null,null,null,null,null,null,2,null,1,null,null,null,null,null,null,null,null,null,null,null,null,null,null,null,null,null,null,3,3]
[null,12,"\"12_Oso m\"",null,null,null,null,null,null,null,null,3,null,null,null,null,null,null,null,null,null,null,null,null,null,1,null,null,null,null,2,3]
[null,13,"\"13_Oso m\"",null,null,null,null,null,null,null,null,null,null,null,null,null,null,null,null,null,null,null,null,null,null,1,null,2,null,null,3,3]
[null,14,"\"14_Oso m\"",null,null,null,null,null,null,null,null,3,null,null,null,null,null,null,null,null,null,null,null,null,null,1,null,null,null,null,2,3]
[null,15,"\"15_Oso f\"",null,null,null,null,3,null,null,null,null,null,null,null,null,null,null,null,null,null,null,null,null,null,2,null,1,null,null,null,3]
[null,16,"\"16_Oso f\"",null,null,null,null,null,null,null,null,null,null,null,null,null,null,1,null,null,null,null,null,null,null,2,null,3,null,null,null,3]
[null,17,"\"17_Oso f\"",null,null,null,null,null,null,null,null,null,null,null,null,null,null,1,null,null,null,null,null,null,null,3,null,null,2,null,null,3]
[null,18,"\"18_Oso f\"",null,null,null,null,null,null,null,null,null,null,null,null,null,null,null,null,null,null,null,2,null,null,1,null,3,null,null,null,3]
[null,19,"\"19_Oso f\"",null,null,null,null,null,null,null,null,3,null,null,null,null,null,null,null,null,null,null,null,null,null,1,null,2,null,null,null,3]
[null,20,"\"20_Oso f\"",null,null,null,null,null,null,null,null,2,null,null,null,null,null,null,null,null,3,null,null,null,null,1,null,null,null,null,null,3]
[null,21,"\"21_Oso f\"",null,null,null,null,null,null,null,null,2,null,null,null,null,null,null,null,null,null,null,null,null,null,1,null,3,null,null,null,3]
[null,22,"\"22_Oso f\"",null,null,null,null,null,null,null,null,null,null,null,null,null,null,null,null,null,null,null,null,null,null,2,null,1,3,null,null,3]
[null,23,"\"23_Oso f\"",null,null,null,null,3,null,null,null,null,null,null,null,null,null,null,null,null,1,null,2,null,null,null,null,null,null,null,null,3]
[null,24,"\"24_Oso f\"",null,null,null,null,null,null,null,null,null,null,null,null,null,null,3,null,null,null,null,null,null,null,1,null,2,null,null,null,3]
[null,25,"\"25_Oso f\"",null,null,null,null,null,null,null,null,null,null,null,null,null,null,2,null,null,null,null,null,null,null,1,null,null,3,null,null,3]
[null,26,"\"26_Oso f\"",null,null,null,null,null,null,null,null,null,null,null,null,null,null,3,null,null,null,null,null,null,null,1,null,2,null,null,null,3]
[null,27,"\"27_Oso f\"",null,null,null,null,null,null,null,null,null,null,null,null,null,null,null,null,null,null,null,3,null,null,1,null,2,null,null,null,3]
[null,28,"\"28_Oso f\"",null,null,null,null,null,null,null,null,null,null,null,null,null,null,null,null,null,null,null,null,null,null,null,null,null,null,null,null,0]
[null,null,"Suma volieb 1 + 2 + 3 spolu",0,0,0,0,2,0,2,1,10,0,0,0,0,0,8,0,0,2,0,3,0,0,25,0,12,8,0,8,{"$f":"SUM($D$33:$AE$33)","v":81}]
[null,null,"Suma volieb 1",{"$f":"COUNTIF(D5:D32,1)","v":0},0,0,0,0,0,0,0,2,0,0,0,0,0,4,0,0,1,0,0,0,0,17,0,2,0,0,1]
[null,null,"Suma volieb 2",{"$f":"COUNTIF(D5:D32,2)","v":0},0,0,0,0,0,1,0,3,0,0,0,0,0,1,0,0,0,0,2,0,0,4,0,6,6,0,4]
[null,null,"Suma volieb 3",{"$f":"COUNTIF(D5:D32,3)","v":0},0,0,0,2,0,1,1,5,0,0,0,0,0,3,0,0,1,0,1,0,0,4,0,4,2,0,3]
[null,null,"Percento Suma volieb 1",{"$f":"(D34/$B$3)*100","v":0},0,0,0,0,0,0,0,7.1428571428571423,0,0,0,0,0,14.285714285714285,0,0,3.5714285714285712,0,0,0,0,60.714285714285708,0,7.1428571428571423,0,0,3.5714285714285712]
[null,null,"Percento Suma volieb 2",{"$f":"(D35/$B$3)*100","v":0},0,0,0,0,0,3.5714285714285712,0,10.714285714285714,0,0,0,0,0,3.5714285714285712,0,0,0,0,7.1428571428571423,0,0,14.285714285714285,0,21.428571428571427,21.428571428571427,0,14.285714285714285]
[null,null,"Percento Suma volieb 3",{"$f":"(D36/$B$3)*100","v":0},0,0,0,7.1428571428571423,0,3.5714285714285712,3.5714285714285712,17.857142857142858,0,0,0,0,0,10.714285714285714,0,0,3.5714285714285712,0,3.5714285714285712,0,0,14.285714285714285,0,14.285714285714285,7.1428571428571423,0,10.714285714285714]
[null,null,"Percento Suma volieb 1 + 2 + 3 spolu",{"$f":"(D33/$B$3)*100","v":0},0,0,0,7.1428571428571423,0,7.1428571428571423,3.5714285714285712,35.714285714285715,0,0,0,0,0,28.571428571428569,0,0,7.1428571428571423,0,10.714285714285714,0,0,89.285714285714292,0,42.857142857142854,28.571428571428569,0,28.571428571428569]
[]
[null,null,null,1,2,3,4,5,6,7,8,9,10,11,12,13,14,15,16,17,18,19,20,21,22,23,24,25,26,27,28]
[null,null,null,"\"01_Oso m\"","\"02_Oso m\"","\"03_Oso m\"","\"04_Oso m\"","\"05_Oso m\"","\"*06_Oso m\"","\"07_Oso m\"","\"08_Oso m\"","\"09_Oso f\"","\"**10_Oso m\"","\"11_Oso m\"","\"12_Oso m\"","\"13_Oso m\"","\"14_Oso m\"","\"15_Oso f\"","\"16_Oso f\"","\"17_Oso f\"","\"18_Oso f\"","\"19_Oso f\"","\"20_Oso f\"","\"21_Oso f\"","\"22_Oso f\"","\"23_Oso f\"","\"24_Oso f\"","\"25_Oso f\"","\"26_Oso f\"","\"27_Oso f\"","\"28_Oso f\""]
[null,1,"\"01_Oso m\"",{"$f":"IF(D5<>0,D$3,\"\")","v":""},"","","","","","","","","","","","","",15,"","","","","","","",23,"","",26,"","",null," 15, 23, 26,",null,null,null,15,23,26,0]
[null,2,"\"02_Oso m\"","","","","","","",7,"","","","","","","","","","","","","","","",23,"",25,"","","",null," 7, 23, 25,",null,null,null,7,23,25,0]
[null,3,"\"03_Oso m\"","","","","","","","","","","","","","","","","","","","","","","",23,"","",26,"",28,null," 23, 26, 28,",null,null,null,23,26,28,0]
[null,4,"\"04_Oso m\"","","","","","","","","",9,"","","","","",15,"","","","","","","",23,"","","","","",null," 9, 15, 23,",null,null,null,9,15,23,0]
[null,5,"\"05_Oso m\"","","","","","","","","",9,"","","","","","","","","","","","","",23,"","","","",28,null," 9, 23, 28,",null,null,null,9,23,28,1]
[null,6,"\"*06_Oso m\"","","","","","","","",8,"","","","","","","","","","","","","","",23,"","",26,"","",null," 8, 23, 26,",null,null,null,8,23,26,0]
[null,7,"\"07_Oso m\"","","","","","","","","","","","","","","",15,"","","","","","","",23,"","",26,"","",null," 15, 23, 26,",null,null,null,15,23,26,0]
[null,8,"\"08_Oso m\"","","","","","","","","",9,"","","","","","","","","","","","","",23,"","",26,"","",null," 9, 23, 26,",null,null,null,9,23,26,0]
[null,9,"\"09_Oso f\"","","","","","","","","","","","","","","","","","","","","","","",23,"",25,"","",28,null," 23, 25, 28,",null,null,null,23,25,28,0]
[null,10,"\"**10_Oso m\"","","","",{"$f":"IF(G14<>0,G$3,\"\")","v":""},"","","","",9,"","","","","","","","","","","","","",23,"","","","",28,null," 9, 23, 28,",null,null,null,9,23,28,0]
[null,11,"\"11_Oso m\"",{"$f":"IF(D15<>0,D$3,\"\")","v":""},"","","","","",7,"",9,"","","","","","","","","","","","","","","","","","",28,null," 7, 9, 28,",null,null,null,7,9,28,0]
[null,12,"\"12_Oso m\"","","","","","","","","",9,"","","","","","","","","","","","","",23,"","","","",28,null," 9, 23, 28,",null,null,null,9,23,28,0]
[null,13,"\"13_Oso m\"","","","","","","","","","","","","","","","","","","","","","","",23,"",25,"","",28,null," 23, 25, 28,",null,null,null,23,25,28,0]
[null,14,"\"14_Oso m\"","","","","","","","","",9,"","","","","","","","","","","","","",23,"","","","",28,null," 9, 23, 28,",null,null,null,9,23,28,0]
[null,15,"\"15_Oso f\"","","","","",5,"","","","","","","","","","","","","","","","","",23,"",25,"","","",null," 5, 23, 25,",null,null,null,5,23,25,1]
[null,16,"\"16_Oso f\"","","","","","","","","","","","","","","",15,"","","","","","","",23,"",25,"","","",null," 15, 23, 25,",null,null,null,15,23,25,0]
[null,17,"\"17_Oso f\"","","","","","","","","","","","","","","",15,"","","","","","","",23,"","",26,"","",null," 15, 23, 26,",null,null,null,15,23,26,0]
[null,18,"\"18_Oso f\"","","","","","","","","","","","","","","","","","","","",20,"","",23,"",25,"","","",null," 20, 23, 25,",null,null,null,20,23,25,2]
[null,19,"\"19_Oso f\"","","","","","","","","",9,"","","","","","","","","","","","","",23,"",25,"","","",null," 9, 23, 25,",null,null,null,9,23,25,0]
[null,20,"\"20_Oso f\"","","","",{"$f":"IF(G24<>0,G$3,\"\")","v":""},"","","","",9,"","","","","","","","",18,"","","","",23,"","","","","",null," 9, 18, 23,",null,null,null,9,18,23,2]
[null,21,"\"21_Oso f\"",{"$f":"IF(D25<>0,D$3,\"\")","v":""},"","","","","","","",9,"","","","","","","","","","","","","",23,"",25,"","","",null," 9, 23, 25,",null,null,null,9,23,25,0]
[null,22,"\"22_Oso f\"","","","","","","","","","","","","","","","","","","","","","","",23,"",25,26,"","",null," 23, 25, 26,",null,null,null,23,25,26,0]
[null,23,"\"23_Oso f\"","","","","",5,"","","","","","","","","","","","",18,"",20,"","","","","","","","",null," 5, 18, 20,",null,null,null,5,18,20,3]
[null,24,"\"24_Oso f\"","","","","","","","","","","","","","","",15,"","","","","","","",23,"",25,"","","",null," 15, 23, 25,",null,null,null,15,23,25,0]
[null,25,"\"25_Oso f\"","","","","","","","","","","","","","","",15,"","","","","","","",23,"","",26,"","",null," 15, 23, 26,",null,null,null,15,23,26,2]
[null,26,"\"26_Oso f\"","","","","","","","","","","","","","","",15,"","","","","","","",23,"",25,"","","",null," 15, 23, 25,",null,null,null,15,23,25,1]
[null,27,"\"27_Oso f\"","","","","","","","","","","","","","","","","","","","",20,"","",23,"",25,"","","",null," 20, 23, 25,",null,null,null,20,23,25,0]
[null,28,"\"28_Oso f\"","","","","","","","","","","","","","","","","","","","","","","","","","","","","",null," 0, 0, 0,",null,null,null,0,0,0,0]
[null,null,null,null,null,null,null,null,null,null,null,null,null,null,null,null,null,null,null,null,null,null,null,null,null,null,null,null,null,null,null,null,null,null,null,null,null,null,null,{"$f":"SUM($AN$44:$AN$71)","v":12}]

{"sheet":"Q_5","index":4,"n_rows":72,"n_cols":70,"rows_kept":72,"cut":false,"hidden":false,"merged":[]}
["\"5. Komu z triedy by si zveril svoje tajomstvo?\""]
[null,3]
[null,28,null,1,2,3,4,5,6,7,8,9,10,11,12,13,14,15,16,17,18,19,20,21,22,23,24,25,26,27,28]
[null,null,null,"\"01_Oso m\"","\"02_Oso m\"","\"03_Oso m\"","\"04_Oso m\"","\"05_Oso m\"","\"*06_Oso m\"","\"07_Oso m\"","\"08_Oso m\"","\"09_Oso f\"","\"**10_Oso m\"","\"11_Oso m\"","\"12_Oso m\"","\"13_Oso m\"","\"14_Oso m\"","\"15_Oso f\"","\"16_Oso f\"","\"17_Oso f\"","\"18_Oso f\"","\"19_Oso f\"","\"20_Oso f\"","\"21_Oso f\"","\"22_Oso f\"","\"23_Oso f\"","\"24_Oso f\"","\"25_Oso f\"","\"26_Oso f\"","\"27_Oso f\"","\"28_Oso f\""]
["→",1,"\"01_Oso m\"",null,null,null,null,1,null,3,null,null,null,2,null,null,null,null,null,null,null,null,null,null,null,null,null,null,null,null,null,3,null,null,null,null,null,null,null,null,null,null,2,0,1,1,2,1,5,3,3,1,4,2,2,3,0,0,0,5,4,2,3,3,11,2,6,2,6,5]
[null,2,"\"02_Oso m\"",null,null,null,null,null,null,2,null,3,null,null,null,null,null,null,null,null,null,null,null,null,null,1,null,null,null,null,null,3,null,null,null,null,null,null,null,null,null,null,1,0,0,0,1,0,1,1,1,1,1,0,1,2,0,0,0,3,0,0,1,1,3,2,2,0,2,3]
[null,3,"\"03_Oso m\"",null,null,null,null,null,null,3,null,2,null,null,null,null,null,null,null,null,null,null,null,null,null,null,null,null,null,null,1,3,null,null,null,null,null,null,null,null,null,null,1,0,1,1,1,0,1,1,1,0,3,0,1,0,0,0,0,2,2,0,1,0,3,0,2,2,2,1]
[null,4,"\"04_Oso m\"",null,null,null,null,null,null,null,null,null,null,2,null,null,null,null,null,null,null,null,null,null,null,3,null,null,null,null,1,3,null,null,null,null,null,null,null,null,null,null,0,0,0,0,0,1,3,1,1,0,0,2,0,1,0,0,0,0,2,2,1,2,5,0,2,0,2,1]
[null,5,"\"05_Oso m\"",2,null,null,null,null,null,null,null,null,1,null,null,null,null,null,null,null,null,null,null,null,null,null,null,null,null,null,3,3,null,null,null,null,null,null,null,null,null,null,3.5714285714285712,0,0,0,3.5714285714285712,0,3.5714285714285712,3.5714285714285712,3.5714285714285712,3.5714285714285712,3.5714285714285712,0,3.5714285714285712,7.1428571428571423,0,0,0,10.714285714285714,0,0,3.5714285714285712,3.5714285714285712,10.714285714285714,7.1428571428571423,7.1428571428571423,0,7.1428571428571423,10.714285714285714]
[null,6,"\"*06_Oso m\"",null,null,null,null,null,null,null,null,null,null,1,null,null,null,null,null,null,null,null,null,null,null,null,null,null,null,null,null,1,null,null,null,null,null,null,null,null,null,null,3.5714285714285712,0,3.5714285714285712,3.5714285714285712,3.5714285714285712,0,3.5714285714285712,3.5714285714285712,3.5714285714285712,0,10.714285714285714,0,3.5714285714285712,0,0,0,0,7.1428571428571423,7.1428571428571423,0,3.5714285714285712,0,10.714285714285714,0,7.1428571428571423,7.1428571428571423,7.1428571428571423,3.5714285714285712]
[null,7,"\"07_Oso m\"",null,null,null,null,null,null,null,1,null,null,2,null,null,3,null,null,null,null,null,null,null,null,null,null,null,null,null,null,3,null,null,null,null,null,null,null,null,null,null,0,0,0,0,0,3.5714285714285712,10.714285714285714,3.5714285714285712,3.5714285714285712,0,0,7.1428571428571423,0,3.5714285714285712,0,0,0,0,7.1428571428571423,7.1428571428571423,3.5714285714285712,7.1428571428571423,17.857142857142858,0,7.1428571428571423,0,7.1428571428571423,3.5714285714285712]
[null,8,"\"08_Oso m\"",null,null,null,null,null,null,null,null,1,null,null,null,null,null,null,null,null,null,null,null,null,null,3,null,null,2,null,null,3,null,null,null,null,null,null,null,null,null,null,7.1428571428571423,0,3.5714285714285712,3.5714285714285712,7.1428571428571423,3.5714285714285712,17.857142857142858,10.714285714285714,10.714285714285714,3.5714285714285712,14.285714285714285,7.1428571428571423,7.1428571428571423,10.714285714285714,0,0,0,17.857142857142858,14.285714285714285,7.1428571428571423,10.714285714285714,10.714285714285714,39.285714285714285,7.1428571428571423,21.428571428571427,7.1428571428571423,21.428571428571427,17.857142857142858]
[null,9,"\"09_Oso f\"",null,null,2,null,null,null,3,null,null,null,null,null,null,null,null,null,null,null,null,null,null,null,null,null,null,null,null,1,3]
[null,10,"\"**10_Oso m\"",1,null,null,null,2,3,null,null,null,null,null,null,null,null,null,null,null,null,null,null,null,null,null,null,null,null,null,null,3]
[null,11,"\"11_Oso m\"",null,null,null,null,null,null,1,3,null,null,null,null,null,null,null,null,null,null,null,null,null,null,null,null,null,null,null,2,3]
[null,12,"\"12_Oso m\"",null,null,null,null,null,null,null,null,null,null,null,null,2,1,null,null,null,null,null,3,null,null,null,null,null,null,null,null,3]
[null,13,"\"13_Oso m\"",null,null,null,2,null,null,null,null,null,null,null,3,null,1,null,null,null,null,null,null,null,null,null,null,null,null,null,null,3]
[null,14,"\"14_Oso m\"",null,null,null,null,null,null,null,2,null,null,null,3,1,null,null,null,null,null,null,null,null,null,null,null,null,null,null,null,3]
[null,15,"\"15_Oso f\"",null,null,null,null,null,null,null,null,null,null,null,null,null,null,null,null,null,null,null,null,null,3,1,null,2,null,null,null,3]
[null,16,"\"16_Oso f\"",null,null,null,null,null,null,null,null,null,null,null,null,null,null,null,null,null,null,null,null,null,null,3,null,2,null,1,null,3]
[null,17,"\"17_Oso f\"",null,null,null,null,null,null,null,null,null,null,null,null,null,null,null,null,null,null,null,null,3,1,null,null,null,null,2,null,3]
[null,18,"\"18_Oso f\"",null,null,null,null,null,null,null,null,null,null,null,null,null,null,null,null,null,null,2,null,null,null,3,null,null,null,1,null,3]
[null,19,"\"19_Oso f\"",null,null,null,null,null,null,null,null,null,null,null,null,null,null,null,null,null,1,null,null,null,null,2,null,null,null,3,null,3]
[null,20,"\"20_Oso f\"",null,null,null,null,null,null,null,null,null,null,null,null,null,null,null,null,null,1,null,null,null,null,2,null,3,null,null,null,3]
[null,21,"\"21_Oso f\"",null,null,null,null,null,null,null,null,null,null,null,null,null,null,null,null,null,2,null,null,null,3,null,1,null,null,null,null,3]
[null,22,"\"22_Oso f\"",null,null,null,null,null,null,null,null,null,null,null,null,null,null,null,null,null,null,null,null,null,null,3,null,1,null,2,null,3]
[null,23,"\"23_Oso f\"",null,null,null,null,null,null,null,null,null,null,null,null,null,null,null,null,null,2,null,null,null,null,null,null,1,null,3,null,3]
[null,24,"\"24_Oso f\"",null,null,null,null,null,null,null,null,null,null,null,null,null,null,null,null,null,null,3,null,1,null,null,null,null,2,null,null,3]
[null,25,"\"25_Oso f\"",null,null,null,null,null,null,null,null,null,null,null,null,null,null,null,null,null,null,null,3,2,null,1,null,null,null,null,null,3]
[null,26,"\"26_Oso f\"",null,null,null,null,null,null,null,null,null,null,null,null,null,null,null,null,null,null,2,null,null,null,null,1,3,null,null,null,3]
[null,27,"\"27_Oso f\"",null,null,null,null,null,null,null,null,null,null,null,null,null,null,null,null,null,1,3,null,null,null,2,null,null,null,null,null,3]
[null,28,"\"28_Oso f\"",null,null,null,null,null,null,null,null,null,null,null,null,null,null,null,null,null,null,null,null,null,null,null,null,null,null,null,null,0]
[null,null,"Suma volieb 1 + 2 + 3 spolu",2,0,1,1,2,1,5,3,3,1,4,2,2,3,0,0,0,5,4,2,3,3,11,2,6,2,6,5,{"$f":"SUM($D$33:$AE$33)","v":79}]
[null,null,"Suma volieb 1",{"$f":"COUNTIF(D5:D32,1)","v":1},0,0,0,1,0,1,1,1,1,1,0,1,2,0,0,0,3,0,0,1,1,3,2,2,0,2,3]
[null,null,"Suma volieb 2",{"$f":"COUNTIF(D5:D32,2)","v":1},0,1,1,1,0,1,1,1,0,3,0,1,0,0,0,0,2,2,0,1,0,3,0,2,2,2,1]
[null,null,"Suma volieb 3",{"$f":"COUNTIF(D5:D32,3)","v":0},0,0,0,0,1,3,1,1,0,0,2,0,1,0,0,0,0,2,2,1,2,5,0,2,0,2,1]
[null,null,"Percento Suma volieb 1",{"$f":"(D34/$B$3)*100","v":3.5714285714285712},0,0,0,3.5714285714285712,0,3.5714285714285712,3.5714285714285712,3.5714285714285712,3.5714285714285712,3.5714285714285712,0,3.5714285714285712,7.1428571428571423,0,0,0,10.714285714285714,0,0,3.5714285714285712,3.5714285714285712,10.714285714285714,7.1428571428571423,7.1428571428571423,0,7.1428571428571423,10.714285714285714]
[null,null,"Percento Suma volieb 2",{"$f":"(D35/$B$3)*100","v":3.5714285714285712},0,3.5714285714285712,3.5714285714285712,3.5714285714285712,0,3.5714285714285712,3.5714285714285712,3.5714285714285712,0,10.714285714285714,0,3.5714285714285712,0,0,0,0,7.1428571428571423,7.1428571428571423,0,3.5714285714285712,0,10.714285714285714,0,7.1428571428571423,7.1428571428571423,7.1428571428571423,3.5714285714285712]
[null,null,"Percento Suma volieb 3",{"$f":"(D36/$B$3)*100","v":0},0,0,0,0,3.5714285714285712,10.714285714285714,3.5714285714285712,3.5714285714285712,0,0,7.1428571428571423,0,3.5714285714285712,0,0,0,0,7.1428571428571423,7.1428571428571423,3.5714285714285712,7.1428571428571423,17.857142857142858,0,7.1428571428571423,0,7.1428571428571423,3.5714285714285712]
[null,null,"Percento Suma volieb 1 + 2 + 3 spolu",{"$f":"(D33/$B$3)*100","v":7.1428571428571423},0,3.5714285714285712,3.5714285714285712,7.1428571428571423,3.5714285714285712,17.857142857142858,10.714285714285714,10.714285714285714,3.5714285714285712,14.285714285714285,7.1428571428571423,7.1428571428571423,10.714285714285714,0,0,0,17.857142857142858,14.285714285714285,7.1428571428571423,10.714285714285714,10.714285714285714,39.285714285714285,7.1428571428571423,21.428571428571427,7.1428571428571423,21.428571428571427,17.857142857142858]
[]
[null,null,null,1,2,3,4,5,6,7,8,9,10,11,12,13,14,15,16,17,18,19,20,21,22,23,24,25,26,27,28]
[null,null,null,"\"01_Oso m\"","\"02_Oso m\"","\"03_Oso m\"","\"04_Oso m\"","\"05_Oso m\"","\"*06_Oso m\"","\"07_Oso m\"","\"08_Oso m\"","\"09_Oso f\"","\"**10_Oso m\"","\"11_Oso m\"","\"12_Oso m\"","\"13_Oso m\"","\"14_Oso m\"","\"15_Oso f\"","\"16_Oso f\"","\"17_Oso f\"","\"18_Oso f\"","\"19_Oso f\"","\"20_Oso f\"","\"21_Oso f\"","\"22_Oso f\"","\"23_Oso f\"","\"24_Oso f\"","\"25_Oso f\"","\"26_Oso f\"","\"27_Oso f\"","\"28_Oso f\""]
[null,1,"\"01_Oso m\"",{"$f":"IF(D5<>0,D$3,\"\")","v":""},"","","",5,"",7,"","","",11,"","","","","","","","","","","","","","","","","",null," 5, 7, 11,",null,null,null,5,7,11,1]
[null,2,"\"02_Oso m\"","","","","","","",7,"",9,"","","","","","","","","","","","","",23,"","","","","",null," 7, 9, 23,",null,null,null,7,9,23,0]
[null,3,"\"03_Oso m\"","","","","","","",7,"",9,"","","","","","","","","","","","","","","","","","",28,null," 7, 9, 28,",null,null,null,7,9,28,1]
[null,4,"\"04_Oso m\"","","","","","","","","","","",11,"","","","","","","","","","","",23,"","","","",28,null," 11, 23, 28,",null,null,null,11,23,28,0]
[null,5,"\"05_Oso m\"",1,"","","","","","","","",10,"","","","","","","","","","","","","","","","","",28,null," 1, 10, 28,",null,null,null,1,10,28,2]
[null,6,"\"*06_Oso m\"","","","","","","","","","","",11,"","","","","","","","","","","","","","","","","",null," 11, 0, 0,",null,null,null,11,0,0,0]
[null,7,"\"07_Oso m\"","","","","","","","",8,"","",11,"","",14,"","","","","","","","","","","","","","",null," 8, 11, 14,",null,null,null,8,11,14,1]
[null,8,"\"08_Oso m\"","","","","","","","","",9,"","","","","","","","","","","","","",23,"","",26,"","",null," 9, 23, 26,",null,null,null,9,23,26,0]
[null,9,"\"09_Oso f\"","","",3,"","","",7,"","","","","","","","","","","","","","","","","","","","",28,null," 3, 7, 28,",null,null,null,3,7,28,1]
[null,10,"\"**10_Oso m\"",1,"","",{"$f":"IF(G14<>0,G$3,\"\")","v":""},5,6,"","","","","","","","","","","","","","","","","","","","","","",null," 1, 5, 6,",null,null,null,1,5,6,1]
[null,11,"\"11_Oso m\"",{"$f":"IF(D15<>0,D$3,\"\")","v":""},"","","","","",7,8,"","","","","","","","","","","","","","","","","","","",28,null," 7, 8, 28,",null,null,null,7,8,28,1]
[null,12,"\"12_Oso m\"","","","","","","","","","","","","",13,14,"","","","","",20,"","","","","","","","",null," 13, 14, 20,",null,null,null,13,14,20,2]
[null,13,"\"13_Oso m\"","","","",4,"","","","","","","",12,"",14,"","","","","","","","","","","","","","",null," 4, 12, 14,",null,null,null,4,12,14,2]
[null,14,"\"14_Oso m\"","","","","","","","",8,"","","",12,13,"","","","","","","","","","","","","","","",null," 8, 12, 13,",null,null,null,8,12,13,2]
[null,15,"\"15_Oso f\"","","","","","","","","","","","","","","","","","","","","","",22,23,"",25,"","","",null," 22, 23, 25,",null,null,null,22,23,25,0]
[null,16,"\"16_Oso f\"","","","","","","","","","","","","","","","","","","","","","","",23,"",25,"",27,"",null," 23, 25, 27,",null,null,null,23,25,27,0]
[null,17,"\"17_Oso f\"","","","","","","","","","","","","","","","","","","","","",21,22,"","","","",27,"",null," 21, 22, 27,",null,null,null,21,22,27,0]
[null,18,"\"18_Oso f\"","","","","","","","","","","","","","","","","","","",19,"","","",23,"","","",27,"",null," 19, 23, 27,",null,null,null,19,23,27,3]
[null,19,"\"19_Oso f\"","","","","","","","","","","","","","","","","","",18,"","","","",23,"","","",27,"",null," 18, 23, 27,",null,null,null,18,23,27,2]
[null,20,"\"20_Oso f\"","","","",{"$f":"IF(G24<>0,G$3,\"\")","v":""},"","","","","","","","","","","","","",18,"","","","",23,"",25,"","","",null," 18, 23, 25,",null,null,null,18,23,25,1]
[null,21,"\"21_Oso f\"",{"$f":"IF(D25<>0,D$3,\"\")","v":""},"","","","","","","","","","","","","","","","",18,"","","",22,"",24,"","","","",null," 18, 22, 24,",null,null,null,18,22,24,1]
[null,22,"\"22_Oso f\"","","","","","","","","","","","","","","","","","","","","","","",23,"",25,"",27,"",null," 23, 25, 27,",null,null,null,23,25,27,0]
[null,23,"\"23_Oso f\"","","","","","","","","","","","","","","","","","",18,"","","","","","",25,"",27,"",null," 18, 25, 27,",null,null,null,18,25,27,3]
[null,24,"\"24_Oso f\"","","","","","","","","","","","","","","","","","","",19,"",21,"","","","",26,"","",null," 19, 21, 26,",null,null,null,19,21,26,2]
[null,25,"\"25_Oso f\"","","","","","","","","","","","","","","","","","","","",20,21,"",23,"","","","","",null," 20, 21, 23,",null,null,null,20,21,23,2]
[null,26,"\"26_Oso f\"","","","","","","","","","","","","","","","","","","",19,"","","","",24,25,"","","",null," 19, 24, 25,",null,null,null,19,24,25,1]
[null,27,"\"27_Oso f\"","","","","","","","","","","","","","","","","","",18,19,"","","",23,"","","","","",null," 18, 19, 23,",null,null,null,18,19,23,3]
[null,28,"\"28_Oso f\"","","","","","","","","","","","","","","","","","","","","","","","","","","","","",null," 0, 0, 0,",null,null,null,0,0,0,0]
[null,null,null,null,null,null,null,null,null,null,null,null,null,null,null,null,null,null,null,null,null,null,null,null,null,null,null,null,null,null,null,null,null,null,null,null,null,null,null,{"$f":"SUM($AN$44:$AN$71)","v":32}]

{"sheet":"Q_6","index":5,"n_rows":72,"n_cols":70,"rows_kept":72,"cut":false,"hidden":false,"merged":[]}
["\"6. S kým z triedy by si nechcel sedieť v jednej lavici?\""]
[null,3]
[null,28,null,1,2,3,4,5,6,7,8,9,10,11,12,13,14,15,16,17,18,19,20,21,22,23,24,25,26,27,28]
[null,null,null,"\"01_Oso m\"","\"02_Oso m\"","\"03_Oso m\"","\"04_Oso m\"","\"05_Oso m\"","\"*06_Oso m\"","\"07_Oso m\"","\"08_Oso m\"","\"09_Oso f\"","\"**10_Oso m\"","\"11_Oso m\"","\"12_Oso m\"","\"13_Oso m\"","\"14_Oso m\"","\"15_Oso f\"","\"16_Oso f\"","\"17_Oso f\"","\"18_Oso f\"","\"19_Oso f\"","\"20_Oso f\"","\"21_Oso f\"","\"22_Oso f\"","\"23_Oso f\"","\"24_Oso f\"","\"25_Oso f\"","\"26_Oso f\"","\"27_Oso f\"","\"28_Oso f\""]
["→",1,"\"01_Oso m\"",null,null,null,null,null,null,null,null,null,null,null,null,null,null,null,2,1,null,null,null,null,null,3,null,null,null,null,null,3,null,null,null,null,null,null,null,null,null,null,0,12,0,6,2,19,0,1,0,20,0,3,0,0,1,2,2,1,0,1,2,2,2,2,1,0,1,0]
[null,2,"\"02_Oso m\"",null,null,null,3,null,2,null,null,null,1,null,null,null,null,null,null,null,null,null,null,null,null,null,null,null,null,null,null,3,null,null,null,null,null,null,null,null,null,null,0,5,0,0,0,9,0,0,0,5,0,0,0,0,0,1,2,0,0,0,1,1,1,1,0,0,1,0]
[null,3,"\"03_Oso m\"",null,null,null,null,2,3,null,null,null,1,null,null,null,null,null,null,null,null,null,null,null,null,null,null,null,null,null,null,3,null,null,null,null,null,null,null,null,null,null,0,1,0,3,2,7,0,0,0,9,0,1,0,0,0,1,0,0,0,1,1,0,0,0,1,0,0,0]
[null,4,"\"04_Oso m\"",null,null,null,null,null,null,null,null,null,2,null,null,null,null,null,null,null,null,null,null,1,null,null,3,null,null,null,null,3,null,null,null,null,null,null,null,null,null,null,0,6,0,3,0,3,0,1,0,6,0,2,0,0,1,0,0,1,0,0,0,1,1,1,0,0,0,0]
[null,5,"\"05_Oso m\"",null,null,null,2,null,null,null,null,null,null,null,3,null,null,null,null,null,null,null,null,null,null,null,null,null,null,1,null,3,null,null,null,null,null,null,null,null,null,null,0,17.857142857142858,0,0,0,32.142857142857146,0,0,0,17.857142857142858,0,0,0,0,0,3.5714285714285712,7.1428571428571423,0,0,0,3.5714285714285712,3.5714285714285712,3.5714285714285712,3.5714285714285712,0,0,3.5714285714285712,0]
[null,6,"\"*06_Oso m\"",null,null,null,null,null,null,null,null,null,null,null,null,null,null,null,null,1,null,null,2,null,3,null,null,null,null,null,null,3,null,null,null,null,null,null,null,null,null,null,0,3.5714285714285712,0,10.714285714285714,7.1428571428571423,25,0,0,0,32.142857142857146,0,3.5714285714285712,0,0,0,3.5714285714285712,0,0,0,3.5714285714285712,3.5714285714285712,0,0,0,3.5714285714285712,0,0,0]
[null,7,"\"07_Oso m\"",null,3,null,null,null,1,null,null,null,2,null,null,null,null,null,null,null,null,null,null,null,null,null,null,null,null,null,null,3,null,null,null,null,null,null,null,null,null,null,0,21.428571428571427,0,10.714285714285714,0,10.714285714285714,0,3.5714285714285712,0,21.428571428571427,0,7.1428571428571423,0,0,3.5714285714285712,0,0,3.5714285714285712,0,0,0,3.5714285714285712,3.5714285714285712,3.5714285714285712,0,0,0,0]
[null,8,"\"08_Oso m\"",null,null,null,null,null,2,null,null,null,3,null,null,null,null,null,null,null,null,null,null,null,null,null,1,null,null,null,null,3,null,null,null,null,null,null,null,null,null,null,0,42.857142857142854,0,21.428571428571427,7.1428571428571423,67.857142857142861,0,3.5714285714285712,0,71.428571428571431,0,10.714285714285714,0,0,3.5714285714285712,7.1428571428571423,7.1428571428571423,3.5714285714285712,0,3.5714285714285712,7.1428571428571423,7.1428571428571423,7.1428571428571423,7.1428571428571423,3.5714285714285712,0,3.5714285714285712,0]
[null,9,"\"09_Oso f\"",null,null,null,null,null,null,null,null,null,null,null,null,null,null,3,null,null,null,null,null,null,null,1,null,2,null,null,null,3]
[null,10,"\"**10_Oso m\"",null,null,null,2,null,null,null,null,null,null,null,null,null,null,null,1,null,3,null,null,null,null,null,null,null,null,null,null,3]
[null,11,"\"11_Oso m\"",null,1,null,2,null,null,null,null,null,3,null,null,null,null,null,null,null,null,null,null,null,null,null,null,null,null,null,null,3]
[null,12,"\"12_Oso m\"",null,3,null,null,2,null,null,null,null,null,null,null,null,null,null,null,null,null,null,null,null,1,null,null,null,null,null,null,3]
[null,13,"\"13_Oso m\"",null,null,null,null,null,1,null,null,null,null,null,null,null,null,null,null,null,null,null,null,2,null,null,null,null,null,null,null,2]
[null,14,"\"14_Oso m\"",null,1,null,null,null,3,null,null,null,2,null,null,null,null,null,null,null,null,null,null,null,null,null,null,null,null,null,null,3]
[null,15,"\"15_Oso f\"",null,null,null,3,null,1,null,null,null,2,null,null,null,null,null,null,null,null,null,null,null,null,null,null,null,null,null,null,3]
[null,16,"\"16_Oso f\"",null,3,null,null,null,2,null,null,null,1,null,null,null,null,null,null,null,null,null,null,null,null,null,null,null,null,null,null,3]
[null,17,"\"17_Oso f\"",null,null,null,null,null,1,null,3,null,2,null,null,null,null,null,null,null,null,null,null,null,null,null,null,null,null,null,null,3]
[null,18,"\"18_Oso f\"",null,3,null,null,null,2,null,null,null,1,null,null,null,null,null,null,null,null,null,null,null,null,null,null,null,null,null,null,3]
[null,19,"\"19_Oso f\"",null,1,null,null,null,2,null,null,null,3,null,null,null,null,null,null,null,null,null,null,null,null,null,null,null,null,null,null,3]
[null,20,"\"20_Oso f\"",null,null,null,3,null,1,null,null,null,2,null,null,null,null,null,null,null,null,null,null,null,null,null,null,null,null,null,null,3]
[null,21,"\"21_Oso f\"",null,1,null,null,null,3,null,null,null,2,null,null,null,null,null,null,null,null,null,null,null,null,null,null,null,null,null,null,3]
[null,22,"\"22_Oso f\"",null,3,null,null,null,2,null,null,null,1,null,null,null,null,null,null,null,null,null,null,null,null,null,null,null,null,null,null,3]
[null,23,"\"23_Oso f\"",null,2,null,null,null,1,null,null,null,3,null,null,null,null,null,null,null,null,null,null,null,null,null,null,null,null,null,null,3]
[null,24,"\"24_Oso f\"",null,null,null,null,null,1,null,null,null,3,null,2,null,null,null,null,null,null,null,null,null,null,null,null,null,null,null,null,3]
[null,25,"\"25_Oso f\"",null,3,null,null,null,1,null,null,null,2,null,null,null,null,null,null,null,null,null,null,null,null,null,null,null,null,null,null,3]
[null,26,"\"26_Oso f\"",null,1,null,null,null,2,null,null,null,3,null,null,null,null,null,null,null,null,null,null,null,null,null,null,null,null,null,null,3]
[null,27,"\"27_Oso f\"",null,null,null,null,null,1,null,null,null,2,null,3,null,null,null,null,null,null,null,null,null,null,null,null,null,null,null,null,3]
[null,28,"\"28_Oso f\"",null,null,null,null,null,null,null,null,null,null,null,null,null,null,null,null,null,null,null,null,null,null,null,null,null,null,null,null,0]
[null,null,"Suma volieb 1 + 2 + 3 spolu",0,12,0,6,2,19,0,1,0,20,0,3,0,0,1,2,2,1,0,1,2,2,2,2,1,0,1,0,{"$f":"SUM($D$33:$AE$33)","v":80}]
[null,null,"Suma volieb 1",{"$f":"COUNTIF(D5:D32,1)","v":0},5,0,0,0,9,0,0,0,5,0,0,0,0,0,1,2,0,0,0,1,1,1,1,0,0,1,0]
[null,null,"Suma volieb 2",{"$f":"COUNTIF(D5:D32,2)","v":0},1,0,3,2,7,0,0,0,9,0,1,0,0,0,1,0,0,0,1,1,0,0,0,1,0,0,0]
[null,null,"Suma volieb 3",{"$f":"COUNTIF(D5:D32,3)","v":0},6,0,3,0,3,0,1,0,6,0,2,0,0,1,0,0,1,0,0,0,1,1,1,0,0,0,0]
[null,null,"Percento Suma volieb 1",{"$f":"(D34/$B$3)*100","v":0},17.857142857142858,0,0,0,32.142857142857146,0,0,0,17.857142857142858,0,0,0,0,0,3.5714285714285712,7.1428571428571423,0,0,0,3.5714285714285712,3.5714285714285712,3.5714285714285712,3.5714285714285712,0,0,3.5714285714285712,0]
[null,null,"Percento Suma volieb 2",{"$f":"(D35/$B$3)*100","v":0},3.5714285714285712,0,10.714285714285714,7.1428571428571423,25,0,0,0,32.142857142857146,0,3.5714285714285712,0,0,0,3.5714285714285712,0,0,0,3.5714285714285712,3.5714285714285712,0,0,0,3.5714285714285712,0,0,0]
[null,null,"Percento Suma volieb 3",{"$f":"(D36/$B$3)*100","v":0},21.428571428571427,0,10.714285714285714,0,10.714285714285714,0,3.5714285714285712,0,21.428571428571427,0,7.1428571428571423,0,0,3.5714285714285712,0,0,3.5714285714285712,0,0,0,3.5714285714285712,3.5714285714285712,3.5714285714285712,0,0,0,0]
[null,null,"Percento Suma volieb 1 + 2 + 3 spolu",{"$f":"(D33/$B$3)*100","v":0},42.857142857142854,0,21.428571428571427,7.1428571428571423,67.857142857142861,0,3.5714285714285712,0,71.428571428571431,0,10.714285714285714,0,0,3.5714285714285712,7.1428571428571423,7.1428571428571423,3.5714285714285712,0,3.5714285714285712,7.1428571428571423,7.1428571428571423,7.1428571428571423,7.1428571428571423,3.5714285714285712,0,3.5714285714285712,0]
[]
[null,null,null,1,2,3,4,5,6,7,8,9,10,11,12,13,14,15,16,17,18,19,20,21,22,23,24,25,26,27,28]
[null,null,null,"\"01_Oso m\"","\"02_Oso m\"","\"03_Oso m\"","\"04_Oso m\"","\"05_Oso m\"","\"*06_Oso m\"","\"07_Oso m\"","\"08_Oso m\"","\"09_Oso f\"","\"**10_Oso m\"","\"11_Oso m\"","\"12_Oso m\"","\"13_Oso m\"","\"14_Oso m\"","\"15_Oso f\"","\"16_Oso f\"","\"17_Oso f\"","\"18_Oso f\"","\"19_Oso f\"","\"20_Oso f\"","\"21_Oso f\"","\"22_Oso f\"","\"23_Oso f\"","\"24_Oso f\"","\"25_Oso f\"","\"26_Oso f\"","\"27_Oso f\"","\"28_Oso f\""]
[null,1,"\"01_Oso m\"",{"$f":"IF(D5<>0,D$3,\"\")","v":""},"","","","","","","","","","","","","","",16,17,"","","","","",23,"","","","","",null," 16, 17, 23,",null,null,null,16,17,23,0]
[null,2,"\"02_Oso m\"","","","",4,"",6,"","","",10,"","","","","","","","","","","","","","","","","","",null," 4, 6, 10,",null,null,null,4,6,10,0]
[null,3,"\"03_Oso m\"","","","","",5,6,"","","",10,"","","","","","","","","","","","","","","","","","",null," 5, 6, 10,",null,null,null,5,6,10,0]
[null,4,"\"04_Oso m\"","","","","","","","","","",10,"","","","","","","","","","",21,"","",24,"","","","",null," 10, 21, 24,",null,null,null,10,21,24,1]
[null,5,"\"05_Oso m\"","","","",4,"","","","","","","",12,"","","","","","","","","","","","","","",27,"",null," 4, 12, 27,",null,null,null,4,12,27,1]
[null,6,"\"*06_Oso m\"","","","","","","","","","","","","","","","","",17,"","",20,"",22,"","","","","","",null," 17, 20, 22,",null,null,null,17,20,22,3]
[null,7,"\"07_Oso m\"","",2,"","","",6,"","","",10,"","","","","","","","","","","","","","","","","","",null," 2, 6, 10,",null,null,null,2,6,10,0]
[null,8,"\"08_Oso m\"","","","","","",6,"","","",10,"","","","","","","","","","","","","",24,"","","","",null," 6, 10, 24,",null,null,null,6,10,24,0]
[null,9,"\"09_Oso f\"","","","","","","","","","","","","","","",15,"","","","","","","",23,"",25,"","","",null," 15, 23, 25,",null,null,null,15,23,25,0]
[null,10,"\"**10_Oso m\"","","","",{"$f":"IF(G14<>0,G$3,\"\")","v":4},"","","","","","","","","","","",16,"",18,"","","","","","","","","","",null," 4, 16, 18,",null,null,null,4,16,18,3]
[null,11,"\"11_Oso m\"",{"$f":"IF(D15<>0,D$3,\"\")","v":""},2,"",4,"","","","","",10,"","","","","","","","","","","","","","","","","","",null," 2, 4, 10,",null,null,null,2,4,10,0]
[null,12,"\"12_Oso m\"","",2,"","",5,"","","","","","","","","","","","","","","","",22,"","","","","","",null," 2, 5, 22,",null,null,null,2,5,22,1]
[null,13,"\"13_Oso m\"","","","","","",6,"","","","","","","","","","","","","","",21,"","","","","","","",null," 6, 21, 0,",null,null,null,6,21,0,0]
[null,14,"\"14_Oso m\"","",2,"","","",6,"","","",10,"","","","","","","","","","","","","","","","","","",null," 2, 6, 10,",null,null,null,2,6,10,0]
[null,15,"\"15_Oso f\"","","","",4,"",6,"","","",10,"","","","","","","","","","","","","","","","","","",null," 4, 6, 10,",null,null,null,4,6,10,0]
[null,16,"\"16_Oso f\"","",2,"","","",6,"","","",10,"","","","","","","","","","","","","","","","","","",null," 2, 6, 10,",null,null,null,2,6,10,1]
[null,17,"\"17_Oso f\"","","","","","",6,"",8,"",10,"","","","","","","","","","","","","","","","","","",null," 6, 8, 10,",null,null,null,6,8,10,1]
[null,18,"\"18_Oso f\"","",2,"","","",6,"","","",10,"","","","","","","","","","","","","","","","","","",null," 2, 6, 10,",null,null,null,2,6,10,1]
[null,19,"\"19_Oso f\"","",2,"","","",6,"","","",10,"","","","","","","","","","","","","","","","","","",null," 2, 6, 10,",null,null,null,2,6,10,0]
[null,20,"\"20_Oso f\"","","","",{"$f":"IF(G24<>0,G$3,\"\")","v":4},"",6,"","","",10,"","","","","","","","","","","","","","","","","","",null," 4, 6, 10,",null,null,null,4,6,10,1]
[null,21,"\"21_Oso f\"",{"$f":"IF(D25<>0,D$3,\"\")","v":""},2,"","","",6,"","","",10,"","","","","","","","","","","","","","","","","","",null," 2, 6, 10,",null,null,null,2,6,10,0]
[null,22,"\"22_Oso f\"","",2,"","","",6,"","","",10,"","","","","","","","","","","","","","","","","","",null," 2, 6, 10,",null,null,null,2,6,10,1]
[null,23,"\"23_Oso f\"","",2,"","","",6,"","","",10,"","","","","","","","","","","","","","","","","","",null," 2, 6, 10,",null,null,null,2,6,10,0]
[null,24,"\"24_Oso f\"","","","","","",6,"","","",10,"",12,"","","","","","","","","","","","","","","","",null," 6, 10, 12,",null,null,null,6,10,12,0]
[null,25,"\"25_Oso f\"","",2,"","","",6,"","","",10,"","","","","","","","","","","","","","","","","","",null," 2, 6, 10,",null,null,null,2,6,10,0]
[null,26,"\"26_Oso f\"","",2,"","","",6,"","","",10,"","","","","","","","","","","","","","","","","","",null," 2, 6, 10,",null,null,null,2,6,10,0]
[null,27,"\"27_Oso f\"","","","","","",6,"","","",10,"",12,"","","","","","","","","","","","","","","","",null," 6, 10, 12,",null,null,null,6,10,12,0]
[null,28,"\"28_Oso f\"","","","","","","","","","","","","","","","","","","","","","","","","","","","","",null," 0, 0, 0,",null,null,null,0,0,0,0]
[null,null,null,null,null,null,null,null,null,null,null,null,null,null,null,null,null,null,null,null,null,null,null,null,null,null,null,null,null,null,null,null,null,null,null,null,null,null,null,{"$f":"SUM($AN$44:$AN$71)","v":14}]

{"sheet":"Q_7","index":6,"n_rows":72,"n_cols":70,"rows_kept":72,"cut":false,"hidden":false,"merged":[]}
["\"7. S kým z triedy by si v žiadnom prípade nechcel písavať úlohy a učievať sa?\""]
[null,3]
[null,28,null,1,2,3,4,5,6,7,8,9,10,11,12,13,14,15,16,17,18,19,20,21,22,23,24,25,26,27,28]
[null,null,null,"\"01_Oso m\"","\"02_Oso m\"","\"03_Oso m\"","\"04_Oso m\"","\"05_Oso m\"","\"*06_Oso m\"","\"07_Oso m\"","\"08_Oso m\"","\"09_Oso f\"","\"**10_Oso m\"","\"11_Oso m\"","\"12_Oso m\"","\"13_Oso m\"","\"14_Oso m\"","\"15_Oso f\"","\"16_Oso f\"","\"17_Oso f\"","\"18_Oso f\"","\"19_Oso f\"","\"20_Oso f\"","\"21_Oso f\"","\"22_Oso f\"","\"23_Oso f\"","\"24_Oso f\"","\"25_Oso f\"","\"26_Oso f\"","\"27_Oso f\"","\"28_Oso f\""]
["→",1,"\"01_Oso m\"",null,null,null,null,null,null,null,null,null,null,null,null,null,null,null,null,1,null,null,null,null,null,3,null,null,null,2,null,3,null,null,null,null,null,null,null,null,null,null,1,13,0,10,3,20,0,1,0,18,0,4,0,0,1,1,3,0,0,1,0,0,2,1,0,0,2,0]
[null,2,"\"02_Oso m\"",null,null,null,3,null,2,null,null,null,1,null,null,null,null,null,null,null,null,null,null,null,null,null,null,null,null,null,null,3,null,null,null,null,null,null,null,null,null,null,0,7,0,1,1,11,0,0,0,4,0,0,0,0,0,0,1,0,0,0,0,0,1,1,0,0,0,0]
[null,3,"\"03_Oso m\"",null,null,null,2,null,3,null,null,null,1,null,null,null,null,null,null,null,null,null,null,null,null,null,null,null,null,null,null,3,null,null,null,null,null,null,null,null,null,null,0,1,0,5,1,6,0,1,0,8,0,2,0,0,1,1,0,0,0,0,0,0,0,0,0,0,1,0]
[null,4,"\"04_Oso m\"",null,1,null,null,null,3,null,null,null,2,null,null,null,null,null,null,null,null,null,null,null,null,null,null,null,null,null,null,3,null,null,null,null,null,null,null,null,null,null,1,5,0,4,1,3,0,0,0,6,0,2,0,0,0,0,2,0,0,1,0,0,1,0,0,0,1,0]
[null,5,"\"05_Oso m\"",null,null,null,3,null,1,null,null,null,2,null,null,null,null,null,null,null,null,null,null,null,null,null,null,null,null,null,null,3,null,null,null,null,null,null,null,null,null,null,0,25,0,3.5714285714285712,3.5714285714285712,39.285714285714285,0,0,0,14.285714285714285,0,0,0,0,0,0,3.5714285714285712,0,0,0,0,0,3.5714285714285712,3.5714285714285712,0,0,0,0]
[null,6,"\"*06_Oso m\"",null,2,null,3,null,null,null,null,null,null,null,null,null,null,null,null,null,null,null,null,null,null,null,1,null,null,null,null,3,null,null,null,null,null,null,null,null,null,null,0,3.5714285714285712,0,17.857142857142858,3.5714285714285712,21.428571428571427,0,3.5714285714285712,0,28.571428571428569,0,7.1428571428571423,0,0,3.5714285714285712,3.5714285714285712,0,0,0,0,0,0,0,0,0,0,3.5714285714285712,0]
[null,7,"\"07_Oso m\"",null,3,null,null,null,1,null,null,null,2,null,null,null,null,null,null,null,null,null,null,null,null,null,null,null,null,null,null,3,null,null,null,null,null,null,null,null,null,null,3.5714285714285712,17.857142857142858,0,14.285714285714285,3.5714285714285712,10.714285714285714,0,0,0,21.428571428571427,0,7.1428571428571423,0,0,0,0,7.1428571428571423,0,0,3.5714285714285712,0,0,3.5714285714285712,0,0,0,3.5714285714285712,0]
[null,8,"\"08_Oso m\"",null,null,null,3,null,1,null,null,null,2,null,null,null,null,null,null,null,null,null,null,null,null,null,null,null,null,null,null,3,null,null,null,null,null,null,null,null,null,null,3.5714285714285712,46.428571428571431,0,35.714285714285715,10.714285714285714,71.428571428571431,0,3.5714285714285712,0,64.285714285714292,0,14.285714285714285,0,0,3.5714285714285712,3.5714285714285712,10.714285714285714,0,0,3.5714285714285712,0,0,7.1428571428571423,3.5714285714285712,0,0,7.1428571428571423,0]
[null,9,"\"09_Oso f\"",null,null,null,null,null,null,null,null,null,null,null,null,null,null,2,null,3,null,null,null,null,null,1,null,null,null,null,null,3]
[null,10,"\"**10_Oso m\"",null,3,null,null,null,1,null,null,null,null,null,2,null,null,null,null,null,null,null,null,null,null,null,null,null,null,null,null,3]
[null,11,"\"11_Oso m\"",null,1,null,2,null,null,null,null,null,3,null,null,null,null,null,null,null,null,null,null,null,null,null,null,null,null,null,null,3]
[null,12,"\"12_Oso m\"",null,null,null,null,1,2,null,null,null,3,null,null,null,null,null,null,null,null,null,null,null,null,null,null,null,null,null,null,3]
[null,13,"\"13_Oso m\"",null,null,null,null,null,2,null,null,null,1,null,3,null,null,null,null,null,null,null,null,null,null,null,null,null,null,null,null,3]
[null,14,"\"14_Oso m\"",null,1,null,null,null,3,null,null,null,2,null,null,null,null,null,null,null,null,null,null,null,null,null,null,null,null,null,null,3]
[null,15,"\"15_Oso f\"",null,3,null,null,null,1,null,null,null,2,null,null,null,null,null,null,null,null,null,null,null,null,null,null,null,null,null,null,3]
[null,16,"\"16_Oso f\"",null,3,null,null,null,2,null,null,null,1,null,null,null,null,null,null,null,null,null,null,null,null,null,null,null,null,null,null,3]
[null,17,"\"17_Oso f\"",3,null,null,null,null,1,null,2,null,null,null,null,null,null,null,null,null,null,null,null,null,null,null,null,null,null,null,null,3]
[null,18,"\"18_Oso f\"",null,3,null,null,null,1,null,null,null,2,null,null,null,null,null,null,null,null,null,null,null,null,null,null,null,null,null,null,3]
[null,19,"\"19_Oso f\"",null,1,null,null,null,2,null,null,null,3,null,null,null,null,null,null,null,null,null,null,null,null,null,null,null,null,null,null,3]
[null,20,"\"20_Oso f\"",null,null,null,null,null,1,null,null,null,2,null,3,null,null,null,null,null,null,null,null,null,null,null,null,null,null,null,null,3]
[null,21,"\"21_Oso f\"",null,1,null,null,null,2,null,null,null,3,null,null,null,null,null,null,null,null,null,null,null,null,null,null,null,null,null,null,3]
[null,22,"\"22_Oso f\"",null,null,null,null,2,1,null,null,null,3,null,null,null,null,null,null,null,null,null,null,null,null,null,null,null,null,null,null,3]
[null,23,"\"23_Oso f\"",null,null,null,null,null,1,null,null,null,null,null,2,null,null,null,null,null,null,null,null,null,null,null,null,null,null,3,null,3]
[null,24,"\"24_Oso f\"",null,1,null,2,null,null,null,null,null,null,null,null,null,null,null,null,null,null,null,3,null,null,null,null,null,null,null,null,3]
[null,25,"\"25_Oso f\"",null,null,null,2,3,1,null,null,null,null,null,null,null,null,null,null,null,null,null,null,null,null,null,null,null,null,null,null,3]
[null,26,"\"26_Oso f\"",null,null,null,1,null,null,null,null,null,null,null,null,null,null,null,2,3,null,null,null,null,null,null,null,null,null,null,null,3]
[null,27,"\"27_Oso f\"",null,1,null,2,null,null,null,null,null,3,null,null,null,null,null,null,null,null,null,null,null,null,null,null,null,null,null,null,3]
[null,28,"\"28_Oso f\"",null,null,null,null,null,null,null,null,null,null,null,null,null,null,null,null,null,null,null,null,null,null,null,null,null,null,null,null,0]
[null,null,"Suma volieb 1 + 2 + 3 spolu",1,13,0,10,3,20,0,1,0,18,0,4,0,0,1,1,3,0,0,1,0,0,2,1,0,0,2,0,{"$f":"SUM($D$33:$AE$33)","v":81}]
[null,null,"Suma volieb 1",{"$f":"COUNTIF(D5:D32,1)","v":0},7,0,1,1,11,0,0,0,4,0,0,0,0,0,0,1,0,0,0,0,0,1,1,0,0,0,0]
[null,null,"Suma volieb 2",{"$f":"COUNTIF(D5:D32,2)","v":0},1,0,5,1,6,0,1,0,8,0,2,0,0,1,1,0,0,0,0,0,0,0,0,0,0,1,0]
[null,null,"Suma volieb 3",{"$f":"COUNTIF(D5:D32,3)","v":1},5,0,4,1,3,0,0,0,6,0,2,0,0,0,0,2,0,0,1,0,0,1,0,0,0,1,0]
[null,null,"Percento Suma volieb 1",{"$f":"(D34/$B$3)*100","v":0},25,0,3.5714285714285712,3.5714285714285712,39.285714285714285,0,0,0,14.285714285714285,0,0,0,0,0,0,3.5714285714285712,0,0,0,0,0,3.5714285714285712,3.5714285714285712,0,0,0,0]
[null,null,"Percento Suma volieb 2",{"$f":"(D35/$B$3)*100","v":0},3.5714285714285712,0,17.857142857142858,3.5714285714285712,21.428571428571427,0,3.5714285714285712,0,28.571428571428569,0,7.1428571428571423,0,0,3.5714285714285712,3.5714285714285712,0,0,0,0,0,0,0,0,0,0,3.5714285714285712,0]
[null,null,"Percento Suma volieb 3",{"$f":"(D36/$B$3)*100","v":3.5714285714285712},17.857142857142858,0,14.285714285714285,3.5714285714285712,10.714285714285714,0,0,0,21.428571428571427,0,7.1428571428571423,0,0,0,0,7.1428571428571423,0,0,3.5714285714285712,0,0,3.5714285714285712,0,0,0,3.5714285714285712,0]
[null,null,"Percento Suma volieb 1 + 2 + 3 spolu",{"$f":"(D33/$B$3)*100","v":3.5714285714285712},46.428571428571431,0,35.714285714285715,10.714285714285714,71.428571428571431,0,3.5714285714285712,0,64.285714285714292,0,14.285714285714285,0,0,3.5714285714285712,3.5714285714285712,10.714285714285714,0,0,3.5714285714285712,0,0,7.1428571428571423,3.5714285714285712,0,0,7.1428571428571423,0]
[]
[null,null,null,1,2,3,4,5,6,7,8,9,10,11,12,13,14,15,16,17,18,19,20,21,22,23,24,25,26,27,28]
[null,null,null,"\"01_Oso m\"","\"02_Oso m\"","\"03_Oso m\"","\"04_Oso m\"","\"05_Oso m\"","\"*06_Oso m\"","\"07_Oso m\"","\"08_Oso m\"","\"09_Oso f\"","\"**10_Oso m\"","\"11_Oso m\"","\"12_Oso m\"","\"13_Oso m\"","\"14_Oso m\"","\"15_Oso f\"","\"16_Oso f\"","\"17_Oso f\"","\"18_Oso f\"","\"19_Oso f\"","\"20_Oso f\"","\"21_Oso f\"","\"22_Oso f\"","\"23_Oso f\"","\"24_Oso f\"","\"25_Oso f\"","\"26_Oso f\"","\"27_Oso f\"","\"28_Oso f\""]
[null,1,"\"01_Oso m\"",{"$f":"IF(D5<>0,D$3,\"\")","v":""},"","","","","","","","","","","","","","","",17,"","","","","",23,"","","",27,"",null," 17, 23, 27,",null,null,null,17,23,27,1]
[null,2,"\"02_Oso m\"","","","",4,"",6,"","","",10,"","","","","","","","","","","","","","","","","","",null," 4, 6, 10,",null,null,null,4,6,10,3]
[null,3,"\"03_Oso m\"","","","",4,"",6,"","","",10,"","","","","","","","","","","","","","","","","","",null," 4, 6, 10,",null,null,null,4,6,10,0]
[null,4,"\"04_Oso m\"","",2,"","","",6,"","","",10,"","","","","","","","","","","","","","","","","","",null," 2, 6, 10,",null,null,null,2,6,10,2]
[null,5,"\"05_Oso m\"","","","",4,"",6,"","","",10,"","","","","","","","","","","","","","","","","","",null," 4, 6, 10,",null,null,null,4,6,10,0]
[null,6,"\"*06_Oso m\"","",2,"",4,"","","","","","","","","","","","","","","","","","","",24,"","","","",null," 2, 4, 24,",null,null,null,2,4,24,2]
[null,7,"\"07_Oso m\"","",2,"","","",6,"","","",10,"","","","","","","","","","","","","","","","","","",null," 2, 6, 10,",null,null,null,2,6,10,0]
[null,8,"\"08_Oso m\"","","","",4,"",6,"","","",10,"","","","","","","","","","","","","","","","","","",null," 4, 6, 10,",null,null,null,4,6,10,0]
[null,9,"\"09_Oso f\"","","","","","","","","","","","","","","",15,"",17,"","","","","",23,"","","","","",null," 15, 17, 23,",null,null,null,15,17,23,0]
[null,10,"\"**10_Oso m\"","",2,"",{"$f":"IF(G14<>0,G$3,\"\")","v":""},"",6,"","","","","",12,"","","","","","","","","","","","","","","","",null," 2, 6, 12,",null,null,null,2,6,12,2]
[null,11,"\"11_Oso m\"",{"$f":"IF(D15<>0,D$3,\"\")","v":""},2,"",4,"","","","","",10,"","","","","","","","","","","","","","","","","","",null," 2, 4, 10,",null,null,null,2,4,10,0]
[null,12,"\"12_Oso m\"","","","","",5,6,"","","",10,"","","","","","","","","","","","","","","","","","",null," 5, 6, 10,",null,null,null,5,6,10,1]
[null,13,"\"13_Oso m\"","","","","","",6,"","","",10,"",12,"","","","","","","","","","","","","","","","",null," 6, 10, 12,",null,null,null,6,10,12,0]
[null,14,"\"14_Oso m\"","",2,"","","",6,"","","",10,"","","","","","","","","","","","","","","","","","",null," 2, 6, 10,",null,null,null,2,6,10,0]
[null,15,"\"15_Oso f\"","",2,"","","",6,"","","",10,"","","","","","","","","","","","","","","","","","",null," 2, 6, 10,",null,null,null,2,6,10,0]
[null,16,"\"16_Oso f\"","",2,"","","",6,"","","",10,"","","","","","","","","","","","","","","","","","",null," 2, 6, 10,",null,null,null,2,6,10,0]
[null,17,"\"17_Oso f\"",1,"","","","",6,"",8,"","","","","","","","","","","","","","","","","","","","",null," 1, 6, 8,",null,null,null,1,6,8,1]
[null,18,"\"18_Oso f\"","",2,"","","",6,"","","",10,"","","","","","","","","","","","","","","","","","",null," 2, 6, 10,",null,null,null,2,6,10,0]
[null,19,"\"19_Oso f\"","",2,"","","",6,"","","",10,"","","","","","","","","","","","","","","","","","",null," 2, 6, 10,",null,null,null,2,6,10,0]
[null,20,"\"20_Oso f\"","","","",{"$f":"IF(G24<>0,G$3,\"\")","v":""},"",6,"","","",10,"",12,"","","","","","","","","","","","","","","","",null," 6, 10, 12,",null,null,null,6,10,12,0]
[null,21,"\"21_Oso f\"",{"$f":"IF(D25<>0,D$3,\"\")","v":""},2,"","","",6,"","","",10,"","","","","","","","","","","","","","","","","","",null," 2, 6, 10,",null,null,null,2,6,10,0]
[null,22,"\"22_Oso f\"","","","","",5,6,"","","",10,"","","","","","","","","","","","","","","","","","",null," 5, 6, 10,",null,null,null,5,6,10,0]
[null,23,"\"23_Oso f\"","","","","","",6,"","","","","",12,"","","","","","","","","","","","","","",27,"",null," 6, 12, 27,",null,null,null,6,12,27,0]
[null,24,"\"24_Oso f\"","",2,"",4,"","","","","","","","","","","","","","","",20,"","","","","","","","",null," 2, 4, 20,",null,null,null,2,4,20,0]
[null,25,"\"25_Oso f\"","","","",4,5,6,"","","","","","","","","","","","","","","","","","","","","","",null," 4, 5, 6,",null,null,null,4,5,6,0]
[null,26,"\"26_Oso f\"","","","",4,"","","","","","","","","","","",16,17,"","","","","","","","","","","",null," 4, 16, 17,",null,null,null,4,16,17,0]
[null,27,"\"27_Oso f\"","",2,"",4,"","","","","",10,"","","","","","","","","","","","","","","","","","",null," 2, 4, 10,",null,null,null,2,4,10,0]
[null,28,"\"28_Oso f\"","","","","","","","","","","","","","","","","","","","","","","","","","","","","",null," 0, 0, 0,",null,null,null,0,0,0,0]
[null,null,null,null,null,null,null,null,null,null,null,null,null,null,null,null,null,null,null,null,null,null,null,null,null,null,null,null,null,null,null,null,null,null,null,null,null,null,null,{"$f":"SUM($AN$44:$AN$71)","v":12}]

{"sheet":"Q_8","index":7,"n_rows":72,"n_cols":70,"rows_kept":72,"cut":false,"hidden":false,"merged":[]}
["\"8. S kým z triedy by si nechcel stráviť prázdniny na pustom ostrove?\""]
[null,3]
[null,28,null,1,2,3,4,5,6,7,8,9,10,11,12,13,14,15,16,17,18,19,20,21,22,23,24,25,26,27,28]
[null,null,null,"\"01_Oso m\"","\"02_Oso m\"","\"03_Oso m\"","\"04_Oso m\"","\"05_Oso m\"","\"*06_Oso m\"","\"07_Oso m\"","\"08_Oso m\"","\"09_Oso f\"","\"**10_Oso m\"","\"11_Oso m\"","\"12_Oso m\"","\"13_Oso m\"","\"14_Oso m\"","\"15_Oso f\"","\"16_Oso f\"","\"17_Oso f\"","\"18_Oso f\"","\"19_Oso f\"","\"20_Oso f\"","\"21_Oso f\"","\"22_Oso f\"","\"23_Oso f\"","\"24_Oso f\"","\"25_Oso f\"","\"26_Oso f\"","\"27_Oso f\"","\"28_Oso f\""]
["→",1,"\"01_Oso m\"",null,null,null,null,null,null,null,null,null,null,null,null,null,null,null,null,2,null,null,3,null,null,null,null,null,null,1,null,3,null,null,null,null,null,null,null,null,null,null,1,12,0,6,2,15,2,1,0,16,1,1,0,0,2,2,2,2,1,2,1,1,1,2,2,0,6,0]
[null,2,"\"02_Oso m\"",null,null,null,3,null,null,null,null,null,1,2,null,null,null,null,null,null,null,null,null,null,null,null,null,null,null,null,null,3,null,null,null,null,null,null,null,null,null,null,0,5,0,2,1,7,0,0,0,4,0,0,0,0,0,0,1,0,0,0,0,1,1,2,0,0,3,0]
[null,3,"\"03_Oso m\"",null,3,null,null,1,null,null,null,null,null,null,null,null,null,null,null,null,null,null,null,null,null,null,null,null,null,2,null,3,null,null,null,null,null,null,null,null,null,null,1,3,0,1,0,6,0,0,0,6,1,0,0,0,1,0,1,1,0,1,1,0,0,0,2,0,2,0]
[null,4,"\"04_Oso m\"",null,null,null,null,null,null,null,null,null,null,null,null,null,null,null,null,null,null,null,null,2,null,null,1,null,null,3,null,3,null,null,null,null,null,null,null,null,null,null,0,4,0,3,1,2,2,1,0,6,0,1,0,0,1,2,0,1,1,1,0,0,0,0,0,0,1,0]
[null,5,"\"05_Oso m\"",null,null,null,2,null,null,null,null,null,null,null,null,null,null,null,null,null,null,3,null,null,null,null,1,null,null,null,null,3,null,null,null,null,null,null,null,null,null,null,0,17.857142857142858,0,7.1428571428571423,3.5714285714285712,25,0,0,0,14.285714285714285,0,0,0,0,0,0,3.5714285714285712,0,0,0,0,3.5714285714285712,3.5714285714285712,7.1428571428571423,0,0,10.714285714285714,0]
[null,6,"\"*06_Oso m\"",null,null,null,null,null,null,null,null,null,null,null,null,null,null,2,3,1,null,null,null,null,null,null,null,null,null,null,null,3,null,null,null,null,null,null,null,null,null,null,3.5714285714285712,10.714285714285714,0,3.5714285714285712,0,21.428571428571427,0,0,0,21.428571428571427,3.5714285714285712,0,0,0,3.5714285714285712,0,3.5714285714285712,3.5714285714285712,0,3.5714285714285712,3.5714285714285712,0,0,0,7.1428571428571423,0,7.1428571428571423,0]
[null,7,"\"07_Oso m\"",null,2,null,null,3,null,null,null,null,null,null,null,null,null,null,null,null,null,null,null,null,null,null,null,null,null,1,null,3,null,null,null,null,null,null,null,null,null,null,0,14.285714285714285,0,10.714285714285714,3.5714285714285712,7.1428571428571423,7.1428571428571423,3.5714285714285712,0,21.428571428571427,0,3.5714285714285712,0,0,3.5714285714285712,7.1428571428571423,0,3.5714285714285712,3.5714285714285712,3.5714285714285712,0,0,0,0,0,0,3.5714285714285712,0]
[null,8,"\"08_Oso m\"",null,null,null,3,null,1,null,null,null,2,null,null,null,null,null,null,null,null,null,null,null,null,null,null,null,null,null,null,3,null,null,null,null,null,null,null,null,null,null,3.5714285714285712,42.857142857142854,0,21.428571428571427,7.1428571428571423,53.571428571428569,7.1428571428571423,3.5714285714285712,0,57.142857142857139,3.5714285714285712,3.5714285714285712,0,0,7.1428571428571423,7.1428571428571423,7.1428571428571423,7.1428571428571423,3.5714285714285712,7.1428571428571423,3.5714285714285712,3.5714285714285712,3.5714285714285712,7.1428571428571423,7.1428571428571423,0,21.428571428571427,0]
[null,9,"\"09_Oso f\"",null,null,null,null,null,null,null,null,null,null,null,null,null,null,3,null,null,null,null,null,null,null,1,null,2,null,null,null,3]
[null,10,"\"**10_Oso m\"",null,null,null,null,null,null,null,null,null,null,null,null,null,null,null,null,null,3,null,null,null,null,null,null,2,null,1,null,3]
[null,11,"\"11_Oso m\"",null,2,null,1,null,null,null,null,null,3,null,null,null,null,null,null,null,null,null,null,null,null,null,null,null,null,null,null,3]
[null,12,"\"12_Oso m\"",null,1,null,null,null,null,null,3,null,null,null,null,null,null,null,null,null,2,null,null,null,null,null,null,null,null,null,null,3]
[null,13,"\"13_Oso m\"",null,null,null,null,null,1,null,null,null,3,null,null,null,null,null,null,null,null,null,null,null,null,null,null,null,null,2,null,3]
[null,14,"\"14_Oso m\"",null,1,null,null,null,3,null,null,null,2,null,null,null,null,null,null,null,null,null,null,null,null,null,null,null,null,null,null,3]
[null,15,"\"15_Oso f\"",null,3,null,null,null,1,null,null,null,2,null,null,null,null,null,null,null,null,null,null,null,null,null,null,null,null,null,null,3]
[null,16,"\"16_Oso f\"",null,3,null,null,null,2,null,null,null,1,null,null,null,null,null,null,null,null,null,null,null,null,null,null,null,null,null,null,3]
[null,17,"\"17_Oso f\"",2,null,null,null,null,1,null,null,null,3,null,null,null,null,null,null,null,null,null,null,null,null,null,null,null,null,null,null,3]
[null,18,"\"18_Oso f\"",null,3,null,null,null,2,null,null,null,1,null,null,null,null,null,null,null,null,null,null,null,null,null,null,null,null,null,null,3]
[null,19,"\"19_Oso f\"",null,1,null,null,null,2,null,null,null,3,null,null,null,null,null,null,null,null,null,null,null,null,null,null,null,null,null,null,3]
[null,20,"\"20_Oso f\"",null,null,null,1,null,2,3,null,null,null,null,null,null,null,null,null,null,null,null,null,null,null,null,null,null,null,null,null,3]
[null,21,"\"21_Oso f\"",null,1,null,null,null,3,null,null,null,2,null,null,null,null,null,null,null,null,null,null,null,null,null,null,null,null,null,null,3]
[null,22,"\"22_Oso f\"",null,null,null,3,null,1,null,null,null,2,null,null,null,null,null,null,null,null,null,null,null,null,null,null,null,null,null,null,3]
[null,23,"\"23_Oso f\"",null,null,null,null,null,2,3,null,null,1,null,null,null,null,null,null,null,null,null,null,null,null,null,null,null,null,null,null,3]
[null,24,"\"24_Oso f\"",null,null,null,null,null,null,null,null,null,null,null,null,null,null,null,3,null,null,null,2,null,1,null,null,null,null,null,null,3]
[null,25,"\"25_Oso f\"",null,null,null,null,null,1,null,null,null,2,null,3,null,null,null,null,null,null,null,null,null,null,null,null,null,null,null,null,3]
[null,26,"\"26_Oso f\"",null,2,null,null,null,1,null,null,null,3,null,null,null,null,null,null,null,null,null,null,null,null,null,null,null,null,null,null,3]
[null,27,"\"27_Oso f\"",null,1,null,null,null,2,null,null,null,3,null,null,null,null,null,null,null,null,null,null,null,null,null,null,null,null,null,null,3]
[null,28,"\"28_Oso f\"",null,null,null,null,null,null,null,null,null,null,null,null,null,null,null,null,null,null,null,null,null,null,null,null,null,null,null,null,0]
[null,null,"Suma volieb 1 + 2 + 3 spolu",1,12,0,6,2,15,2,1,0,16,1,1,0,0,2,2,2,2,1,2,1,1,1,2,2,0,6,0,{"$f":"SUM($D$33:$AE$33)","v":81}]
[null,null,"Suma volieb 1",{"$f":"COUNTIF(D5:D32,1)","v":0},5,0,2,1,7,0,0,0,4,0,0,0,0,0,0,1,0,0,0,0,1,1,2,0,0,3,0]
[null,null,"Suma volieb 2",{"$f":"COUNTIF(D5:D32,2)","v":1},3,0,1,0,6,0,0,0,6,1,0,0,0,1,0,1,1,0,1,1,0,0,0,2,0,2,0]
[null,null,"Suma volieb 3",{"$f":"COUNTIF(D5:D32,3)","v":0},4,0,3,1,2,2,1,0,6,0,1,0,0,1,2,0,1,1,1,0,0,0,0,0,0,1,0]
[null,null,"Percento Suma volieb 1",{"$f":"(D34/$B$3)*100","v":0},17.857142857142858,0,7.1428571428571423,3.5714285714285712,25,0,0,0,14.285714285714285,0,0,0,0,0,0,3.5714285714285712,0,0,0,0,3.5714285714285712,3.5714285714285712,7.1428571428571423,0,0,10.714285714285714,0]
[null,null,"Percento Suma volieb 2",{"$f":"(D35/$B$3)*100","v":3.5714285714285712},10.714285714285714,0,3.5714285714285712,0,21.428571428571427,0,0,0,21.428571428571427,3.5714285714285712,0,0,0,3.5714285714285712,0,3.5714285714285712,3.5714285714285712,0,3.5714285714285712,3.5714285714285712,0,0,0,7.1428571428571423,0,7.1428571428571423,0]
[null,null,"Percento Suma volieb 3",{"$f":"(D36/$B$3)*100","v":0},14.285714285714285,0,10.714285714285714,3.5714285714285712,7.1428571428571423,7.1428571428571423,3.5714285714285712,0,21.428571428571427,0,3.5714285714285712,0,0,3.5714285714285712,7.1428571428571423,0,3.5714285714285712,3.5714285714285712,3.5714285714285712,0,0,0,0,0,0,3.5714285714285712,0]
[null,null,"Percento Suma volieb 1 + 2 + 3 spolu",{"$f":"(D33/$B$3)*100","v":3.5714285714285712},42.857142857142854,0,21.428571428571427,7.1428571428571423,53.571428571428569,7.1428571428571423,3.5714285714285712,0,57.142857142857139,3.5714285714285712,3.5714285714285712,0,0,7.1428571428571423,7.1428571428571423,7.1428571428571423,7.1428571428571423,3.5714285714285712,7.1428571428571423,3.5714285714285712,3.5714285714285712,3.5714285714285712,7.1428571428571423,7.1428571428571423,0,21.428571428571427,0]
[]
[null,null,null,1,2,3,4,5,6,7,8,9,10,11,12,13,14,15,16,17,18,19,20,21,22,23,24,25,26,27,28]
[null,null,null,"\"01_Oso m\"","\"02_Oso m\"","\"03_Oso m\"","\"04_Oso m\"","\"05_Oso m\"","\"*06_Oso m\"","\"07_Oso m\"","\"08_Oso m\"","\"09_Oso f\"","\"**10_Oso m\"","\"11_Oso m\"","\"12_Oso m\"","\"13_Oso m\"","\"14_Oso m\"","\"15_Oso f\"","\"16_Oso f\"","\"17_Oso f\"","\"18_Oso f\"","\"19_Oso f\"","\"20_Oso f\"","\"21_Oso f\"","\"22_Oso f\"","\"23_Oso f\"","\"24_Oso f\"","\"25_Oso f\"","\"26_Oso f\"","\"27_Oso f\"","\"28_Oso f\""]
[null,1,"\"01_Oso m\"",{"$f":"IF(D5<>0,D$3,\"\")","v":""},"","","","","","","","","","","","","","","",17,"","",20,"","","","","","",27,"",null," 17, 20, 27,",null,null,null,17,20,27,1]
[null,2,"\"02_Oso m\"","","","",4,"","","","","",10,11,"","","","","","","","","","","","","","","","","",null," 4, 10, 11,",null,null,null,4,10,11,1]
[null,3,"\"03_Oso m\"","",2,"","",5,"","","","","","","","","","","","","","","","","","","","","",27,"",null," 2, 5, 27,",null,null,null,2,5,27,0]
[null,4,"\"04_Oso m\"","","","","","","","","","","","","","","","","","","","","",21,"","",24,"","",27,"",null," 21, 24, 27,",null,null,null,21,24,27,0]
[null,5,"\"05_Oso m\"","","","",4,"","","","","","","","","","","","","","",19,"","","","",24,"","","","",null," 4, 19, 24,",null,null,null,4,19,24,0]
[null,6,"\"*06_Oso m\"","","","","","","","","","","","","","","",15,16,17,"","","","","","","","","","","",null," 15, 16, 17,",null,null,null,15,16,17,3]
[null,7,"\"07_Oso m\"","",2,"","",5,"","","","","","","","","","","","","","","","","","","","","",27,"",null," 2, 5, 27,",null,null,null,2,5,27,0]
[null,8,"\"08_Oso m\"","","","",4,"",6,"","","",10,"","","","","","","","","","","","","","","","","","",null," 4, 6, 10,",null,null,null,4,6,10,0]
[null,9,"\"09_Oso f\"","","","","","","","","","","","","","","",15,"","","","","","","",23,"",25,"","","",null," 15, 23, 25,",null,null,null,15,23,25,0]
[null,10,"\"**10_Oso m\"","","","",{"$f":"IF(G14<>0,G$3,\"\")","v":""},"","","","","","","","","","","","","",18,"","","","","","",25,"",27,"",null," 18, 25, 27,",null,null,null,18,25,27,3]
[null,11,"\"11_Oso m\"",{"$f":"IF(D15<>0,D$3,\"\")","v":""},2,"",4,"","","","","",10,"","","","","","","","","","","","","","","","","","",null," 2, 4, 10,",null,null,null,2,4,10,1]
[null,12,"\"12_Oso m\"","",2,"","","","","",8,"","","","","","","","","",18,"","","","","","","","","","",null," 2, 8, 18,",null,null,null,2,8,18,0]
[null,13,"\"13_Oso m\"","","","","","",6,"","","",10,"","","","","","","","","","","","","","","","",27,"",null," 6, 10, 27,",null,null,null,6,10,27,0]
[null,14,"\"14_Oso m\"","",2,"","","",6,"","","",10,"","","","","","","","","","","","","","","","","","",null," 2, 6, 10,",null,null,null,2,6,10,0]
[null,15,"\"15_Oso f\"","",2,"","","",6,"","","",10,"","","","","","","","","","","","","","","","","","",null," 2, 6, 10,",null,null,null,2,6,10,1]
[null,16,"\"16_Oso f\"","",2,"","","",6,"","","",10,"","","","","","","","","","","","","","","","","","",null," 2, 6, 10,",null,null,null,2,6,10,1]
[null,17,"\"17_Oso f\"",1,"","","","",6,"","","",10,"","","","","","","","","","","","","","","","","","",null," 1, 6, 10,",null,null,null,1,6,10,2]
[null,18,"\"18_Oso f\"","",2,"","","",6,"","","",10,"","","","","","","","","","","","","","","","","","",null," 2, 6, 10,",null,null,null,2,6,10,1]
[null,19,"\"19_Oso f\"","",2,"","","",6,"","","",10,"","","","","","","","","","","","","","","","","","",null," 2, 6, 10,",null,null,null,2,6,10,0]
[null,20,"\"20_Oso f\"","","","",{"$f":"IF(G24<>0,G$3,\"\")","v":4},"",6,7,"","","","","","","","","","","","","","","","","","","","","",null," 4, 6, 7,",null,null,null,4,6,7,0]
[null,21,"\"21_Oso f\"",{"$f":"IF(D25<>0,D$3,\"\")","v":""},2,"","","",6,"","","",10,"","","","","","","","","","","","","","","","","","",null," 2, 6, 10,",null,null,null,2,6,10,0]
[null,22,"\"22_Oso f\"","","","",4,"",6,"","","",10,"","","","","","","","","","","","","","","","","","",null," 4, 6, 10,",null,null,null,4,6,10,0]
[null,23,"\"23_Oso f\"","","","","","",6,7,"","",10,"","","","","","","","","","","","","","","","","","",null," 6, 7, 10,",null,null,null,6,7,10,0]
[null,24,"\"24_Oso f\"","","","","","","","","","","","","","","","",16,"","","",20,"",22,"","","","","","",null," 16, 20, 22,",null,null,null,16,20,22,0]
[null,25,"\"25_Oso f\"","","","","","",6,"","","",10,"",12,"","","","","","","","","","","","","","","","",null," 6, 10, 12,",null,null,null,6,10,12,1]
[null,26,"\"26_Oso f\"","",2,"","","",6,"","","",10,"","","","","","","","","","","","","","","","","","",null," 2, 6, 10,",null,null,null,2,6,10,0]
[null,27,"\"27_Oso f\"","",2,"","","",6,"","","",10,"","","","","","","","","","","","","","","","","","",null," 2, 6, 10,",null,null,null,2,6,10,1]
[null,28,"\"28_Oso f\"","","","","","","","","","","","","","","","","","","","","","","","","","","","","",null," 0, 0, 0,",null,null,null,0,0,0,0]
[null,null,null,null,null,null,null,null,null,null,null,null,null,null,null,null,null,null,null,null,null,null,null,null,null,null,null,null,null,null,null,null,null,null,null,null,null,null,null,{"$f":"SUM($AN$44:$AN$71)","v":16}]

{"sheet":"Q_9","index":8,"n_rows":72,"n_cols":70,"rows_kept":72,"cut":false,"hidden":false,"merged":[]}
["\"9. Koho by si vôbec nevybral na hájenie záujmov triedy?\""]
[null,3]
[null,28,null,1,2,3,4,5,6,7,8,9,10,11,12,13,14,15,16,17,18,19,20,21,22,23,24,25,26,27,28]
[null,null,null,"\"01_Oso m\"","\"02_Oso m\"","\"03_Oso m\"","\"04_Oso m\"","\"05_Oso m\"","\"*06_Oso m\"","\"07_Oso m\"","\"08_Oso m\"","\"09_Oso f\"","\"**10_Oso m\"","\"11_Oso m\"","\"12_Oso m\"","\"13_Oso m\"","\"14_Oso m\"","\"15_Oso f\"","\"16_Oso f\"","\"17_Oso f\"","\"18_Oso f\"","\"19_Oso f\"","\"20_Oso f\"","\"21_Oso f\"","\"22_Oso f\"","\"23_Oso f\"","\"24_Oso f\"","\"25_Oso f\"","\"26_Oso f\"","\"27_Oso f\"","\"28_Oso f\""]
["→",1,"\"01_Oso m\"",null,null,null,null,null,2,null,3,null,1,null,null,null,null,null,null,null,null,null,null,null,null,null,null,null,null,null,null,3,null,null,null,null,null,null,null,null,null,null,0,20,0,5,1,18,0,3,0,20,1,2,1,0,0,1,1,1,0,0,0,0,0,4,1,0,2,0]
[null,2,"\"02_Oso m\"",null,null,null,2,null,3,null,null,null,1,null,null,null,null,null,null,null,null,null,null,null,null,null,null,null,null,null,null,3,null,null,null,null,null,null,null,null,null,null,0,7,0,0,0,6,0,1,0,9,0,1,0,0,0,1,0,0,0,0,0,0,0,1,0,0,1,0]
[null,3,"\"03_Oso m\"",null,null,null,3,null,1,null,null,null,2,null,null,null,null,null,null,null,null,null,null,null,null,null,null,null,null,null,null,3,null,null,null,null,null,null,null,null,null,null,0,5,0,1,1,7,0,1,0,8,0,0,1,0,0,0,0,1,0,0,0,0,0,1,0,0,1,0]
[null,4,"\"04_Oso m\"",null,3,null,null,null,2,null,null,null,1,null,null,null,null,null,null,null,null,null,null,null,null,null,null,null,null,null,null,3,null,null,null,null,null,null,null,null,null,null,0,8,0,4,0,5,0,1,0,3,1,1,0,0,0,0,1,0,0,0,0,0,0,2,1,0,0,0]
[null,5,"\"05_Oso m\"",null,3,null,null,null,null,null,null,null,null,null,null,null,null,null,null,null,null,null,null,null,null,null,2,null,null,1,null,3,null,null,null,null,null,null,null,null,null,null,0,25,0,0,0,21.428571428571427,0,3.5714285714285712,0,32.142857142857146,0,3.5714285714285712,0,0,0,3.5714285714285712,0,0,0,0,0,0,0,3.5714285714285712,0,0,3.5714285714285712,0]
[null,6,"\"*06_Oso m\"",null,2,null,3,null,null,null,null,null,null,null,null,null,null,null,null,null,null,null,null,null,null,null,1,null,null,null,null,3,null,null,null,null,null,null,null,null,null,null,0,17.857142857142858,0,3.5714285714285712,3.5714285714285712,25,0,3.5714285714285712,0,28.571428571428569,0,0,3.5714285714285712,0,0,0,0,3.5714285714285712,0,0,0,0,0,3.5714285714285712,0,0,3.5714285714285712,0]
[null,7,"\"07_Oso m\"",null,2,null,null,null,1,null,null,null,3,null,null,null,null,null,null,null,null,null,null,null,null,null,null,null,null,null,null,3,null,null,null,null,null,null,null,null,null,null,0,28.571428571428569,0,14.285714285714285,0,17.857142857142858,0,3.5714285714285712,0,10.714285714285714,3.5714285714285712,3.5714285714285712,0,0,0,0,3.5714285714285712,0,0,0,0,0,0,7.1428571428571423,3.5714285714285712,0,0,0]
[null,8,"\"08_Oso m\"",null,null,null,3,null,2,null,null,null,1,null,null,null,null,null,null,null,null,null,null,null,null,null,null,null,null,null,null,3,null,null,null,null,null,null,null,null,null,null,0,71.428571428571431,0,17.857142857142858,3.5714285714285712,64.285714285714292,0,10.714285714285714,0,71.428571428571431,3.5714285714285712,7.1428571428571423,3.5714285714285712,0,0,3.5714285714285712,3.5714285714285712,3.5714285714285712,0,0,0,0,0,14.285714285714285,3.5714285714285712,0,7.1428571428571423,0]
[null,9,"\"09_Oso f\"",null,1,null,null,null,3,null,null,null,2,null,null,null,null,null,null,null,null,null,null,null,null,null,null,null,null,null,null,3]
[null,10,"\"**10_Oso m\"",null,1,null,null,null,null,null,null,null,null,null,null,null,null,null,null,null,2,null,null,null,null,null,null,3,null,null,null,3]
[null,11,"\"11_Oso m\"",null,2,null,3,null,null,null,null,null,1,null,null,null,null,null,null,null,null,null,null,null,null,null,null,null,null,null,null,3]
[null,12,"\"12_Oso m\"",null,3,null,null,null,1,null,null,null,2,null,null,null,null,null,null,null,null,null,null,null,null,null,null,null,null,null,null,3]
[null,13,"\"13_Oso m\"",null,3,null,null,null,1,null,null,null,2,null,null,null,null,null,null,null,null,null,null,null,null,null,null,null,null,null,null,3]
[null,14,"\"14_Oso m\"",null,1,null,null,null,3,null,null,null,2,null,null,null,null,null,null,null,null,null,null,null,null,null,null,null,null,null,null,3]
[null,15,"\"15_Oso f\"",null,3,null,null,null,1,null,null,null,2,null,null,null,null,null,null,null,null,null,null,null,null,null,null,null,null,null,null,3]
[null,16,"\"16_Oso f\"",null,3,null,null,null,2,null,null,null,1,null,null,null,null,null,null,null,null,null,null,null,null,null,null,null,null,null,null,3]
[null,17,"\"17_Oso f\"",null,null,null,null,null,null,null,null,null,3,null,null,null,null,null,1,null,null,null,null,null,null,null,null,null,null,2,null,3]
[null,18,"\"18_Oso f\"",null,2,null,null,null,3,null,null,null,1,null,null,null,null,null,null,null,null,null,null,null,null,null,null,null,null,null,null,3]
[null,19,"\"19_Oso f\"",null,1,null,null,null,2,null,null,null,3,null,null,null,null,null,null,null,null,null,null,null,null,null,null,null,null,null,null,3]
[null,20,"\"20_Oso f\"",null,2,null,null,null,null,null,1,null,null,null,null,null,null,null,null,null,null,null,null,null,null,null,3,null,null,null,null,3]
[null,21,"\"21_Oso f\"",null,1,null,null,null,3,null,null,null,2,null,null,null,null,null,null,null,null,null,null,null,null,null,null,null,null,null,null,3]
[null,22,"\"22_Oso f\"",null,3,null,null,null,2,null,null,null,1,null,null,null,null,null,null,null,null,null,null,null,null,null,null,null,null,null,null,3]
[null,23,"\"23_Oso f\"",null,1,null,null,null,null,null,2,null,null,null,null,null,null,null,null,null,null,null,null,null,null,null,3,null,null,null,null,3]
[null,24,"\"24_Oso f\"",null,1,null,null,2,null,null,null,null,null,null,null,null,null,null,null,3,null,null,null,null,null,null,null,null,null,null,null,3]
[null,25,"\"25_Oso f\"",null,null,null,null,null,1,null,null,null,2,null,3,null,null,null,null,null,null,null,null,null,null,null,null,null,null,null,null,3]
[null,26,"\"26_Oso f\"",null,null,null,null,null,null,null,null,null,null,3,1,2,null,null,null,null,null,null,null,null,null,null,null,null,null,null,null,3]
[null,27,"\"27_Oso f\"",null,3,null,null,null,2,null,null,null,1,null,null,null,null,null,null,null,null,null,null,null,null,null,null,null,null,null,null,3]
[null,28,"\"28_Oso f\"",null,null,null,null,null,null,null,null,null,null,null,null,null,null,null,null,null,null,null,null,null,null,null,null,null,null,null,null,0]
[null,null,"Suma volieb 1 + 2 + 3 spolu",0,20,0,5,1,18,0,3,0,20,1,2,1,0,0,1,1,1,0,0,0,0,0,4,1,0,2,0,{"$f":"SUM($D$33:$AE$33)","v":81}]
[null,null,"Suma volieb 1",{"$f":"COUNTIF(D5:D32,1)","v":0},7,0,0,0,6,0,1,0,9,0,1,0,0,0,1,0,0,0,0,0,0,0,1,0,0,1,0]
[null,null,"Suma volieb 2",{"$f":"COUNTIF(D5:D32,2)","v":0},5,0,1,1,7,0,1,0,8,0,0,1,0,0,0,0,1,0,0,0,0,0,1,0,0,1,0]
[null,null,"Suma volieb 3",{"$f":"COUNTIF(D5:D32,3)","v":0},8,0,4,0,5,0,1,0,3,1,1,0,0,0,0,1,0,0,0,0,0,0,2,1,0,0,0]
[null,null,"Percento Suma volieb 1",{"$f":"(D34/$B$3)*100","v":0},25,0,0,0,21.428571428571427,0,3.5714285714285712,0,32.142857142857146,0,3.5714285714285712,0,0,0,3.5714285714285712,0,0,0,0,0,0,0,3.5714285714285712,0,0,3.5714285714285712,0]
[null,null,"Percento Suma volieb 2",{"$f":"(D35/$B$3)*100","v":0},17.857142857142858,0,3.5714285714285712,3.5714285714285712,25,0,3.5714285714285712,0,28.571428571428569,0,0,3.5714285714285712,0,0,0,0,3.5714285714285712,0,0,0,0,0,3.5714285714285712,0,0,3.5714285714285712,0]
[null,null,"Percento Suma volieb 3",{"$f":"(D36/$B$3)*100","v":0},28.571428571428569,0,14.285714285714285,0,17.857142857142858,0,3.5714285714285712,0,10.714285714285714,3.5714285714285712,3.5714285714285712,0,0,0,0,3.5714285714285712,0,0,0,0,0,0,7.1428571428571423,3.5714285714285712,0,0,0]
[null,null,"Percento Suma volieb 1 + 2 + 3 spolu",{"$f":"(D33/$B$3)*100","v":0},71.428571428571431,0,17.857142857142858,3.5714285714285712,64.285714285714292,0,10.714285714285714,0,71.428571428571431,3.5714285714285712,7.1428571428571423,3.5714285714285712,0,0,3.5714285714285712,3.5714285714285712,3.5714285714285712,0,0,0,0,0,14.285714285714285,3.5714285714285712,0,7.1428571428571423,0]
[]
[null,null,null,1,2,3,4,5,6,7,8,9,10,11,12,13,14,15,16,17,18,19,20,21,22,23,24,25,26,27,28]
[null,null,null,"\"01_Oso m\"","\"02_Oso m\"","\"03_Oso m\"","\"04_Oso m\"","\"05_Oso m\"","\"*06_Oso m\"","\"07_Oso m\"","\"08_Oso m\"","\"09_Oso f\"","\"**10_Oso m\"","\"11_Oso m\"","\"12_Oso m\"","\"13_Oso m\"","\"14_Oso m\"","\"15_Oso f\"","\"16_Oso f\"","\"17_Oso f\"","\"18_Oso f\"","\"19_Oso f\"","\"20_Oso f\"","\"21_Oso f\"","\"22_Oso f\"","\"23_Oso f\"","\"24_Oso f\"","\"25_Oso f\"","\"26_Oso f\"","\"27_Oso f\"","\"28_Oso f\""]
[null,1,"\"01_Oso m\"",{"$f":"IF(D5<>0,D$3,\"\")","v":""},"","","","",6,"",8,"",10,"","","","","","","","","","","","","","","","","","",null," 6, 8, 10,",null,null,null,6,8,10,0]
[null,2,"\"02_Oso m\"","","","",4,"",6,"","","",10,"","","","","","","","","","","","","","","","","","",null," 4, 6, 10,",null,null,null,4,6,10,3]
[null,3,"\"03_Oso m\"","","","",4,"",6,"","","",10,"","","","","","","","","","","","","","","","","","",null," 4, 6, 10,",null,null,null,4,6,10,0]
[null,4,"\"04_Oso m\"","",2,"","","",6,"","","",10,"","","","","","","","","","","","","","","","","","",null," 2, 6, 10,",null,null,null,2,6,10,2]
[null,5,"\"05_Oso m\"","",2,"","","","","","","","","","","","","","","","","","","","","",24,"","",27,"",null," 2, 24, 27,",null,null,null,2,24,27,1]
[null,6,"\"*06_Oso m\"","",2,"",4,"","","","","","","","","","","","","","","","","","","",24,"","","","",null," 2, 4, 24,",null,null,null,2,4,24,2]
[null,7,"\"07_Oso m\"","",2,"","","",6,"","","",10,"","","","","","","","","","","","","","","","","","",null," 2, 6, 10,",null,null,null,2,6,10,0]
[null,8,"\"08_Oso m\"","","","",4,"",6,"","","",10,"","","","","","","","","","","","","","","","","","",null," 4, 6, 10,",null,null,null,4,6,10,0]
[null,9,"\"09_Oso f\"","",2,"","","",6,"","","",10,"","","","","","","","","","","","","","","","","","",null," 2, 6, 10,",null,null,null,2,6,10,0]
[null,10,"\"**10_Oso m\"","",2,"",{"$f":"IF(G14<>0,G$3,\"\")","v":""},"","","","","","","","","","","","","",18,"","","","","","",25,"","","",null," 2, 18, 25,",null,null,null,2,18,25,3]
[null,11,"\"11_Oso m\"",{"$f":"IF(D15<>0,D$3,\"\")","v":""},2,"",4,"","","","","",10,"","","","","","","","","","","","","","","","","","",null," 2, 4, 10,",null,null,null,2,4,10,0]
[null,12,"\"12_Oso m\"","",2,"","","",6,"","","",10,"","","","","","","","","","","","","","","","","","",null," 2, 6, 10,",null,null,null,2,6,10,0]
[null,13,"\"13_Oso m\"","",2,"","","",6,"","","",10,"","","","","","","","","","","","","","","","","","",null," 2, 6, 10,",null,null,null,2,6,10,0]
[null,14,"\"14_Oso m\"","",2,"","","",6,"","","",10,"","","","","","","","","","","","","","","","","","",null," 2, 6, 10,",null,null,null,2,6,10,0]
[null,15,"\"15_Oso f\"","",2,"","","",6,"","","",10,"","","","","","","","","","","","","","","","","","",null," 2, 6, 10,",null,null,null,2,6,10,0]
[null,16,"\"16_Oso f\"","",2,"","","",6,"","","",10,"","","","","","","","","","","","","","","","","","",null," 2, 6, 10,",null,null,null,2,6,10,0]
[null,17,"\"17_Oso f\"","","","","","","","","","",10,"","","","","",16,"","","","","","","","","","",27,"",null," 10, 16, 27,",null,null,null,10,16,27,0]
[null,18,"\"18_Oso f\"","",2,"","","",6,"","","",10,"","","","","","","","","","","","","","","","","","",null," 2, 6, 10,",null,null,null,2,6,10,1]
[null,19,"\"19_Oso f\"","",2,"","","",6,"","","",10,"","","","","","","","","","","","","","","","","","",null," 2, 6, 10,",null,null,null,2,6,10,0]
[null,20,"\"20_Oso f\"","",2,"",{"$f":"IF(G24<>0,G$3,\"\")","v":""},"","","",8,"","","","","","","","","","","","","","","",24,"","","","",null," 2, 8, 24,",null,null,null,2,8,24,0]
[null,21,"\"21_Oso f\"",{"$f":"IF(D25<>0,D$3,\"\")","v":""},2,"","","",6,"","","",10,"","","","","","","","","","","","","","","","","","",null," 2, 6, 10,",null,null,null,2,6,10,0]
[null,22,"\"22_Oso f\"","",2,"","","",6,"","","",10,"","","","","","","","","","","","","","","","","","",null," 2, 6, 10,",null,null,null,2,6,10,0]
[null,23,"\"23_Oso f\"","",2,"","","","","",8,"","","","","","","","","","","","","","","",24,"","","","",null," 2, 8, 24,",null,null,null,2,8,24,0]
[null,24,"\"24_Oso f\"","",2,"","",5,"","","","","","","","","","","",17,"","","","","","","","","","","",null," 2, 5, 17,",null,null,null,2,5,17,1]
[null,25,"\"25_Oso f\"","","","","","",6,"","","",10,"",12,"","","","","","","","","","","","","","","","",null," 6, 10, 12,",null,null,null,6,10,12,1]
[null,26,"\"26_Oso f\"","","","","","","","","","","",11,12,13,"","","","","","","","","","","","","","","",null," 11, 12, 13,",null,null,null,11,12,13,0]
[null,27,"\"27_Oso f\"","",2,"","","",6,"","","",10,"","","","","","","","","","","","","","","","","","",null," 2, 6, 10,",null,null,null,2,6,10,0]
[null,28,"\"28_Oso f\"","","","","","","","","","","","","","","","","","","","","","","","","","","","","",null," 0, 0, 0,",null,null,null,0,0,0,0]
[null,null,null,null,null,null,null,null,null,null,null,null,null,null,null,null,null,null,null,null,null,null,null,null,null,null,null,null,null,null,null,null,null,null,null,null,null,null,null,{"$f":"SUM($AN$44:$AN$71)","v":14}]

{"sheet":"Q_10","index":9,"n_rows":72,"n_cols":70,"rows_kept":72,"cut":false,"hidden":false,"merged":[]}
["\"10. Komu z triedy by si nikdy nezveril svoje tajomstvo?\""]
[null,3]
[null,28,null,1,2,3,4,5,6,7,8,9,10,11,12,13,14,15,16,17,18,19,20,21,22,23,24,25,26,27,28]
[null,null,null,"\"01_Oso m\"","\"02_Oso m\"","\"03_Oso m\"","\"04_Oso m\"","\"05_Oso m\"","\"*06_Oso m\"","\"07_Oso m\"","\"08_Oso m\"","\"09_Oso f\"","\"**10_Oso m\"","\"11_Oso m\"","\"12_Oso m\"","\"13_Oso m\"","\"14_Oso m\"","\"15_Oso f\"","\"16_Oso f\"","\"17_Oso f\"","\"18_Oso f\"","\"19_Oso f\"","\"20_Oso f\"","\"21_Oso f\"","\"22_Oso f\"","\"23_Oso f\"","\"24_Oso f\"","\"25_Oso f\"","\"26_Oso f\"","\"27_Oso f\"","\"28_Oso f\""]
["→",1,"\"01_Oso m\"",null,null,null,2,null,null,null,null,null,null,null,3,null,null,null,null,null,null,null,null,null,null,null,null,null,null,1,null,3,null,null,null,null,null,null,null,null,null,null,1,8,2,7,7,13,2,0,0,15,0,2,0,0,1,2,1,0,2,2,1,3,3,2,3,0,4,0]
[null,2,"\"02_Oso m\"",null,null,null,1,null,2,null,null,null,3,null,null,null,null,null,null,null,null,null,null,null,null,null,null,null,null,null,null,3,null,null,null,null,null,null,null,null,null,null,0,4,1,3,3,5,0,0,0,2,0,0,0,0,0,1,0,0,1,0,1,3,1,0,0,0,2,0]
[null,3,"\"03_Oso m\"",3,null,null,1,2,null,null,null,null,null,null,null,null,null,null,null,null,null,null,null,null,null,null,null,null,null,null,null,3,null,null,null,null,null,null,null,null,null,null,0,1,1,4,1,4,2,0,0,8,0,0,0,0,0,0,0,0,1,1,0,0,0,0,2,0,2,0]
[null,4,"\"04_Oso m\"",null,null,2,null,null,null,null,null,null,null,null,null,null,null,null,null,null,null,1,null,null,null,null,3,null,null,null,null,3,null,null,null,null,null,null,null,null,null,null,1,3,0,0,3,4,0,0,0,5,0,2,0,0,1,1,1,0,0,1,0,0,2,2,1,0,0,0]
[null,5,"\"05_Oso m\"",null,3,null,1,null,null,null,null,null,null,null,null,null,null,null,null,null,null,2,null,null,null,null,null,null,null,null,null,3,null,null,null,null,null,null,null,null,null,null,0,14.285714285714285,3.5714285714285712,10.714285714285714,10.714285714285714,17.857142857142858,0,0,0,7.1428571428571423,0,0,0,0,0,3.5714285714285712,0,0,3.5714285714285712,0,3.5714285714285712,10.714285714285714,3.5714285714285712,0,0,0,7.1428571428571423,0]
[null,6,"\"*06_Oso m\"",null,null,null,null,null,null,null,null,null,null,null,null,null,null,null,null,null,null,null,3,null,null,1,null,2,null,null,null,3,null,null,null,null,null,null,null,null,null,null,0,3.5714285714285712,3.5714285714285712,14.285714285714285,3.5714285714285712,14.285714285714285,7.1428571428571423,0,0,28.571428571428569,0,0,0,0,0,0,0,0,3.5714285714285712,3.5714285714285712,0,0,0,0,7.1428571428571423,0,7.1428571428571423,0]
[null,7,"\"07_Oso m\"",null,null,null,null,null,null,null,null,null,null,null,null,null,null,null,null,null,null,null,null,1,null,3,null,null,null,2,null,3,null,null,null,null,null,null,null,null,null,null,3.5714285714285712,10.714285714285714,0,0,10.714285714285714,14.285714285714285,0,0,0,17.857142857142858,0,7.1428571428571423,0,0,3.5714285714285712,3.5714285714285712,3.5714285714285712,0,0,3.5714285714285712,0,0,7.1428571428571423,7.1428571428571423,3.5714285714285712,0,0,0]
[null,8,"\"08_Oso m\"",null,null,1,null,null,3,null,null,null,2,null,null,null,null,null,null,null,null,null,null,null,null,null,null,null,null,null,null,3,null,null,null,null,null,null,null,null,null,null,3.5714285714285712,28.571428571428569,7.1428571428571423,25,25,46.428571428571431,7.1428571428571423,0,0,53.571428571428569,0,7.1428571428571423,0,0,3.5714285714285712,7.1428571428571423,3.5714285714285712,0,7.1428571428571423,7.1428571428571423,3.5714285714285712,10.714285714285714,10.714285714285714,7.1428571428571423,10.714285714285714,0,14.285714285714285,0]
[null,9,"\"09_Oso f\"",null,null,null,null,null,1,null,null,null,2,null,null,null,null,3,null,null,null,null,null,null,null,null,null,null,null,null,null,3]
[null,10,"\"**10_Oso m\"",null,null,null,null,null,null,null,null,null,null,null,null,null,null,null,null,null,null,null,null,null,null,3,null,2,null,1,null,3]
[null,11,"\"11_Oso m\"",null,1,null,2,null,null,null,null,null,3,null,null,null,null,null,null,null,null,null,null,null,null,null,null,null,null,null,null,3]
[null,12,"\"12_Oso m\"",null,2,null,null,1,null,null,null,null,3,null,null,null,null,null,null,null,null,null,null,null,null,null,null,null,null,null,null,3]
[null,13,"\"13_Oso m\"",null,null,null,null,null,1,null,null,null,2,null,null,null,null,null,null,null,null,null,null,null,null,null,null,3,null,null,null,3]
[null,14,"\"14_Oso m\"",null,1,null,null,3,null,null,null,null,2,null,null,null,null,null,null,null,null,null,null,null,null,null,null,null,null,null,null,3]
[null,15,"\"15_Oso f\"",null,null,null,null,null,null,null,null,null,null,null,null,null,null,null,1,null,null,null,null,null,null,null,3,null,null,2,null,3]
[null,16,"\"16_Oso f\"",null,3,null,null,null,2,null,null,null,1,null,null,null,null,null,null,null,null,null,null,null,null,null,null,null,null,null,null,3]
[null,17,"\"17_Oso f\"",null,null,null,null,null,1,null,null,null,2,null,null,null,null,null,3,null,null,null,null,null,null,null,null,null,null,null,null,3]
[null,18,"\"18_Oso f\"",null,3,null,null,null,2,null,null,null,1,null,null,null,null,null,null,null,null,null,null,null,null,null,null,null,null,null,null,3]
[null,19,"\"19_Oso f\"",null,1,null,null,null,2,null,null,null,3,null,null,null,null,null,null,null,null,null,null,null,null,null,null,null,null,null,null,3]
[null,20,"\"20_Oso f\"",null,null,null,2,null,3,null,null,null,null,null,null,null,null,null,null,null,null,null,null,null,1,null,null,null,null,null,null,3]
[null,21,"\"21_Oso f\"",null,1,null,null,null,3,null,null,null,2,null,null,null,null,null,null,null,null,null,null,null,null,null,null,null,null,null,null,3]
[null,22,"\"22_Oso f\"",null,null,null,2,1,null,null,null,null,null,null,3,null,null,null,null,null,null,null,null,null,null,null,null,null,null,null,null,3]
[null,23,"\"23_Oso f\"",null,null,null,null,null,null,2,null,null,3,null,null,null,null,null,null,null,null,null,null,null,1,null,null,null,null,null,null,3]
[null,24,"\"24_Oso f\"",null,null,null,null,null,null,null,null,null,null,null,null,null,null,null,null,3,null,null,2,null,1,null,null,null,null,null,null,3]
[null,25,"\"25_Oso f\"",null,null,null,null,3,1,null,null,null,2,null,null,null,null,null,null,null,null,null,null,null,null,null,null,null,null,null,null,3]
[null,26,"\"26_Oso f\"",null,null,null,null,1,3,2,null,null,null,null,null,null,null,null,null,null,null,null,null,null,null,null,null,null,null,null,null,3]
[null,27,"\"27_Oso f\"",null,null,null,null,3,1,null,null,null,2,null,null,null,null,null,null,null,null,null,null,null,null,null,null,null,null,null,null,3]
[null,28,"\"28_Oso f\"",null,null,null,null,null,null,null,null,null,null,null,null,null,null,null,null,null,null,null,null,null,null,null,null,null,null,null,null,0]
[null,null,"Suma volieb 1 + 2 + 3 spolu",1,8,2,7,7,13,2,0,0,15,0,2,0,0,1,2,1,0,2,2,1,3,3,2,3,0,4,0,{"$f":"SUM($D$33:$AE$33)","v":81}]
[null,null,"Suma volieb 1",{"$f":"COUNTIF(D5:D32,1)","v":0},4,1,3,3,5,0,0,0,2,0,0,0,0,0,1,0,0,1,0,1,3,1,0,0,0,2,0]
[null,null,"Suma volieb 2",{"$f":"COUNTIF(D5:D32,2)","v":0},1,1,4,1,4,2,0,0,8,0,0,0,0,0,0,0,0,1,1,0,0,0,0,2,0,2,0]
[null,null,"Suma volieb 3",{"$f":"COUNTIF(D5:D32,3)","v":1},3,0,0,3,4,0,0,0,5,0,2,0,0,1,1,1,0,0,1,0,0,2,2,1,0,0,0]
[null,null,"Percento Suma volieb 1",{"$f":"(D34/$B$3)*100","v":0},14.285714285714285,3.5714285714285712,10.714285714285714,10.714285714285714,17.857142857142858,0,0,0,7.1428571428571423,0,0,0,0,0,3.5714285714285712,0,0,3.5714285714285712,0,3.5714285714285712,10.714285714285714,3.5714285714285712,0,0,0,7.1428571428571423,0]
[null,null,"Percento Suma volieb 2",{"$f":"(D35/$B$3)*100","v":0},3.5714285714285712,3.5714285714285712,14.285714285714285,3.5714285714285712,14.285714285714285,7.1428571428571423,0,0,28.571428571428569,0,0,0,0,0,0,0,0,3.5714285714285712,3.5714285714285712,0,0,0,0,7.1428571428571423,0,7.1428571428571423,0]
[null,null,"Percento Suma volieb 3",{"$f":"(D36/$B$3)*100","v":3.5714285714285712},10.714285714285714,0,0,10.714285714285714,14.285714285714285,0,0,0,17.857142857142858,0,7.1428571428571423,0,0,3.5714285714285712,3.5714285714285712,3.5714285714285712,0,0,3.5714285714285712,0,0,7.1428571428571423,7.1428571428571423,3.5714285714285712,0,0,0]
[null,null,"Percento Suma volieb 1 + 2 + 3 spolu",{"$f":"(D33/$B$3)*100","v":3.5714285714285712},28.571428571428569,7.1428571428571423,25,25,46.428571428571431,7.1428571428571423,0,0,53.571428571428569,0,7.1428571428571423,0,0,3.5714285714285712,7.1428571428571423,3.5714285714285712,0,7.1428571428571423,7.1428571428571423,3.5714285714285712,10.714285714285714,10.714285714285714,7.1428571428571423,10.714285714285714,0,14.285714285714285,0]
[]
[null,null,null,1,2,3,4,5,6,7,8,9,10,11,12,13,14,15,16,17,18,19,20,21,22,23,24,25,26,27,28]
[null,null,null,"\"01_Oso m\"","\"02_Oso m\"","\"03_Oso m\"","\"04_Oso m\"","\"05_Oso m\"","\"*06_Oso m\"","\"07_Oso m\"","\"08_Oso m\"","\"09_Oso f\"","\"**10_Oso m\"","\"11_Oso m\"","\"12_Oso m\"","\"13_Oso m\"","\"14_Oso m\"","\"15_Oso f\"","\"16_Oso f\"","\"17_Oso f\"","\"18_Oso f\"","\"19_Oso f\"","\"20_Oso f\"","\"21_Oso f\"","\"22_Oso f\"","\"23_Oso f\"","\"24_Oso f\"","\"25_Oso f\"","\"26_Oso f\"","\"27_Oso f\"","\"28_Oso f\""]
[null,1,"\"01_Oso m\"",{"$f":"IF(D5<>0,D$3,\"\")","v":""},"","",4,"","","","","","","",12,"","","","","","","","","","","","","","",27,"",null," 4, 12, 27,",null,null,null,4,12,27,0]
[null,2,"\"02_Oso m\"","","","",4,"",6,"","","",10,"","","","","","","","","","","","","","","","","","",null," 4, 6, 10,",null,null,null,4,6,10,0]
[null,3,"\"03_Oso m\"",1,"","",4,5,"","","","","","","","","","","","","","","","","","","","","","","",null," 1, 4, 5,",null,null,null,1,4,5,1]
[null,4,"\"04_Oso m\"","","",3,"","","","","","","","","","","","","","","",19,"","","","",24,"","","","",null," 3, 19, 24,",null,null,null,3,19,24,1]
[null,5,"\"05_Oso m\"","",2,"",4,"","","","","","","","","","","","","","",19,"","","","","","","","","",null," 2, 4, 19,",null,null,null,2,4,19,0]
[null,6,"\"*06_Oso m\"","","","","","","","","","","","","","","","","","","","",20,"","",23,"",25,"","","",null," 20, 23, 25,",null,null,null,20,23,25,2]
[null,7,"\"07_Oso m\"","","","","","","","","","","","","","","","","","","","","",21,"",23,"","","",27,"",null," 21, 23, 27,",null,null,null,21,23,27,1]
[null,8,"\"08_Oso m\"","","",3,"","",6,"","","",10,"","","","","","","","","","","","","","","","","","",null," 3, 6, 10,",null,null,null,3,6,10,0]
[null,9,"\"09_Oso f\"","","","","","",6,"","","",10,"","","","",15,"","","","","","","","","","","","","",null," 6, 10, 15,",null,null,null,6,10,15,0]
[null,10,"\"**10_Oso m\"","","","",{"$f":"IF(G14<>0,G$3,\"\")","v":""},"","","","","","","","","","","","","","","","","","",23,"",25,"",27,"",null," 23, 25, 27,",null,null,null,23,25,27,3]
[null,11,"\"11_Oso m\"",{"$f":"IF(D15<>0,D$3,\"\")","v":""},2,"",4,"","","","","",10,"","","","","","","","","","","","","","","","","","",null," 2, 4, 10,",null,null,null,2,4,10,0]
[null,12,"\"12_Oso m\"","",2,"","",5,"","","","",10,"","","","","","","","","","","","","","","","","","",null," 2, 5, 10,",null,null,null,2,5,10,0]
[null,13,"\"13_Oso m\"","","","","","",6,"","","",10,"","","","","","","","","","","","","","",25,"","","",null," 6, 10, 25,",null,null,null,6,10,25,0]
[null,14,"\"14_Oso m\"","",2,"","",5,"","","","",10,"","","","","","","","","","","","","","","","","","",null," 2, 5, 10,",null,null,null,2,5,10,0]
[null,15,"\"15_Oso f\"","","","","","","","","","","","","","","","",16,"","","","","","","",24,"","",27,"",null," 16, 24, 27,",null,null,null,16,24,27,0]
[null,16,"\"16_Oso f\"","",2,"","","",6,"","","",10,"","","","","","","","","","","","","","","","","","",null," 2, 6, 10,",null,null,null,2,6,10,0]
[null,17,"\"17_Oso f\"","","","","","",6,"","","",10,"","","","","",16,"","","","","","","","","","","","",null," 6, 10, 16,",null,null,null,6,10,16,0]
[null,18,"\"18_Oso f\"","",2,"","","",6,"","","",10,"","","","","","","","","","","","","","","","","","",null," 2, 6, 10,",null,null,null,2,6,10,0]
[null,19,"\"19_Oso f\"","",2,"","","",6,"","","",10,"","","","","","","","","","","","","","","","","","",null," 2, 6, 10,",null,null,null,2,6,10,0]
[null,20,"\"20_Oso f\"","","","",{"$f":"IF(G24<>0,G$3,\"\")","v":4},"",6,"","","","","","","","","","","","","","","",22,"","","","","","",null," 4, 6, 22,",null,null,null,4,6,22,1]
[null,21,"\"21_Oso f\"",{"$f":"IF(D25<>0,D$3,\"\")","v":""},2,"","","",6,"","","",10,"","","","","","","","","","","","","","","","","","",null," 2, 6, 10,",null,null,null,2,6,10,0]
[null,22,"\"22_Oso f\"","","","",4,5,"","","","","","",12,"","","","","","","","","","","","","","","","",null," 4, 5, 12,",null,null,null,4,5,12,0]
[null,23,"\"23_Oso f\"","","","","","","",7,"","",10,"","","","","","","","","","","",22,"","","","","","",null," 7, 10, 22,",null,null,null,7,10,22,2]
[null,24,"\"24_Oso f\"","","","","","","","","","","","","","","","","",17,"","",20,"",22,"","","","","","",null," 17, 20, 22,",null,null,null,17,20,22,0]
[null,25,"\"25_Oso f\"","","","","",5,6,"","","",10,"","","","","","","","","","","","","","","","","","",null," 5, 6, 10,",null,null,null,5,6,10,2]
[null,26,"\"26_Oso f\"","","","","",5,6,7,"","","","","","","","","","","","","","","","","","","","","",null," 5, 6, 7,",null,null,null,5,6,7,0]
[null,27,"\"27_Oso f\"","","","","",5,6,"","","",10,"","","","","","","","","","","","","","","","","","",null," 5, 6, 10,",null,null,null,5,6,10,1]
[null,28,"\"28_Oso f\"","","","","","","","","","","","","","","","","","","","","","","","","","","","","",null," 0, 0, 0,",null,null,null,0,0,0,0]
[null,null,null,null,null,null,null,null,null,null,null,null,null,null,null,null,null,null,null,null,null,null,null,null,null,null,null,null,null,null,null,null,null,null,null,null,null,null,null,{"$f":"SUM($AN$44:$AN$71)","v":14}]

{"sheet":"Q_11","index":10,"n_rows":71,"n_cols":31,"rows_kept":71,"cut":false,"hidden":false,"merged":[]}
["\"11. Nezadaná\""]
[null,3]
[null,28,null,1,2,3,4,5,6,7,8,9,10,11,12,13,14,15,16,17,18,19,20,21,22,23,24,25,26,27,28]
[null,null,null,"\"01_Oso m\"","\"02_Oso m\"","\"03_Oso m\"","\"04_Oso m\"","\"05_Oso m\"","\"*06_Oso m\"","\"07_Oso m\"","\"08_Oso m\"","\"09_Oso f\"","\"**10_Oso m\"","\"11_Oso m\"","\"12_Oso m\"","\"13_Oso m\"","\"14_Oso m\"","\"15_Oso f\"","\"16_Oso f\"","\"17_Oso f\"","\"18_Oso f\"","\"19_Oso f\"","\"20_Oso f\"","\"21_Oso f\"","\"22_Oso f\"","\"23_Oso f\"","\"24_Oso f\"","\"25_Oso f\"","\"26_Oso f\"","\"27_Oso f\"","\"28_Oso f\""]
["→",1,"\"01_Oso m\""]
[null,2,"\"02_Oso m\""]
[null,3,"\"03_Oso m\""]
[null,4,"\"04_Oso m\""]
[null,5,"\"05_Oso m\""]
[null,6,"\"*06_Oso m\""]
[null,7,"\"07_Oso m\""]
[null,8,"\"08_Oso m\""]
[null,9,"\"09_Oso f\""]
[null,10,"\"**10_Oso m\""]
[null,11,"\"11_Oso m\""]
[null,12,"\"12_Oso m\""]
[null,13,"\"13_Oso m\""]
[null,14,"\"14_Oso m\""]
[null,15,"\"15_Oso f\""]
[null,16,"\"16_Oso f\""]
[null,17,"\"17_Oso f\""]
[null,18,"\"18_Oso f\""]
[null,19,"\"19_Oso f\""]
[null,20,"\"20_Oso f\""]
[null,21,"\"21_Oso f\""]
[null,22,"\"22_Oso f\""]
[null,23,"\"23_Oso f\""]
[null,24,"\"24_Oso f\""]
[null,25,"\"25_Oso f\""]
[null,26,"\"26_Oso f\""]
[null,27,"\"27_Oso f\""]
[null,28,"\"28_Oso f\""]
[]
[]
[]
[]
[]
[]
[]
[]
[]
[null,null,null,1,2,3,4,5,6,7,8,9,10,11,12,13,14,15,16,17,18,19,20,21,22,23,24,25,26,27,28]
[null,null,null,"\"01_Oso m\"","\"02_Oso m\"","\"03_Oso m\"","\"04_Oso m\"","\"05_Oso m\"","\"*06_Oso m\"","\"07_Oso m\"","\"08_Oso m\"","\"09_Oso f\"","\"**10_Oso m\"","\"11_Oso m\"","\"12_Oso m\"","\"13_Oso m\"","\"14_Oso m\"","\"15_Oso f\"","\"16_Oso f\"","\"17_Oso f\"","\"18_Oso f\"","\"19_Oso f\"","\"20_Oso f\"","\"21_Oso f\"","\"22_Oso f\"","\"23_Oso f\"","\"24_Oso f\"","\"25_Oso f\"","\"26_Oso f\"","\"27_Oso f\"","\"28_Oso f\""]
[null,1,"\"01_Oso m\"",{"$f":"IF(D5<>0,D$3,\"\")","v":""},"","","","","","","","","","","","","","","","","","","","","","","","","","",""]
[null,2,"\"02_Oso m\"","","","","","","","","","","","","","","","","","","","","","","","","","","","",""]
[null,3,"\"03_Oso m\"","","","","","","","","","","","","","","","","","","","","","","","","","","","",""]
[null,4,"\"04_Oso m\"","","","","","","","","","","","","","","","","","","","","","","","","","","","",""]
[null,5,"\"05_Oso m\"","","","","","","","","","","","","","","","","","","","","","","","","","","","",""]
[null,6,"\"*06_Oso m\"","","","","","","","","","","","","","","","","","","","","","","","","","","","",""]
[null,7,"\"07_Oso m\"","","","","","","","","","","","","","","","","","","","","","","","","","","","",""]
[null,8,"\"08_Oso m\"","","","","","","","","","","","","","","","","","","","","","","","","","","","",""]
[null,9,"\"09_Oso f\"","","","","","","","","","","","","","","","","","","","","","","","","","","","",""]
[null,10,"\"**10_Oso m\"","","","",{"$f":"IF(G14<>0,G$3,\"\")","v":""},"","","","","","","","","","","","","","","","","","","","","","","",""]
[null,11,"\"11_Oso m\"",{"$f":"IF(D15<>0,D$3,\"\")","v":""},"","","","","","","","","","","","","","","","","","","","","","","","","","",""]
[null,12,"\"12_Oso m\"","","","","","","","","","","","","","","","","","","","","","","","","","","","",""]
[null,13,"\"13_Oso m\"","","","","","","","","","","","","","","","","","","","","","","","","","","","",""]
[null,14,"\"14_Oso m\"","","","","","","","","","","","","","","","","","","","","","","","","","","","",""]
[null,15,"\"15_Oso f\"","","","","","","","","","","","","","","","","","","","","","","","","","","","",""]
[null,16,"\"16_Oso f\"","","","","","","","","","","","","","","","","","","","","","","","","","","","",""]
[null,17,"\"17_Oso f\"","","","","","","","","","","","","","","","","","","","","","","","","","","","",""]
[null,18,"\"18_Oso f\"","","","","","","","","","","","","","","","","","","","","","","","","","","","",""]
[null,19,"\"19_Oso f\"","","","","","","","","","","","","","","","","","","","","","","","","","","","",""]
[null,20,"\"20_Oso f\"","","","",{"$f":"IF(G24<>0,G$3,\"\")","v":""},"","","","","","","","","","","","","","","","","","","","","","","",""]
[null,21,"\"21_Oso f\"",{"$f":"IF(D25<>0,D$3,\"\")","v":""},"","","","","","","","","","","","","","","","","","","","","","","","","","",""]
[null,22,"\"22_Oso f\"","","","","","","","","","","","","","","","","","","","","","","","","","","","",""]
[null,23,"\"23_Oso f\"","","","","","","","","","","","","","","","","","","","","","","","","","","","",""]
[null,24,"\"24_Oso f\"","","","","","","","","","","","","","","","","","","","","","","","","","","","",""]
[null,25,"\"25_Oso f\"","","","","","","","","","","","","","","","","","","","","","","","","","","","",""]
[null,26,"\"26_Oso f\"","","","","","","","","","","","","","","","","","","","","","","","","","","","",""]
[null,27,"\"27_Oso f\"","","","","","","","","","","","","","","","","","","","","","","","","","","","",""]
[null,28,"\"28_Oso f\"","","","","","","","","","","","","","","","","","","","","","","","","","","","",""]

{"sheet":"Q_12","index":11,"n_rows":71,"n_cols":31,"rows_kept":71,"cut":false,"hidden":false,"merged":[]}
["\"12. Nezadaná\""]
[null,3]
[null,28,null,1,2,3,4,5,6,7,8,9,10,11,12,13,14,15,16,17,18,19,20,21,22,23,24,25,26,27,28]
[null,null,null,"\"01_Oso m\"","\"02_Oso m\"","\"03_Oso m\"","\"04_Oso m\"","\"05_Oso m\"","\"*06_Oso m\"","\"07_Oso m\"","\"08_Oso m\"","\"09_Oso f\"","\"**10_Oso m\"","\"11_Oso m\"","\"12_Oso m\"","\"13_Oso m\"","\"14_Oso m\"","\"15_Oso f\"","\"16_Oso f\"","\"17_Oso f\"","\"18_Oso f\"","\"19_Oso f\"","\"20_Oso f\"","\"21_Oso f\"","\"22_Oso f\"","\"23_Oso f\"","\"24_Oso f\"","\"25_Oso f\"","\"26_Oso f\"","\"27_Oso f\"","\"28_Oso f\""]
["→",1,"\"01_Oso m\""]
[null,2,"\"02_Oso m\""]
[null,3,"\"03_Oso m\""]
[null,4,"\"04_Oso m\""]
[null,5,"\"05_Oso m\""]
[null,6,"\"*06_Oso m\""]
[null,7,"\"07_Oso m\""]
[null,8,"\"08_Oso m\""]
[null,9,"\"09_Oso f\""]
[null,10,"\"**10_Oso m\""]
[null,11,"\"11_Oso m\""]
[null,12,"\"12_Oso m\""]
[null,13,"\"13_Oso m\""]
[null,14,"\"14_Oso m\""]
[null,15,"\"15_Oso f\""]
[null,16,"\"16_Oso f\""]
[null,17,"\"17_Oso f\""]
[null,18,"\"18_Oso f\""]
[null,19,"\"19_Oso f\""]
[null,20,"\"20_Oso f\""]
[null,21,"\"21_Oso f\""]
[null,22,"\"22_Oso f\""]
[null,23,"\"23_Oso f\""]
[null,24,"\"24_Oso f\""]
[null,25,"\"25_Oso f\""]
[null,26,"\"26_Oso f\""]
[null,27,"\"27_Oso f\""]
[null,28,"\"28_Oso f\""]
[]
[]
[]
[]
[]
[]
[]
[]
[]
[null,null,null,1,2,3,4,5,6,7,8,9,10,11,12,13,14,15,16,17,18,19,20,21,22,23,24,25,26,27,28]
[null,null,null,"\"01_Oso m\"","\"02_Oso m\"","\"03_Oso m\"","\"04_Oso m\"","\"05_Oso m\"","\"*06_Oso m\"","\"07_Oso m\"","\"08_Oso m\"","\"09_Oso f\"","\"**10_Oso m\"","\"11_Oso m\"","\"12_Oso m\"","\"13_Oso m\"","\"14_Oso m\"","\"15_Oso f\"","\"16_Oso f\"","\"17_Oso f\"","\"18_Oso f\"","\"19_Oso f\"","\"20_Oso f\"","\"21_Oso f\"","\"22_Oso f\"","\"23_Oso f\"","\"24_Oso f\"","\"25_Oso f\"","\"26_Oso f\"","\"27_Oso f\"","\"28_Oso f\""]
[null,1,"\"01_Oso m\"",{"$f":"IF(D5<>0,D$3,\"\")","v":""},"","","","","","","","","","","","","","","","","","","","","","","","","","",""]
[null,2,"\"02_Oso m\"","","","","","","","","","","","","","","","","","","","","","","","","","","","",""]
[null,3,"\"03_Oso m\"","","","","","","","","","","","","","","","","","","","","","","","","","","","",""]
[null,4,"\"04_Oso m\"","","","","","","","","","","","","","","","","","","","","","","","","","","","",""]
[null,5,"\"05_Oso m\"","","","","","","","","","","","","","","","","","","","","","","","","","","","",""]
[null,6,"\"*06_Oso m\"","","","","","","","","","","","","","","","","","","","","","","","","","","","",""]
[null,7,"\"07_Oso m\"","","","","","","","","","","","","","","","","","","","","","","","","","","","",""]
[null,8,"\"08_Oso m\"","","","","","","","","","","","","","","","","","","","","","","","","","","","",""]
[null,9,"\"09_Oso f\"","","","","","","","","","","","","","","","","","","","","","","","","","","","",""]
[null,10,"\"**10_Oso m\"","","","",{"$f":"IF(G14<>0,G$3,\"\")","v":""},"","","","","","","","","","","","","","","","","","","","","","","",""]
[null,11,"\"11_Oso m\"",{"$f":"IF(D15<>0,D$3,\"\")","v":""},"","","","","","","","","","","","","","","","","","","","","","","","","","",""]
[null,12,"\"12_Oso m\"","","","","","","","","","","","","","","","","","","","","","","","","","","","",""]
[null,13,"\"13_Oso m\"","","","","","","","","","","","","","","","","","","","","","","","","","","","",""]
[null,14,"\"14_Oso m\"","","","","","","","","","","","","","","","","","","","","","","","","","","","",""]
[null,15,"\"15_Oso f\"","","","","","","","","","","","","","","","","","","","","","","","","","","","",""]
[null,16,"\"16_Oso f\"","","","","","","","","","","","","","","","","","","","","","","","","","","","",""]
[null,17,"\"17_Oso f\"","","","","","","","","","","","","","","","","","","","","","","","","","","","",""]
[null,18,"\"18_Oso f\"","","","","","","","","","","","","","","","","","","","","","","","","","","","",""]
[null,19,"\"19_Oso f\"","","","","","","","","","","","","","","","","","","","","","","","","","","","",""]
[null,20,"\"20_Oso f\"","","","",{"$f":"IF(G24<>0,G$3,\"\")","v":""},"","","","","","","","","","","","","","","","","","","","","","","",""]
[null,21,"\"21_Oso f\"",{"$f":"IF(D25<>0,D$3,\"\")","v":""},"","","","","","","","","","","","","","","","","","","","","","","","","","",""]
[null,22,"\"22_Oso f\"","","","","","","","","","","","","","","","","","","","","","","","","","","","",""]
[null,23,"\"23_Oso f\"","","","","","","","","","","","","","","","","","","","","","","","","","","","",""]
[null,24,"\"24_Oso f\"","","","","","","","","","","","","","","","","","","","","","","","","","","","",""]
[null,25,"\"25_Oso f\"","","","","","","","","","","","","","","","","","","","","","","","","","","","",""]
[null,26,"\"26_Oso f\"","","","","","","","","","","","","","","","","","","","","","","","","","","","",""]
[null,27,"\"27_Oso f\"","","","","","","","","","","","","","","","","","","","","","","","","","","","",""]
[null,28,"\"28_Oso f\"","","","","","","","","","","","","","","","","","","","","","","","","","","","",""]

{"sheet":"Q_13","index":12,"n_rows":71,"n_cols":31,"rows_kept":71,"cut":false,"hidden":false,"merged":[]}
["\"13. Nezadaná\""]
[null,3]
[null,28,null,1,2,3,4,5,6,7,8,9,10,11,12,13,14,15,16,17,18,19,20,21,22,23,24,25,26,27,28]
[null,null,null,"\"01_Oso m\"","\"02_Oso m\"","\"03_Oso m\"","\"04_Oso m\"","\"05_Oso m\"","\"*06_Oso m\"","\"07_Oso m\"","\"08_Oso m\"","\"09_Oso f\"","\"**10_Oso m\"","\"11_Oso m\"","\"12_Oso m\"","\"13_Oso m\"","\"14_Oso m\"","\"15_Oso f\"","\"16_Oso f\"","\"17_Oso f\"","\"18_Oso f\"","\"19_Oso f\"","\"20_Oso f\"","\"21_Oso f\"","\"22_Oso f\"","\"23_Oso f\"","\"24_Oso f\"","\"25_Oso f\"","\"26_Oso f\"","\"27_Oso f\"","\"28_Oso f\""]
["→",1,"\"01_Oso m\""]
[null,2,"\"02_Oso m\""]
[null,3,"\"03_Oso m\""]
[null,4,"\"04_Oso m\""]
[null,5,"\"05_Oso m\""]
[null,6,"\"*06_Oso m\""]
[null,7,"\"07_Oso m\""]
[null,8,"\"08_Oso m\""]
[null,9,"\"09_Oso f\""]
[null,10,"\"**10_Oso m\""]
[null,11,"\"11_Oso m\""]
[null,12,"\"12_Oso m\""]
[null,13,"\"13_Oso m\""]
[null,14,"\"14_Oso m\""]
[null,15,"\"15_Oso f\""]
[null,16,"\"16_Oso f\""]
[null,17,"\"17_Oso f\""]
[null,18,"\"18_Oso f\""]
[null,19,"\"19_Oso f\""]
[null,20,"\"20_Oso f\""]
[null,21,"\"21_Oso f\""]
[null,22,"\"22_Oso f\""]
[null,23,"\"23_Oso f\""]
[null,24,"\"24_Oso f\""]
[null,25,"\"25_Oso f\""]
[null,26,"\"26_Oso f\""]
[null,27,"\"27_Oso f\""]
[null,28,"\"28_Oso f\""]
[]
[]
[]
[]
[]
[]
[]
[]
[]
[null,null,null,1,2,3,4,5,6,7,8,9,10,11,12,13,14,15,16,17,18,19,20,21,22,23,24,25,26,27,28]
[null,null,null,"\"01_Oso m\"","\"02_Oso m\"","\"03_Oso m\"","\"04_Oso m\"","\"05_Oso m\"","\"*06_Oso m\"","\"07_Oso m\"","\"08_Oso m\"","\"09_Oso f\"","\"**10_Oso m\"","\"11_Oso m\"","\"12_Oso m\"","\"13_Oso m\"","\"14_Oso m\"","\"15_Oso f\"","\"16_Oso f\"","\"17_Oso f\"","\"18_Oso f\"","\"19_Oso f\"","\"20_Oso f\"","\"21_Oso f\"","\"22_Oso f\"","\"23_Oso f\"","\"24_Oso f\"","\"25_Oso f\"","\"26_Oso f\"","\"27_Oso f\"","\"28_Oso f\""]
[null,1,"\"01_Oso m\"",{"$f":"IF(D5<>0,D$3,\"\")","v":""},"","","","","","","","","","","","","","","","","","","","","","","","","","",""]
[null,2,"\"02_Oso m\"","","","","","","","","","","","","","","","","","","","","","","","","","","","",""]
[null,3,"\"03_Oso m\"","","","","","","","","","","","","","","","","","","","","","","","","","","","",""]
[null,4,"\"04_Oso m\"","","","","","","","","","","","","","","","","","","","","","","","","","","","",""]
[null,5,"\"05_Oso m\"","","","","","","","","","","","","","","","","","","","","","","","","","","","",""]
[null,6,"\"*06_Oso m\"","","","","","","","","","","","","","","","","","","","","","","","","","","","",""]
[null,7,"\"07_Oso m\"","","","","","","","","","","","","","","","","","","","","","","","","","","","",""]
[null,8,"\"08_Oso m\"","","","","","","","","","","","","","","","","","","","","","","","","","","","",""]
[null,9,"\"09_Oso f\"","","","","","","","","","","","","","","","","","","","","","","","","","","","",""]
[null,10,"\"**10_Oso m\"","","","",{"$f":"IF(G14<>0,G$3,\"\")","v":""},"","","","","","","","","","","","","","","","","","","","","","","",""]
[null,11,"\"11_Oso m\"",{"$f":"IF(D15<>0,D$3,\"\")","v":""},"","","","","","","","","","","","","","","","","","","","","","","","","","",""]
[null,12,"\"12_Oso m\"","","","","","","","","","","","","","","","","","","","","","","","","","","","",""]
[null,13,"\"13_Oso m\"","","","","","","","","","","","","","","","","","","","","","","","","","","","",""]
[null,14,"\"14_Oso m\"","","","","","","","","","","","","","","","","","","","","","","","","","","","",""]
[null,15,"\"15_Oso f\"","","","","","","","","","","","","","","","","","","","","","","","","","","","",""]
[null,16,"\"16_Oso f\"","","","","","","","","","","","","","","","","","","","","","","","","","","","",""]
[null,17,"\"17_Oso f\"","","","","","","","","","","","","","","","","","","","","","","","","","","","",""]
[null,18,"\"18_Oso f\"","","","","","","","","","","","","","","","","","","","","","","","","","","","",""]
[null,19,"\"19_Oso f\"","","","","","","","","","","","","","","","","","","","","","","","","","","","",""]
[null,20,"\"20_Oso f\"","","","",{"$f":"IF(G24<>0,G$3,\"\")","v":""},"","","","","","","","","","","","","","","","","","","","","","","",""]
[null,21,"\"21_Oso f\"",{"$f":"IF(D25<>0,D$3,\"\")","v":""},"","","","","","","","","","","","","","","","","","","","","","","","","","",""]
[null,22,"\"22_Oso f\"","","","","","","","","","","","","","","","","","","","","","","","","","","","",""]
[null,23,"\"23_Oso f\"","","","","","","","","","","","","","","","","","","","","","","","","","","","",""]
[null,24,"\"24_Oso f\"","","","","","","","","","","","","","","","","","","","","","","","","","","","",""]
[null,25,"\"25_Oso f\"","","","","","","","","","","","","","","","","","","","","","","","","","","","",""]
[null,26,"\"26_Oso f\"","","","","","","","","","","","","","","","","","","","","","","","","","","","",""]
[null,27,"\"27_Oso f\"","","","","","","","","","","","","","","","","","","","","","","","","","","","",""]
[null,28,"\"28_Oso f\"","","","","","","","","","","","","","","","","","","","","","","","","","","","",""]

{"sheet":"Q_14","index":13,"n_rows":71,"n_cols":31,"rows_kept":71,"cut":false,"hidden":false,"merged":[]}
["\"14. Nezadaná\""]
[null,3]
[null,28,null,1,2,3,4,5,6,7,8,9,10,11,12,13,14,15,16,17,18,19,20,21,22,23,24,25,26,27,28]
[null,null,null,"\"01_Oso m\"","\"02_Oso m\"","\"03_Oso m\"","\"04_Oso m\"","\"05_Oso m\"","\"*06_Oso m\"","\"07_Oso m\"","\"08_Oso m\"","\"09_Oso f\"","\"**10_Oso m\"","\"11_Oso m\"","\"12_Oso m\"","\"13_Oso m\"","\"14_Oso m\"","\"15_Oso f\"","\"16_Oso f\"","\"17_Oso f\"","\"18_Oso f\"","\"19_Oso f\"","\"20_Oso f\"","\"21_Oso f\"","\"22_Oso f\"","\"23_Oso f\"","\"24_Oso f\"","\"25_Oso f\"","\"26_Oso f\"","\"27_Oso f\"","\"28_Oso f\""]
["→",1,"\"01_Oso m\""]
[null,2,"\"02_Oso m\""]
[null,3,"\"03_Oso m\""]
[null,4,"\"04_Oso m\""]
[null,5,"\"05_Oso m\""]
[null,6,"\"*06_Oso m\""]
[null,7,"\"07_Oso m\""]
[null,8,"\"08_Oso m\""]
[null,9,"\"09_Oso f\""]
[null,10,"\"**10_Oso m\""]
[null,11,"\"11_Oso m\""]
[null,12,"\"12_Oso m\""]
[null,13,"\"13_Oso m\""]
[null,14,"\"14_Oso m\""]
[null,15,"\"15_Oso f\""]
[null,16,"\"16_Oso f\""]
[null,17,"\"17_Oso f\""]
[null,18,"\"18_Oso f\""]
[null,19,"\"19_Oso f\""]
[null,20,"\"20_Oso f\""]
[null,21,"\"21_Oso f\""]
[null,22,"\"22_Oso f\""]
[null,23,"\"23_Oso f\""]
[null,24,"\"24_Oso f\""]
[null,25,"\"25_Oso f\""]
[null,26,"\"26_Oso f\""]
[null,27,"\"27_Oso f\""]
[null,28,"\"28_Oso f\""]
[]
[]
[]
[]
[]
[]
[]
[]
[]
[null,null,null,1,2,3,4,5,6,7,8,9,10,11,12,13,14,15,16,17,18,19,20,21,22,23,24,25,26,27,28]
[null,null,null,"\"01_Oso m\"","\"02_Oso m\"","\"03_Oso m\"","\"04_Oso m\"","\"05_Oso m\"","\"*06_Oso m\"","\"07_Oso m\"","\"08_Oso m\"","\"09_Oso f\"","\"**10_Oso m\"","\"11_Oso m\"","\"12_Oso m\"","\"13_Oso m\"","\"14_Oso m\"","\"15_Oso f\"","\"16_Oso f\"","\"17_Oso f\"","\"18_Oso f\"","\"19_Oso f\"","\"20_Oso f\"","\"21_Oso f\"","\"22_Oso f\"","\"23_Oso f\"","\"24_Oso f\"","\"25_Oso f\"","\"26_Oso f\"","\"27_Oso f\"","\"28_Oso f\""]
[null,1,"\"01_Oso m\"",{"$f":"IF(D5<>0,D$3,\"\")","v":""},"","","","","","","","","","","","","","","","","","","","","","","","","","",""]
[null,2,"\"02_Oso m\"","","","","","","","","","","","","","","","","","","","","","","","","","","","",""]
[null,3,"\"03_Oso m\"","","","","","","","","","","","","","","","","","","","","","","","","","","","",""]
[null,4,"\"04_Oso m\"","","","","","","","","","","","","","","","","","","","","","","","","","","","",""]
[null,5,"\"05_Oso m\"","","","","","","","","","","","","","","","","","","","","","","","","","","","",""]
[null,6,"\"*06_Oso m\"","","","","","","","","","","","","","","","","","","","","","","","","","","","",""]
[null,7,"\"07_Oso m\"","","","","","","","","","","","","","","","","","","","","","","","","","","","",""]
[null,8,"\"08_Oso m\"","","","","","","","","","","","","","","","","","","","","","","","","","","","",""]
[null,9,"\"09_Oso f\"","","","","","","","","","","","","","","","","","","","","","","","","","","","",""]
[null,10,"\"**10_Oso m\"","","","",{"$f":"IF(G14<>0,G$3,\"\")","v":""},"","","","","","","","","","","","","","","","","","","","","","","",""]
[null,11,"\"11_Oso m\"",{"$f":"IF(D15<>0,D$3,\"\")","v":""},"","","","","","","","","","","","","","","","","","","","","","","","","","",""]
[null,12,"\"12_Oso m\"","","","","","","","","","","","","","","","","","","","","","","","","","","","",""]
[null,13,"\"13_Oso m\"","","","","","","","","","","","","","","","","","","","","","","","","","","","",""]
[null,14,"\"14_Oso m\"","","","","","","","","","","","","","","","","","","","","","","","","","","","",""]
[null,15,"\"15_Oso f\"","","","","","","","","","","","","","","","","","","","","","","","","","","","",""]
[null,16,"\"16_Oso f\"","","","","","","","","","","","","","","","","","","","","","","","","","","","",""]
[null,17,"\"17_Oso f\"","","","","","","","","","","","","","","","","","","","","","","","","","","","",""]
[null,18,"\"18_Oso f\"","","","","","","","","","","","","","","","","","","","","","","","","","","","",""]
[null,19,"\"19_Oso f\"","","","","","","","","","","","","","","","","","","","","","","","","","","","",""]
[null,20,"\"20_Oso f\"","","","",{"$f":"IF(G24<>0,G$3,\"\")","v":""},"","","","","","","","","","","","","","","","","","","","","","","",""]
[null,21,"\"21_Oso f\"",{"$f":"IF(D25<>0,D$3,\"\")","v":""},"","","","","","","","","","","","","","","","","","","","","","","","","","",""]
[null,22,"\"22_Oso f\"","","","","","","","","","","","","","","","","","","","","","","","","","","","",""]
[null,23,"\"23_Oso f\"","","","","","","","","","","","","","","","","","","","","","","","","","","","",""]
[null,24,"\"24_Oso f\"","","","","","","","","","","","","","","","","","","","","","","","","","","","",""]
[null,25,"\"25_Oso f\"","","","","","","","","","","","","","","","","","","","","","","","","","","","",""]
[null,26,"\"26_Oso f\"","","","","","","","","","","","","","","","","","","","","","","","","","","","",""]
[null,27,"\"27_Oso f\"","","","","","","","","","","","","","","","","","","","","","","","","","","","",""]
[null,28,"\"28_Oso f\"","","","","","","","","","","","","","","","","","","","","","","","","","","","",""]

{"sheet":"Q_15","index":14,"n_rows":71,"n_cols":31,"rows_kept":71,"cut":false,"hidden":false,"merged":[]}
["\"15. Nezadaná\""]
[null,3]
[null,28,null,1,2,3,4,5,6,7,8,9,10,11,12,13,14,15,16,17,18,19,20,21,22,23,24,25,26,27,28]
[null,null,null,"\"01_Oso m\"","\"02_Oso m\"","\"03_Oso m\"","\"04_Oso m\"","\"05_Oso m\"","\"*06_Oso m\"","\"07_Oso m\"","\"08_Oso m\"","\"09_Oso f\"","\"**10_Oso m\"","\"11_Oso m\"","\"12_Oso m\"","\"13_Oso m\"","\"14_Oso m\"","\"15_Oso f\"","\"16_Oso f\"","\"17_Oso f\"","\"18_Oso f\"","\"19_Oso f\"","\"20_Oso f\"","\"21_Oso f\"","\"22_Oso f\"","\"23_Oso f\"","\"24_Oso f\"","\"25_Oso f\"","\"26_Oso f\"","\"27_Oso f\"","\"28_Oso f\""]
["→",1,"\"01_Oso m\""]
[null,2,"\"02_Oso m\""]
[null,3,"\"03_Oso m\""]
[null,4,"\"04_Oso m\""]
[null,5,"\"05_Oso m\""]
[null,6,"\"*06_Oso m\""]
[null,7,"\"07_Oso m\""]
[null,8,"\"08_Oso m\""]
[null,9,"\"09_Oso f\""]
[null,10,"\"**10_Oso m\""]
[null,11,"\"11_Oso m\""]
[null,12,"\"12_Oso m\""]
[null,13,"\"13_Oso m\""]
[null,14,"\"14_Oso m\""]
[null,15,"\"15_Oso f\""]
[null,16,"\"16_Oso f\""]
[null,17,"\"17_Oso f\""]
[null,18,"\"18_Oso f\""]
[null,19,"\"19_Oso f\""]
[null,20,"\"20_Oso f\""]
[null,21,"\"21_Oso f\""]
[null,22,"\"22_Oso f\""]
[null,23,"\"23_Oso f\""]
[null,24,"\"24_Oso f\""]
[null,25,"\"25_Oso f\""]
[null,26,"\"26_Oso f\""]
[null,27,"\"27_Oso f\""]
[null,28,"\"28_Oso f\""]
[]
[]
[]
[]
[]
[]
[]
[]
[]
[null,null,null,1,2,3,4,5,6,7,8,9,10,11,12,13,14,15,16,17,18,19,20,21,22,23,24,25,26,27,28]
[null,null,null,"\"01_Oso m\"","\"02_Oso m\"","\"03_Oso m\"","\"04_Oso m\"","\"05_Oso m\"","\"*06_Oso m\"","\"07_Oso m\"","\"08_Oso m\"","\"09_Oso f\"","\"**10_Oso m\"","\"11_Oso m\"","\"12_Oso m\"","\"13_Oso m\"","\"14_Oso m\"","\"15_Oso f\"","\"16_Oso f\"","\"17_Oso f\"","\"18_Oso f\"","\"19_Oso f\"","\"20_Oso f\"","\"21_Oso f\"","\"22_Oso f\"","\"23_Oso f\"","\"24_Oso f\"","\"25_Oso f\"","\"26_Oso f\"","\"27_Oso f\"","\"28_Oso f\""]
[null,1,"\"01_Oso m\"",{"$f":"IF(D5<>0,D$3,\"\")","v":""},"","","","","","","","","","","","","","","","","","","","","","","","","","",""]
[null,2,"\"02_Oso m\"","","","","","","","","","","","","","","","","","","","","","","","","","","","",""]
[null,3,"\"03_Oso m\"","","","","","","","","","","","","","","","","","","","","","","","","","","","",""]
[null,4,"\"04_Oso m\"","","","","","","","","","","","","","","","","","","","","","","","","","","","",""]
[null,5,"\"05_Oso m\"","","","","","","","","","","","","","","","","","","","","","","","","","","","",""]
[null,6,"\"*06_Oso m\"","","","","","","","","","","","","","","","","","","","","","","","","","","","",""]
[null,7,"\"07_Oso m\"","","","","","","","","","","","","","","","","","","","","","","","","","","","",""]
[null,8,"\"08_Oso m\"","","","","","","","","","","","","","","","","","","","","","","","","","","","",""]
[null,9,"\"09_Oso f\"","","","","","","","","","","","","","","","","","","","","","","","","","","","",""]
[null,10,"\"**10_Oso m\"","","","",{"$f":"IF(G14<>0,G$3,\"\")","v":""},"","","","","","","","","","","","","","","","","","","","","","","",""]
[null,11,"\"11_Oso m\"",{"$f":"IF(D15<>0,D$3,\"\")","v":""},"","","","","","","","","","","","","","","","","","","","","","","","","","",""]
[null,12,"\"12_Oso m\"","","","","","","","","","","","","","","","","","","","","","","","","","","","",""]
[null,13,"\"13_Oso m\"","","","","","","","","","","","","","","","","","","","","","","","","","","","",""]
[null,14,"\"14_Oso m\"","","","","","","","","","","","","","","","","","","","","","","","","","","","",""]
[null,15,"\"15_Oso f\"","","","","","","","","","","","","","","","","","","","","","","","","","","","",""]
[null,16,"\"16_Oso f\"","","","","","","","","","","","","","","","","","","","","","","","","","","","",""]
[null,17,"\"17_Oso f\"","","","","","","","","","","","","","","","","","","","","","","","","","","","",""]
[null,18,"\"18_Oso f\"","","","","","","","","","","","","","","","","","","","","","","","","","","","",""]
[null,19,"\"19_Oso f\"","","","","","","","","","","","","","","","","","","","","","","","","","","","",""]
[null,20,"\"20_Oso f\"","","","",{"$f":"IF(G24<>0,G$3,\"\")","v":""},"","","","","","","","","","","","","","","","","","","","","","","",""]
[null,21,"\"21_Oso f\"",{"$f":"IF(D25<>0,D$3,\"\")","v":""},"","","","","","","","","","","","","","","","","","","","","","","","","","",""]
[null,22,"\"22_Oso f\"","","","","","","","","","","","","","","","","","","","","","","","","","","","",""]
[null,23,"\"23_Oso f\"","","","","","","","","","","","","","","","","","","","","","","","","","","","",""]
[null,24,"\"24_Oso f\"","","","","","","","","","","","","","","","","","","","","","","","","","","","",""]
[null,25,"\"25_Oso f\"","","","","","","","","","","","","","","","","","","","","","","","","","","","",""]
[null,26,"\"26_Oso f\"","","","","","","","","","","","","","","","","","","","","","","","","","","","",""]
[null,27,"\"27_Oso f\"","","","","","","","","","","","","","","","","","","","","","","","","","","","",""]
[null,28,"\"28_Oso f\"","","","","","","","","","","","","","","","","","","","","","","","","","","","",""]

{"sheet":"Q_16","index":15,"n_rows":71,"n_cols":31,"rows_kept":71,"cut":false,"hidden":false,"merged":[]}
["\"16. Nezadaná\""]
[null,3]
[null,28,null,1,2,3,4,5,6,7,8,9,10,11,12,13,14,15,16,17,18,19,20,21,22,23,24,25,26,27,28]
[null,null,null,"\"01_Oso m\"","\"02_Oso m\"","\"03_Oso m\"","\"04_Oso m\"","\"05_Oso m\"","\"*06_Oso m\"","\"07_Oso m\"","\"08_Oso m\"","\"09_Oso f\"","\"**10_Oso m\"","\"11_Oso m\"","\"12_Oso m\"","\"13_Oso m\"","\"14_Oso m\"","\"15_Oso f\"","\"16_Oso f\"","\"17_Oso f\"","\"18_Oso f\"","\"19_Oso f\"","\"20_Oso f\"","\"21_Oso f\"","\"22_Oso f\"","\"23_Oso f\"","\"24_Oso f\"","\"25_Oso f\"","\"26_Oso f\"","\"27_Oso f\"","\"28_Oso f\""]
["→",1,"\"01_Oso m\""]
[null,2,"\"02_Oso m\""]
[null,3,"\"03_Oso m\""]
[null,4,"\"04_Oso m\""]
[null,5,"\"05_Oso m\""]
[null,6,"\"*06_Oso m\""]
[null,7,"\"07_Oso m\""]
[null,8,"\"08_Oso m\""]
[null,9,"\"09_Oso f\""]
[null,10,"\"**10_Oso m\""]
[null,11,"\"11_Oso m\""]
[null,12,"\"12_Oso m\""]
[null,13,"\"13_Oso m\""]
[null,14,"\"14_Oso m\""]
[null,15,"\"15_Oso f\""]
[null,16,"\"16_Oso f\""]
[null,17,"\"17_Oso f\""]
[null,18,"\"18_Oso f\""]
[null,19,"\"19_Oso f\""]
[null,20,"\"20_Oso f\""]
[null,21,"\"21_Oso f\""]
[null,22,"\"22_Oso f\""]
[null,23,"\"23_Oso f\""]
[null,24,"\"24_Oso f\""]
[null,25,"\"25_Oso f\""]
[null,26,"\"26_Oso f\""]
[null,27,"\"27_Oso f\""]
[null,28,"\"28_Oso f\""]
[]
[]
[]
[]
[]
[]
[]
[]
[]
[null,null,null,1,2,3,4,5,6,7,8,9,10,11,12,13,14,15,16,17,18,19,20,21,22,23,24,25,26,27,28]
[null,null,null,"\"01_Oso m\"","\"02_Oso m\"","\"03_Oso m\"","\"04_Oso m\"","\"05_Oso m\"","\"*06_Oso m\"","\"07_Oso m\"","\"08_Oso m\"","\"09_Oso f\"","\"**10_Oso m\"","\"11_Oso m\"","\"12_Oso m\"","\"13_Oso m\"","\"14_Oso m\"","\"15_Oso f\"","\"16_Oso f\"","\"17_Oso f\"","\"18_Oso f\"","\"19_Oso f\"","\"20_Oso f\"","\"21_Oso f\"","\"22_Oso f\"","\"23_Oso f\"","\"24_Oso f\"","\"25_Oso f\"","\"26_Oso f\"","\"27_Oso f\"","\"28_Oso f\""]
[null,1,"\"01_Oso m\"",{"$f":"IF(D5<>0,D$3,\"\")","v":""},"","","","","","","","","","","","","","","","","","","","","","","","","","",""]
[null,2,"\"02_Oso m\"","","","","","","","","","","","","","","","","","","","","","","","","","","","",""]
[null,3,"\"03_Oso m\"","","","","","","","","","","","","","","","","","","","","","","","","","","","",""]
[null,4,"\"04_Oso m\"","","","","","","","","","","","","","","","","","","","","","","","","","","","",""]
[null,5,"\"05_Oso m\"","","","","","","","","","","","","","","","","","","","","","","","","","","","",""]
[null,6,"\"*06_Oso m\"","","","","","","","","","","","","","","","","","","","","","","","","","","","",""]
[null,7,"\"07_Oso m\"","","","","","","","","","","","","","","","","","","","","","","","","","","","",""]
[null,8,"\"08_Oso m\"","","","","","","","","","","","","","","","","","","","","","","","","","","","",""]
[null,9,"\"09_Oso f\"","","","","","","","","","","","","","","","","","","","","","","","","","","","",""]
[null,10,"\"**10_Oso m\"","","","",{"$f":"IF(G14<>0,G$3,\"\")","v":""},"","","","","","","","","","","","","","","","","","","","","","","",""]
[null,11,"\"11_Oso m\"",{"$f":"IF(D15<>0,D$3,\"\")","v":""},"","","","","","","","","","","","","","","","","","","","","","","","","","",""]
[null,12,"\"12_Oso m\"","","","","","","","","","","","","","","","","","","","","","","","","","","","",""]
[null,13,"\"13_Oso m\"","","","","","","","","","","","","","","","","","","","","","","","","","","","",""]
[null,14,"\"14_Oso m\"","","","","","","","","","","","","","","","","","","","","","","","","","","","",""]
[null,15,"\"15_Oso f\"","","","","","","","","","","","","","","","","","","","","","","","","","","","",""]
[null,16,"\"16_Oso f\"","","","","","","","","","","","","","","","","","","","","","","","","","","","",""]
[null,17,"\"17_Oso f\"","","","","","","","","","","","","","","","","","","","","","","","","","","","",""]
[null,18,"\"18_Oso f\"","","","","","","","","","","","","","","","","","","","","","","","","","","","",""]
[null,19,"\"19_Oso f\"","","","","","","","","","","","","","","","","","","","","","","","","","","","",""]
[null,20,"\"20_Oso f\"","","","",{"$f":"IF(G24<>0,G$3,\"\")","v":""},"","","","","","","","","","","","","","","","","","","","","","","",""]
[null,21,"\"21_Oso f\"",{"$f":"IF(D25<>0,D$3,\"\")","v":""},"","","","","","","","","","","","","","","","","","","","","","","","","","",""]
[null,22,"\"22_Oso f\"","","","","","","","","","","","","","","","","","","","","","","","","","","","",""]
[null,23,"\"23_Oso f\"","","","","","","","","","","","","","","","","","","","","","","","","","","","",""]
[null,24,"\"24_Oso f\"","","","","","","","","","","","","","","","","","","","","","","","","","","","",""]
[null,25,"\"25_Oso f\"","","","","","","","","","","","","","","","","","","","","","","","","","","","",""]
[null,26,"\"26_Oso f\"","","","","","","","","","","","","","","","","","","","","","","","","","","","",""]
[null,27,"\"27_Oso f\"","","","","","","","","","","","","","","","","","","","","","","","","","","","",""]
[null,28,"\"28_Oso f\"","","","","","","","","","","","","","","","","","","","","","","","","","","","",""]

{"sheet":"Q_17","index":16,"n_rows":71,"n_cols":31,"rows_kept":71,"cut":false,"hidden":false,"merged":[]}
["\"17. Nezadaná\""]
[null,3]
[null,28,null,1,2,3,4,5,6,7,8,9,10,11,12,13,14,15,16,17,18,19,20,21,22,23,24,25,26,27,28]
[null,null,null,"\"01_Oso m\"","\"02_Oso m\"","\"03_Oso m\"","\"04_Oso m\"","\"05_Oso m\"","\"*06_Oso m\"","\"07_Oso m\"","\"08_Oso m\"","\"09_Oso f\"","\"**10_Oso m\"","\"11_Oso m\"","\"12_Oso m\"","\"13_Oso m\"","\"14_Oso m\"","\"15_Oso f\"","\"16_Oso f\"","\"17_Oso f\"","\"18_Oso f\"","\"19_Oso f\"","\"20_Oso f\"","\"21_Oso f\"","\"22_Oso f\"","\"23_Oso f\"","\"24_Oso f\"","\"25_Oso f\"","\"26_Oso f\"","\"27_Oso f\"","\"28_Oso f\""]
["→",1,"\"01_Oso m\""]
[null,2,"\"02_Oso m\""]
[null,3,"\"03_Oso m\""]
[null,4,"\"04_Oso m\""]
[null,5,"\"05_Oso m\""]
[null,6,"\"*06_Oso m\""]
[null,7,"\"07_Oso m\""]
[null,8,"\"08_Oso m\""]
[null,9,"\"09_Oso f\""]
[null,10,"\"**10_Oso m\""]
[null,11,"\"11_Oso m\""]
[null,12,"\"12_Oso m\""]
[null,13,"\"13_Oso m\""]
[null,14,"\"14_Oso m\""]
[null,15,"\"15_Oso f\""]
[null,16,"\"16_Oso f\""]
[null,17,"\"17_Oso f\""]
[null,18,"\"18_Oso f\""]
[null,19,"\"19_Oso f\""]
[null,20,"\"20_Oso f\""]
[null,21,"\"21_Oso f\""]
[null,22,"\"22_Oso f\""]
[null,23,"\"23_Oso f\""]
[null,24,"\"24_Oso f\""]
[null,25,"\"25_Oso f\""]
[null,26,"\"26_Oso f\""]
[null,27,"\"27_Oso f\""]
[null,28,"\"28_Oso f\""]
[]
[]
[]
[]
[]
[]
[]
[]
[]
[null,null,null,1,2,3,4,5,6,7,8,9,10,11,12,13,14,15,16,17,18,19,20,21,22,23,24,25,26,27,28]
[null,null,null,"\"01_Oso m\"","\"02_Oso m\"","\"03_Oso m\"","\"04_Oso m\"","\"05_Oso m\"","\"*06_Oso m\"","\"07_Oso m\"","\"08_Oso m\"","\"09_Oso f\"","\"**10_Oso m\"","\"11_Oso m\"","\"12_Oso m\"","\"13_Oso m\"","\"14_Oso m\"","\"15_Oso f\"","\"16_Oso f\"","\"17_Oso f\"","\"18_Oso f\"","\"19_Oso f\"","\"20_Oso f\"","\"21_Oso f\"","\"22_Oso f\"","\"23_Oso f\"","\"24_Oso f\"","\"25_Oso f\"","\"26_Oso f\"","\"27_Oso f\"","\"28_Oso f\""]
[null,1,"\"01_Oso m\"",{"$f":"IF(D5<>0,D$3,\"\")","v":""},"","","","","","","","","","","","","","","","","","","","","","","","","","",""]
[null,2,"\"02_Oso m\"","","","","","","","","","","","","","","","","","","","","","","","","","","","",""]
[null,3,"\"03_Oso m\"","","","","","","","","","","","","","","","","","","","","","","","","","","","",""]
[null,4,"\"04_Oso m\"","","","","","","","","","","","","","","","","","","","","","","","","","","","",""]
[null,5,"\"05_Oso m\"","","","","","","","","","","","","","","","","","","","","","","","","","","","",""]
[null,6,"\"*06_Oso m\"","","","","","","","","","","","","","","","","","","","","","","","","","","","",""]
[null,7,"\"07_Oso m\"","","","","","","","","","","","","","","","","","","","","","","","","","","","",""]
[null,8,"\"08_Oso m\"","","","","","","","","","","","","","","","","","","","","","","","","","","","",""]
[null,9,"\"09_Oso f\"","","","","","","","","","","","","","","","","","","","","","","","","","","","",""]
[null,10,"\"**10_Oso m\"","","","",{"$f":"IF(G14<>0,G$3,\"\")","v":""},"","","","","","","","","","","","","","","","","","","","","","","",""]
[null,11,"\"11_Oso m\"",{"$f":"IF(D15<>0,D$3,\"\")","v":""},"","","","","","","","","","","","","","","","","","","","","","","","","","",""]
[null,12,"\"12_Oso m\"","","","","","","","","","","","","","","","","","","","","","","","","","","","",""]
[null,13,"\"13_Oso m\"","","","","","","","","","","","","","","","","","","","","","","","","","","","",""]
[null,14,"\"14_Oso m\"","","","","","","","","","","","","","","","","","","","","","","","","","","","",""]
[null,15,"\"15_Oso f\"","","","","","","","","","","","","","","","","","","","","","","","","","","","",""]
[null,16,"\"16_Oso f\"","","","","","","","","","","","","","","","","","","","","","","","","","","","",""]
[null,17,"\"17_Oso f\"","","","","","","","","","","","","","","","","","","","","","","","","","","","",""]
[null,18,"\"18_Oso f\"","","","","","","","","","","","","","","","","","","","","","","","","","","","",""]
[null,19,"\"19_Oso f\"","","","","","","","","","","","","","","","","","","","","","","","","","","","",""]
[null,20,"\"20_Oso f\"","","","",{"$f":"IF(G24<>0,G$3,\"\")","v":""},"","","","","","","","","","","","","","","","","","","","","","","",""]
[null,21,"\"21_Oso f\"",{"$f":"IF(D25<>0,D$3,\"\")","v":""},"","","","","","","","","","","","","","","","","","","","","","","","","","",""]
[null,22,"\"22_Oso f\"","","","","","","","","","","","","","","","","","","","","","","","","","","","",""]
[null,23,"\"23_Oso f\"","","","","","","","","","","","","","","","","","","","","","","","","","","","",""]
[null,24,"\"24_Oso f\"","","","","","","","","","","","","","","","","","","","","","","","","","","","",""]
[null,25,"\"25_Oso f\"","","","","","","","","","","","","","","","","","","","","","","","","","","","",""]
[null,26,"\"26_Oso f\"","","","","","","","","","","","","","","","","","","","","","","","","","","","",""]
[null,27,"\"27_Oso f\"","","","","","","","","","","","","","","","","","","","","","","","","","","","",""]
[null,28,"\"28_Oso f\"","","","","","","","","","","","","","","","","","","","","","","","","","","","",""]

{"sheet":"Q_18","index":17,"n_rows":71,"n_cols":31,"rows_kept":71,"cut":false,"hidden":false,"merged":[]}
["\"18. Nezadaná\""]
[null,3]
[null,28,null,1,2,3,4,5,6,7,8,9,10,11,12,13,14,15,16,17,18,19,20,21,22,23,24,25,26,27,28]
[null,null,null,"\"01_Oso m\"","\"02_Oso m\"","\"03_Oso m\"","\"04_Oso m\"","\"05_Oso m\"","\"*06_Oso m\"","\"07_Oso m\"","\"08_Oso m\"","\"09_Oso f\"","\"**10_Oso m\"","\"11_Oso m\"","\"12_Oso m\"","\"13_Oso m\"","\"14_Oso m\"","\"15_Oso f\"","\"16_Oso f\"","\"17_Oso f\"","\"18_Oso f\"","\"19_Oso f\"","\"20_Oso f\"","\"21_Oso f\"","\"22_Oso f\"","\"23_Oso f\"","\"24_Oso f\"","\"25_Oso f\"","\"26_Oso f\"","\"27_Oso f\"","\"28_Oso f\""]
["→",1,"\"01_Oso m\""]
[null,2,"\"02_Oso m\""]
[null,3,"\"03_Oso m\""]
[null,4,"\"04_Oso m\""]
[null,5,"\"05_Oso m\""]
[null,6,"\"*06_Oso m\""]
[null,7,"\"07_Oso m\""]
[null,8,"\"08_Oso m\""]
[null,9,"\"09_Oso f\""]
[null,10,"\"**10_Oso m\""]
[null,11,"\"11_Oso m\""]
[null,12,"\"12_Oso m\""]
[null,13,"\"13_Oso m\""]
[null,14,"\"14_Oso m\""]
[null,15,"\"15_Oso f\""]
[null,16,"\"16_Oso f\""]
[null,17,"\"17_Oso f\""]
[null,18,"\"18_Oso f\""]
[null,19,"\"19_Oso f\""]
[null,20,"\"20_Oso f\""]
[null,21,"\"21_Oso f\""]
[null,22,"\"22_Oso f\""]
[null,23,"\"23_Oso f\""]
[null,24,"\"24_Oso f\""]
[null,25,"\"25_Oso f\""]
[null,26,"\"26_Oso f\""]
[null,27,"\"27_Oso f\""]
[null,28,"\"28_Oso f\""]
[]
[]
[]
[]
[]
[]
[]
[]
[]
[null,null,null,1,2,3,4,5,6,7,8,9,10,11,12,13,14,15,16,17,18,19,20,21,22,23,24,25,26,27,28]
[null,null,null,"\"01_Oso m\"","\"02_Oso m\"","\"03_Oso m\"","\"04_Oso m\"","\"05_Oso m\"","\"*06_Oso m\"","\"07_Oso m\"","\"08_Oso m\"","\"09_Oso f\"","\"**10_Oso m\"","\"11_Oso m\"","\"12_Oso m\"","\"13_Oso m\"","\"14_Oso m\"","\"15_Oso f\"","\"16_Oso f\"","\"17_Oso f\"","\"18_Oso f\"","\"19_Oso f\"","\"20_Oso f\"","\"21_Oso f\"","\"22_Oso f\"","\"23_Oso f\"","\"24_Oso f\"","\"25_Oso f\"","\"26_Oso f\"","\"27_Oso f\"","\"28_Oso f\""]
[null,1,"\"01_Oso m\"",{"$f":"IF(D5<>0,D$3,\"\")","v":""},"","","","","","","","","","","","","","","","","","","","","","","","","","",""]
[null,2,"\"02_Oso m\"","","","","","","","","","","","","","","","","","","","","","","","","","","","",""]
[null,3,"\"03_Oso m\"","","","","","","","","","","","","","","","","","","","","","","","","","","","",""]
[null,4,"\"04_Oso m\"","","","","","","","","","","","","","","","","","","","","","","","","","","","",""]
[null,5,"\"05_Oso m\"","","","","","","","","","","","","","","","","","","","","","","","","","","","",""]
[null,6,"\"*06_Oso m\"","","","","","","","","","","","","","","","","","","","","","","","","","","","",""]
[null,7,"\"07_Oso m\"","","","","","","","","","","","","","","","","","","","","","","","","","","","",""]
[null,8,"\"08_Oso m\"","","","","","","","","","","","","","","","","","","","","","","","","","","","",""]
[null,9,"\"09_Oso f\"","","","","","","","","","","","","","","","","","","","","","","","","","","","",""]
[null,10,"\"**10_Oso m\"","","","",{"$f":"IF(G14<>0,G$3,\"\")","v":""},"","","","","","","","","","","","","","","","","","","","","","","",""]
[null,11,"\"11_Oso m\"",{"$f":"IF(D15<>0,D$3,\"\")","v":""},"","","","","","","","","","","","","","","","","","","","","","","","","","",""]
[null,12,"\"12_Oso m\"","","","","","","","","","","","","","","","","","","","","","","","","","","","",""]
[null,13,"\"13_Oso m\"","","","","","","","","","","","","","","","","","","","","","","","","","","","",""]
[null,14,"\"14_Oso m\"","","","","","","","","","","","","","","","","","","","","","","","","","","","",""]
[null,15,"\"15_Oso f\"","","","","","","","","","","","","","","","","","","","","","","","","","","","",""]
[null,16,"\"16_Oso f\"","","","","","","","","","","","","","","","","","","","","","","","","","","","",""]
[null,17,"\"17_Oso f\"","","","","","","","","","","","","","","","","","","","","","","","","","","","",""]
[null,18,"\"18_Oso f\"","","","","","","","","","","","","","","","","","","","","","","","","","","","",""]
[null,19,"\"19_Oso f\"","","","","","","","","","","","","","","","","","","","","","","","","","","","",""]
[null,20,"\"20_Oso f\"","","","",{"$f":"IF(G24<>0,G$3,\"\")","v":""},"","","","","","","","","","","","","","","","","","","","","","","",""]
[null,21,"\"21_Oso f\"",{"$f":"IF(D25<>0,D$3,\"\")","v":""},"","","","","","","","","","","","","","","","","","","","","","","","","","",""]
[null,22,"\"22_Oso f\"","","","","","","","","","","","","","","","","","","","","","","","","","","","",""]
[null,23,"\"23_Oso f\"","","","","","","","","","","","","","","","","","","","","","","","","","","","",""]
[null,24,"\"24_Oso f\"","","","","","","","","","","","","","","","","","","","","","","","","","","","",""]
[null,25,"\"25_Oso f\"","","","","","","","","","","","","","","","","","","","","","","","","","","","",""]
[null,26,"\"26_Oso f\"","","","","","","","","","","","","","","","","","","","","","","","","","","","",""]
[null,27,"\"27_Oso f\"","","","","","","","","","","","","","","","","","","","","","","","","","","","",""]
[null,28,"\"28_Oso f\"","","","","","","","","","","","","","","","","","","","","","","","","","","","",""]

{"sheet":"Q_19","index":18,"n_rows":71,"n_cols":31,"rows_kept":71,"cut":false,"hidden":false,"merged":[]}
["\"19. Nezadaná\""]
[null,3]
[null,28,null,1,2,3,4,5,6,7,8,9,10,11,12,13,14,15,16,17,18,19,20,21,22,23,24,25,26,27,28]
[null,null,null,"\"01_Oso m\"","\"02_Oso m\"","\"03_Oso m\"","\"04_Oso m\"","\"05_Oso m\"","\"*06_Oso m\"","\"07_Oso m\"","\"08_Oso m\"","\"09_Oso f\"","\"**10_Oso m\"","\"11_Oso m\"","\"12_Oso m\"","\"13_Oso m\"","\"14_Oso m\"","\"15_Oso f\"","\"16_Oso f\"","\"17_Oso f\"","\"18_Oso f\"","\"19_Oso f\"","\"20_Oso f\"","\"21_Oso f\"","\"22_Oso f\"","\"23_Oso f\"","\"24_Oso f\"","\"25_Oso f\"","\"26_Oso f\"","\"27_Oso f\"","\"28_Oso f\""]
["→",1,"\"01_Oso m\""]
[null,2,"\"02_Oso m\""]
[null,3,"\"03_Oso m\""]
[null,4,"\"04_Oso m\""]
[null,5,"\"05_Oso m\""]
[null,6,"\"*06_Oso m\""]
[null,7,"\"07_Oso m\""]
[null,8,"\"08_Oso m\""]
[null,9,"\"09_Oso f\""]
[null,10,"\"**10_Oso m\""]
[null,11,"\"11_Oso m\""]
[null,12,"\"12_Oso m\""]
[null,13,"\"13_Oso m\""]
[null,14,"\"14_Oso m\""]
[null,15,"\"15_Oso f\""]
[null,16,"\"16_Oso f\""]
[null,17,"\"17_Oso f\""]
[null,18,"\"18_Oso f\""]
[null,19,"\"19_Oso f\""]
[null,20,"\"20_Oso f\""]
[null,21,"\"21_Oso f\""]
[null,22,"\"22_Oso f\""]
[null,23,"\"23_Oso f\""]
[null,24,"\"24_Oso f\""]
[null,25,"\"25_Oso f\""]
[null,26,"\"26_Oso f\""]
[null,27,"\"27_Oso f\""]
[null,28,"\"28_Oso f\""]
[]
[]
[]
[]
[]
[]
[]
[]
[]
[null,null,null,1,2,3,4,5,6,7,8,9,10,11,12,13,14,15,16,17,18,19,20,21,22,23,24,25,26,27,28]
[null,null,null,"\"01_Oso m\"","\"02_Oso m\"","\"03_Oso m\"","\"04_Oso m\"","\"05_Oso m\"","\"*06_Oso m\"","\"07_Oso m\"","\"08_Oso m\"","\"09_Oso f\"","\"**10_Oso m\"","\"11_Oso m\"","\"12_Oso m\"","\"13_Oso m\"","\"14_Oso m\"","\"15_Oso f\"","\"16_Oso f\"","\"17_Oso f\"","\"18_Oso f\"","\"19_Oso f\"","\"20_Oso f\"","\"21_Oso f\"","\"22_Oso f\"","\"23_Oso f\"","\"24_Oso f\"","\"25_Oso f\"","\"26_Oso f\"","\"27_Oso f\"","\"28_Oso f\""]
[null,1,"\"01_Oso m\"",{"$f":"IF(D5<>0,D$3,\"\")","v":""},"","","","","","","","","","","","","","","","","","","","","","","","","","",""]
[null,2,"\"02_Oso m\"","","","","","","","","","","","","","","","","","","","","","","","","","","","",""]
[null,3,"\"03_Oso m\"","","","","","","","","","","","","","","","","","","","","","","","","","","","",""]
[null,4,"\"04_Oso m\"","","","","","","","","","","","","","","","","","","","","","","","","","","","",""]
[null,5,"\"05_Oso m\"","","","","","","","","","","","","","","","","","","","","","","","","","","","",""]
[null,6,"\"*06_Oso m\"","","","","","","","","","","","","","","","","","","","","","","","","","","","",""]
[null,7,"\"07_Oso m\"","","","","","","","","","","","","","","","","","","","","","","","","","","","",""]
[null,8,"\"08_Oso m\"","","","","","","","","","","","","","","","","","","","","","","","","","","","",""]
[null,9,"\"09_Oso f\"","","","","","","","","","","","","","","","","","","","","","","","","","","","",""]
[null,10,"\"**10_Oso m\"","","","",{"$f":"IF(G14<>0,G$3,\"\")","v":""},"","","","","","","","","","","","","","","","","","","","","","","",""]
[null,11,"\"11_Oso m\"",{"$f":"IF(D15<>0,D$3,\"\")","v":""},"","","","","","","","","","","","","","","","","","","","","","","","","","",""]
[null,12,"\"12_Oso m\"","","","","","","","","","","","","","","","","","","","","","","","","","","","",""]
[null,13,"\"13_Oso m\"","","","","","","","","","","","","","","","","","","","","","","","","","","","",""]
[null,14,"\"14_Oso m\"","","","","","","","","","","","","","","","","","","","","","","","","","","","",""]
[null,15,"\"15_Oso f\"","","","","","","","","","","","","","","","","","","","","","","","","","","","",""]
[null,16,"\"16_Oso f\"","","","","","","","","","","","","","","","","","","","","","","","","","","","",""]
[null,17,"\"17_Oso f\"","","","","","","","","","","","","","","","","","","","","","","","","","","","",""]
[null,18,"\"18_Oso f\"","","","","","","","","","","","","","","","","","","","","","","","","","","","",""]
[null,19,"\"19_Oso f\"","","","","","","","","","","","","","","","","","","","","","","","","","","","",""]
[null,20,"\"20_Oso f\"","","","",{"$f":"IF(G24<>0,G$3,\"\")","v":""},"","","","","","","","","","","","","","","","","","","","","","","",""]
[null,21,"\"21_Oso f\"",{"$f":"IF(D25<>0,D$3,\"\")","v":""},"","","","","","","","","","","","","","","","","","","","","","","","","","",""]
[null,22,"\"22_Oso f\"","","","","","","","","","","","","","","","","","","","","","","","","","","","",""]
[null,23,"\"23_Oso f\"","","","","","","","","","","","","","","","","","","","","","","","","","","","",""]
[null,24,"\"24_Oso f\"","","","","","","","","","","","","","","","","","","","","","","","","","","","",""]
[null,25,"\"25_Oso f\"","","","","","","","","","","","","","","","","","","","","","","","","","","","",""]
[null,26,"\"26_Oso f\"","","","","","","","","","","","","","","","","","","","","","","","","","","","",""]
[null,27,"\"27_Oso f\"","","","","","","","","","","","","","","","","","","","","","","","","","","","",""]
[null,28,"\"28_Oso f\"","","","","","","","","","","","","","","","","","","","","","","","","","","","",""]

{"sheet":"Q_20","index":19,"n_rows":71,"n_cols":31,"rows_kept":71,"cut":false,"hidden":false,"merged":[]}
["\"20. Nezadaná\""]
[null,3]
[null,28,null,1,2,3,4,5,6,7,8,9,10,11,12,13,14,15,16,17,18,19,20,21,22,23,24,25,26,27,28]
[null,null,null,"\"01_Oso m\"","\"02_Oso m\"","\"03_Oso m\"","\"04_Oso m\"","\"05_Oso m\"","\"*06_Oso m\"","\"07_Oso m\"","\"08_Oso m\"","\"09_Oso f\"","\"**10_Oso m\"","\"11_Oso m\"","\"12_Oso m\"","\"13_Oso m\"","\"14_Oso m\"","\"15_Oso f\"","\"16_Oso f\"","\"17_Oso f\"","\"18_Oso f\"","\"19_Oso f\"","\"20_Oso f\"","\"21_Oso f\"","\"22_Oso f\"","\"23_Oso f\"","\"24_Oso f\"","\"25_Oso f\"","\"26_Oso f\"","\"27_Oso f\"","\"28_Oso f\""]
["→",1,"\"01_Oso m\""]
[null,2,"\"02_Oso m\""]
[null,3,"\"03_Oso m\""]
[null,4,"\"04_Oso m\""]
[null,5,"\"05_Oso m\""]
[null,6,"\"*06_Oso m\""]
[null,7,"\"07_Oso m\""]
[null,8,"\"08_Oso m\""]
[null,9,"\"09_Oso f\""]
[null,10,"\"**10_Oso m\""]
[null,11,"\"11_Oso m\""]
[null,12,"\"12_Oso m\""]
[null,13,"\"13_Oso m\""]
[null,14,"\"14_Oso m\""]
[null,15,"\"15_Oso f\""]
[null,16,"\"16_Oso f\""]
[null,17,"\"17_Oso f\""]
[null,18,"\"18_Oso f\""]
[null,19,"\"19_Oso f\""]
[null,20,"\"20_Oso f\""]
[null,21,"\"21_Oso f\""]
[null,22,"\"22_Oso f\""]
[null,23,"\"23_Oso f\""]
[null,24,"\"24_Oso f\""]
[null,25,"\"25_Oso f\""]
[null,26,"\"26_Oso f\""]
[null,27,"\"27_Oso f\""]
[null,28,"\"28_Oso f\""]
[]
[]
[]
[]
[]
[]
[]
[]
[]
[null,null,null,1,2,3,4,5,6,7,8,9,10,11,12,13,14,15,16,17,18,19,20,21,22,23,24,25,26,27,28]
[null,null,null,"\"01_Oso m\"","\"02_Oso m\"","\"03_Oso m\"","\"04_Oso m\"","\"05_Oso m\"","\"*06_Oso m\"","\"07_Oso m\"","\"08_Oso m\"","\"09_Oso f\"","\"**10_Oso m\"","\"11_Oso m\"","\"12_Oso m\"","\"13_Oso m\"","\"14_Oso m\"","\"15_Oso f\"","\"16_Oso f\"","\"17_Oso f\"","\"18_Oso f\"","\"19_Oso f\"","\"20_Oso f\"","\"21_Oso f\"","\"22_Oso f\"","\"23_Oso f\"","\"24_Oso f\"","\"25_Oso f\"","\"26_Oso f\"","\"27_Oso f\"","\"28_Oso f\""]
[null,1,"\"01_Oso m\"",{"$f":"IF(D5<>0,D$3,\"\")","v":""},"","","","","","","","","","","","","","","","","","","","","","","","","","",""]
[null,2,"\"02_Oso m\"","","","","","","","","","","","","","","","","","","","","","","","","","","","",""]
[null,3,"\"03_Oso m\"","","","","","","","","","","","","","","","","","","","","","","","","","","","",""]
[null,4,"\"04_Oso m\"","","","","","","","","","","","","","","","","","","","","","","","","","","","",""]
[null,5,"\"05_Oso m\"","","","","","","","","","","","","","","","","","","","","","","","","","","","",""]
[null,6,"\"*06_Oso m\"","","","","","","","","","","","","","","","","","","","","","","","","","","","",""]
[null,7,"\"07_Oso m\"","","","","","","","","","","","","","","","","","","","","","","","","","","","",""]
[null,8,"\"08_Oso m\"","","","","","","","","","","","","","","","","","","","","","","","","","","","",""]
[null,9,"\"09_Oso f\"","","","","","","","","","","","","","","","","","","","","","","","","","","","",""]
[null,10,"\"**10_Oso m\"","","","",{"$f":"IF(G14<>0,G$3,\"\")","v":""},"","","","","","","","","","","","","","","","","","","","","","","",""]
[null,11,"\"11_Oso m\"",{"$f":"IF(D15<>0,D$3,\"\")","v":""},"","","","","","","","","","","","","","","","","","","","","","","","","","",""]
[null,12,"\"12_Oso m\"","","","","","","","","","","","","","","","","","","","","","","","","","","","",""]
[null,13,"\"13_Oso m\"","","","","","","","","","","","","","","","","","","","","","","","","","","","",""]
[null,14,"\"14_Oso m\"","","","","","","","","","","","","","","","","","","","","","","","","","","","",""]
[null,15,"\"15_Oso f\"","","","","","","","","","","","","","","","","","","","","","","","","","","","",""]
[null,16,"\"16_Oso f\"","","","","","","","","","","","","","","","","","","","","","","","","","","","",""]
[null,17,"\"17_Oso f\"","","","","","","","","","","","","","","","","","","","","","","","","","","","",""]
[null,18,"\"18_Oso f\"","","","","","","","","","","","","","","","","","","","","","","","","","","","",""]
[null,19,"\"19_Oso f\"","","","","","","","","","","","","","","","","","","","","","","","","","","","",""]
[null,20,"\"20_Oso f\"","","","",{"$f":"IF(G24<>0,G$3,\"\")","v":""},"","","","","","","","","","","","","","","","","","","","","","","",""]
[null,21,"\"21_Oso f\"",{"$f":"IF(D25<>0,D$3,\"\")","v":""},"","","","","","","","","","","","","","","","","","","","","","","","","","",""]
[null,22,"\"22_Oso f\"","","","","","","","","","","","","","","","","","","","","","","","","","","","",""]
[null,23,"\"23_Oso f\"","","","","","","","","","","","","","","","","","","","","","","","","","","","",""]
[null,24,"\"24_Oso f\"","","","","","","","","","","","","","","","","","","","","","","","","","","","",""]
[null,25,"\"25_Oso f\"","","","","","","","","","","","","","","","","","","","","","","","","","","","",""]
[null,26,"\"26_Oso f\"","","","","","","","","","","","","","","","","","","","","","","","","","","","",""]
[null,27,"\"27_Oso f\"","","","","","","","","","","","","","","","","","","","","","","","","","","","",""]
[null,28,"\"28_Oso f\"","","","","","","","","","","","","","","","","","","","","","","","","","","","",""]

{"sheet":"SG_1","index":20,"n_rows":63,"n_cols":2,"rows_kept":63,"cut":false,"hidden":false,"merged":[]}
[]
[null,28]
[1,"\"01_Oso m\""]
[2,"\"02_Oso m\""]
[3,"\"03_Oso m\""]
[4,"\"04_Oso m\""]
[5,"\"05_Oso m\""]
[6,"\"*06_Oso m\""]
[7,"\"07_Oso m\""]
[8,"\"08_Oso m\""]
[9,"\"09_Oso f\""]
[10,"\"**10_Oso m\""]
[11,"\"11_Oso m\""]
[12,"\"12_Oso m\""]
[13,"\"13_Oso m\""]
[14,"\"14_Oso m\""]
[15,"\"15_Oso f\""]
[16,"\"16_Oso f\""]
[17,"\"17_Oso f\""]
[18,"\"18_Oso f\""]
[19,"\"19_Oso f\""]
[20,"\"20_Oso f\""]
[21,"\"21_Oso f\""]
[22,"\"22_Oso f\""]
[23,"\"23_Oso f\""]
[24,"\"24_Oso f\""]
[25,"\"25_Oso f\""]
[26,"\"26_Oso f\""]
[27,"\"27_Oso f\""]
[28,"\"28_Oso f\""]
[null,"3 \"\",\"\""]
[null,"\"1. S kým z triedy by si chcel sedieť v jednej lavici?\""]
[null,"\"\""]
[null,"\"\""]
[null,"\"\""]
[null," 5, 10, 11,"]
[null," 8, 9, 11,"]
[null," 9, 12, 28,"]
[null," 23, 25, 28,"]
[null," 1, 7, 9,"]
[null," 10, 11, 12,"]
[null," 5, 9, 28,"]
[null," 7, 9, 28,"]
[null," 3, 7, 28,"]
[null," 1, 5, 8,"]
[null," 7, 8, 28,"]
[null," 20, 21, 23,"]
[null," 4, 12, 14,"]
[null," 8, 9, 13,"]
[null," 22, 23, 26,"]
[null," 22, 24, 27,"]
[null," 16, 22, 27,"]
[null," 20, 23, 27,"]
[null," 18, 23, 27,"]
[null," 18, 23, 27,"]
[null," 22, 24, 27,"]
[null," 23, 25, 27,"]
[null," 5, 18, 25,"]
[null," 19, 21, 26,"]
[null," 22, 23, 27,"]
[null," 14, 23, 24,"]
[null," 16, 18, 23,"]
[null," 0, 0, 0,"]

{"sheet":"SG_2","index":21,"n_rows":63,"n_cols":2,"rows_kept":63,"cut":false,"hidden":false,"merged":[]}
[]
[null,28]
[1,"\"01_Oso m\""]
[2,"\"02_Oso m\""]
[3,"\"03_Oso m\""]
[4,"\"04_Oso m\""]
[5,"\"05_Oso m\""]
[6,"\"*06_Oso m\""]
[7,"\"07_Oso m\""]
[8,"\"08_Oso m\""]
[9,"\"09_Oso f\""]
[10,"\"**10_Oso m\""]
[11,"\"11_Oso m\""]
[12,"\"12_Oso m\""]
[13,"\"13_Oso m\""]
[14,"\"14_Oso m\""]
[15,"\"15_Oso f\""]
[16,"\"16_Oso f\""]
[17,"\"17_Oso f\""]
[18,"\"18_Oso f\""]
[19,"\"19_Oso f\""]
[20,"\"20_Oso f\""]
[21,"\"21_Oso f\""]
[22,"\"22_Oso f\""]
[23,"\"23_Oso f\""]
[24,"\"24_Oso f\""]
[25,"\"25_Oso f\""]
[26,"\"26_Oso f\""]
[27,"\"27_Oso f\""]
[28,"\"28_Oso f\""]
[null,"3 \"\",\"\""]
[null,"\"2. S kým z triedy by si najradšej písaval úlohy a učieval sa?\""]
[null,"\"\""]
[null,"\"\""]
[null,"\"\""]
[null," 5, 7, 11,"]
[null," 7, 8, 9,"]
[null," 7, 23, 28,"]
[null," 9, 13, 14,"]
[null," 1, 9, 28,"]
[null," 23, 25, 26,"]
[null," 3, 9, 28,"]
[null," 7, 9, 28,"]
[null," 3, 7, 28,"]
[null," 3, 9, 23,"]
[null," 7, 8, 28,"]
[null," 8, 23, 27,"]
[null," 4, 14, 28,"]
[null," 8, 9, 28,"]
[null," 23, 25, 26,"]
[null," 23, 25, 27,"]
[null," 15, 26, 27,"]
[null," 19, 23, 27,"]
[null," 18, 23, 27,"]
[null," 18, 23, 25,"]
[null," 18, 23, 25,"]
[null," 23, 25, 26,"]
[null," 18, 20, 25,"]
[null," 19, 21, 26,"]
[null," 22, 23, 26,"]
[null," 15, 23, 25,"]
[null," 18, 23, 25,"]
[null," 0, 0, 0,"]

{"sheet":"SG_3","index":22,"n_rows":63,"n_cols":2,"rows_kept":63,"cut":false,"hidden":false,"merged":[]}
[]
[null,28]
[1,"\"01_Oso m\""]
[2,"\"02_Oso m\""]
[3,"\"03_Oso m\""]
[4,"\"04_Oso m\""]
[5,"\"05_Oso m\""]
[6,"\"*06_Oso m\""]
[7,"\"07_Oso m\""]
[8,"\"08_Oso m\""]
[9,"\"09_Oso f\""]
[10,"\"**10_Oso m\""]
[11,"\"11_Oso m\""]
[12,"\"12_Oso m\""]
[13,"\"13_Oso m\""]
[14,"\"14_Oso m\""]
[15,"\"15_Oso f\""]
[16,"\"16_Oso f\""]
[17,"\"17_Oso f\""]
[18,"\"18_Oso f\""]
[19,"\"19_Oso f\""]
[20,"\"20_Oso f\""]
[21,"\"21_Oso f\""]
[22,"\"22_Oso f\""]
[23,"\"23_Oso f\""]
[24,"\"24_Oso f\""]
[25,"\"25_Oso f\""]
[26,"\"26_Oso f\""]
[27,"\"27_Oso f\""]
[28,"\"28_Oso f\""]
[null,"3 \"\",\"\""]
[null,"\"3. S kým z triedy by si chcel stráviť prázdniny na pustom ostrove?\""]
[null,"\"\""]
[null,"\"\""]
[null,"\"\""]
[null," 5, 10, 11,"]
[null," 7, 8, 9,"]
[null," 7, 9, 28,"]
[null," 5, 9, 12,"]
[null," 6, 10, 28,"]
[null," 10, 11, 12,"]
[null," 3, 8, 11,"]
[null," 9, 11, 12,"]
[null," 3, 7, 28,"]
[null," 1, 5, 6,"]
[null," 7, 8, 28,"]
[null," 20, 23, 27,"]
[null," 9, 12, 14,"]
[null," 8, 23, 26,"]
[null," 22, 23, 25,"]
[null," 18, 20, 27,"]
[null," 16, 21, 22,"]
[null," 16, 23, 27,"]
[null," 17, 23, 27,"]
[null," 18, 23, 27,"]
[null," 18, 19, 24,"]
[null," 16, 21, 23,"]
[null," 5, 18, 25,"]
[null," 15, 21, 25,"]
[null," 16, 23, 27,"]
[null," 20, 21, 22,"]
[null," 18, 19, 23,"]
[null," 0, 0, 0,"]

{"sheet":"SG_4","index":23,"n_rows":63,"n_cols":2,"rows_kept":63,"cut":false,"hidden":false,"merged":[]}
[]
[null,28]
[1,"\"01_Oso m\""]
[2,"\"02_Oso m\""]
[3,"\"03_Oso m\""]
[4,"\"04_Oso m\""]
[5,"\"05_Oso m\""]
[6,"\"*06_Oso m\""]
[7,"\"07_Oso m\""]
[8,"\"08_Oso m\""]
[9,"\"09_Oso f\""]
[10,"\"**10_Oso m\""]
[11,"\"11_Oso m\""]
[12,"\"12_Oso m\""]
[13,"\"13_Oso m\""]
[14,"\"14_Oso m\""]
[15,"\"15_Oso f\""]
[16,"\"16_Oso f\""]
[17,"\"17_Oso f\""]
[18,"\"18_Oso f\""]
[19,"\"19_Oso f\""]
[20,"\"20_Oso f\""]
[21,"\"21_Oso f\""]
[22,"\"22_Oso f\""]
[23,"\"23_Oso f\""]
[24,"\"24_Oso f\""]
[25,"\"25_Oso f\""]
[26,"\"26_Oso f\""]
[27,"\"27_Oso f\""]
[28,"\"28_Oso f\""]
[null,"3 \"\",\"\""]
[null,"\"4. Kto by najlepšie dokázal hájiť záujmy triedy?\""]
[null,"\"\""]
[null,"\"\""]
[null,"\"\""]
[null," 15, 23, 26,"]
[null," 7, 23, 25,"]
[null," 23, 26, 28,"]
[null," 9, 15, 23,"]
[null," 9, 23, 28,"]
[null," 8, 23, 26,"]
[null," 15, 23, 26,"]
[null," 9, 23, 26,"]
[null," 23, 25, 28,"]
[null," 9, 23, 28,"]
[null," 7, 9, 28,"]
[null," 9, 23, 28,"]
[null," 23, 25, 28,"]
[null," 9, 23, 28,"]
[null," 5, 23, 25,"]
[null," 15, 23, 25,"]
[null," 15, 23, 26,"]
[null," 20, 23, 25,"]
[null," 9, 23, 25,"]
[null," 9, 18, 23,"]
[null," 9, 23, 25,"]
[null," 23, 25, 26,"]
[null," 5, 18, 20,"]
[null," 15, 23, 25,"]
[null," 15, 23, 26,"]
[null," 15, 23, 25,"]
[null," 20, 23, 25,"]
[null," 0, 0, 0,"]

{"sheet":"SG_5","index":24,"n_rows":63,"n_cols":2,"rows_kept":63,"cut":false,"hidden":false,"merged":[]}
[]
[null,28]
[1,"\"01_Oso m\""]
[2,"\"02_Oso m\""]
[3,"\"03_Oso m\""]
[4,"\"04_Oso m\""]
[5,"\"05_Oso m\""]
[6,"\"*06_Oso m\""]
[7,"\"07_Oso m\""]
[8,"\"08_Oso m\""]
[9,"\"09_Oso f\""]
[10,"\"**10_Oso m\""]
[11,"\"11_Oso m\""]
[12,"\"12_Oso m\""]
[13,"\"13_Oso m\""]
[14,"\"14_Oso m\""]
[15,"\"15_Oso f\""]
[16,"\"16_Oso f\""]
[17,"\"17_Oso f\""]
[18,"\"18_Oso f\""]
[19,"\"19_Oso f\""]
[20,"\"20_Oso f\""]
[21,"\"21_Oso f\""]
[22,"\"22_Oso f\""]
[23,"\"23_Oso f\""]
[24,"\"24_Oso f\""]
[25,"\"25_Oso f\""]
[26,"\"26_Oso f\""]
[27,"\"27_Oso f\""]
[28,"\"28_Oso f\""]
[null,"3 \"\",\"\""]
[null,"\"5. Komu z triedy by si zveril svoje tajomstvo?\""]
[null,"\"\""]
[null,"\"\""]
[null,"\"\""]
[null," 5, 7, 11,"]
[null," 7, 9, 23,"]
[null," 7, 9, 28,"]
[null," 11, 23, 28,"]
[null," 1, 10, 28,"]
[null," 11, 0, 0,"]
[null," 8, 11, 14,"]
[null," 9, 23, 26,"]
[null," 3, 7, 28,"]
[null," 1, 5, 6,"]
[null," 7, 8, 28,"]
[null," 13, 14, 20,"]
[null," 4, 12, 14,"]
[null," 8, 12, 13,"]
[null," 22, 23, 25,"]
[null," 23, 25, 27,"]
[null," 21, 22, 27,"]
[null," 19, 23, 27,"]
[null," 18, 23, 27,"]
[null," 18, 23, 25,"]
[null," 18, 22, 24,"]
[null," 23, 25, 27,"]
[null," 18, 25, 27,"]
[null," 19, 21, 26,"]
[null," 20, 21, 23,"]
[null," 19, 24, 25,"]
[null," 18, 19, 23,"]
[null," 0, 0, 0,"]

{"sheet":"SG_6","index":25,"n_rows":63,"n_cols":2,"rows_kept":63,"cut":false,"hidden":false,"merged":[]}
[]
[null,28]
[1,"\"01_Oso m\""]
[2,"\"02_Oso m\""]
[3,"\"03_Oso m\""]
[4,"\"04_Oso m\""]
[5,"\"05_Oso m\""]
[6,"\"*06_Oso m\""]
[7,"\"07_Oso m\""]
[8,"\"08_Oso m\""]
[9,"\"09_Oso f\""]
[10,"\"**10_Oso m\""]
[11,"\"11_Oso m\""]
[12,"\"12_Oso m\""]
[13,"\"13_Oso m\""]
[14,"\"14_Oso m\""]
[15,"\"15_Oso f\""]
[16,"\"16_Oso f\""]
[17,"\"17_Oso f\""]
[18,"\"18_Oso f\""]
[19,"\"19_Oso f\""]
[20,"\"20_Oso f\""]
[21,"\"21_Oso f\""]
[22,"\"22_Oso f\""]
[23,"\"23_Oso f\""]
[24,"\"24_Oso f\""]
[25,"\"25_Oso f\""]
[26,"\"26_Oso f\""]
[27,"\"27_Oso f\""]
[28,"\"28_Oso f\""]
[null,"3 \"\",\"\""]
[null,"\"6. S kým z triedy by si nechcel sedieť v jednej lavici?\""]
[null,"\"\""]
[null,"\"\""]
[null,"\"\""]
[null," 16, 17, 23,"]
[null," 4, 6, 10,"]
[null," 5, 6, 10,"]
[null," 10, 21, 24,"]
[null," 4, 12, 27,"]
[null," 17, 20, 22,"]
[null," 2, 6, 10,"]
[null," 6, 10, 24,"]
[null," 15, 23, 25,"]
[null," 4, 16, 18,"]
[null," 2, 4, 10,"]
[null," 2, 5, 22,"]
[null," 6, 21, 0,"]
[null," 2, 6, 10,"]
[null," 4, 6, 10,"]
[null," 2, 6, 10,"]
[null," 6, 8, 10,"]
[null," 2, 6, 10,"]
[null," 2, 6, 10,"]
[null," 4, 6, 10,"]
[null," 2, 6, 10,"]
[null," 2, 6, 10,"]
[null," 2, 6, 10,"]
[null," 6, 10, 12,"]
[null," 2, 6, 10,"]
[null," 2, 6, 10,"]
[null," 6, 10, 12,"]
[null," 0, 0, 0,"]

{"sheet":"SG_7","index":26,"n_rows":63,"n_cols":2,"rows_kept":63,"cut":false,"hidden":false,"merged":[]}
[]
[null,28]
[1,"\"01_Oso m\""]
[2,"\"02_Oso m\""]
[3,"\"03_Oso m\""]
[4,"\"04_Oso m\""]
[5,"\"05_Oso m\""]
[6,"\"*06_Oso m\""]
[7,"\"07_Oso m\""]
[8,"\"08_Oso m\""]
[9,"\"09_Oso f\""]
[10,"\"**10_Oso m\""]
[11,"\"11_Oso m\""]
[12,"\"12_Oso m\""]
[13,"\"13_Oso m\""]
[14,"\"14_Oso m\""]
[15,"\"15_Oso f\""]
[16,"\"16_Oso f\""]
[17,"\"17_Oso f\""]
[18,"\"18_Oso f\""]
[19,"\"19_Oso f\""]
[20,"\"20_Oso f\""]
[21,"\"21_Oso f\""]
[22,"\"22_Oso f\""]
[23,"\"23_Oso f\""]
[24,"\"24_Oso f\""]
[25,"\"25_Oso f\""]
[26,"\"26_Oso f\""]
[27,"\"27_Oso f\""]
[28,"\"28_Oso f\""]
[null,"3 \"\",\"\""]
[null,"\"7. S kým z triedy by si v žiadnom prípade nechcel písavať úlohy a učievať sa?\""]
[null,"\"\""]
[null,"\"\""]
[null,"\"\""]
[null," 17, 23, 27,"]
[null," 4, 6, 10,"]
[null," 4, 6, 10,"]
[null," 2, 6, 10,"]
[null," 4, 6, 10,"]
[null," 2, 4, 24,"]
[null," 2, 6, 10,"]
[null," 4, 6, 10,"]
[null," 15, 17, 23,"]
[null," 2, 6, 12,"]
[null," 2, 4, 10,"]
[null," 5, 6, 10,"]
[null," 6, 10, 12,"]
[null," 2, 6, 10,"]
[null," 2, 6, 10,"]
[null," 2, 6, 10,"]
[null," 1, 6, 8,"]
[null," 2, 6, 10,"]
[null," 2, 6, 10,"]
[null," 6, 10, 12,"]
[null," 2, 6, 10,"]
[null," 5, 6, 10,"]
[null," 6, 12, 27,"]
[null," 2, 4, 20,"]
[null," 4, 5, 6,"]
[null," 4, 16, 17,"]
[null," 2, 4, 10,"]
[null," 0, 0, 0,"]

{"sheet":"SG_8","index":27,"n_rows":63,"n_cols":2,"rows_kept":63,"cut":false,"hidden":false,"merged":[]}
[]
[null,28]
[1,"\"01_Oso m\""]
[2,"\"02_Oso m\""]
[3,"\"03_Oso m\""]
[4,"\"04_Oso m\""]
[5,"\"05_Oso m\""]
[6,"\"*06_Oso m\""]
[7,"\"07_Oso m\""]
[8,"\"08_Oso m\""]
[9,"\"09_Oso f\""]
[10,"\"**10_Oso m\""]
[11,"\"11_Oso m\""]
[12,"\"12_Oso m\""]
[13,"\"13_Oso m\""]
[14,"\"14_Oso m\""]
[15,"\"15_Oso f\""]
[16,"\"16_Oso f\""]
[17,"\"17_Oso f\""]
[18,"\"18_Oso f\""]
[19,"\"19_Oso f\""]
[20,"\"20_Oso f\""]
[21,"\"21_Oso f\""]
[22,"\"22_Oso f\""]
[23,"\"23_Oso f\""]
[24,"\"24_Oso f\""]
[25,"\"25_Oso f\""]
[26,"\"26_Oso f\""]
[27,"\"27_Oso f\""]
[28,"\"28_Oso f\""]
[null,"3 \"\",\"\""]
[null,"\"8. S kým z triedy by si nechcel stráviť prázdniny na pustom ostrove?\""]
[null,"\"\""]
[null,"\"\""]
[null,"\"\""]
[null," 17, 20, 27,"]
[null," 4, 10, 11,"]
[null," 2, 5, 27,"]
[null," 21, 24, 27,"]
[null," 4, 19, 24,"]
[null," 15, 16, 17,"]
[null," 2, 5, 27,"]
[null," 4, 6, 10,"]
[null," 15, 23, 25,"]
[null," 18, 25, 27,"]
[null," 2, 4, 10,"]
[null," 2, 8, 18,"]
[null," 6, 10, 27,"]
[null," 2, 6, 10,"]
[null," 2, 6, 10,"]
[null," 2, 6, 10,"]
[null," 1, 6, 10,"]
[null," 2, 6, 10,"]
[null," 2, 6, 10,"]
[null," 4, 6, 7,"]
[null," 2, 6, 10,"]
[null," 4, 6, 10,"]
[null," 6, 7, 10,"]
[null," 16, 20, 22,"]
[null," 6, 10, 12,"]
[null," 2, 6, 10,"]
[null," 2, 6, 10,"]
[null," 0, 0, 0,"]

{"sheet":"SG_9","index":28,"n_rows":63,"n_cols":2,"rows_kept":63,"cut":false,"hidden":false,"merged":[]}
[]
[null,28]
[1,"\"01_Oso m\""]
[2,"\"02_Oso m\""]
[3,"\"03_Oso m\""]
[4,"\"04_Oso m\""]
[5,"\"05_Oso m\""]
[6,"\"*06_Oso m\""]
[7,"\"07_Oso m\""]
[8,"\"08_Oso m\""]
[9,"\"09_Oso f\""]
[10,"\"**10_Oso m\""]
[11,"\"11_Oso m\""]
[12,"\"12_Oso m\""]
[13,"\"13_Oso m\""]
[14,"\"14_Oso m\""]
[15,"\"15_Oso f\""]
[16,"\"16_Oso f\""]
[17,"\"17_Oso f\""]
[18,"\"18_Oso f\""]
[19,"\"19_Oso f\""]
[20,"\"20_Oso f\""]
[21,"\"21_Oso f\""]
[22,"\"22_Oso f\""]
[23,"\"23_Oso f\""]
[24,"\"24_Oso f\""]
[25,"\"25_Oso f\""]
[26,"\"26_Oso f\""]
[27,"\"27_Oso f\""]
[28,"\"28_Oso f\""]
[null,"3 \"\",\"\""]
[null,"\"9. Koho by si vôbec nevybral na hájenie záujmov triedy?\""]
[null,"\"\""]
[null,"\"\""]
[null,"\"\""]
[null," 6, 8, 10,"]
[null," 4, 6, 10,"]
[null," 4, 6, 10,"]
[null," 2, 6, 10,"]
[null," 2, 24, 27,"]
[null," 2, 4, 24,"]
[null," 2, 6, 10,"]
[null," 4, 6, 10,"]
[null," 2, 6, 10,"]
[null," 2, 18, 25,"]
[null," 2, 4, 10,"]
[null," 2, 6, 10,"]
[null," 2, 6, 10,"]
[null," 2, 6, 10,"]
[null," 2, 6, 10,"]
[null," 2, 6, 10,"]
[null," 10, 16, 27,"]
[null," 2, 6, 10,"]
[null," 2, 6, 10,"]
[null," 2, 8, 24,"]
[null," 2, 6, 10,"]
[null," 2, 6, 10,"]
[null," 2, 8, 24,"]
[null," 2, 5, 17,"]
[null," 6, 10, 12,"]
[null," 11, 12, 13,"]
[null," 2, 6, 10,"]
[null," 0, 0, 0,"]

{"sheet":"SG_10","index":29,"n_rows":63,"n_cols":2,"rows_kept":63,"cut":false,"hidden":false,"merged":[]}
[null,"\"Version 01.00\",\"Škola\",\"Psychológ\",\"Obdobie\",\"Dátum\",\"Trieda\""]
[null,28]
[1,"\"01_Oso m\""]
[2,"\"02_Oso m\""]
[3,"\"03_Oso m\""]
[4,"\"04_Oso m\""]
[5,"\"05_Oso m\""]
[6,"\"*06_Oso m\""]
[7,"\"07_Oso m\""]
[8,"\"08_Oso m\""]
[9,"\"09_Oso f\""]
[10,"\"**10_Oso m\""]
[11,"\"11_Oso m\""]
[12,"\"12_Oso m\""]
[13,"\"13_Oso m\""]
[14,"\"14_Oso m\""]
[15,"\"15_Oso f\""]
[16,"\"16_Oso f\""]
[17,"\"17_Oso f\""]
[18,"\"18_Oso f\""]
[19,"\"19_Oso f\""]
[20,"\"20_Oso f\""]
[21,"\"21_Oso f\""]
[22,"\"22_Oso f\""]
[23,"\"23_Oso f\""]
[24,"\"24_Oso f\""]
[25,"\"25_Oso f\""]
[26,"\"26_Oso f\""]
[27,"\"27_Oso f\""]
[28,"\"28_Oso f\""]
[null,"3 \"\",\"\""]
[null,"\"10. Komu z triedy by si nikdy nezveril svoje tajomstvo?\""]
[null,"\"\""]
[null,"\"\""]
[null,"\"\""]
[null," 4, 12, 27,"]
[null," 4, 6, 10,"]
[null," 1, 4, 5,"]
[null," 3, 19, 24,"]
[null," 2, 4, 19,"]
[null," 20, 23, 25,"]
[null," 21, 23, 27,"]
[null," 3, 6, 10,"]
[null," 6, 10, 15,"]
[null," 23, 25, 27,"]
[null," 2, 4, 10,"]
[null," 2, 5, 10,"]
[null," 6, 10, 25,"]
[null," 2, 5, 10,"]
[null," 16, 24, 27,"]
[null," 2, 6, 10,"]
[null," 6, 10, 16,"]
[null," 2, 6, 10,"]
[null," 2, 6, 10,"]
[null," 4, 6, 22,"]
[null," 2, 6, 10,"]
[null," 4, 5, 12,"]
[null," 7, 10, 22,"]
[null," 17, 20, 22,"]
[null," 5, 6, 10,"]
[null," 5, 6, 7,"]
[null," 5, 6, 10,"]
[null," 0, 0, 0,"]

{"sheet":"SG_11","index":30,"n_rows":0,"n_cols":0,"rows_kept":0,"cut":false,"hidden":false,"merged":[]}

{"sheet":"SG_12","index":31,"n_rows":0,"n_cols":0,"rows_kept":0,"cut":false,"hidden":false,"merged":[]}

{"sheet":"SG_13","index":32,"n_rows":0,"n_cols":0,"rows_kept":0,"cut":false,"hidden":false,"merged":[]}

{"sheet":"SG_14","index":33,"n_rows":0,"n_cols":0,"rows_kept":0,"cut":false,"hidden":false,"merged":[]}

{"sheet":"SG_15","index":34,"n_rows":0,"n_cols":0,"rows_kept":0,"cut":false,"hidden":false,"merged":[]}

{"sheet":"SG_16","index":35,"n_rows":0,"n_cols":0,"rows_kept":0,"cut":false,"hidden":false,"merged":[]}

{"sheet":"SG_17","index":36,"n_rows":0,"n_cols":0,"rows_kept":0,"cut":false,"hidden":false,"merged":[]}

{"sheet":"SG_18","index":37,"n_rows":0,"n_cols":0,"rows_kept":0,"cut":false,"hidden":false,"merged":[]}

{"sheet":"SG_19","index":38,"n_rows":0,"n_cols":0,"rows_kept":0,"cut":false,"hidden":false,"merged":[]}

{"sheet":"SG_20","index":39,"n_rows":0,"n_cols":0,"rows_kept":0,"cut":false,"hidden":false,"merged":[]}

{"sheet":"Sumy_All_Q","index":40,"n_rows":280,"n_cols":47,"rows_kept":280,"cut":false,"hidden":false,"merged":[]}
[null,null,null,1,2,3,4,5,6,7,8,9,10,11,12,13,14,15,16,17,18,19,20,21,22,23,24,25,26,27,28,29,30,31,32,33,34,35,36,37,38,39,40]
["Počet volieb",3]
["Počet osôb",28]
[null,null,"Konotácia P +; N –; Q = nezadaná","\"01_Oso m\"","\"02_Oso m\"","\"03_Oso m\"","\"04_Oso m\"","\"05_Oso m\"","\"*06_Oso m\"","\"07_Oso m\"","\"08_Oso m\"","\"09_Oso f\"","\"**10_Oso m\"","\"11_Oso m\"","\"12_Oso m\"","\"13_Oso m\"","\"14_Oso m\"","\"15_Oso f\"","\"16_Oso f\"","\"17_Oso f\"","\"18_Oso f\"","\"19_Oso f\"","\"20_Oso f\"","\"21_Oso f\"","\"22_Oso f\"","\"23_Oso f\"","\"24_Oso f\"","\"25_Oso f\"","\"26_Oso f\"","\"27_Oso f\"","\"28_Oso f\"",null,null,null,null,null,null,null,null,null,null,null,null,"Total","AM","SD","MAX"]
["Q_1","Voľby spolu n","P",2,0,1,1,4,0,4,4,6,2,3,3,1,2,0,2,0,4,1,2,2,5,10,3,3,2,8,6,null,null,null,null,null,null,null,null,null,null,null,null,{"$f":"SUM(D5:AQ5)","v":81},{"$f":"IF(AR5>0,AVERAGE(D5:AQ5),\"\")","v":2.8928571428571428},{"$f":"IF(AR5>0,STDEV(D5:AQ5),\"\")","v":2.4242491883022517},{"$f":"MAX(D5:AQ5)","v":10}]
[null,"Prvá voľba n",0,2,0,0,0,1,0,0,2,1,0,1,0,1,2,0,0,0,3,1,0,0,1,2,1,2,1,3,3,null,null,null,null,null,null,null,null,null,null,null,null,{"$f":"SUM(D6:AQ6)","v":27},{"$f":"IF(AR5>0,AVERAGE(D6:AQ6),\"\")","v":0.9642857142857143},{"$f":"IF(AR5>0,STDEV(D6:AQ6),\"\")","v":1.0357370915204895}]
[null,"Druhá voľba n",0,0,0,1,1,1,0,2,0,3,0,2,1,0,0,0,2,0,1,0,2,1,1,2,2,1,0,2,2,null,null,null,null,null,null,null,null,null,null,null,null,{"$f":"SUM(D7:AQ7)","v":27},{"$f":"IF(AR5>0,AVERAGE(D7:AQ7),\"\")","v":0.9642857142857143},{"$f":"IF(AR5>0,STDEV(D7:AQ7),\"\")","v":0.92224134613944775}]
[null,"Tretia voľba n",0,0,0,0,0,2,0,2,2,2,2,0,2,0,0,0,0,0,0,0,0,1,3,6,0,0,1,3,1,null,null,null,null,null,null,null,null,null,null,null,null,{"$f":"SUM(D8:AQ8)","v":27},{"$f":"IF(AR5>0,AVERAGE(D8:AQ8),\"\")","v":0.9642857142857143},{"$f":"IF(AR5>0,STDEV(D8:AQ8),\"\")","v":1.4267845968170128},{"$f":"MAX(D8:AQ8)","v":6}]
[null,"Voľby spolu %",0,7.1428571428571423,0,0,0,3.5714285714285712,0,0,7.1428571428571423,3.5714285714285712,0,3.5714285714285712,0,3.5714285714285712,7.1428571428571423,0,0,0,10.714285714285714,3.5714285714285712,0,0,3.5714285714285712,7.1428571428571423,3.5714285714285712,7.1428571428571423,3.5714285714285712,10.714285714285714,10.714285714285714]
[null,"Prvá voľba %",0,0,0,3.5714285714285712,3.5714285714285712,3.5714285714285712,0,7.1428571428571423,0,10.714285714285714,0,7.1428571428571423,3.5714285714285712,0,0,0,7.1428571428571423,0,3.5714285714285712,0,7.1428571428571423,3.5714285714285712,3.5714285714285712,7.1428571428571423,7.1428571428571423,3.5714285714285712,0,7.1428571428571423,7.1428571428571423]
[null,"Druhá voľba %",0,0,0,0,0,7.1428571428571423,0,7.1428571428571423,7.1428571428571423,7.1428571428571423,7.1428571428571423,0,7.1428571428571423,0,0,0,0,0,0,0,0,3.5714285714285712,10.714285714285714,21.428571428571427,0,0,3.5714285714285712,10.714285714285714,3.5714285714285712]
[null,"Tretia voľba %",0,7.1428571428571423,0,3.5714285714285712,3.5714285714285712,14.285714285714285,0,14.285714285714285,14.285714285714285,21.428571428571427,7.1428571428571423,10.714285714285714,10.714285714285714,3.5714285714285712,7.1428571428571423,0,7.1428571428571423,0,14.285714285714285,3.5714285714285712,7.1428571428571423,7.1428571428571423,17.857142857142858,35.714285714285715,10.714285714285714,10.714285714285714,7.1428571428571423,28.571428571428569,21.428571428571427]
["*","Voľby spolu  z-skóre","P",{"$f":"IF(D5<>\"\",IF($AT$5<>\"\",IF($AT$5>0,(D5-$AS$5)/$AT$5,\"\"),\"\"),\"\")","v":-0.36830254380013955},{"$f":"IF(E5<>\"\",IF($AT$5<>\"\",IF($AT$5>0,(E5-$AS$5)/$AT$5,\"\"),\"\"),\"\")","v":-1.1933002419124521},-0.78080139285629591,-0.78080139285629591,0.45669515431217311,-1.1933002419124521,0.45669515431217311,0.45669515431217311,1.2816928524244857,-0.36830254380013955,4.4196305256016775E-2,4.4196305256016775E-2,-0.78080139285629591,-0.36830254380013955,-1.1933002419124521,-0.36830254380013955,-1.1933002419124521,0.45669515431217311,-0.78080139285629591,-0.36830254380013955,-0.36830254380013955,0.86919400336832942,2.9316882486491114,4.4196305256016775E-2,4.4196305256016775E-2,-0.36830254380013955,2.1066905505367988,1.2816928524244857,"","","","","","","","","","","",""]
[null,"Prvá voľba z-skóre",null,{"$f":"IF(D6<>\"\",IF($AT$6<>\"\",IF($AT$6>0,(D6-$AS$6)/$AT$6,\"\"),\"\"),\"\")","v":0.99997798108574976},{"$f":"IF(E6<>\"\",IF($AT$6<>\"\",IF($AT$6>0,(E6-$AS$6)/$AT$6,\"\"),\"\"),\"\")","v":-0.93101398239018096},-0.93101398239018096,-0.93101398239018096,3.4481999347784467E-2,-0.93101398239018096,-0.93101398239018096,0.99997798108574976,3.4481999347784467E-2,-0.93101398239018096,3.4481999347784467E-2,-0.93101398239018096,3.4481999347784467E-2,0.99997798108574976,-0.93101398239018096,-0.93101398239018096,-0.93101398239018096,1.9654739628237152,3.4481999347784467E-2,-0.93101398239018096,-0.93101398239018096,3.4481999347784467E-2,0.99997798108574976,3.4481999347784467E-2,0.99997798108574976,3.4481999347784467E-2,1.9654739628237152,1.9654739628237152,"","","","","","","","","","","",""]
[null,"Druhá voľba  z-skóre",null,{"$f":"IF(D7<>\"\",IF($AT$7<>\"\",IF($AT$7>0,(D7-$AS$7)/$AT$7,\"\"),\"\"),\"\")","v":-1.0455893333369477},{"$f":"IF(E7<>\"\",IF($AT$7<>\"\",IF($AT$7>0,(E7-$AS$7)/$AT$7,\"\"),\"\"),\"\")","v":-1.0455893333369477},3.8725530864331371E-2,3.8725530864331371E-2,3.8725530864331371E-2,-1.0455893333369477,1.1230403950656103,-1.0455893333369477,2.207355259266889,-1.0455893333369477,1.1230403950656103,3.8725530864331371E-2,-1.0455893333369477,-1.0455893333369477,-1.0455893333369477,1.1230403950656103,-1.0455893333369477,3.8725530864331371E-2,-1.0455893333369477,1.1230403950656103,3.8725530864331371E-2,3.8725530864331371E-2,1.1230403950656103,1.1230403950656103,3.8725530864331371E-2,-1.0455893333369477,1.1230403950656103,1.1230403950656103,"","","","","","","","","","","",""]
[null,"Tretia voľba  z-skóre",null,{"$f":"IF(D8<>\"\",IF($AT$8<>\"\",IF($AT$8>0,(D8-$AS$8)/$AT$8,\"\"),\"\"),\"\")","v":-0.67584533533437452},{"$f":"IF(E8<>\"\",IF($AT$8<>\"\",IF($AT$8>0,(E8-$AS$8)/$AT$8,\"\"),\"\"),\"\")","v":-0.67584533533437452},-0.67584533533437452,-0.67584533533437452,0.72590795276655029,-0.67584533533437452,0.72590795276655029,0.72590795276655029,0.72590795276655029,0.72590795276655029,-0.67584533533437452,0.72590795276655029,-0.67584533533437452,-0.67584533533437452,-0.67584533533437452,-0.67584533533437452,-0.67584533533437452,-0.67584533533437452,-0.67584533533437452,-0.67584533533437452,2.5031308716087934E-2,1.4267845968170128,3.5294145289683998,-0.67584533533437452,-0.67584533533437452,2.5031308716087934E-2,1.4267845968170128,2.5031308716087934E-2,"","","","","","","","","","","",""]
["Q_2","Voľby spolu n","P",1,0,3,1,1,0,6,4,7,0,1,0,1,2,2,0,0,5,2,1,1,1,14,0,9,6,5,8,null,null,null,null,null,null,null,null,null,null,null,null,{"$f":"SUM(D17:AQ17)","v":81},{"$f":"IF(AR17>0,AVERAGE(D17:AQ17),\"\")","v":2.8928571428571428},{"$f":"IF(AR17>0,STDEV(D17:AQ17),\"\")","v":3.4570302574692922},{"$f":"MAX(D17:AQ17)","v":14}]
[null,"Prvá voľba n",0,1,0,1,0,1,0,3,2,2,0,0,0,0,1,1,0,0,2,0,0,1,0,5,0,3,3,1,0,null,null,null,null,null,null,null,null,null,null,null,null,{"$f":"SUM(D18:AQ18)","v":27},{"$f":"IF(AR17>0,AVERAGE(D18:AQ18),\"\")","v":0.9642857142857143},{"$f":"IF(AR17>0,STDEV(D18:AQ18),\"\")","v":1.2904820476643273}]
[null,"Druhá voľba n",0,0,0,2,0,0,0,0,1,4,0,1,0,0,1,0,0,0,1,1,1,0,0,5,0,4,3,1,2,null,null,null,null,null,null,null,null,null,null,null,null,{"$f":"SUM(D19:AQ19)","v":27},{"$f":"IF(AR17>0,AVERAGE(D19:AQ19),\"\")","v":0.9642857142857143},{"$f":"IF(AR17>0,STDEV(D19:AQ19),\"\")","v":1.4267845968170128}]
[null,"Tretia voľba n",0,0,0,0,1,0,0,3,1,1,0,0,0,1,0,1,0,0,2,1,0,0,1,4,0,2,0,3,6,null,null,null,null,null,null,null,null,null,null,null,null,{"$f":"SUM(D20:AQ20)","v":27},{"$f":"IF(AR17>0,AVERAGE(D20:AQ20),\"\")","v":0.9642857142857143},{"$f":"IF(AR17>0,STDEV(D20:AQ20),\"\")","v":1.4777897123279868},{"$f":"MAX(D20:AQ20)","v":6}]
[null,"Voľby spolu %",0,3.5714285714285712,0,3.5714285714285712,0,3.5714285714285712,0,10.714285714285714,7.1428571428571423,7.1428571428571423,0,0,0,0,3.5714285714285712,3.5714285714285712,0,0,7.1428571428571423,0,0,3.5714285714285712,0,17.857142857142858,0,10.714285714285714,10.714285714285714,3.5714285714285712,0]
[null,"Prvá voľba %",0,0,0,7.1428571428571423,0,0,0,0,3.5714285714285712,14.285714285714285,0,3.5714285714285712,0,0,3.5714285714285712,0,0,0,3.5714285714285712,3.5714285714285712,3.5714285714285712,0,0,17.857142857142858,0,14.285714285714285,10.714285714285714,3.5714285714285712,7.1428571428571423]
[null,"Druhá voľba %",0,0,0,0,3.5714285714285712,0,0,10.714285714285714,3.5714285714285712,3.5714285714285712,0,0,0,3.5714285714285712,0,3.5714285714285712,0,0,7.1428571428571423,3.5714285714285712,0,0,3.5714285714285712,14.285714285714285,0,7.1428571428571423,0,10.714285714285714,21.428571428571427]
[null,"Tretia voľba %",0,3.5714285714285712,0,10.714285714285714,3.5714285714285712,3.5714285714285712,0,21.428571428571427,14.285714285714285,25,0,3.5714285714285712,0,3.5714285714285712,7.1428571428571423,7.1428571428571423,0,0,17.857142857142858,7.1428571428571423,3.5714285714285712,3.5714285714285712,3.5714285714285712,50,0,32.142857142857146,21.428571428571427,17.857142857142858,28.571428571428569]
["*","Voľby spolu  z-skóre","P",{"$f":"IF(D17<>\"\",IF($AT$17<>\"\",IF($AT$17>0,(D17-$AS$17)/$AT$17,\"\"),\"\"),\"\")","v":-0.54753849456984582},{"$f":"IF(E17<>\"\",IF($AT$17<>\"\",IF($AT$17>0,(E17-$AS$17)/$AT$17,\"\"),\"\"),\"\")","v":-0.83680411434259461},3.099274497565167E-2,-0.54753849456984582,-0.54753849456984582,-0.83680411434259461,0.89878960429389798,0.32025836474840041,1.1880552240666469,-0.83680411434259461,-0.54753849456984582,-0.83680411434259461,-0.54753849456984582,-0.2582728747970971,-0.2582728747970971,-0.83680411434259461,-0.83680411434259461,0.6095239845211492,-0.2582728747970971,-0.54753849456984582,-0.54753849456984582,-0.54753849456984582,3.2129145624758881,-0.83680411434259461,1.7665864636121444,0.89878960429389798,0.6095239845211492,1.4773208438393957,"","","","","","","","","","","",""]
[null,"Prvá voľba z-skóre",null,{"$f":"IF(D18<>\"\",IF($AT$18<>\"\",IF($AT$18>0,(D18-$AS$18)/$AT$18,\"\"),\"\"),\"\")","v":2.7675151141331872E-2},{"$f":"IF(E18<>\"\",IF($AT$18<>\"\",IF($AT$18>0,(E18-$AS$18)/$AT$18,\"\"),\"\"),\"\")","v":-0.74722908081596084},2.7675151141331872E-2,-0.74722908081596084,2.7675151141331872E-2,-0.74722908081596084,1.5774836150559173,0.80257938309862453,0.80257938309862453,-0.74722908081596084,-0.74722908081596084,-0.74722908081596084,-0.74722908081596084,2.7675151141331872E-2,2.7675151141331872E-2,-0.74722908081596084,-0.74722908081596084,0.80257938309862453,-0.74722908081596084,-0.74722908081596084,2.7675151141331872E-2,-0.74722908081596084,3.1272920789705028,-0.74722908081596084,1.5774836150559173,1.5774836150559173,2.7675151141331872E-2,-0.74722908081596084,"","","","","","","","","","","",""]
[null,"Druhá voľba  z-skóre",null,{"$f":"IF(D19<>\"\",IF($AT$19<>\"\",IF($AT$19>0,(D19-$AS$19)/$AT$19,\"\"),\"\"),\"\")","v":-0.67584533533437452},{"$f":"IF(E19<>\"\",IF($AT$19<>\"\",IF($AT$19>0,(E19-$AS$19)/$AT$19,\"\"),\"\"),\"\")","v":-0.67584533533437452},0.72590795276655029,-0.67584533533437452,-0.67584533533437452,-0.67584533533437452,-0.67584533533437452,2.5031308716087934E-2,2.1276612408674751,-0.67584533533437452,2.5031308716087934E-2,-0.67584533533437452,-0.67584533533437452,2.5031308716087934E-2,-0.67584533533437452,-0.67584533533437452,-0.67584533533437452,2.5031308716087934E-2,2.5031308716087934E-2,2.5031308716087934E-2,-0.67584533533437452,-0.67584533533437452,2.8285378849179375,-0.67584533533437452,2.1276612408674751,1.4267845968170128,2.5031308716087934E-2,0.72590795276655029,"","","","","","","","","","","",""]
[null,"Tretia voľba  z-skóre",null,{"$f":"IF(D20<>\"\",IF($AT$20<>\"\",IF($AT$20>0,(D20-$AS$20)/$AT$20,\"\"),\"\"),\"\")","v":-0.65251889781169126},{"$f":"IF(E20<>\"\",IF($AT$20<>\"\",IF($AT$20>0,(E20-$AS$20)/$AT$20,\"\"),\"\"),\"\")","v":-0.65251889781169126},-0.65251889781169126,2.4167366585618185E-2,-0.65251889781169126,-0.65251889781169126,1.3775398953802371,2.4167366585618185E-2,2.4167366585618185E-2,-0.65251889781169126,-0.65251889781169126,-0.65251889781169126,2.4167366585618185E-2,-0.65251889781169126,2.4167366585618185E-2,-0.65251889781169126,-0.65251889781169126,0.70085363098292752,2.4167366585618185E-2,-0.65251889781169126,-0.65251889781169126,2.4167366585618185E-2,2.0542261597775466,-0.65251889781169126,0.70085363098292752,-0.65251889781169126,1.3775398953802371,3.4075986885721656,"","","","","","","","","","","",""]
["Q_3","Voľby spolu n","P",1,0,2,0,4,2,4,4,5,3,4,4,0,1,1,4,1,5,2,3,4,3,9,1,3,1,6,4,null,null,null,null,null,null,null,null,null,null,null,null,{"$f":"SUM(D29:AQ29)","v":81},{"$f":"IF(AR29>0,AVERAGE(D29:AQ29),\"\")","v":2.8928571428571428},{"$f":"IF(AR29>0,STDEV(D29:AQ29),\"\")","v":2.0609110842912406},{"$f":"MAX(D29:AQ29)","v":9}]
[null,"Prvá voľba n",0,0,0,0,0,2,1,0,3,1,1,2,0,0,1,0,1,1,0,1,2,1,1,2,1,2,0,2,2,null,null,null,null,null,null,null,null,null,null,null,null,{"$f":"SUM(D30:AQ30)","v":27},{"$f":"IF(AR29>0,AVERAGE(D30:AQ30),\"\")","v":0.9642857142857143},{"$f":"IF(AR29>0,STDEV(D30:AQ30),\"\")","v":0.88116685505925973}]
[null,"Druhá voľba n",0,0,0,0,0,1,1,2,1,2,1,1,3,0,0,1,1,0,2,0,1,1,1,4,0,1,0,3,0,null,null,null,null,null,null,null,null,null,null,null,null,{"$f":"SUM(D31:AQ31)","v":27},{"$f":"IF(AR29>0,AVERAGE(D31:AQ31),\"\")","v":0.9642857142857143},{"$f":"IF(AR29>0,STDEV(D31:AQ31),\"\")","v":1.0708993401928106}]
[null,"Tretia voľba n",0,1,0,2,0,1,0,2,0,2,1,1,1,0,0,0,2,0,3,1,0,2,1,3,0,0,1,1,2,null,null,null,null,null,null,null,null,null,null,null,null,{"$f":"SUM(D32:AQ32)","v":27},{"$f":"IF(AR29>0,AVERAGE(D32:AQ32),\"\")","v":0.9642857142857143},{"$f":"IF(AR29>0,STDEV(D32:AQ32),\"\")","v":0.96156288125279388},{"$f":"MAX(D32:AQ32)","v":3}]
[null,"Voľby spolu %",0,0,0,0,0,7.1428571428571423,3.5714285714285712,0,10.714285714285714,3.5714285714285712,3.5714285714285712,7.1428571428571423,0,0,3.5714285714285712,0,3.5714285714285712,3.5714285714285712,0,3.5714285714285712,7.1428571428571423,3.5714285714285712,3.5714285714285712,7.1428571428571423,3.5714285714285712,7.1428571428571423,0,7.1428571428571423,7.1428571428571423]
[null,"Prvá voľba %",0,0,0,0,0,3.5714285714285712,3.5714285714285712,7.1428571428571423,3.5714285714285712,7.1428571428571423,3.5714285714285712,3.5714285714285712,10.714285714285714,0,0,3.5714285714285712,3.5714285714285712,0,7.1428571428571423,0,3.5714285714285712,3.5714285714285712,3.5714285714285712,14.285714285714285,0,3.5714285714285712,0,10.714285714285714,0]
[null,"Druhá voľba %",0,3.5714285714285712,0,7.1428571428571423,0,3.5714285714285712,0,7.1428571428571423,0,7.1428571428571423,3.5714285714285712,3.5714285714285712,3.5714285714285712,0,0,0,7.1428571428571423,0,10.714285714285714,3.5714285714285712,0,7.1428571428571423,3.5714285714285712,10.714285714285714,0,0,3.5714285714285712,3.5714285714285712,7.1428571428571423]
[null,"Tretia voľba %",0,3.5714285714285712,0,7.1428571428571423,0,14.285714285714285,7.1428571428571423,14.285714285714285,14.285714285714285,17.857142857142858,10.714285714285714,14.285714285714285,14.285714285714285,0,3.5714285714285712,3.5714285714285712,14.285714285714285,3.5714285714285712,17.857142857142858,7.1428571428571423,10.714285714285714,14.285714285714285,10.714285714285714,32.142857142857146,3.5714285714285712,10.714285714285714,3.5714285714285712,21.428571428571427,14.285714285714285]
["*","Voľby spolu  z-skóre","P",{"$f":"IF(D29<>\"\",IF($AT$29<>\"\",IF($AT$29>0,(D29-$AS$29)/$AT$29,\"\"),\"\"),\"\")","v":-0.91845648135184221},{"$f":"IF(E29<>\"\",IF($AT$29<>\"\",IF($AT$29>0,(E29-$AS$29)/$AT$29,\"\"),\"\"),\"\")","v":-1.4036787733867777},-0.43323418931690671,-1.4036787733867777,0.53721039475296439,-0.43323418931690671,0.53721039475296439,0.53721039475296439,1.0224326867878999,5.1988102718028839E-2,0.53721039475296439,0.53721039475296439,-1.4036787733867777,-0.91845648135184221,-0.91845648135184221,0.53721039475296439,-0.91845648135184221,1.0224326867878999,-0.43323418931690671,5.1988102718028839E-2,0.53721039475296439,5.1988102718028839E-2,2.9633218549276421,-0.91845648135184221,5.1988102718028839E-2,-0.91845648135184221,1.5076549788228355,0.53721039475296439,"","","","","","","","","","","",""]
[null,"Prvá voľba z-skóre",null,{"$f":"IF(D30<>\"\",IF($AT$30<>\"\",IF($AT$30>0,(D30-$AS$30)/$AT$30,\"\"),\"\"),\"\")","v":-1.0943281726374794},{"$f":"IF(E30<>\"\",IF($AT$30<>\"\",IF($AT$30>0,(E30-$AS$30)/$AT$30,\"\"),\"\"),\"\")","v":-1.0943281726374794},-1.0943281726374794,-1.0943281726374794,1.175389518758774,4.0530673060647365E-2,-1.0943281726374794,2.3102483644569007,4.0530673060647365E-2,4.0530673060647365E-2,1.175389518758774,-1.0943281726374794,-1.0943281726374794,4.0530673060647365E-2,-1.0943281726374794,4.0530673060647365E-2,4.0530673060647365E-2,-1.0943281726374794,4.0530673060647365E-2,1.175389518758774,4.0530673060647365E-2,4.0530673060647365E-2,1.175389518758774,4.0530673060647365E-2,1.175389518758774,-1.0943281726374794,1.175389518758774,1.175389518758774,"","","","","","","","","","","",""]
[null,"Druhá voľba  z-skóre",null,{"$f":"IF(D31<>\"\",IF($AT$31<>\"\",IF($AT$31>0,(D31-$AS$31)/$AT$31,\"\"),\"\"),\"\")","v":-0.90044477393374711},{"$f":"IF(E31<>\"\",IF($AT$31<>\"\",IF($AT$31>0,(E31-$AS$31)/$AT$31,\"\"),\"\"),\"\")","v":-0.90044477393374711},-0.90044477393374711,-0.90044477393374711,3.334980644199062E-2,3.334980644199062E-2,0.96714438681772819,3.334980644199062E-2,0.96714438681772819,3.334980644199062E-2,3.334980644199062E-2,1.900938967193466,-0.90044477393374711,-0.90044477393374711,3.334980644199062E-2,3.334980644199062E-2,-0.90044477393374711,0.96714438681772819,-0.90044477393374711,3.334980644199062E-2,3.334980644199062E-2,3.334980644199062E-2,2.8347335475692037,-0.90044477393374711,3.334980644199062E-2,-0.90044477393374711,1.900938967193466,-0.90044477393374711,"","","","","","","","","","","",""]
[null,"Tretia voľba  z-skóre",null,{"$f":"IF(D32<>\"\",IF($AT$32<>\"\",IF($AT$32>0,(D32-$AS$32)/$AT$32,\"\"),\"\"),\"\")","v":3.7141913868133654E-2},{"$f":"IF(E32<>\"\",IF($AT$32<>\"\",IF($AT$32>0,(E32-$AS$32)/$AT$32,\"\"),\"\"),\"\")","v":-1.0028316744396091},1.0771155021758763,-1.0028316744396091,3.7141913868133654E-2,-1.0028316744396091,1.0771155021758763,-1.0028316744396091,1.0771155021758763,3.7141913868133654E-2,3.7141913868133654E-2,3.7141913868133654E-2,-1.0028316744396091,-1.0028316744396091,-1.0028316744396091,1.0771155021758763,-1.0028316744396091,2.1170890904836193,3.7141913868133654E-2,-1.0028316744396091,1.0771155021758763,3.7141913868133654E-2,2.1170890904836193,-1.0028316744396091,-1.0028316744396091,3.7141913868133654E-2,3.7141913868133654E-2,1.0771155021758763,"","","","","","","","","","","",""]
["Q_4","Voľby spolu n","P",0,0,0,0,2,0,2,1,10,0,0,0,0,0,8,0,0,2,0,3,0,0,25,0,12,8,0,8,null,null,null,null,null,null,null,null,null,null,null,null,{"$f":"SUM(D41:AQ41)","v":81},{"$f":"IF(AR41>0,AVERAGE(D41:AQ41),\"\")","v":2.8928571428571428},{"$f":"IF(AR41>0,STDEV(D41:AQ41),\"\")","v":5.6064730163035374},{"$f":"MAX(D41:AQ41)","v":25}]
[null,"Prvá voľba n",0,0,0,0,0,0,0,0,0,2,0,0,0,0,0,4,0,0,1,0,0,0,0,17,0,2,0,0,1,null,null,null,null,null,null,null,null,null,null,null,null,{"$f":"SUM(D42:AQ42)","v":27},{"$f":"IF(AR41>0,AVERAGE(D42:AQ42),\"\")","v":0.9642857142857143},{"$f":"IF(AR41>0,STDEV(D42:AQ42),\"\")","v":3.2714493657064221}]
[null,"Druhá voľba n",0,0,0,0,0,0,0,1,0,3,0,0,0,0,0,1,0,0,0,0,2,0,0,4,0,6,6,0,4,null,null,null,null,null,null,null,null,null,null,null,null,{"$f":"SUM(D43:AQ43)","v":27},{"$f":"IF(AR41>0,AVERAGE(D43:AQ43),\"\")","v":0.9642857142857143},{"$f":"IF(AR41>0,STDEV(D43:AQ43),\"\")","v":1.8555650603311362}]
[null,"Tretia voľba n",0,0,0,0,0,2,0,1,1,5,0,0,0,0,0,3,0,0,1,0,1,0,0,4,0,4,2,0,3,null,null,null,null,null,null,null,null,null,null,null,null,{"$f":"SUM(D44:AQ44)","v":27},{"$f":"IF(AR41>0,AVERAGE(D44:AQ44),\"\")","v":0.9642857142857143},{"$f":"IF(AR41>0,STDEV(D44:AQ44),\"\")","v":1.5026431738561581},{"$f":"MAX(D44:AQ44)","v":5}]
[null,"Voľby spolu %",0,0,0,0,0,0,0,0,0,7.1428571428571423,0,0,0,0,0,14.285714285714285,0,0,3.5714285714285712,0,0,0,0,60.714285714285708,0,7.1428571428571423,0,0,3.5714285714285712]
[null,"Prvá voľba %",0,0,0,0,0,0,0,3.5714285714285712,0,10.714285714285714,0,0,0,0,0,3.5714285714285712,0,0,0,0,7.1428571428571423,0,0,14.285714285714285,0,21.428571428571427,21.428571428571427,0,14.285714285714285]
[null,"Druhá voľba %",0,0,0,0,0,7.1428571428571423,0,3.5714285714285712,3.5714285714285712,17.857142857142858,0,0,0,0,0,10.714285714285714,0,0,3.5714285714285712,0,3.5714285714285712,0,0,14.285714285714285,0,14.285714285714285,7.1428571428571423,0,10.714285714285714]
[null,"Tretia voľba %",0,0,0,0,0,7.1428571428571423,0,7.1428571428571423,3.5714285714285712,35.714285714285715,0,0,0,0,0,28.571428571428569,0,0,7.1428571428571423,0,10.714285714285714,0,0,89.285714285714292,0,42.857142857142854,28.571428571428569,0,28.571428571428569]
["*","Voľby spolu  z-skóre","P",{"$f":"IF(D41<>\"\",IF($AT41<>\"\",IF($AT41>0,(D41-$AS41)/$AT41,\"\"),\"\"),\"\")","v":-0.5159852075350686},{"$f":"IF(E41<>\"\",IF($AT$41<>\"\",IF($AT$41>0,(E41-$AS$41)/$AT$41,\"\"),\"\"),\"\")","v":-0.5159852075350686},-0.5159852075350686,-0.5159852075350686,-0.15925469368366313,-0.5159852075350686,-0.15925469368366313,-0.33761995060936589,1.2676673617219587,-0.5159852075350686,-0.5159852075350686,-0.5159852075350686,-0.5159852075350686,-0.5159852075350686,0.91093684787055329,-0.5159852075350686,-0.5159852075350686,-0.15925469368366313,-0.5159852075350686,1.911056324203959E-2,-0.5159852075350686,-0.5159852075350686,3.9431462156074999,-0.5159852075350686,1.6243978755733641,0.91093684787055329,-0.5159852075350686,0.91093684787055329,"","","","","","","","","","","",""]
[null,"Prvá voľba z-skóre",null,{"$f":"IF(D42<>\"\",IF($AT42<>\"\",IF($AT42>0,(D42-$AS42)/$AT42,\"\"),\"\"),\"\")","v":-0.29475795174885455},{"$f":"IF(E42<>\"\",IF($AT$42<>\"\",IF($AT$42>0,(E42-$AS$42)/$AT$42,\"\"),\"\"),\"\")","v":-0.29475795174885455},-0.29475795174885455,-0.29475795174885455,-0.29475795174885455,-0.29475795174885455,-0.29475795174885455,-0.29475795174885455,0.31659187410062151,-0.29475795174885455,-0.29475795174885455,-0.29475795174885455,-0.29475795174885455,-0.29475795174885455,0.92794169995009756,-0.29475795174885455,-0.29475795174885455,1.0916961175883496E-2,-0.29475795174885455,-0.29475795174885455,-0.29475795174885455,-0.29475795174885455,4.9017155679716913,-0.29475795174885455,0.31659187410062151,-0.29475795174885455,-0.29475795174885455,1.0916961175883496E-2,"","","","","","","","","","","",""]
[null,"Druhá voľba  z-skóre",null,{"$f":"IF(D43<>\"\",IF($AT43<>\"\",IF($AT43>0,(D43-$AS43)/$AT43,\"\"),\"\"),\"\")","v":-0.51967227390756754},{"$f":"IF(E43<>\"\",IF($AT$43<>\"\",IF($AT$43>0,(E43-$AS$43)/$AT$43,\"\"),\"\"),\"\")","v":-0.51967227390756754},-0.51967227390756754,-0.51967227390756754,-0.51967227390756754,-0.51967227390756754,1.9247121255835827E-2,-0.51967227390756754,1.0970859115826426,-0.51967227390756754,-0.51967227390756754,-0.51967227390756754,-0.51967227390756754,-0.51967227390756754,1.9247121255835827E-2,-0.51967227390756754,-0.51967227390756754,-0.51967227390756754,-0.51967227390756754,0.55816651641923909,-0.51967227390756754,-0.51967227390756754,1.6360053067460458,-0.51967227390756754,2.7138440970728528,2.7138440970728528,-0.51967227390756754,1.6360053067460458,"","","","","","","","","","","",""]
[null,"Tretia voľba  z-skóre",null,{"$f":"IF(D44<>\"\",IF($AT44<>\"\",IF($AT44>0,(D44-$AS44)/$AT44,\"\"),\"\"),\"\")","v":-0.64172634665561756},{"$f":"IF(E44<>\"\",IF($AT$44<>\"\",IF($AT$44>0,(E44-$AS$44)/$AT$44,\"\"),\"\"),\"\")","v":-0.64172634665561756},-0.64172634665561756,-0.64172634665561756,0.68926163159307063,-0.64172634665561756,2.3767642468726567E-2,2.3767642468726567E-2,2.6857435989661029,-0.64172634665561756,-0.64172634665561756,-0.64172634665561756,-0.64172634665561756,-0.64172634665561756,1.3547556207174147,-0.64172634665561756,-0.64172634665561756,2.3767642468726567E-2,-0.64172634665561756,2.3767642468726567E-2,-0.64172634665561756,-0.64172634665561756,2.0202496098417591,-0.64172634665561756,2.0202496098417591,0.68926163159307063,-0.64172634665561756,1.3547556207174147,"","","","","","","","","","","",""]
["Q_5","Voľby spolu n","P",2,0,1,1,2,1,5,3,3,1,4,2,2,3,0,0,0,5,4,2,3,3,11,2,6,2,6,5,null,null,null,null,null,null,null,null,null,null,null,null,{"$f":"SUM(D53:AQ53)","v":79},{"$f":"IF(AR53>0,AVERAGE(D53:AQ53),\"\")","v":2.8214285714285716},{"$f":"IF(AR53>0,STDEV(D53:AQ53),\"\")","v":2.3890734517113446},{"$f":"MAX(D53:AQ53)","v":11}]
[null,"Prvá voľba n",0,1,0,0,0,1,0,1,1,1,1,1,0,1,2,0,0,0,3,0,0,1,1,3,2,2,0,2,3,null,null,null,null,null,null,null,null,null,null,null,null,{"$f":"SUM(D54:AQ54)","v":27},{"$f":"IF(AR53>0,AVERAGE(D54:AQ54),\"\")","v":0.9642857142857143},{"$f":"IF(AR53>0,STDEV(D54:AQ54),\"\")","v":0.99933840548497321}]
[null,"Druhá voľba n",0,1,0,1,1,1,0,1,1,1,0,3,0,1,0,0,0,0,2,2,0,1,0,3,0,2,2,2,1,null,null,null,null,null,null,null,null,null,null,null,null,{"$f":"SUM(D55:AQ55)","v":26},{"$f":"IF(AR53>0,AVERAGE(D55:AQ55),\"\")","v":0.9285714285714286},{"$f":"IF(AR53>0,STDEV(D55:AQ55),\"\")","v":0.93999887425351936}]
[null,"Tretia voľba n",0,0,0,0,0,0,1,3,1,1,0,0,2,0,1,0,0,0,0,2,2,1,2,5,0,2,0,2,1,null,null,null,null,null,null,null,null,null,null,null,null,{"$f":"SUM(D56:AQ56)","v":26},{"$f":"IF(AR53>0,AVERAGE(D56:AQ56),\"\")","v":0.9285714285714286},{"$f":"IF(AR53>0,STDEV(D56:AQ56),\"\")","v":1.2149857925879117},{"$f":"MAX(D56:AQ56)","v":5}]
[null,"Voľby spolu %",0,3.5714285714285712,0,0,0,3.5714285714285712,0,3.5714285714285712,3.5714285714285712,3.5714285714285712,3.5714285714285712,3.5714285714285712,0,3.5714285714285712,7.1428571428571423,0,0,0,10.714285714285714,0,0,3.5714285714285712,3.5714285714285712,10.714285714285714,7.1428571428571423,7.1428571428571423,0,7.1428571428571423,10.714285714285714]
[null,"Prvá voľba %",0,3.5714285714285712,0,3.5714285714285712,3.5714285714285712,3.5714285714285712,0,3.5714285714285712,3.5714285714285712,3.5714285714285712,0,10.714285714285714,0,3.5714285714285712,0,0,0,0,7.1428571428571423,7.1428571428571423,0,3.5714285714285712,0,10.714285714285714,0,7.1428571428571423,7.1428571428571423,7.1428571428571423,3.5714285714285712]
[null,"Druhá voľba %",0,0,0,0,0,0,3.5714285714285712,10.714285714285714,3.5714285714285712,3.5714285714285712,0,0,7.1428571428571423,0,3.5714285714285712,0,0,0,0,7.1428571428571423,7.1428571428571423,3.5714285714285712,7.1428571428571423,17.857142857142858,0,7.1428571428571423,0,7.1428571428571423,3.5714285714285712]
[null,"Tretia voľba %",0,7.1428571428571423,0,3.5714285714285712,3.5714285714285712,7.1428571428571423,3.5714285714285712,17.857142857142858,10.714285714285714,10.714285714285714,3.5714285714285712,14.285714285714285,7.1428571428571423,7.1428571428571423,10.714285714285714,0,0,0,17.857142857142858,14.285714285714285,7.1428571428571423,10.714285714285714,10.714285714285714,39.285714285714285,7.1428571428571423,21.428571428571427,7.1428571428571423,21.428571428571427,17.857142857142858]
["*","Voľby spolu  z-skóre","P",{"$f":"IF(D53<>\"\",IF($AT$53<>\"\",IF($AT$53>0,(D53-$AS$53)/$AT$53,\"\"),\"\"),\"\")","v":-0.34382725689750759},{"$f":"IF(E53<>\"\",IF($AT$53<>\"\",IF($AT$53>0,(E53-$AS$53)/$AT$53,\"\"),\"\"),\"\")","v":-1.1809718823870909},-0.76239956964229927,-0.76239956964229927,-0.34382725689750759,-0.76239956964229927,0.91188968133686765,7.4745055847284164E-2,7.4745055847284164E-2,-0.76239956964229927,0.49331736859207587,-0.34382725689750759,-0.34382725689750759,7.4745055847284164E-2,-1.1809718823870909,-1.1809718823870909,-1.1809718823870909,0.91188968133686765,0.49331736859207587,-0.34382725689750759,7.4745055847284164E-2,7.4745055847284164E-2,3.423323557805618,-0.34382725689750759,1.3304619940816593,-0.34382725689750759,1.3304619940816593,0.91188968133686765,"","","","","","","","","","","",""]
[null,"Prvá voľba z-skóre",null,{"$f":"IF(D54<>\"\",IF($AT$54<>\"\",IF($AT$54>0,(D54-$AS$54)/$AT$54,\"\"),\"\"),\"\")","v":3.5737929732575183E-2},{"$f":"IF(E54<>\"\",IF($AT$54<>\"\",IF($AT$54>0,(E54-$AS$54)/$AT$54,\"\"),\"\"),\"\")","v":-0.96492410277953033},-0.96492410277953033,-0.96492410277953033,3.5737929732575183E-2,-0.96492410277953033,3.5737929732575183E-2,3.5737929732575183E-2,3.5737929732575183E-2,3.5737929732575183E-2,3.5737929732575183E-2,-0.96492410277953033,3.5737929732575183E-2,1.0363999622446807,-0.96492410277953033,-0.96492410277953033,-0.96492410277953033,2.0370619947567863,-0.96492410277953033,-0.96492410277953033,3.5737929732575183E-2,3.5737929732575183E-2,2.0370619947567863,1.0363999622446807,1.0363999622446807,-0.96492410277953033,1.0363999622446807,2.0370619947567863,"","","","","","","","","","","",""]
[null,"Druhá voľba  z-skóre",null,{"$f":"IF(D55<>\"\",IF($AT$55<>\"\",IF($AT$55>0,(D55-$AS$55)/$AT$55,\"\"),\"\"),\"\")","v":7.5987932948637746E-2},{"$f":"IF(E55<>\"\",IF($AT$55<>\"\",IF($AT$55>0,(E55-$AS$55)/$AT$55,\"\"),\"\"),\"\")","v":-0.98784312833229126},7.5987932948637746E-2,7.5987932948637746E-2,7.5987932948637746E-2,-0.98784312833229126,7.5987932948637746E-2,7.5987932948637746E-2,7.5987932948637746E-2,-0.98784312833229126,2.2036500555104954,-0.98784312833229126,7.5987932948637746E-2,-0.98784312833229126,-0.98784312833229126,-0.98784312833229126,-0.98784312833229126,1.1398189942295667,1.1398189942295667,-0.98784312833229126,7.5987932948637746E-2,-0.98784312833229126,2.2036500555104954,-0.98784312833229126,1.1398189942295667,1.1398189942295667,1.1398189942295667,7.5987932948637746E-2,"","","","","","","","","","","",""]
[null,"Tretia voľba  z-skóre",null,{"$f":"IF(D56<>\"\",IF($AT$56<>\"\",IF($AT$56>0,(D56-$AS$56)/$AT$56,\"\"),\"\"),\"\")","v":-0.76426525662788003},{"$f":"IF(E56<>\"\",IF($AT$56<>\"\",IF($AT$56>0,(E56-$AS$56)/$AT$56,\"\"),\"\"),\"\")","v":-0.76426525662788003},-0.76426525662788003,-0.76426525662788003,-0.76426525662788003,5.8789635125221514E-2,1.7048994186314244,5.8789635125221514E-2,5.8789635125221514E-2,-0.76426525662788003,-0.76426525662788003,0.88184452687832304,-0.76426525662788003,5.8789635125221514E-2,-0.76426525662788003,-0.76426525662788003,-0.76426525662788003,-0.76426525662788003,0.88184452687832304,0.88184452687832304,5.8789635125221514E-2,0.88184452687832304,3.3510092021376274,-0.76426525662788003,0.88184452687832304,-0.76426525662788003,0.88184452687832304,5.8789635125221514E-2,"","","","","","","","","","","",""]
["Q_6","Voľby spolu n","N",0,12,0,6,2,19,0,1,0,20,0,3,0,0,1,2,2,1,0,1,2,2,2,2,1,0,1,0,null,null,null,null,null,null,null,null,null,null,null,null,{"$f":"SUM(D65:AQ65)","v":80},{"$f":"IF(AR65>0,AVERAGE(D65:AQ65),\"\")","v":2.8571428571428572},{"$f":"IF(AR65>0,STDEV(D65:AQ65),\"\")","v":5.2895024320663637},{"$f":"MAX(D65:AQ65)","v":20}]
[null,"Prvá voľba n",0,0,5,0,0,0,9,0,0,0,5,0,0,0,0,0,1,2,0,0,0,1,1,1,1,0,0,1,0,null,null,null,null,null,null,null,null,null,null,null,null,{"$f":"SUM(D66:AQ66)","v":27},{"$f":"IF(AR65>0,AVERAGE(D66:AQ66),\"\")","v":0.9642857142857143},{"$f":"IF(AR65>0,STDEV(D66:AQ66),\"\")","v":2.0634768009203563}]
[null,"Druhá voľba n",0,0,1,0,3,2,7,0,0,0,9,0,1,0,0,0,1,0,0,0,1,1,0,0,0,1,0,0,0,null,null,null,null,null,null,null,null,null,null,null,null,{"$f":"SUM(D67:AQ67)","v":27},{"$f":"IF(AR65>0,AVERAGE(D67:AQ67),\"\")","v":0.9642857142857143},{"$f":"IF(AR65>0,STDEV(D67:AQ67),\"\")","v":2.1340648547391443}]
[null,"Tretia voľba n",0,0,6,0,3,0,3,0,1,0,6,0,2,0,0,1,0,0,1,0,0,0,1,1,1,0,0,0,0,null,null,null,null,null,null,null,null,null,null,null,null,{"$f":"SUM(D68:AQ68)","v":26},{"$f":"IF(AR65>0,AVERAGE(D68:AQ68),\"\")","v":0.9285714285714286},{"$f":"IF(AR65>0,STDEV(D68:AQ68),\"\")","v":1.6761634196950517},{"$f":"MAX(D68:AQ68)","v":6}]
[null,"Voľby spolu %",0,0,17.857142857142858,0,0,0,32.142857142857146,0,0,0,17.857142857142858,0,0,0,0,0,3.5714285714285712,7.1428571428571423,0,0,0,3.5714285714285712,3.5714285714285712,3.5714285714285712,3.5714285714285712,0,0,3.5714285714285712,0]
[null,"Prvá voľba %",0,0,3.5714285714285712,0,10.714285714285714,7.1428571428571423,25,0,0,0,32.142857142857146,0,3.5714285714285712,0,0,0,3.5714285714285712,0,0,0,3.5714285714285712,3.5714285714285712,0,0,0,3.5714285714285712,0,0,0]
[null,"Druhá voľba %",0,0,21.428571428571427,0,10.714285714285714,0,10.714285714285714,0,3.5714285714285712,0,21.428571428571427,0,7.1428571428571423,0,0,3.5714285714285712,0,0,3.5714285714285712,0,0,0,3.5714285714285712,3.5714285714285712,3.5714285714285712,0,0,0,0]
[null,"Tretia voľba %",0,0,42.857142857142854,0,21.428571428571427,7.1428571428571423,67.857142857142861,0,3.5714285714285712,0,71.428571428571431,0,10.714285714285714,0,0,3.5714285714285712,7.1428571428571423,7.1428571428571423,3.5714285714285712,0,3.5714285714285712,7.1428571428571423,7.1428571428571423,7.1428571428571423,7.1428571428571423,3.5714285714285712,0,3.5714285714285712,0]
["*","Voľby spolu  z-skóre","N",{"$f":"IF(D65<>\"\",IF($AT$65<>\"\",IF($AT$65>0,(D65-$AS$65)/$AT$65,\"\"),\"\"),\"\")","v":-0.54015342536229893},{"$f":"IF(E65<>\"\",IF($AT$65<>\"\",IF($AT$65>0,(E65-$AS$65)/$AT$65,\"\"),\"\"),\"\")","v":1.7284909611593564},-0.54015342536229893,0.59416876789852879,-0.16204602760868969,3.0518668532969886,-0.54015342536229893,-0.35109972648549431,-0.54015342536229893,3.2409205521737934,-0.54015342536229893,2.7007671268114933E-2,-0.54015342536229893,-0.54015342536229893,-0.35109972648549431,-0.16204602760868969,-0.16204602760868969,-0.35109972648549431,-0.54015342536229893,-0.35109972648549431,-0.16204602760868969,-0.16204602760868969,-0.16204602760868969,-0.16204602760868969,-0.35109972648549431,-0.54015342536229893,-0.35109972648549431,-0.54015342536229893,"","","","","","","","","","","",""]
[null,"Prvá voľba z-skóre",null,{"$f":"IF(D66<>\"\",IF($AT$66<>\"\",IF($AT$66>0,(D66-$AS$66)/$AT$66,\"\"),\"\"),\"\")","v":-0.46731114876388313},{"$f":"IF(E66<>\"\",IF($AT$66<>\"\",IF($AT$66>0,(E66-$AS$66)/$AT$66,\"\"),\"\"),\"\")","v":1.9557836966784738},-0.46731114876388313,-0.46731114876388313,-0.46731114876388313,3.8942595730323597,-0.46731114876388313,-0.46731114876388313,-0.46731114876388313,1.9557836966784738,-0.46731114876388313,-0.46731114876388313,-0.46731114876388313,-0.46731114876388313,-0.46731114876388313,1.7307820324588257E-2,0.50192678941305957,-0.46731114876388313,-0.46731114876388313,-0.46731114876388313,1.7307820324588257E-2,1.7307820324588257E-2,1.7307820324588257E-2,1.7307820324588257E-2,-0.46731114876388313,-0.46731114876388313,1.7307820324588257E-2,-0.46731114876388313,"","","","","","","","","","","",""]
[null,"Druhá voľba  z-skóre",null,{"$f":"IF(D67<>\"\",IF($AT$67<>\"\",IF($AT$67>0,(D67-$AS$67)/$AT$67,\"\"),\"\"),\"\")","v":-0.45185398754134065},{"$f":"IF(E67<>\"\",IF($AT$67<>\"\",IF($AT$67>0,(E67-$AS$67)/$AT$67,\"\"),\"\"),\"\")","v":1.6735332871901498E-2},-0.45185398754134065,0.95391397369838582,0.48532465328514363,2.8282712553513543,-0.45185398754134065,-0.45185398754134065,-0.45185398754134065,3.7654498961778393,-0.45185398754134065,1.6735332871901498E-2,-0.45185398754134065,-0.45185398754134065,-0.45185398754134065,1.6735332871901498E-2,-0.45185398754134065,-0.45185398754134065,-0.45185398754134065,1.6735332871901498E-2,1.6735332871901498E-2,-0.45185398754134065,-0.45185398754134065,-0.45185398754134065,1.6735332871901498E-2,-0.45185398754134065,-0.45185398754134065,-0.45185398754134065,"","","","","","","","","","","",""]
[null,"Tretia voľba  z-skóre",null,{"$f":"IF(D68<>\"\",IF($AT$68<>\"\",IF($AT$68>0,(D68-$AS$68)/$AT$68,\"\"),\"\"),\"\")","v":-0.55398621498395773},{"$f":"IF(E68<>\"\",IF($AT$68<>\"\",IF($AT$68>0,(E68-$AS$68)/$AT$68,\"\"),\"\"),\"\")","v":3.0256170202969996},-0.55398621498395773,1.2358154026565209,-0.55398621498395773,1.2358154026565209,-0.55398621498395773,4.2614324229535185E-2,-0.55398621498395773,3.0256170202969996,-0.55398621498395773,0.63921486344302803,-0.55398621498395773,-0.55398621498395773,4.2614324229535185E-2,-0.55398621498395773,-0.55398621498395773,4.2614324229535185E-2,-0.55398621498395773,-0.55398621498395773,-0.55398621498395773,4.2614324229535185E-2,4.2614324229535185E-2,4.2614324229535185E-2,-0.55398621498395773,-0.55398621498395773,-0.55398621498395773,-0.55398621498395773,"","","","","","","","","","","",""]
["Q_7","Voľby spolu n","N",1,13,0,10,3,20,0,1,0,18,0,4,0,0,1,1,3,0,0,1,0,0,2,1,0,0,2,0,null,null,null,null,null,null,null,null,null,null,null,null,{"$f":"SUM(D77:AQ77)","v":81},{"$f":"IF(AR77>0,AVERAGE(D77:AQ77),\"\")","v":2.8928571428571428},{"$f":"IF(AR77>0,STDEV(D77:AQ77),\"\")","v":5.4659842779671557},{"$f":"MAX(D77:AQ77)","v":20}]
[null,"Prvá voľba n",0,0,7,0,1,1,11,0,0,0,4,0,0,0,0,0,0,1,0,0,0,0,0,1,1,0,0,0,0,null,null,null,null,null,null,null,null,null,null,null,null,{"$f":"SUM(D78:AQ78)","v":27},{"$f":"IF(AR77>0,AVERAGE(D78:AQ78),\"\")","v":0.9642857142857143},{"$f":"IF(AR77>0,STDEV(D78:AQ78),\"\")","v":2.4717986082584398}]
[null,"Druhá voľba n",0,0,1,0,5,1,6,0,1,0,8,0,2,0,0,1,1,0,0,0,0,0,0,0,0,0,0,1,0,null,null,null,null,null,null,null,null,null,null,null,null,{"$f":"SUM(D79:AQ79)","v":27},{"$f":"IF(AR77>0,AVERAGE(D79:AQ79),\"\")","v":0.9642857142857143},{"$f":"IF(AR77>0,STDEV(D79:AQ79),\"\")","v":2.0089087300607478}]
[null,"Tretia voľba n",0,1,5,0,4,1,3,0,0,0,6,0,2,0,0,0,0,2,0,0,1,0,0,1,0,0,0,1,0,null,null,null,null,null,null,null,null,null,null,null,null,{"$f":"SUM(D80:AQ80)","v":27},{"$f":"IF(AR77>0,AVERAGE(D80:AQ80),\"\")","v":0.9642857142857143},{"$f":"IF(AR77>0,STDEV(D80:AQ80),\"\")","v":1.6438920136009398},{"$f":"MAX(D80:AQ80)","v":6}]
[null,"Voľby spolu %",0,0,25,0,3.5714285714285712,3.5714285714285712,39.285714285714285,0,0,0,14.285714285714285,0,0,0,0,0,0,3.5714285714285712,0,0,0,0,0,3.5714285714285712,3.5714285714285712,0,0,0,0]
[null,"Prvá voľba %",0,0,3.5714285714285712,0,17.857142857142858,3.5714285714285712,21.428571428571427,0,3.5714285714285712,0,28.571428571428569,0,7.1428571428571423,0,0,3.5714285714285712,3.5714285714285712,0,0,0,0,0,0,0,0,0,0,3.5714285714285712,0]
[null,"Druhá voľba %",0,3.5714285714285712,17.857142857142858,0,14.285714285714285,3.5714285714285712,10.714285714285714,0,0,0,21.428571428571427,0,7.1428571428571423,0,0,0,0,7.1428571428571423,0,0,3.5714285714285712,0,0,3.5714285714285712,0,0,0,3.5714285714285712,0]
[null,"Tretia voľba %",0,3.5714285714285712,46.428571428571431,0,35.714285714285715,10.714285714285714,71.428571428571431,0,3.5714285714285712,0,64.285714285714292,0,14.285714285714285,0,0,3.5714285714285712,3.5714285714285712,10.714285714285714,0,0,3.5714285714285712,0,0,7.1428571428571423,3.5714285714285712,0,0,7.1428571428571423,0]
["*","Voľby spolu  z-skóre","N",{"$f":"IF(D77<>\"\",IF($AT$77<>\"\",IF($AT$77>0,(D77-$AS$77)/$AT$77,\"\"),\"\"),\"\")","v":-0.34629758275871075},{"$f":"IF(E77<>\"\",IF($AT$77<>\"\",IF($AT$77>0,(E77-$AS$77)/$AT$77,\"\"),\"\"),\"\")","v":1.849098413598399},-0.52924724912180321,1.3002494145091215,1.9601749967474203E-2,3.1297460781400464,-0.52924724912180321,-0.34629758275871075,-0.52924724912180321,2.7638467454138613,-0.52924724912180321,0.20255141633056667,-0.52924724912180321,-0.52924724912180321,-0.34629758275871075,-0.34629758275871075,1.9601749967474203E-2,-0.52924724912180321,-0.52924724912180321,-0.34629758275871075,-0.52924724912180321,-0.52924724912180321,-0.16334791639561827,-0.34629758275871075,-0.52924724912180321,-0.52924724912180321,-0.16334791639561827,-0.52924724912180321,"","","","","","","","","","","",""]
[null,"Prvá voľba z-skóre",null,{"$f":"IF(D78<>\"\",IF($AT$78<>\"\",IF($AT$78>0,(D78-$AS$78)/$AT$78,\"\"),\"\"),\"\")","v":-0.39011500009101596},{"$f":"IF(E78<>\"\",IF($AT$78<>\"\",IF($AT$78>0,(E78-$AS$78)/$AT$78,\"\"),\"\"),\"\")","v":2.4418309264956184},-0.39011500009101596,1.4448703707074658E-2,1.4448703707074658E-2,4.0600857416879812,-0.39011500009101596,-0.39011500009101596,-0.39011500009101596,1.2281398151013463,-0.39011500009101596,-0.39011500009101596,-0.39011500009101596,-0.39011500009101596,-0.39011500009101596,-0.39011500009101596,1.4448703707074658E-2,-0.39011500009101596,-0.39011500009101596,-0.39011500009101596,-0.39011500009101596,-0.39011500009101596,1.4448703707074658E-2,1.4448703707074658E-2,-0.39011500009101596,-0.39011500009101596,-0.39011500009101596,-0.39011500009101596,"","","","","","","","","","","",""]
[null,"Druhá voľba  z-skóre",null,{"$f":"IF(D79<>\"\",IF($AT$79<>\"\",IF($AT$79>0,(D79-$AS$79)/$AT$79,\"\"),\"\"),\"\")","v":-0.48000474081097505},{"$f":"IF(E79<>\"\",IF($AT$79<>\"\",IF($AT$79>0,(E79-$AS$79)/$AT$79,\"\"),\"\"),\"\")","v":1.7777953363369438E-2},-0.48000474081097505,2.0089087300607473,1.7777953363369438E-2,2.5066914242350919,-0.48000474081097505,1.7777953363369438E-2,-0.48000474081097505,3.5022568125837807,-0.48000474081097505,0.51556064753771391,-0.48000474081097505,-0.48000474081097505,1.7777953363369438E-2,1.7777953363369438E-2,-0.48000474081097505,-0.48000474081097505,-0.48000474081097505,-0.48000474081097505,-0.48000474081097505,-0.48000474081097505,-0.48000474081097505,-0.48000474081097505,-0.48000474081097505,-0.48000474081097505,1.7777953363369438E-2,-0.48000474081097505,"","","","","","","","","","","",""]
[null,"Tretia voľba  z-skóre",null,{"$f":"IF(D80<>\"\",IF($AT$80<>\"\",IF($AT$80>0,(D80-$AS$80)/$AT$80,\"\"),\"\"),\"\")","v":2.1725445113668796E-2},{"$f":"IF(E80<>\"\",IF($AT$80<>\"\",IF($AT$80>0,(E80-$AS$80)/$AT$80,\"\"),\"\"),\"\")","v":2.4549752978445749},-0.58658701806905778,1.8466628346618486,2.1725445113668796E-2,1.238350371479122,-0.58658701806905778,-0.58658701806905778,-0.58658701806905778,3.0632877610273015,-0.58658701806905778,0.63003790829639528,-0.58658701806905778,-0.58658701806905778,-0.58658701806905778,-0.58658701806905778,0.63003790829639528,-0.58658701806905778,-0.58658701806905778,2.1725445113668796E-2,-0.58658701806905778,-0.58658701806905778,2.1725445113668796E-2,-0.58658701806905778,-0.58658701806905778,-0.58658701806905778,2.1725445113668796E-2,-0.58658701806905778,"","","","","","","","","","","",""]
["Q_8","Voľby spolu n","N",1,12,0,6,2,15,2,1,0,16,1,1,0,0,2,2,2,2,1,2,1,1,1,2,2,0,6,0,null,null,null,null,null,null,null,null,null,null,null,null,{"$f":"SUM(D89:AQ89)","v":81},{"$f":"IF(AR89>0,AVERAGE(D89:AQ89),\"\")","v":2.8928571428571428},{"$f":"IF(AR89>0,STDEV(D89:AQ89),\"\")","v":4.3319594891772724},{"$f":"MAX(D89:AQ89)","v":16}]
[null,"Prvá voľba n",0,0,5,0,2,1,7,0,0,0,4,0,0,0,0,0,0,1,0,0,0,0,1,1,2,0,0,3,0,null,null,null,null,null,null,null,null,null,null,null,null,{"$f":"SUM(D90:AQ90)","v":27},{"$f":"IF(AR89>0,AVERAGE(D90:AQ90),\"\")","v":0.9642857142857143},{"$f":"IF(AR89>0,STDEV(D90:AQ90),\"\")","v":1.7739293663574649}]
[null,"Druhá voľba n",0,1,3,0,1,0,6,0,0,0,6,1,0,0,0,1,0,1,1,0,1,1,0,0,0,2,0,2,0,null,null,null,null,null,null,null,null,null,null,null,null,{"$f":"SUM(D91:AQ91)","v":27},{"$f":"IF(AR89>0,AVERAGE(D91:AQ91),\"\")","v":0.9642857142857143},{"$f":"IF(AR89>0,STDEV(D91:AQ91),\"\")","v":1.6212053782007012}]
[null,"Tretia voľba n",0,0,4,0,3,1,2,2,1,0,6,0,1,0,0,1,2,0,1,1,1,0,0,0,0,0,0,1,0,null,null,null,null,null,null,null,null,null,null,null,null,{"$f":"SUM(D92:AQ92)","v":27},{"$f":"IF(AR89>0,AVERAGE(D92:AQ92),\"\")","v":0.9642857142857143},{"$f":"IF(AR89>0,STDEV(D92:AQ92),\"\")","v":1.4267845968170128},{"$f":"MAX(D92:AQ92)","v":6}]
[null,"Voľby spolu %",0,0,17.857142857142858,0,7.1428571428571423,3.5714285714285712,25,0,0,0,14.285714285714285,0,0,0,0,0,0,3.5714285714285712,0,0,0,0,3.5714285714285712,3.5714285714285712,7.1428571428571423,0,0,10.714285714285714,0]
[null,"Prvá voľba %",0,3.5714285714285712,10.714285714285714,0,3.5714285714285712,0,21.428571428571427,0,0,0,21.428571428571427,3.5714285714285712,0,0,0,3.5714285714285712,0,3.5714285714285712,3.5714285714285712,0,3.5714285714285712,3.5714285714285712,0,0,0,7.1428571428571423,0,7.1428571428571423,0]
[null,"Druhá voľba %",0,0,14.285714285714285,0,10.714285714285714,3.5714285714285712,7.1428571428571423,7.1428571428571423,3.5714285714285712,0,21.428571428571427,0,3.5714285714285712,0,0,3.5714285714285712,7.1428571428571423,0,3.5714285714285712,3.5714285714285712,3.5714285714285712,0,0,0,0,0,0,3.5714285714285712,0]
[null,"Tretia voľba %",0,3.5714285714285712,42.857142857142854,0,21.428571428571427,7.1428571428571423,53.571428571428569,7.1428571428571423,3.5714285714285712,0,57.142857142857139,3.5714285714285712,3.5714285714285712,0,0,7.1428571428571423,7.1428571428571423,7.1428571428571423,7.1428571428571423,3.5714285714285712,7.1428571428571423,3.5714285714285712,3.5714285714285712,3.5714285714285712,7.1428571428571423,7.1428571428571423,0,21.428571428571427,0]
["*","Voľby spolu  z-skóre","N",{"$f":"IF(D89<>\"\",IF($AT$89<>\"\",IF($AT$89>0,(D89-$AS$89)/$AT$89,\"\"),\"\"),\"\")","v":-0.43695171840506641},{"$f":"IF(E89<>\"\",IF($AT$89<>\"\",IF($AT$89>0,(E89-$AS$89)/$AT$89,\"\"),\"\"),\"\")","v":2.1023148715715463},-0.66779413567566748,0.71726036794793924,-0.20610930113446527,2.7948421233833494,-0.20610930113446527,-0.43695171840506641,-0.66779413567566748,3.0256845406539505,-0.43695171840506641,-0.43695171840506641,-0.66779413567566748,-0.66779413567566748,-0.20610930113446527,-0.20610930113446527,-0.20610930113446527,-0.20610930113446527,-0.43695171840506641,-0.20610930113446527,-0.43695171840506641,-0.43695171840506641,-0.43695171840506641,-0.20610930113446527,-0.20610930113446527,-0.66779413567566748,0.71726036794793924,-0.66779413567566748,"","","","","","","","","","","",""]
[null,"Prvá voľba z-skóre",null,{"$f":"IF(D90<>\"\",IF($AT$90<>\"\",IF($AT$90>0,(D90-$AS$90)/$AT$90,\"\"),\"\"),\"\")","v":-0.54358743508810081},{"$f":"IF(E90<>\"\",IF($AT$90<>\"\",IF($AT$90>0,(E90-$AS$90)/$AT$90,\"\"),\"\"),\"\")","v":2.2750140801835332},-0.54358743508810081,0.58385317102055267,2.0132867966225949E-2,3.4024546862921867,-0.54358743508810081,-0.54358743508810081,-0.54358743508810081,1.7112937771292063,-0.54358743508810081,-0.54358743508810081,-0.54358743508810081,-0.54358743508810081,-0.54358743508810081,-0.54358743508810081,2.0132867966225949E-2,-0.54358743508810081,-0.54358743508810081,-0.54358743508810081,-0.54358743508810081,2.0132867966225949E-2,2.0132867966225949E-2,0.58385317102055267,-0.54358743508810081,-0.54358743508810081,1.1475734740748795,-0.54358743508810081,"","","","","","","","","","","",""]
[null,"Druhá voľba  z-skóre",null,{"$f":"IF(D91<>\"\",IF($AT$91<>\"\",IF($AT$91>0,(D91-$AS$91)/$AT$91,\"\"),\"\"),\"\")","v":2.202946412250574E-2},{"$f":"IF(E91<>\"\",IF($AT$91<>\"\",IF($AT$91>0,(E91-$AS$91)/$AT$91,\"\"),\"\"),\"\")","v":1.2556794549828276},-0.59479553130765528,2.202946412250574E-2,-0.59479553130765528,3.1061544412733109,-0.59479553130765528,-0.59479553130765528,-0.59479553130765528,3.1061544412733109,2.202946412250574E-2,-0.59479553130765528,-0.59479553130765528,-0.59479553130765528,2.202946412250574E-2,-0.59479553130765528,2.202946412250574E-2,2.202946412250574E-2,-0.59479553130765528,2.202946412250574E-2,2.202946412250574E-2,-0.59479553130765528,-0.59479553130765528,-0.59479553130765528,0.63885445955266673,-0.59479553130765528,0.63885445955266673,-0.59479553130765528,"","","","","","","","","","","",""]
[null,"Tretia voľba  z-skóre",null,{"$f":"IF(D92<>\"\",IF($AT$92<>\"\",IF($AT$92>0,(D92-$AS$92)/$AT$92,\"\"),\"\"),\"\")","v":-0.67584533533437452},{"$f":"IF(E92<>\"\",IF($AT$92<>\"\",IF($AT$92>0,(E92-$AS$92)/$AT$92,\"\"),\"\"),\"\")","v":2.1276612408674751},-0.67584533533437452,1.4267845968170128,2.5031308716087934E-2,0.72590795276655029,0.72590795276655029,2.5031308716087934E-2,-0.67584533533437452,3.5294145289683998,-0.67584533533437452,2.5031308716087934E-2,-0.67584533533437452,-0.67584533533437452,2.5031308716087934E-2,0.72590795276655029,-0.67584533533437452,2.5031308716087934E-2,2.5031308716087934E-2,2.5031308716087934E-2,-0.67584533533437452,-0.67584533533437452,-0.67584533533437452,-0.67584533533437452,-0.67584533533437452,-0.67584533533437452,2.5031308716087934E-2,-0.67584533533437452,"","","","","","","","","","","",""]
["Q_9","Voľby spolu n","N",0,20,0,5,1,18,0,3,0,20,1,2,1,0,0,1,1,1,0,0,0,0,0,4,1,0,2,0,null,null,null,null,null,null,null,null,null,null,null,null,{"$f":"SUM(D101:AQ101)","v":81},{"$f":"IF(AR101>0,AVERAGE(D101:AQ101),\"\")","v":2.8928571428571428},{"$f":"IF(AR101>0,STDEV(D101:AQ101),\"\")","v":5.9462984795976741},{"$f":"MAX(D101:AQ101)","v":20}]
[null,"Prvá voľba n",0,0,7,0,0,0,6,0,1,0,9,0,1,0,0,0,1,0,0,0,0,0,0,0,1,0,0,1,0,null,null,null,null,null,null,null,null,null,null,null,null,{"$f":"SUM(D102:AQ102)","v":27},{"$f":"IF(AR101>0,AVERAGE(D102:AQ102),\"\")","v":0.9642857142857143},{"$f":"IF(AR101>0,STDEV(D102:AQ102),\"\")","v":2.3171205447813068}]
[null,"Druhá voľba n",0,0,5,0,1,1,7,0,1,0,8,0,0,1,0,0,0,0,1,0,0,0,0,0,1,0,0,1,0,null,null,null,null,null,null,null,null,null,null,null,null,{"$f":"SUM(D103:AQ103)","v":27},{"$f":"IF(AR101>0,AVERAGE(D103:AQ103),\"\")","v":0.9642857142857143},{"$f":"IF(AR101>0,STDEV(D103:AQ103),\"\")","v":2.0990675682513551}]
[null,"Tretia voľba n",0,0,8,0,4,0,5,0,1,0,3,1,1,0,0,0,0,1,0,0,0,0,0,0,2,1,0,0,0,null,null,null,null,null,null,null,null,null,null,null,null,{"$f":"SUM(D104:AQ104)","v":27},{"$f":"IF(AR101>0,AVERAGE(D104:AQ104),\"\")","v":0.9642857142857143},{"$f":"IF(AR101>0,STDEV(D104:AQ104),\"\")","v":1.8950646008170384},{"$f":"MAX(D104:AQ104)","v":8}]
[null,"Voľby spolu %",0,0,25,0,0,0,21.428571428571427,0,3.5714285714285712,0,32.142857142857146,0,3.5714285714285712,0,0,0,3.5714285714285712,0,0,0,0,0,0,0,3.5714285714285712,0,0,3.5714285714285712,0]
[null,"Prvá voľba %",0,0,17.857142857142858,0,3.5714285714285712,3.5714285714285712,25,0,3.5714285714285712,0,28.571428571428569,0,0,3.5714285714285712,0,0,0,0,3.5714285714285712,0,0,0,0,0,3.5714285714285712,0,0,3.5714285714285712,0]
[null,"Druhá voľba %",0,0,28.571428571428569,0,14.285714285714285,0,17.857142857142858,0,3.5714285714285712,0,10.714285714285714,3.5714285714285712,3.5714285714285712,0,0,0,0,3.5714285714285712,0,0,0,0,0,0,7.1428571428571423,3.5714285714285712,0,0,0]
[null,"Tretia voľba %",0,0,71.428571428571431,0,17.857142857142858,3.5714285714285712,64.285714285714292,0,10.714285714285714,0,71.428571428571431,3.5714285714285712,7.1428571428571423,3.5714285714285712,0,0,3.5714285714285712,3.5714285714285712,3.5714285714285712,0,0,0,0,0,14.285714285714285,3.5714285714285712,0,7.1428571428571423,0]
["*","Voľby spolu  z-skóre","N",{"$f":"IF(D101<>\"\",IF($AT$101<>\"\",IF($AT$101>0,(D101-$AS$101)/$AT$101,\"\"),\"\"),\"\")","v":-0.48649712973252451},{"$f":"IF(E101<>\"\",IF($AT$101<>\"\",IF($AT$101>0,(E101-$AS$101)/$AT$101,\"\"),\"\"),\"\")","v":2.8769398165664106},-0.48649712973252451,0.3543621068422092,-0.31832528241757774,2.5405961219365167,-0.48649712973252451,1.8018412212315732E-2,-0.48649712973252451,2.8769398165664106,-0.31832528241757774,-0.15015343510263102,-0.31832528241757774,-0.48649712973252451,-0.48649712973252451,-0.31832528241757774,-0.31832528241757774,-0.31832528241757774,-0.48649712973252451,-0.48649712973252451,-0.48649712973252451,-0.48649712973252451,-0.48649712973252451,0.18619025952726248,-0.31832528241757774,-0.48649712973252451,-0.15015343510263102,-0.48649712973252451,"","","","","","","","","","","",""]
[null,"Prvá voľba z-skóre",null,{"$f":"IF(D102<>\"\",IF($AT$102<>\"\",IF($AT$102>0,(D102-$AS$102)/$AT$102,\"\"),\"\"),\"\")","v":-0.41615690493854951},{"$f":"IF(E102<>\"\",IF($AT$102<>\"\",IF($AT$102>0,(E102-$AS$102)/$AT$102,\"\"),\"\"),\"\")","v":2.6048339605412911},-0.41615690493854951,-0.41615690493854951,-0.41615690493854951,2.173263836901314,-0.41615690493854951,1.5413218701427752E-2,-0.41615690493854951,3.4679742078212459,-0.41615690493854951,1.5413218701427752E-2,-0.41615690493854951,-0.41615690493854951,-0.41615690493854951,1.5413218701427752E-2,-0.41615690493854951,-0.41615690493854951,-0.41615690493854951,-0.41615690493854951,-0.41615690493854951,-0.41615690493854951,-0.41615690493854951,1.5413218701427752E-2,-0.41615690493854951,-0.41615690493854951,1.5413218701427752E-2,-0.41615690493854951,"","","","","","","","","","","",""]
[null,"Druhá voľba  z-skóre",null,{"$f":"IF(D103<>\"\",IF($AT$103<>\"\",IF($AT$103>0,(D103-$AS$103)/$AT$103,\"\"),\"\"),\"\")","v":-0.45938764853054265},{"$f":"IF(E103<>\"\",IF($AT$103<>\"\",IF($AT$103>0,(E103-$AS$103)/$AT$103,\"\"),\"\"),\"\")","v":1.9226223808870857},-0.45938764853054265,1.7014357352983053E-2,1.7014357352983053E-2,2.8754263926541372,-0.45938764853054265,1.7014357352983053E-2,-0.45938764853054265,3.3518283985376627,-0.45938764853054265,-0.45938764853054265,1.7014357352983053E-2,-0.45938764853054265,-0.45938764853054265,-0.45938764853054265,-0.45938764853054265,1.7014357352983053E-2,-0.45938764853054265,-0.45938764853054265,-0.45938764853054265,-0.45938764853054265,-0.45938764853054265,1.7014357352983053E-2,-0.45938764853054265,-0.45938764853054265,1.7014357352983053E-2,-0.45938764853054265,"","","","","","","","","","","",""]
[null,"Tretia voľba  z-skóre",null,{"$f":"IF(D104<>\"\",IF($AT$104<>\"\",IF($AT$104>0,(D104-$AS$104)/$AT$104,\"\"),\"\"),\"\")","v":-0.50884055027463027},{"$f":"IF(E104<>\"\",IF($AT$104<>\"\",IF($AT$104>0,(E104-$AS$104)/$AT$104,\"\"),\"\"),\"\")","v":3.7126514223741536},-0.50884055027463027,1.6019054360497618,-0.50884055027463027,2.1295919326308597,-0.50884055027463027,1.8845946306467777E-2,-0.50884055027463027,1.0742189394686636,1.8845946306467777E-2,1.8845946306467777E-2,-0.50884055027463027,-0.50884055027463027,-0.50884055027463027,-0.50884055027463027,1.8845946306467777E-2,-0.50884055027463027,-0.50884055027463027,-0.50884055027463027,-0.50884055027463027,-0.50884055027463027,-0.50884055027463027,0.54653244288756575,1.8845946306467777E-2,-0.50884055027463027,-0.50884055027463027,-0.50884055027463027,"","","","","","","","","","","",""]
["Q_10","Voľby spolu n","N",1,8,2,7,7,13,2,0,0,15,0,2,0,0,1,2,1,0,2,2,1,3,3,2,3,0,4,0,null,null,null,null,null,null,null,null,null,null,null,null,{"$f":"SUM(D113:AQ113)","v":81},{"$f":"IF(AR113>0,AVERAGE(D113:AQ113),\"\")","v":2.8928571428571428},{"$f":"IF(AR113>0,STDEV(D113:AQ113),\"\")","v":3.8329882522385774},{"$f":"MAX(D113:AQ113)","v":15}]
[null,"Prvá voľba n",0,0,4,1,3,3,5,0,0,0,2,0,0,0,0,0,1,0,0,1,0,1,3,1,0,0,0,2,0,null,null,null,null,null,null,null,null,null,null,null,null,{"$f":"SUM(D114:AQ114)","v":27},{"$f":"IF(AR113>0,AVERAGE(D114:AQ114),\"\")","v":0.9642857142857143},{"$f":"IF(AR113>0,STDEV(D114:AQ114),\"\")","v":1.4267845968170128}]
[null,"Druhá voľba n",0,0,1,1,4,1,4,2,0,0,8,0,0,0,0,0,0,0,0,1,1,0,0,0,0,2,0,2,0,null,null,null,null,null,null,null,null,null,null,null,null,{"$f":"SUM(D115:AQ115)","v":27},{"$f":"IF(AR113>0,AVERAGE(D115:AQ115),\"\")","v":0.9642857142857143},{"$f":"IF(AR113>0,STDEV(D115:AQ115),\"\")","v":1.7946864547601264}]
[null,"Tretia voľba n",0,1,3,0,0,3,4,0,0,0,5,0,2,0,0,1,1,1,0,0,1,0,0,2,2,1,0,0,0,null,null,null,null,null,null,null,null,null,null,null,null,{"$f":"SUM(D116:AQ116)","v":27},{"$f":"IF(AR113>0,AVERAGE(D116:AQ116),\"\")","v":0.9642857142857143},{"$f":"IF(AR113>0,STDEV(D116:AQ116),\"\")","v":1.3738872361173378},{"$f":"MAX(D116:AQ116)","v":5}]
[null,"Voľby spolu %",0,0,14.285714285714285,3.5714285714285712,10.714285714285714,10.714285714285714,17.857142857142858,0,0,0,7.1428571428571423,0,0,0,0,0,3.5714285714285712,0,0,3.5714285714285712,0,3.5714285714285712,10.714285714285714,3.5714285714285712,0,0,0,7.1428571428571423,0]
[null,"Prvá voľba %",0,0,3.5714285714285712,3.5714285714285712,14.285714285714285,3.5714285714285712,14.285714285714285,7.1428571428571423,0,0,28.571428571428569,0,0,0,0,0,0,0,0,3.5714285714285712,3.5714285714285712,0,0,0,0,7.1428571428571423,0,7.1428571428571423,0]
[null,"Druhá voľba %",0,3.5714285714285712,10.714285714285714,0,0,10.714285714285714,14.285714285714285,0,0,0,17.857142857142858,0,7.1428571428571423,0,0,3.5714285714285712,3.5714285714285712,3.5714285714285712,0,0,3.5714285714285712,0,0,7.1428571428571423,7.1428571428571423,3.5714285714285712,0,0,0]
[null,"Tretia voľba %",0,3.5714285714285712,28.571428571428569,7.1428571428571423,25,25,46.428571428571431,7.1428571428571423,0,0,53.571428571428569,0,7.1428571428571423,0,0,3.5714285714285712,7.1428571428571423,3.5714285714285712,0,7.1428571428571423,7.1428571428571423,3.5714285714285712,10.714285714285714,10.714285714285714,7.1428571428571423,10.714285714285714,0,14.285714285714285,0]
["*","Voľby spolu  z-skóre","N",{"$f":"IF(D113<>\"\",IF($AT$113<>\"\",IF($AT$113>0,(D113-$AS$113)/$AT$113,\"\"),\"\"),\"\")","v":-0.49383327531767385},{"$f":"IF(E113<>\"\",IF($AT$113<>\"\",IF($AT$113>0,(E113-$AS$113)/$AT$113,\"\"),\"\"),\"\")","v":1.3324180824608938},-0.23294022420644991,1.0715250313496698,1.0715250313496698,2.6368833380170131,-0.23294022420644991,-0.7547263264288977,-0.7547263264288977,3.1586694402394611,-0.7547263264288977,-0.23294022420644991,-0.7547263264288977,-0.7547263264288977,-0.49383327531767385,-0.23294022420644991,-0.49383327531767385,-0.7547263264288977,-0.23294022420644991,-0.23294022420644991,-0.49383327531767385,2.7952826904774006E-2,2.7952826904774006E-2,-0.23294022420644991,2.7952826904774006E-2,-0.7547263264288977,0.28884587801599793,-0.7547263264288977,"","","","","","","","","","","",""]
[null,"Prvá voľba z-skóre",null,{"$f":"IF(D114<>\"\",IF($AT$114<>\"\",IF($AT$114>0,(D114-$AS$114)/$AT$114,\"\"),\"\"),\"\")","v":-0.67584533533437452},{"$f":"IF(E114<>\"\",IF($AT$114<>\"\",IF($AT$114>0,(E114-$AS$114)/$AT$114,\"\"),\"\"),\"\")","v":2.1276612408674751},2.5031308716087934E-2,1.4267845968170128,1.4267845968170128,2.8285378849179375,-0.67584533533437452,-0.67584533533437452,-0.67584533533437452,0.72590795276655029,-0.67584533533437452,-0.67584533533437452,-0.67584533533437452,-0.67584533533437452,-0.67584533533437452,2.5031308716087934E-2,-0.67584533533437452,-0.67584533533437452,2.5031308716087934E-2,-0.67584533533437452,2.5031308716087934E-2,1.4267845968170128,2.5031308716087934E-2,-0.67584533533437452,-0.67584533533437452,-0.67584533533437452,0.72590795276655029,-0.67584533533437452,"","","","","","","","","","","",""]
[null,"Druhá voľba  z-skóre",null,{"$f":"IF(D115<>\"\",IF($AT$115<>\"\",IF($AT$115>0,(D115-$AS$115)/$AT$115,\"\"),\"\"),\"\")","v":-0.53730038009040326},{"$f":"IF(E115<>\"\",IF($AT$115<>\"\",IF($AT$115>0,(E115-$AS$115)/$AT$115,\"\"),\"\"),\"\")","v":1.9900014077422333E-2},1.9900014077422333E-2,1.691501196580899,1.9900014077422333E-2,1.691501196580899,0.57710040824524789,-0.53730038009040326,-0.53730038009040326,3.9203027732522018,-0.53730038009040326,-0.53730038009040326,-0.53730038009040326,-0.53730038009040326,-0.53730038009040326,-0.53730038009040326,-0.53730038009040326,-0.53730038009040326,1.9900014077422333E-2,1.9900014077422333E-2,-0.53730038009040326,-0.53730038009040326,-0.53730038009040326,-0.53730038009040326,0.57710040824524789,-0.53730038009040326,0.57710040824524789,-0.53730038009040326,"","","","","","","","","","","",""]
[null,"Tretia voľba  z-skóre",null,{"$f":"IF(D116<>\"\",IF($AT$116<>\"\",IF($AT$116>0,(D116-$AS$116)/$AT$116,\"\"),\"\"),\"\")","v":2.5995063332283186E-2},{"$f":"IF(E116<>\"\",IF($AT$116<>\"\",IF($AT$116>0,(E116-$AS$116)/$AT$116,\"\"),\"\"),\"\")","v":1.4817186099401423},-0.70186670997164635,-0.70186670997164635,1.4817186099401423,2.2095803832440719,-0.70186670997164635,-0.70186670997164635,-0.70186670997164635,2.9374421565480011,-0.70186670997164635,0.75385683663621261,-0.70186670997164635,-0.70186670997164635,2.5995063332283186E-2,2.5995063332283186E-2,2.5995063332283186E-2,-0.70186670997164635,-0.70186670997164635,2.5995063332283186E-2,-0.70186670997164635,-0.70186670997164635,0.75385683663621261,0.75385683663621261,2.5995063332283186E-2,-0.70186670997164635,-0.70186670997164635,-0.70186670997164635,"","","","","","","","","","","",""]
["Q_11","Voľby spolu n","Q",0,0,0,0,0,0,0,0,0,0,0,0,0,0,0,0,0,0,0,0,0,0,0,0,0,0,0,0,null,null,null,null,null,null,null,null,null,null,null,null,{"$f":"SUM(D125:AQ125)","v":0},{"$f":"IF(AR125>0,AVERAGE(D125:AQ125),\"\")","v":""},{"$f":"IF(AR125>0,STDEV(D125:AQ125),\"\")","v":""},{"$f":"MAX(D125:AQ125)","v":0}]
[null,"Prvá voľba n",0,0,0,0,0,0,0,0,0,0,0,0,0,0,0,0,0,0,0,0,0,0,0,0,0,0,0,0,0,null,null,null,null,null,null,null,null,null,null,null,null,{"$f":"SUM(D126:AQ126)","v":0},{"$f":"IF(AR125>0,AVERAGE(D126:AQ126),\"\")","v":""},{"$f":"IF(AR125>0,STDEV(D126:AQ126),\"\")","v":""}]
[null,"Druhá voľba n",0,0,0,0,0,0,0,0,0,0,0,0,0,0,0,0,0,0,0,0,0,0,0,0,0,0,0,0,0,null,null,null,null,null,null,null,null,null,null,null,null,{"$f":"SUM(D127:AQ127)","v":0},{"$f":"IF(AR125>0,AVERAGE(D127:AQ127),\"\")","v":""},{"$f":"IF(AR125>0,STDEV(D127:AQ127),\"\")","v":""}]
[null,"Tretia voľba n",0,0,0,0,0,0,0,0,0,0,0,0,0,0,0,0,0,0,0,0,0,0,0,0,0,0,0,0,0,null,null,null,null,null,null,null,null,null,null,null,null,{"$f":"SUM(D128:AQ128)","v":0},{"$f":"IF(AR125>0,AVERAGE(D128:AQ128),\"\")","v":""},{"$f":"IF(AR125>0,STDEV(D128:AQ128),\"\")","v":""},{"$f":"MAX(D128:AQ128)","v":0}]
[null,"Voľby spolu %",0,0,0,0,0,0,0,0,0,0,0,0,0,0,0,0,0,0,0,0,0,0,0,0,0,0,0,0,0]
[null,"Prvá voľba %",0,0,0,0,0,0,0,0,0,0,0,0,0,0,0,0,0,0,0,0,0,0,0,0,0,0,0,0,0]
[null,"Druhá voľba %",0,0,0,0,0,0,0,0,0,0,0,0,0,0,0,0,0,0,0,0,0,0,0,0,0,0,0,0,0]
[null,"Tretia voľba %",0,0,0,0,0,0,0,0,0,0,0,0,0,0,0,0,0,0,0,0,0,0,0,0,0,0,0,0,0]
["*","Voľby spolu  z-skóre","Q",{"$f":"IF(D125<>\"\",IF($AT$125<>\"\",IF($AT$125>0,(D125-$AS$125)/$AT$125,\"\"),\"\"),\"\")","v":""},{"$f":"IF(E125<>\"\",IF($AT$125<>\"\",IF($AT$125>0,(E125-$AS$125)/$AT$125,\"\"),\"\"),\"\")","v":""},"","","","","","","","","","","","","","","","","","","","","","","","","","","","","","","","","","","","","",""]
[null,"Prvá voľba z-skóre",null,{"$f":"IF(D126<>\"\",IF($AT$126<>\"\",IF($AT$126>0,(D126-$AS$126)/$AT$126,\"\"),\"\"),\"\")","v":""},{"$f":"IF(E126<>\"\",IF($AT$126<>\"\",IF($AT$126>0,(E126-$AS$126)/$AT$126,\"\"),\"\"),\"\")","v":""},"","","","","","","","","","","","","","","","","","","","","","","","","","","","","","","","","","","","","",""]
[null,"Druhá voľba  z-skóre",null,{"$f":"IF(D127<>\"\",IF($AT$127<>\"\",IF($AT$127>0,(D127-$AS$127)/$AT$127,\"\"),\"\"),\"\")","v":""},{"$f":"IF(E127<>\"\",IF($AT$127<>\"\",IF($AT$127>0,(E127-$AS$127)/$AT$127,\"\"),\"\"),\"\")","v":""},"","","","","","","","","","","","","","","","","","","","","","","","","","","","","","","","","","","","","",""]
[null,"Tretia voľba  z-skóre",null,{"$f":"IF(D128<>\"\",IF($AT$128<>\"\",IF($AT$128>0,(D128-$AS$128)/$AT$128,\"\"),\"\"),\"\")","v":""},{"$f":"IF(E128<>\"\",IF($AT$128<>\"\",IF($AT$128>0,(E128-$AS$128)/$AT$128,\"\"),\"\"),\"\")","v":""},"","","","","","","","","","","","","","","","","","","","","","","","","","","","","","","","","","","","","",""]
["Q_12","Voľby spolu n","Q",0,0,0,0,0,0,0,0,0,0,0,0,0,0,0,0,0,0,0,0,0,0,0,0,0,0,0,0,null,null,null,null,null,null,null,null,null,null,null,null,{"$f":"SUM(D137:AQ137)","v":0},{"$f":"IF(AR137>0,AVERAGE(D137:AQ137),\"\")","v":""},{"$f":"IF(AR137>0,STDEV(D137:AQ137),\"\")","v":""},{"$f":"MAX(D137:AQ137)","v":0}]
[null,"Prvá voľba n",0,0,0,0,0,0,0,0,0,0,0,0,0,0,0,0,0,0,0,0,0,0,0,0,0,0,0,0,0,null,null,null,null,null,null,null,null,null,null,null,null,{"$f":"SUM(D138:AQ138)","v":0},{"$f":"IF(AR137>0,AVERAGE(D138:AQ138),\"\")","v":""},{"$f":"IF(AR137>0,STDEV(D138:AQ138),\"\")","v":""}]
[null,"Druhá voľba n",0,0,0,0,0,0,0,0,0,0,0,0,0,0,0,0,0,0,0,0,0,0,0,0,0,0,0,0,0,null,null,null,null,null,null,null,null,null,null,null,null,{"$f":"SUM(D139:AQ139)","v":0},{"$f":"IF(AR137>0,AVERAGE(D139:AQ139),\"\")","v":""},{"$f":"IF(AR137>0,STDEV(D139:AQ139),\"\")","v":""}]
[null,"Tretia voľba n",0,0,0,0,0,0,0,0,0,0,0,0,0,0,0,0,0,0,0,0,0,0,0,0,0,0,0,0,0,null,null,null,null,null,null,null,null,null,null,null,null,{"$f":"SUM(D140:AQ140)","v":0},{"$f":"IF(AR137>0,AVERAGE(D140:AQ140),\"\")","v":""},{"$f":"IF(AR137>0,STDEV(D140:AQ140),\"\")","v":""},{"$f":"MAX(D140:AQ140)","v":0}]
[null,"Voľby spolu %",0,0,0,0,0,0,0,0,0,0,0,0,0,0,0,0,0,0,0,0,0,0,0,0,0,0,0,0,0]
[null,"Prvá voľba %",0,0,0,0,0,0,0,0,0,0,0,0,0,0,0,0,0,0,0,0,0,0,0,0,0,0,0,0,0]
[null,"Druhá voľba %",0,0,0,0,0,0,0,0,0,0,0,0,0,0,0,0,0,0,0,0,0,0,0,0,0,0,0,0,0]
[null,"Tretia voľba %",0,0,0,0,0,0,0,0,0,0,0,0,0,0,0,0,0,0,0,0,0,0,0,0,0,0,0,0,0]
["*","Voľby spolu  z-skóre","Q",{"$f":"IF(D137<>\"\",IF($AT$137<>\"\",IF($AT$137>0,(D137-$AS$137)/$AT$137,\"\"),\"\"),\"\")","v":""},{"$f":"IF(E137<>\"\",IF($AT$137<>\"\",IF($AT$137>0,(E137-$AS$137)/$AT$137,\"\"),\"\"),\"\")","v":""},"","","","","","","","","","","","","","","","","","","","","","","","","","","","","","","","","","","","","",""]
[null,"Prvá voľba z-skóre",null,{"$f":"IF(D138<>\"\",IF($AT$138<>\"\",IF($AT$138>0,(D138-$AS$138)/$AT$138,\"\"),\"\"),\"\")","v":""},{"$f":"IF(E138<>\"\",IF($AT$138<>\"\",IF($AT$138>0,(E138-$AS$138)/$AT$138,\"\"),\"\"),\"\")","v":""},"","","","","","","","","","","","","","","","","","","","","","","","","","","","","","","","","","","","","",""]
[null,"Druhá voľba  z-skóre",null,{"$f":"IF(D139<>\"\",IF($AT$139<>\"\",IF($AT$139>0,(D139-$AS$139)/$AT$139,\"\"),\"\"),\"\")","v":""},{"$f":"IF(E139<>\"\",IF($AT$139<>\"\",IF($AT$139>0,(E139-$AS$139)/$AT$139,\"\"),\"\"),\"\")","v":""},"","","","","","","","","","","","","","","","","","","","","","","","","","","","","","","","","","","","","",""]
[null,"Tretia voľba  z-skóre",null,{"$f":"IF(D140<>\"\",IF($AT$140<>\"\",IF($AT$140>0,(D140-$AS$140)/$AT$140,\"\"),\"\"),\"\")","v":""},{"$f":"IF(E140<>\"\",IF($AT$140<>\"\",IF($AT$140>0,(E140-$AS$140)/$AT$140,\"\"),\"\"),\"\")","v":""},"","","","","","","","","","","","","","","","","","","","","","","","","","","","","","","","","","","","","",""]
["Q_13","Voľby spolu n","Q",0,0,0,0,0,0,0,0,0,0,0,0,0,0,0,0,0,0,0,0,0,0,0,0,0,0,0,0,null,null,null,null,null,null,null,null,null,null,null,null,{"$f":"SUM(D149:AQ149)","v":0},{"$f":"IF(AR149>0,AVERAGE(D149:AQ149),\"\")","v":""},{"$f":"IF(AR149>0,STDEV(D149:AQ149),\"\")","v":""},{"$f":"MAX(D149:AQ149)","v":0}]
[null,"Prvá voľba n",0,0,0,0,0,0,0,0,0,0,0,0,0,0,0,0,0,0,0,0,0,0,0,0,0,0,0,0,0,null,null,null,null,null,null,null,null,null,null,null,null,{"$f":"SUM(D150:AQ150)","v":0},{"$f":"IF(AR149>0,AVERAGE(D150:AQ150),\"\")","v":""},{"$f":"IF(AR149>0,STDEV(D150:AQ150),\"\")","v":""}]
[null,"Druhá voľba n",0,0,0,0,0,0,0,0,0,0,0,0,0,0,0,0,0,0,0,0,0,0,0,0,0,0,0,0,0,null,null,null,null,null,null,null,null,null,null,null,null,{"$f":"SUM(D151:AQ151)","v":0},{"$f":"IF(AR149>0,AVERAGE(D151:AQ151),\"\")","v":""},{"$f":"IF(AR149>0,STDEV(D151:AQ151),\"\")","v":""}]
[null,"Tretia voľba n",0,0,0,0,0,0,0,0,0,0,0,0,0,0,0,0,0,0,0,0,0,0,0,0,0,0,0,0,0,null,null,null,null,null,null,null,null,null,null,null,null,{"$f":"SUM(D152:AQ152)","v":0},{"$f":"IF(AR149>0,AVERAGE(D152:AQ152),\"\")","v":""},{"$f":"IF(AR149>0,STDEV(D152:AQ152),\"\")","v":""},{"$f":"MAX(D152:AQ152)","v":0}]
[null,"Voľby spolu %",0,0,0,0,0,0,0,0,0,0,0,0,0,0,0,0,0,0,0,0,0,0,0,0,0,0,0,0,0]
[null,"Prvá voľba %",0,0,0,0,0,0,0,0,0,0,0,0,0,0,0,0,0,0,0,0,0,0,0,0,0,0,0,0,0]
[null,"Druhá voľba %",0,0,0,0,0,0,0,0,0,0,0,0,0,0,0,0,0,0,0,0,0,0,0,0,0,0,0,0,0]
[null,"Tretia voľba %",0,0,0,0,0,0,0,0,0,0,0,0,0,0,0,0,0,0,0,0,0,0,0,0,0,0,0,0,0]
["*","Voľby spolu  z-skóre","Q",{"$f":"IF(D149<>\"\",IF($AT$149<>\"\",IF($AT$149>0,(D149-$AS$149)/$AT$149,\"\"),\"\"),\"\")","v":""},{"$f":"IF(E149<>\"\",IF($AT$149<>\"\",IF($AT$149>0,(E149-$AS$149)/$AT$149,\"\"),\"\"),\"\")","v":""},"","","","","","","","","","","","","","","","","","","","","","","","","","","","","","","","","","","","","",""]
[null,"Prvá voľba z-skóre",null,{"$f":"IF(D150<>\"\",IF($AT$150<>\"\",IF($AT$150>0,(D150-$AS$150)/$AT$150,\"\"),\"\"),\"\")","v":""},{"$f":"IF(E150<>\"\",IF($AT$150<>\"\",IF($AT$150>0,(E150-$AS$150)/$AT$150,\"\"),\"\"),\"\")","v":""},"","","","","","","","","","","","","","","","","","","","","","","","","","","","","","","","","","","","","",""]
[null,"Druhá voľba  z-skóre",null,{"$f":"IF(D151<>\"\",IF($AT$151<>\"\",IF($AT$151>0,(D151-$AS$151)/$AT$151,\"\"),\"\"),\"\")","v":""},{"$f":"IF(E151<>\"\",IF($AT$151<>\"\",IF($AT$151>0,(E151-$AS$151)/$AT$151,\"\"),\"\"),\"\")","v":""},"","","","","","","","","","","","","","","","","","","","","","","","","","","","","","","","","","","","","",""]
[null,"Tretia voľba  z-skóre",null,{"$f":"IF(D152<>\"\",IF($AT$152<>\"\",IF($AT$152>0,(D152-$AS$152)/$AT$152,\"\"),\"\"),\"\")","v":""},{"$f":"IF(E152<>\"\",IF($AT$152<>\"\",IF($AT$152>0,(E152-$AS$152)/$AT$152,\"\"),\"\"),\"\")","v":""},"","","","","","","","","","","","","","","","","","","","","","","","","","","","","","","","","","","","","",""]
["Q_14","Voľby spolu n","Q",0,0,0,0,0,0,0,0,0,0,0,0,0,0,0,0,0,0,0,0,0,0,0,0,0,0,0,0,null,null,null,null,null,null,null,null,null,null,null,null,{"$f":"SUM(D161:AQ161)","v":0},{"$f":"IF(AR161>0,AVERAGE(D161:AQ161),\"\")","v":""},{"$f":"IF(AR161>0,STDEV(D161:AQ161),\"\")","v":""},{"$f":"MAX(D161:AQ161)","v":0}]
[null,"Prvá voľba n",0,0,0,0,0,0,0,0,0,0,0,0,0,0,0,0,0,0,0,0,0,0,0,0,0,0,0,0,0,null,null,null,null,null,null,null,null,null,null,null,null,{"$f":"SUM(D162:AQ162)","v":0},{"$f":"IF(AR161>0,AVERAGE(D162:AQ162),\"\")","v":""},{"$f":"IF(AR161>0,STDEV(D162:AQ162),\"\")","v":""}]
[null,"Druhá voľba n",0,0,0,0,0,0,0,0,0,0,0,0,0,0,0,0,0,0,0,0,0,0,0,0,0,0,0,0,0,null,null,null,null,null,null,null,null,null,null,null,null,{"$f":"SUM(D163:AQ163)","v":0},{"$f":"IF(AR161>0,AVERAGE(D163:AQ163),\"\")","v":""},{"$f":"IF(AR161>0,STDEV(D163:AQ163),\"\")","v":""}]
[null,"Tretia voľba n",0,0,0,0,0,0,0,0,0,0,0,0,0,0,0,0,0,0,0,0,0,0,0,0,0,0,0,0,0,null,null,null,null,null,null,null,null,null,null,null,null,{"$f":"SUM(D164:AQ164)","v":0},{"$f":"IF(AR161>0,AVERAGE(D164:AQ164),\"\")","v":""},{"$f":"IF(AR161>0,STDEV(D164:AQ164),\"\")","v":""},{"$f":"MAX(D164:AQ164)","v":0}]
[null,"Voľby spolu %",0,0,0,0,0,0,0,0,0,0,0,0,0,0,0,0,0,0,0,0,0,0,0,0,0,0,0,0,0]
[null,"Prvá voľba %",0,0,0,0,0,0,0,0,0,0,0,0,0,0,0,0,0,0,0,0,0,0,0,0,0,0,0,0,0]
[null,"Druhá voľba %",0,0,0,0,0,0,0,0,0,0,0,0,0,0,0,0,0,0,0,0,0,0,0,0,0,0,0,0,0]
[null,"Tretia voľba %",0,0,0,0,0,0,0,0,0,0,0,0,0,0,0,0,0,0,0,0,0,0,0,0,0,0,0,0,0]
["*","Voľby spolu  z-skóre","Q",{"$f":"IF(D161<>\"\",IF($AT$161<>\"\",IF($AT$161>0,(D161-$AS$161)/$AT$161,\"\"),\"\"),\"\")","v":""},{"$f":"IF(E161<>\"\",IF($AT$161<>\"\",IF($AT$161>0,(E161-$AS$161)/$AT$161,\"\"),\"\"),\"\")","v":""},"","","","","","","","","","","","","","","","","","","","","","","","","","","","","","","","","","","","","",""]
[null,"Prvá voľba z-skóre",null,{"$f":"IF(D162<>\"\",IF($AT$162<>\"\",IF($AT$162>0,(D162-$AS$162)/$AT$162,\"\"),\"\"),\"\")","v":""},{"$f":"IF(E162<>\"\",IF($AT$162<>\"\",IF($AT$162>0,(E162-$AS$162)/$AT$162,\"\"),\"\"),\"\")","v":""},"","","","","","","","","","","","","","","","","","","","","","","","","","","","","","","","","","","","","",""]
[null,"Druhá voľba  z-skóre",null,{"$f":"IF(D163<>\"\",IF($AT$163<>\"\",IF($AT$163>0,(D163-$AS$163)/$AT$163,\"\"),\"\"),\"\")","v":""},{"$f":"IF(E163<>\"\",IF($AT$163<>\"\",IF($AT$163>0,(E163-$AS$163)/$AT$163,\"\"),\"\"),\"\")","v":""},"","","","","","","","","","","","","","","","","","","","","","","","","","","","","","","","","","","","","",""]
[null,"Tretia voľba  z-skóre",null,{"$f":"IF(D164<>\"\",IF($AT$164<>\"\",IF($AT$164>0,(D164-$AS$164)/$AT$164,\"\"),\"\"),\"\")","v":""},{"$f":"IF(E164<>\"\",IF($AT$164<>\"\",IF($AT$164>0,(E164-$AS$164)/$AT$164,\"\"),\"\"),\"\")","v":""},"","","","","","","","","","","","","","","","","","","","","","","","","","","","","","","","","","","","","",""]
["Q_15","Voľby spolu n","Q",0,0,0,0,0,0,0,0,0,0,0,0,0,0,0,0,0,0,0,0,0,0,0,0,0,0,0,0,null,null,null,null,null,null,null,null,null,null,null,null,{"$f":"SUM(D173:AQ173)","v":0},{"$f":"IF(AR173>0,AVERAGE(D173:AQ173),\"\")","v":""},{"$f":"IF(AR173>0,STDEV(D173:AQ173),\"\")","v":""},{"$f":"MAX(D173:AQ173)","v":0}]
[null,"Prvá voľba n",0,0,0,0,0,0,0,0,0,0,0,0,0,0,0,0,0,0,0,0,0,0,0,0,0,0,0,0,0,null,null,null,null,null,null,null,null,null,null,null,null,{"$f":"SUM(D174:AQ174)","v":0},{"$f":"IF(AR173>0,AVERAGE(D174:AQ174),\"\")","v":""},{"$f":"IF(AR173>0,STDEV(D174:AQ174),\"\")","v":""}]
[null,"Druhá voľba n",0,0,0,0,0,0,0,0,0,0,0,0,0,0,0,0,0,0,0,0,0,0,0,0,0,0,0,0,0,null,null,null,null,null,null,null,null,null,null,null,null,{"$f":"SUM(D175:AQ175)","v":0},{"$f":"IF(AR173>0,AVERAGE(D175:AQ175),\"\")","v":""},{"$f":"IF(AR173>0,STDEV(D175:AQ175),\"\")","v":""}]
[null,"Tretia voľba n",0,0,0,0,0,0,0,0,0,0,0,0,0,0,0,0,0,0,0,0,0,0,0,0,0,0,0,0,0,null,null,null,null,null,null,null,null,null,null,null,null,{"$f":"SUM(D176:AQ176)","v":0},{"$f":"IF(AR173>0,AVERAGE(D176:AQ176),\"\")","v":""},{"$f":"IF(AR173>0,STDEV(D176:AQ176),\"\")","v":""},{"$f":"MAX(D176:AQ176)","v":0}]
[null,"Voľby spolu %",0,0,0,0,0,0,0,0,0,0,0,0,0,0,0,0,0,0,0,0,0,0,0,0,0,0,0,0,0]
[null,"Prvá voľba %",0,0,0,0,0,0,0,0,0,0,0,0,0,0,0,0,0,0,0,0,0,0,0,0,0,0,0,0,0]
[null,"Druhá voľba %",0,0,0,0,0,0,0,0,0,0,0,0,0,0,0,0,0,0,0,0,0,0,0,0,0,0,0,0,0]
[null,"Tretia voľba %",0,0,0,0,0,0,0,0,0,0,0,0,0,0,0,0,0,0,0,0,0,0,0,0,0,0,0,0,0]
["*","Voľby spolu  z-skóre","Q",{"$f":"IF(D173<>\"\",IF($AT$173<>\"\",IF($AT$173>0,(D173-$AS$173)/$AT$173,\"\"),\"\"),\"\")","v":""},{"$f":"IF(E173<>\"\",IF($AT$173<>\"\",IF($AT$173>0,(E173-$AS$173)/$AT$173,\"\"),\"\"),\"\")","v":""},"","","","","","","","","","","","","","","","","","","","","","","","","","","","","","","","","","","","","",""]
[null,"Prvá voľba z-skóre",null,{"$f":"IF(D174<>\"\",IF($AT$174<>\"\",IF($AT$174>0,(D174-$AS$174)/$AT$174,\"\"),\"\"),\"\")","v":""},{"$f":"IF(E174<>\"\",IF($AT$174<>\"\",IF($AT$174>0,(E174-$AS$174)/$AT$174,\"\"),\"\"),\"\")","v":""},"","","","","","","","","","","","","","","","","","","","","","","","","","","","","","","","","","","","","",""]
[null,"Druhá voľba  z-skóre",null,{"$f":"IF(D175<>\"\",IF($AT$175<>\"\",IF($AT$175>0,(D175-$AS$175)/$AT$175,\"\"),\"\"),\"\")","v":""},{"$f":"IF(E175<>\"\",IF($AT$175<>\"\",IF($AT$175>0,(E175-$AS$175)/$AT$175,\"\"),\"\"),\"\")","v":""},"","","","","","","","","","","","","","","","","","","","","","","","","","","","","","","","","","","","","",""]
[null,"Tretia voľba  z-skóre",null,{"$f":"IF(D176<>\"\",IF($AT$176<>\"\",IF($AT$176>0,(D176-$AS$176)/$AT$176,\"\"),\"\"),\"\")","v":""},{"$f":"IF(E176<>\"\",IF($AT$176<>\"\",IF($AT$176>0,(E176-$AS$176)/$AT$176,\"\"),\"\"),\"\")","v":""},"","","","","","","","","","","","","","","","","","","","","","","","","","","","","","","","","","","","","",""]
["Q_16","Voľby spolu n","Q",0,0,0,0,0,0,0,0,0,0,0,0,0,0,0,0,0,0,0,0,0,0,0,0,0,0,0,0,null,null,null,null,null,null,null,null,null,null,null,null,{"$f":"SUM(D185:AQ185)","v":0},{"$f":"IF(AR185>0,AVERAGE(D185:AQ185),\"\")","v":""},{"$f":"IF(AR185>0,STDEV(D185:AQ185),\"\")","v":""},{"$f":"MAX(D185:AQ185)","v":0}]
[null,"Prvá voľba n",0,0,0,0,0,0,0,0,0,0,0,0,0,0,0,0,0,0,0,0,0,0,0,0,0,0,0,0,0,null,null,null,null,null,null,null,null,null,null,null,null,{"$f":"SUM(D186:AQ186)","v":0},{"$f":"IF(AR185>0,AVERAGE(D186:AQ186),\"\")","v":""},{"$f":"IF(AR185>0,STDEV(D186:AQ186),\"\")","v":""}]
[null,"Druhá voľba n",0,0,0,0,0,0,0,0,0,0,0,0,0,0,0,0,0,0,0,0,0,0,0,0,0,0,0,0,0,null,null,null,null,null,null,null,null,null,null,null,null,{"$f":"SUM(D187:AQ187)","v":0},{"$f":"IF(AR185>0,AVERAGE(D187:AQ187),\"\")","v":""},{"$f":"IF(AR185>0,STDEV(D187:AQ187),\"\")","v":""}]
[null,"Tretia voľba n",0,0,0,0,0,0,0,0,0,0,0,0,0,0,0,0,0,0,0,0,0,0,0,0,0,0,0,0,0,null,null,null,null,null,null,null,null,null,null,null,null,{"$f":"SUM(D188:AQ188)","v":0},{"$f":"IF(AR185>0,AVERAGE(D188:AQ188),\"\")","v":""},{"$f":"IF(AR185>0,STDEV(D188:AQ188),\"\")","v":""},{"$f":"MAX(D188:AQ188)","v":0}]
[null,"Voľby spolu %",0,0,0,0,0,0,0,0,0,0,0,0,0,0,0,0,0,0,0,0,0,0,0,0,0,0,0,0,0]
[null,"Prvá voľba %",0,0,0,0,0,0,0,0,0,0,0,0,0,0,0,0,0,0,0,0,0,0,0,0,0,0,0,0,0]
[null,"Druhá voľba %",0,0,0,0,0,0,0,0,0,0,0,0,0,0,0,0,0,0,0,0,0,0,0,0,0,0,0,0,0]
[null,"Tretia voľba %",0,0,0,0,0,0,0,0,0,0,0,0,0,0,0,0,0,0,0,0,0,0,0,0,0,0,0,0,0]
["*","Voľby spolu  z-skóre","Q",{"$f":"IF(D185<>\"\",IF($AT185<>\"\",IF($AT185>0,(D185-$AS185)/$AT185,\"\"),\"\"),\"\")","v":""},{"$f":"IF(E185<>\"\",IF(E185<>0,IF($AT$5>0,(E185-$AS$5)/$AT$5,\"\"),\"\"),\"\")","v":""},"","","","","","","","","","","","","","","","","","","","","","","","","","","","","","","","","","","","","",""]
[null,"Prvá voľba z-skóre",null,{"$f":"IF(D186<>\"\",IF($AT186<>\"\",IF($AT186>0,(D186-$AS186)/$AT186,\"\"),\"\"),\"\")","v":""},{"$f":"IF(E186<>\"\",IF(E186<>0,IF($AT$6>0,(E186-$AS$6)/$AT$6,\"\"),\"\"),\"\")","v":""},"","","","","","","","","","","","","","","","","","","","","","","","","","","","","","","","","","","","","",""]
[null,"Druhá voľba  z-skóre",null,{"$f":"IF(D187<>\"\",IF($AT187<>\"\",IF($AT187>0,(D187-$AS187)/$AT187,\"\"),\"\"),\"\")","v":""},{"$f":"IF(E187<>\"\",IF(E187<>0,IF($AT$7>0,(E187-$AS$7)/$AT$7,\"\"),\"\"),\"\")","v":""},"","","","","","","","","","","","","","","","","","","","","","","","","","","","","","","","","","","","","",""]
[null,"Tretia voľba  z-skóre",null,{"$f":"IF(D188<>\"\",IF($AT188<>\"\",IF($AT188>0,(D188-$AS188)/$AT188,\"\"),\"\"),\"\")","v":""},{"$f":"IF(E188<>\"\",IF(E188<>0,IF($AT$8>0,(E188-$AS$8)/$AT$8,\"\"),\"\"),\"\")","v":""},"","","","","","","","","","","","","","","","","","","","","","","","","","","","","","","","","","","","","",""]
["Q_17","Voľby spolu n","Q",0,0,0,0,0,0,0,0,0,0,0,0,0,0,0,0,0,0,0,0,0,0,0,0,0,0,0,0,null,null,null,null,null,null,null,null,null,null,null,null,{"$f":"SUM(D197:AQ197)","v":0},{"$f":"IF(AR197>0,AVERAGE(D197:AQ197),\"\")","v":""},{"$f":"IF(AR197>0,STDEV(D197:AQ197),\"\")","v":""},{"$f":"MAX(D197:AQ197)","v":0}]
[null,"Prvá voľba n",0,0,0,0,0,0,0,0,0,0,0,0,0,0,0,0,0,0,0,0,0,0,0,0,0,0,0,0,0,null,null,null,null,null,null,null,null,null,null,null,null,{"$f":"SUM(D198:AQ198)","v":0},{"$f":"IF(AR197>0,AVERAGE(D198:AQ198),\"\")","v":""},{"$f":"IF(AR197>0,STDEV(D198:AQ198),\"\")","v":""}]
[null,"Druhá voľba n",0,0,0,0,0,0,0,0,0,0,0,0,0,0,0,0,0,0,0,0,0,0,0,0,0,0,0,0,0,null,null,null,null,null,null,null,null,null,null,null,null,{"$f":"SUM(D199:AQ199)","v":0},{"$f":"IF(AR197>0,AVERAGE(D199:AQ199),\"\")","v":""},{"$f":"IF(AR197>0,STDEV(D199:AQ199),\"\")","v":""}]
[null,"Tretia voľba n",0,0,0,0,0,0,0,0,0,0,0,0,0,0,0,0,0,0,0,0,0,0,0,0,0,0,0,0,0,null,null,null,null,null,null,null,null,null,null,null,null,{"$f":"SUM(D200:AQ200)","v":0},{"$f":"IF(AR197>0,AVERAGE(D200:AQ200),\"\")","v":""},{"$f":"IF(AR197>0,STDEV(D200:AQ200),\"\")","v":""},{"$f":"MAX(D200:AQ200)","v":0}]
[null,"Voľby spolu %",0,0,0,0,0,0,0,0,0,0,0,0,0,0,0,0,0,0,0,0,0,0,0,0,0,0,0,0,0]
[null,"Prvá voľba %",0,0,0,0,0,0,0,0,0,0,0,0,0,0,0,0,0,0,0,0,0,0,0,0,0,0,0,0,0]
[null,"Druhá voľba %",0,0,0,0,0,0,0,0,0,0,0,0,0,0,0,0,0,0,0,0,0,0,0,0,0,0,0,0,0]
[null,"Tretia voľba %",0,0,0,0,0,0,0,0,0,0,0,0,0,0,0,0,0,0,0,0,0,0,0,0,0,0,0,0,0]
["*","Voľby spolu  z-skóre","Q",{"$f":"IF(D197<>\"\",IF($AT$197<>\"\",IF($AT$197>0,(D197-$AS$197)/$AT$197,\"\"),\"\"),\"\")","v":""},{"$f":"IF(E197<>\"\",IF($AT$197<>\"\",IF($AT$197>0,(E197-$AS$197)/$AT$197,\"\"),\"\"),\"\")","v":""},"","","","","","","","","","","","","","","","","","","","","","","","","","","","","","","","","","","","","",""]
[null,"Prvá voľba z-skóre",null,{"$f":"IF(D198<>\"\",IF($AT$198<>\"\",IF($AT$198>0,(D198-$AS$198)/$AT$198,\"\"),\"\"),\"\")","v":""},{"$f":"IF(E198<>\"\",IF($AT$198<>\"\",IF($AT$198>0,(E198-$AS$198)/$AT$198,\"\"),\"\"),\"\")","v":""},"","","","","","","","","","","","","","","","","","","","","","","","","","","","","","","","","","","","","",""]
[null,"Druhá voľba  z-skóre",null,{"$f":"IF(D199<>\"\",IF($AT$199<>\"\",IF($AT$199>0,(D199-$AS$199)/$AT$199,\"\"),\"\"),\"\")","v":""},{"$f":"IF(E199<>\"\",IF($AT$199<>\"\",IF($AT$199>0,(E199-$AS$199)/$AT$199,\"\"),\"\"),\"\")","v":""},"","","","","","","","","","","","","","","","","","","","","","","","","","","","","","","","","","","","","",""]
[null,"Tretia voľba  z-skóre",null,{"$f":"IF(D200<>\"\",IF($AT$200<>\"\",IF($AT$200>0,(D200-$AS$200)/$AT$200,\"\"),\"\"),\"\")","v":""},{"$f":"IF(E200<>\"\",IF($AT$200<>\"\",IF($AT$200>0,(E200-$AS$200)/$AT$200,\"\"),\"\"),\"\")","v":""},"","","","","","","","","","","","","","","","","","","","","","","","","","","","","","","","","","","","","",""]
["Q_18","Voľby spolu n","Q",0,0,0,0,0,0,0,0,0,0,0,0,0,0,0,0,0,0,0,0,0,0,0,0,0,0,0,0,null,null,null,null,null,null,null,null,null,null,null,null,{"$f":"SUM(D209:AQ209)","v":0},{"$f":"IF(AR209>0,AVERAGE(D209:AQ209),\"\")","v":""},{"$f":"IF(AR209>0,STDEV(D209:AQ209),\"\")","v":""},{"$f":"MAX(D209:AQ209)","v":0}]
[null,"Prvá voľba n",0,0,0,0,0,0,0,0,0,0,0,0,0,0,0,0,0,0,0,0,0,0,0,0,0,0,0,0,0,null,null,null,null,null,null,null,null,null,null,null,null,{"$f":"SUM(D210:AQ210)","v":0},{"$f":"IF(AR209>0,AVERAGE(D210:AQ210),\"\")","v":""},{"$f":"IF(AR209>0,STDEV(D210:AQ210),\"\")","v":""}]
[null,"Druhá voľba n",0,0,0,0,0,0,0,0,0,0,0,0,0,0,0,0,0,0,0,0,0,0,0,0,0,0,0,0,0,null,null,null,null,null,null,null,null,null,null,null,null,{"$f":"SUM(D211:AQ211)","v":0},{"$f":"IF(AR209>0,AVERAGE(D211:AQ211),\"\")","v":""},{"$f":"IF(AR209>0,STDEV(D211:AQ211),\"\")","v":""}]
[null,"Tretia voľba n",0,0,0,0,0,0,0,0,0,0,0,0,0,0,0,0,0,0,0,0,0,0,0,0,0,0,0,0,0,null,null,null,null,null,null,null,null,null,null,null,null,{"$f":"SUM(D212:AQ212)","v":0},{"$f":"IF(AR209>0,AVERAGE(D212:AQ212),\"\")","v":""},{"$f":"IF(AR209>0,STDEV(D212:AQ212),\"\")","v":""},{"$f":"MAX(D212:AQ212)","v":0}]
[null,"Voľby spolu %",0,0,0,0,0,0,0,0,0,0,0,0,0,0,0,0,0,0,0,0,0,0,0,0,0,0,0,0,0]
[null,"Prvá voľba %",0,0,0,0,0,0,0,0,0,0,0,0,0,0,0,0,0,0,0,0,0,0,0,0,0,0,0,0,0]
[null,"Druhá voľba %",0,0,0,0,0,0,0,0,0,0,0,0,0,0,0,0,0,0,0,0,0,0,0,0,0,0,0,0,0]
[null,"Tretia voľba %",0,0,0,0,0,0,0,0,0,0,0,0,0,0,0,0,0,0,0,0,0,0,0,0,0,0,0,0,0]
["*","Voľby spolu  z-skóre","Q",{"$f":"IF(D209<>\"\",IF($AT$209<>\"\",IF($AT$209>0,(D209-$AS$209)/$AT$209,\"\"),\"\"),\"\")","v":""},{"$f":"IF(E209<>\"\",IF($AT$209<>\"\",IF($AT$209>0,(E209-$AS$209)/$AT$209,\"\"),\"\"),\"\")","v":""},"","","","","","","","","","","","","","","","","","","","","","","","","","","","","","","","","","","","","",""]
[null,"Prvá voľba z-skóre",null,{"$f":"IF(D210<>\"\",IF($AT$210<>\"\",IF($AT$210>0,(D210-$AS$210)/$AT$210,\"\"),\"\"),\"\")","v":""},{"$f":"IF(E210<>\"\",IF($AT$210<>\"\",IF($AT$210>0,(E210-$AS$210)/$AT$210,\"\"),\"\"),\"\")","v":""},"","","","","","","","","","","","","","","","","","","","","","","","","","","","","","","","","","","","","",""]
[null,"Druhá voľba  z-skóre",null,{"$f":"IF(D211<>\"\",IF($AT$211<>\"\",IF($AT$211>0,(D211-$AS$211)/$AT$211,\"\"),\"\"),\"\")","v":""},{"$f":"IF(E211<>\"\",IF($AT$211<>\"\",IF($AT$211>0,(E211-$AS$211)/$AT$211,\"\"),\"\"),\"\")","v":""},"","","","","","","","","","","","","","","","","","","","","","","","","","","","","","","","","","","","","",""]
[null,"Tretia voľba  z-skóre",null,{"$f":"IF(D212<>\"\",IF($AT$212<>\"\",IF($AT$212>0,(D212-$AS$212)/$AT$212,\"\"),\"\"),\"\")","v":""},{"$f":"IF(E212<>\"\",IF($AT$212<>\"\",IF($AT$212>0,(E212-$AS$212)/$AT$212,\"\"),\"\"),\"\")","v":""},"","","","","","","","","","","","","","","","","","","","","","","","","","","","","","","","","","","","","",""]
["Q_19","Voľby spolu n","Q",0,0,0,0,0,0,0,0,0,0,0,0,0,0,0,0,0,0,0,0,0,0,0,0,0,0,0,0,null,null,null,null,null,null,null,null,null,null,null,null,{"$f":"SUM(D221:AQ221)","v":0},{"$f":"IF(AR221>0,AVERAGE(D221:AQ221),\"\")","v":""},{"$f":"IF(AR221>0,STDEV(D221:AQ221),\"\")","v":""},{"$f":"MAX(D221:AQ221)","v":0}]
[null,"Prvá voľba n",0,0,0,0,0,0,0,0,0,0,0,0,0,0,0,0,0,0,0,0,0,0,0,0,0,0,0,0,0,null,null,null,null,null,null,null,null,null,null,null,null,{"$f":"SUM(D222:AQ222)","v":0},{"$f":"IF(AR221>0,AVERAGE(D222:AQ222),\"\")","v":""},{"$f":"IF(AR221>0,STDEV(D222:AQ222),\"\")","v":""}]
[null,"Druhá voľba n",0,0,0,0,0,0,0,0,0,0,0,0,0,0,0,0,0,0,0,0,0,0,0,0,0,0,0,0,0,null,null,null,null,null,null,null,null,null,null,null,null,{"$f":"SUM(D223:AQ223)","v":0},{"$f":"IF(AR221>0,AVERAGE(D223:AQ223),\"\")","v":""},{"$f":"IF(AR221>0,STDEV(D223:AQ223),\"\")","v":""}]
[null,"Tretia voľba n",0,0,0,0,0,0,0,0,0,0,0,0,0,0,0,0,0,0,0,0,0,0,0,0,0,0,0,0,0,null,null,null,null,null,null,null,null,null,null,null,null,{"$f":"SUM(D224:AQ224)","v":0},{"$f":"IF(AR221>0,AVERAGE(D224:AQ224),\"\")","v":""},{"$f":"IF(AR221>0,STDEV(D224:AQ224),\"\")","v":""},{"$f":"MAX(D224:AQ224)","v":0}]
[null,"Voľby spolu %",0,0,0,0,0,0,0,0,0,0,0,0,0,0,0,0,0,0,0,0,0,0,0,0,0,0,0,0,0]
[null,"Prvá voľba %",0,0,0,0,0,0,0,0,0,0,0,0,0,0,0,0,0,0,0,0,0,0,0,0,0,0,0,0,0]
[null,"Druhá voľba %",0,0,0,0,0,0,0,0,0,0,0,0,0,0,0,0,0,0,0,0,0,0,0,0,0,0,0,0,0]
[null,"Tretia voľba %",0,0,0,0,0,0,0,0,0,0,0,0,0,0,0,0,0,0,0,0,0,0,0,0,0,0,0,0,0]
["*","Voľby spolu  z-skóre","Q",{"$f":"IF(D221<>\"\",IF($AT$221<>\"\",IF($AT$221>0,(D221-$AS$221)/$AT$221,\"\"),\"\"),\"\")","v":""},{"$f":"IF(E221<>\"\",IF($AT$221<>\"\",IF($AT$221>0,(E221-$AS$221)/$AT$221,\"\"),\"\"),\"\")","v":""},"","","","","","","","","","","","","","","","","","","","","","","","","","","","","","","","","","","","","",""]
[null,"Prvá voľba z-skóre",null,{"$f":"IF(D222<>\"\",IF($AT$222<>\"\",IF($AT$222>0,(D222-$AS$222)/$AT$222,\"\"),\"\"),\"\")","v":""},{"$f":"IF(E222<>\"\",IF($AT$222<>\"\",IF($AT$222>0,(E222-$AS$222)/$AT$222,\"\"),\"\"),\"\")","v":""},"","","","","","","","","","","","","","","","","","","","","","","","","","","","","","","","","","","","","",""]
[null,"Druhá voľba  z-skóre",null,{"$f":"IF(D223<>\"\",IF($AT$223<>\"\",IF($AT$223>0,(D223-$AS$223)/$AT$223,\"\"),\"\"),\"\")","v":""},{"$f":"IF(E223<>\"\",IF($AT$223<>\"\",IF($AT$223>0,(E223-$AS$223)/$AT$223,\"\"),\"\"),\"\")","v":""},"","","","","","","","","","","","","","","","","","","","","","","","","","","","","","","","","","","","","",""]
[null,"Tretia voľba  z-skóre",null,{"$f":"IF(D224<>\"\",IF($AT$224<>\"\",IF($AT$224>0,(D224-$AS$224)/$AT$224,\"\"),\"\"),\"\")","v":""},{"$f":"IF(E224<>\"\",IF($AT$224<>\"\",IF($AT$224>0,(E224-$AS$224)/$AT$224,\"\"),\"\"),\"\")","v":""},"","","","","","","","","","","","","","","","","","","","","","","","","","","","","","","","","","","","","",""]
["Q_20","Voľby spolu n","Q",0,0,0,0,0,0,0,0,0,0,0,0,0,0,0,0,0,0,0,0,0,0,0,0,0,0,0,0,null,null,null,null,null,null,null,null,null,null,null,null,{"$f":"SUM(D233:AQ233)","v":0},{"$f":"IF(AR233>0,AVERAGE(D233:AQ233),\"\")","v":""},{"$f":"IF(AR233>0,STDEV(D233:AQ233),\"\")","v":""},{"$f":"MAX(D233:AQ233)","v":0}]
[null,"Prvá voľba n",0,0,0,0,0,0,0,0,0,0,0,0,0,0,0,0,0,0,0,0,0,0,0,0,0,0,0,0,0,null,null,null,null,null,null,null,null,null,null,null,null,{"$f":"SUM(D234:AQ234)","v":0},{"$f":"IF(AR233>0,AVERAGE(D234:AQ234),\"\")","v":""},{"$f":"IF(AR233>0,STDEV(D234:AQ234),\"\")","v":""}]
[null,"Druhá voľba n",0,0,0,0,0,0,0,0,0,0,0,0,0,0,0,0,0,0,0,0,0,0,0,0,0,0,0,0,0,null,null,null,null,null,null,null,null,null,null,null,null,{"$f":"SUM(D235:AQ235)","v":0},{"$f":"IF(AR233>0,AVERAGE(D235:AQ235),\"\")","v":""},{"$f":"IF(AR233>0,STDEV(D235:AQ235),\"\")","v":""}]
[null,"Tretia voľba n",0,0,0,0,0,0,0,0,0,0,0,0,0,0,0,0,0,0,0,0,0,0,0,0,0,0,0,0,0,null,null,null,null,null,null,null,null,null,null,null,null,{"$f":"SUM(D236:AQ236)","v":0},{"$f":"IF(AR233>0,AVERAGE(D236:AQ236),\"\")","v":""},{"$f":"IF(AR233>0,STDEV(D236:AQ236),\"\")","v":""},{"$f":"MAX(D236:AQ236)","v":0}]
[null,"Voľby spolu %",0,0,0,0,0,0,0,0,0,0,0,0,0,0,0,0,0,0,0,0,0,0,0,0,0,0,0,0,0]
[null,"Prvá voľba %",0,0,0,0,0,0,0,0,0,0,0,0,0,0,0,0,0,0,0,0,0,0,0,0,0,0,0,0,0]
[null,"Druhá voľba %",0,0,0,0,0,0,0,0,0,0,0,0,0,0,0,0,0,0,0,0,0,0,0,0,0,0,0,0,0]
[null,"Tretia voľba %",0,0,0,0,0,0,0,0,0,0,0,0,0,0,0,0,0,0,0,0,0,0,0,0,0,0,0,0,0]
["*","Voľby spolu  z-skóre","Q",{"$f":"IF(D233<>\"\",IF($AT$233<>\"\",IF($AT$233>0,(D233-$AS$233)/$AT$233,\"\"),\"\"),\"\")","v":""},{"$f":"IF(E233<>\"\",IF($AT$233<>\"\",IF($AT$233>0,(E233-$AS$233)/$AT$233,\"\"),\"\"),\"\")","v":""},"","","","","","","","","","","","","","","","","","","","","","","","","","","","","","","","","","","","","",""]
[null,"Prvá voľba z-skóre",null,{"$f":"IF(D234<>\"\",IF($AT$234<>\"\",IF($AT$234>0,(D234-$AS$234)/$AT$234,\"\"),\"\"),\"\")","v":""},{"$f":"IF(E234<>\"\",IF($AT$234<>\"\",IF($AT$234>0,(E234-$AS$234)/$AT$234,\"\"),\"\"),\"\")","v":""},"","","","","","","","","","","","","","","","","","","","","","","","","","","","","","","","","","","","","",""]
[null,"Druhá voľba  z-skóre",null,{"$f":"IF(D235<>\"\",IF($AT$235<>\"\",IF($AT$235>0,(D235-$AS$235)/$AT$235,\"\"),\"\"),\"\")","v":""},{"$f":"IF(E235<>\"\",IF($AT$235<>\"\",IF($AT$235>0,(E235-$AS$235)/$AT$235,\"\"),\"\"),\"\")","v":""},"","","","","","","","","","","","","","","","","","","","","","","","","","","","","","","","","","","","","",""]
[null,"Tretia voľba  z-skóre",null,{"$f":"IF(D236<>\"\",IF($AT$236<>\"\",IF($AT$236>0,(D236-$AS$236)/$AT$236,\"\"),\"\"),\"\")","v":""},{"$f":"IF(E236<>\"\",IF($AT$236<>\"\",IF($AT$236>0,(E236-$AS$236)/$AT$236,\"\"),\"\"),\"\")","v":""},"","","","","","","","","","","","","","","","","","","","","","","","","","","","","","","","","","","","","",""]
[]
["Otázky P","Pozitívne konotácie"]
[null,"Sumy",null,null,null,null,null,null,null,null,null,null,null,null,null,null,null,null,null,null,null,null,null,null,null,null,null,null,null,null,null,null,null,null,null,null,null,null,null,null,null,null,null,"Suma","AM","SD"]
["Tri voľby spolu","Suma volieb všetky otázky",null,6,0,7,3,13,3,21,16,31,6,12,9,4,8,11,6,1,21,9,11,10,12,69,6,33,19,25,31,null,null,null,null,null,null,null,null,null,null,null,null,{"$f":"SUM(D248:AQ248)","v":403},{"$f":"IF(AR248>0,AVERAGE(D248:AQ248),\"\")","v":14.392857142857142},{"$f":"IF(AR248>0,STDEV(D248:AQ248),\"\")","v":14.074771982139048}]
["Prvá voľba","Suma volieb všetky otázky",null,4,0,1,0,5,1,4,8,7,2,4,0,2,6,5,1,1,9,2,2,3,3,29,4,11,4,8,9,null,null,null,null,null,null,null,null,null,null,null,null,{"$f":"SUM(D249:AQ249)","v":135},{"$f":"IF(AR249>0,AVERAGE(D249:AQ249),\"\")","v":4.8214285714285712},{"$f":"IF(AR249>0,STDEV(D249:AQ249),\"\")","v":5.6243753327456627}]
["Druhá voľba","Suma volieb všetky otázky",null,1,0,4,2,3,1,6,3,13,1,7,4,1,1,2,3,0,6,3,6,3,2,18,2,14,11,8,9,null,null,null,null,null,null,null,null,null,null,null,null,{"$f":"SUM(D250:AQ250)","v":134},{"$f":"IF(AR250>0,AVERAGE(D250:AQ250),\"\")","v":4.7857142857142856},{"$f":"IF(AR250>0,STDEV(D250:AQ250),\"\")","v":4.5894980186826606}]
["Tretia voľba","Suma volieb všetky otázky",null,1,0,2,1,5,1,11,5,11,3,1,5,1,1,4,2,0,6,4,3,4,7,22,0,8,4,9,13,null,null,null,null,null,null,null,null,null,null,null,null,{"$f":"SUM(D251:AQ251)","v":134},{"$f":"IF(AR251>0,AVERAGE(D251:AQ251),\"\")","v":4.7857142857142856},{"$f":"IF(AR251>0,STDEV(D251:AQ251),\"\")","v":4.9242945940182388}]
[null,"z-skóre"]
["Tri voľby spolu","z-skóre Suma všetky otázky",null,{"$f":"IF($AT$248<>\"\",IF(D248<>\"\",((D248-$AS$248)/$AT$248),\"\"),\"\")","v":-0.59630501677097991},{"$f":"IF($AT$248<>\"\",IF(E248<>\"\",((E248-$AS$248)/$AT$248),\"\"),\"\")","v":-1.0225996670583186},-0.52525590838975678,-0.80945234191464932,-9.8961258102417904E-2,-0.80945234191464932,0.46943160894736718,0.1141860670412515,1.1799226927595985,-0.59630501677097991,-0.17001036648364104,-0.38315769162731045,-0.73840323353342618,-0.45420680000853358,-0.24105947486486418,-0.59630501677097991,-0.95155055867709559,0.46943160894736718,-0.38315769162731045,-0.24105947486486418,-0.31210858324608731,-0.17001036648364104,3.8797888112460779,-0.59630501677097991,1.3220209095220448,0.32733339218492091,0.75362804247225978,1.1799226927595985,"","","","","","","","","","","",""]
["Prvá voľba","z-skóre Suma všetky otázky",null,{"$f":"IF($AT$249<>\"\",IF(D249<>\"\",((D249-$AS$249)/$AT$249),\"\"),\"\")","v":-0.14604796494397054},{"$f":"IF($AT$249<>\"\",IF(E249<>\"\",((E249-$AS$249)/$AT$249),\"\"),\"\")","v":-0.85723805510591422},-0.67944053256542836,-0.85723805510591422,3.174955759651539E-2,-0.67944053256542836,-0.14604796494397054,0.56514212521797313,0.38734460267748727,-0.50164301002494238,-0.14604796494397054,-0.85723805510591422,-0.50164301002494238,0.20954708013700132,3.174955759651539E-2,-0.67944053256542836,-0.67944053256542836,0.74293964775845911,-0.50164301002494238,-0.50164301002494238,-0.32384548748445646,-0.32384548748445646,4.2988900985681777,-0.14604796494397054,1.0985346928394311,-0.14604796494397054,0.56514212521797313,0.74293964775845911,"","","","","","","","","","","",""]
["Druhá voľba","z-skóre Suma všetky otázky",null,{"$f":"IF($AT$250<>\"\",IF(D250<>\"\",((D250-$AS$250)/$AT$250),\"\"),\"\")","v":-0.82486456477453984},{"$f":"IF($AT$250<>\"\",IF(E250<>\"\",((E250-$AS$250)/$AT$250),\"\"),\"\")","v":-1.0427533177338522},-0.17119830589660257,-0.60697581181522742,-0.38908705885591499,-0.82486456477453984,0.26457920002202223,-0.38908705885591499,1.7898004707372093,-0.82486456477453984,0.48246795298133466,-0.17119830589660257,-0.82486456477453984,-0.82486456477453984,-0.60697581181522742,-0.38908705885591499,-1.0427533177338522,0.26457920002202223,-0.38908705885591499,0.26457920002202223,-0.38908705885591499,-0.60697581181522742,2.8792442355337715,-0.60697581181522742,2.0076892236965218,1.3540229648185842,0.70035670594064703,0.91824545889995945,"","","","","","","","","","","",""]
["Tretia voľba","z-skóre Suma všetky otázky",null,{"$f":"IF($AT$251<>\"\",IF(D251<>\"\",((D251-$AS$251)/$AT$251),\"\"),\"\")","v":-0.76878306393629703},{"$f":"IF($AT$251<>\"\",IF(E251<>\"\",((E251-$AS$251)/$AT$251),\"\"),\"\")","v":-0.97185783554211136},-0.5657082923304827,-0.76878306393629703,4.3516022486960237E-2,-0.76878306393629703,1.2619646521218462,4.3516022486960237E-2,1.2619646521218462,-0.36263352072466842,-0.76878306393629703,4.3516022486960237E-2,-0.76878306393629703,-0.76878306393629703,-0.15955874911885409,-0.5657082923304827,-0.97185783554211136,0.24659079409277457,-0.15955874911885409,-0.36263352072466842,-0.15955874911885409,0.4496655656985889,3.4957871397858038,-0.97185783554211136,0.65274033730440317,-0.15955874911885409,0.8558151089102175,1.668114195333475,"","","","","","","","","","","",""]
[]
[]
["Otázky N","Negatívne konotácie"]
[null,"Sumy",null,null,null,null,null,null,null,null,null,null,null,null,null,null,null,null,null,null,null,null,null,null,null,null,null,null,null,null,null,null,null,null,null,null,null,null,null,null,null,null,null,"Suma","AM","SD"]
["Tri voľby spolu","Suma volieb všetky otázky",null,3,65,2,34,15,85,4,6,0,89,2,12,1,0,5,8,9,4,3,6,4,6,8,11,7,0,15,0,null,null,null,null,null,null,null,null,null,null,null,null,{"$f":"SUM(D261:AQ261)","v":404},{"$f":"IF(AR261>0,AVERAGE(D261:AQ261),\"\")","v":14.428571428571429},{"$f":"IF(AR261>0,STDEV(D261:AQ261),\"\")","v":24.250893181609211}]
["Prvá voľba","Suma volieb všetky otázky",null,0,28,1,6,5,38,0,1,0,24,0,1,0,0,0,3,4,0,1,0,2,5,4,5,0,0,7,0,null,null,null,null,null,null,null,null,null,null,null,null,{"$f":"SUM(D262:AQ262)","v":135},{"$f":"IF(AR262>0,AVERAGE(D262:AQ262),\"\")","v":4.8214285714285712},{"$f":"IF(AR262>0,STDEV(D262:AQ262),\"\")","v":9.3533656902448623}]
["Druhá voľba","Suma volieb všetky otázky",null,1,11,1,14,5,30,2,2,0,39,1,3,1,0,2,2,1,2,1,3,2,0,0,1,5,0,6,0,null,null,null,null,null,null,null,null,null,null,null,null,{"$f":"SUM(D263:AQ263)","v":135},{"$f":"IF(AR263>0,AVERAGE(D263:AQ263),\"\")","v":4.8214285714285712},{"$f":"IF(AR263>0,STDEV(D263:AQ263),\"\")","v":9.0719493247187266}]
["Tretia voľba","Suma volieb všetky otázky",null,2,26,0,14,5,17,2,3,0,26,1,8,0,0,3,3,4,2,1,3,0,1,4,5,2,0,2,0,null,null,null,null,null,null,null,null,null,null,null,null,{"$f":"SUM(D264:AQ264)","v":134},{"$f":"IF(AR264>0,AVERAGE(D264:AQ264),\"\")","v":4.7857142857142856},{"$f":"IF(AR264>0,STDEV(D264:AQ264),\"\")","v":7.2026597086289508}]
[null,"z-skóre"]
["Tri voľby spolu","z-skóre Suma všetky otázky",null,{"$f":"IF($AT$261<>\"\",IF(D261<>\"\",((D261-$AS$261)/$AT$261),\"\"),\"\")","v":-0.47126393832118085},{"$f":"IF($AT$261<>\"\",IF(E261<>\"\",((E261-$AS$261)/$AT$261),\"\"),\"\")","v":2.0853429270712254},-0.51249953292428418,0.80703949437502209,2.3563196916059032E-2,2.9100548191332916,-0.43002834371807752,-0.34755715451187091,-0.59497072213049085,3.0749971975457049,-0.51249953292428418,-0.10014358689325094,-0.55373512752738752,-0.59497072213049085,-0.38879274911497425,-0.26508596530566425,-0.22385037070256092,-0.43002834371807752,-0.47126393832118085,-0.34755715451187091,-0.43002834371807752,-0.34755715451187091,-0.26508596530566425,-0.14137918149635426,-0.30632155990876758,-0.59497072213049085,2.3563196916059032E-2,-0.59497072213049085,"","","","","","","","","","","",""]
["Prvá voľba","z-skóre Suma všetky otázky",null,{"$f":"IF($AT$262<>\"\",IF(D262<>\"\",((D262-$AS$262)/$AT$262),\"\"),\"\")","v":-0.51547525576350584},{"$f":"IF($AT$262<>\"\",IF(E262<>\"\",((E262-$AS$262)/$AT$262),\"\"),\"\")","v":2.4780995628927065},-0.40856186938292688,0.12600506251996815,1.9091676139389134E-2,3.5472334266984964,-0.51547525576350584,-0.40856186938292688,-0.51547525576350584,2.0504460173703905,-0.51547525576350584,-0.40856186938292688,-0.51547525576350584,-0.51547525576350584,-0.51547525576350584,-0.19473509662176888,-8.7821710241189871E-2,-0.51547525576350584,-0.40856186938292688,-0.51547525576350584,-0.30164848300234787,1.9091676139389134E-2,-8.7821710241189871E-2,1.9091676139389134E-2,-0.51547525576350584,-0.51547525576350584,0.23291844890054714,-0.51547525576350584,"","","","","","","","","","","",""]
["Druhá voľba","z-skóre Suma všetky otázky",null,{"$f":"IF($AT$263<>\"\",IF(D263<>\"\",((D263-$AS$263)/$AT$263),\"\"),\"\")","v":-0.42123566111818572},{"$f":"IF($AT$263<>\"\",IF(E263<>\"\",((E263-$AS$263)/$AT$263),\"\"),\"\")","v":0.68106326517239379},-0.42123566111818572,1.0117529430595675,1.9683909398046089E-2,2.7754312251244948,-0.31100576848912775,-0.31100576848912775,-0.53146555374724369,3.7675002587860167,-0.42123566111818572,-0.20077587586006981,-0.42123566111818572,-0.53146555374724369,-0.31100576848912775,-0.31100576848912775,-0.42123566111818572,-0.31100576848912775,-0.42123566111818572,-0.20077587586006981,-0.31100576848912775,-0.53146555374724369,-0.53146555374724369,-0.42123566111818572,1.9683909398046089E-2,-0.53146555374724369,0.12991380202710404,-0.53146555374724369,"","","","","","","","","","","",""]
["Tretia voľba","z-skóre Suma všetky otázky",null,{"$f":"IF($AT$264<>\"\",IF(D264<>\"\",((D264-$AS$264)/$AT$264),\"\"),\"\")","v":-0.3867618905245428},{"$f":"IF($AT$264<>\"\",IF(E264<>\"\",((E264-$AS$264)/$AT$264),\"\"),\"\")","v":2.9453405509176722},-0.66443709397806072,1.2792893301965649,2.9750914655734081E-2,1.6958021353768418,-0.3867618905245428,-0.24792428879778383,-0.66443709397806072,2.9453405509176722,-0.52559949225130176,0.44626371983601099,-0.66443709397806072,-0.66443709397806072,-0.24792428879778383,-0.24792428879778383,-0.10908668707102488,-0.3867618905245428,-0.52559949225130176,-0.24792428879778383,-0.66443709397806072,-0.52559949225130176,-0.10908668707102488,2.9750914655734081E-2,-0.3867618905245428,-0.66443709397806072,-0.3867618905245428,-0.66443709397806072,"","","","","","","","","","","",""]
[null,"z-skóre opačné znamienko"]
["Tri voľby spolu","z-skóre Suma všetky otázky",null,{"$f":"IF(D266<>\"\",(D266*(-1)),\"\")","v":0.47126393832118085},{"$f":"IF(E266<>\"\",(E266*(-1)),\"\")","v":-2.0853429270712254},0.51249953292428418,-0.80703949437502209,-2.3563196916059032E-2,-2.9100548191332916,0.43002834371807752,0.34755715451187091,0.59497072213049085,-3.0749971975457049,0.51249953292428418,0.10014358689325094,0.55373512752738752,0.59497072213049085,0.38879274911497425,0.26508596530566425,0.22385037070256092,0.43002834371807752,0.47126393832118085,0.34755715451187091,0.43002834371807752,0.34755715451187091,0.26508596530566425,0.14137918149635426,0.30632155990876758,0.59497072213049085,-2.3563196916059032E-2,0.59497072213049085,"","","","","","","","","","","",""]
["Prvá voľba","z-skóre Suma všetky otázky",null,{"$f":"IF(D267<>\"\",(D267*(-1)),\"\")","v":0.51547525576350584},{"$f":"IF(E267<>\"\",(E267*(-1)),\"\")","v":-2.4780995628927065},0.40856186938292688,-0.12600506251996815,-1.9091676139389134E-2,-3.5472334266984964,0.51547525576350584,0.40856186938292688,0.51547525576350584,-2.0504460173703905,0.51547525576350584,0.40856186938292688,0.51547525576350584,0.51547525576350584,0.51547525576350584,0.19473509662176888,8.7821710241189871E-2,0.51547525576350584,0.40856186938292688,0.51547525576350584,0.30164848300234787,-1.9091676139389134E-2,8.7821710241189871E-2,-1.9091676139389134E-2,0.51547525576350584,0.51547525576350584,-0.23291844890054714,0.51547525576350584,"","","","","","","","","","","",""]
["Druhá voľba","z-skóre Suma všetky otázky",null,{"$f":"IF(D268<>\"\",(D268*(-1)),\"\")","v":0.42123566111818572},{"$f":"IF(E268<>\"\",(E268*(-1)),\"\")","v":-0.68106326517239379},0.42123566111818572,-1.0117529430595675,-1.9683909398046089E-2,-2.7754312251244948,0.31100576848912775,0.31100576848912775,0.53146555374724369,-3.7675002587860167,0.42123566111818572,0.20077587586006981,0.42123566111818572,0.53146555374724369,0.31100576848912775,0.31100576848912775,0.42123566111818572,0.31100576848912775,0.42123566111818572,0.20077587586006981,0.31100576848912775,0.53146555374724369,0.53146555374724369,0.42123566111818572,-1.9683909398046089E-2,0.53146555374724369,-0.12991380202710404,0.53146555374724369,"","","","","","","","","","","",""]
["Tretia voľba","z-skóre Suma všetky otázky",null,{"$f":"IF(D269<>\"\",(D269*(-1)),\"\")","v":0.3867618905245428},{"$f":"IF(E269<>\"\",(E269*(-1)),\"\")","v":-2.9453405509176722},0.66443709397806072,-1.2792893301965649,-2.9750914655734081E-2,-1.6958021353768418,0.3867618905245428,0.24792428879778383,0.66443709397806072,-2.9453405509176722,0.52559949225130176,-0.44626371983601099,0.66443709397806072,0.66443709397806072,0.24792428879778383,0.24792428879778383,0.10908668707102488,0.3867618905245428,0.52559949225130176,0.24792428879778383,0.66443709397806072,0.52559949225130176,0.10908668707102488,-2.9750914655734081E-2,0.3867618905245428,0.66443709397806072,0.3867618905245428,0.66443709397806072,"","","","","","","","","","","",""]
[]
[]
["Tri voľby spolu","Steny všetky otázky P",null,{"$f":"IF($AT$248<>\"\",IF(D248<>\"\",IF(D253>2.5,10,ROUND(D253 *2+5.5,0)),\"\"),\"\")","v":4},{"$f":"IF($AT$248<>\"\",IF(E248<>\"\",IF(E253>2.5,10,ROUND(E253 *2+5.5,0)),\"\"),\"\")","v":3},{"$f":"IF($AT$248<>\"\",IF(F248<>\"\",IF(F253>2.5,10,ROUND(F253 *2+5.5,0)),\"\"),\"\")","v":4},4,5,4,6,6,8,4,5,5,4,5,5,4,4,6,5,5,5,5,10,4,8,6,7,8,"","","","","","","","","","","",""]
["Tri voľby spolu","Steny všetky otázky N",null,{"$f":"IF($AT$261<>\"\",IF(D261<>\"\",IF(D266>2.5,-10,ROUND((D266 *2+5.5)*-1,0)),\"\"),\"\")","v":-5},-10,-4,-7,-6,-10,-5,-5,-4,{"$f":"IF($AT$261<>\"\",IF(M261<>\"\",IF(M266>2.5,-10,ROUND((M266 *2+5.5)*-1,0)),\"\"),\"\")","v":-10},{"$f":"IF($AT$261<>\"\",IF(N261<>\"\",IF(N266>2.5,-10,ROUND((N266 *2+5.5)*-1,0)),\"\"),\"\")","v":-4},-5,-4,-4,-5,-5,-5,-5,-5,-5,-5,-5,-5,-5,-5,-4,-6,-4,"","","","","","","","","","","",""]
[null,"Hranica normy P HH",null,{"$f":"IF(D277<>\"\",7,\"\")","v":7},{"$f":"IF(E277<>\"\",7,\"\")","v":7},7,7,7,7,7,7,7,7,7,7,7,7,7,7,7,7,7,7,7,7,7,7,7,7,7,7,"","","","","","","","","","","",""]
[null,"Hranica normy N HH",null,{"$f":"IF(D277<>\"\",-7,\"\")","v":-7},{"$f":"IF(E277<>\"\",-7,\"\")","v":-7},-7,-7,-7,-7,-7,-7,-7,-7,-7,-7,-7,-7,-7,-7,-7,-7,-7,-7,-7,-7,-7,-7,-7,-7,-7,-7,"","","","","","","","","","","",""]

{"sheet":"Grafy","index":41,"n_rows":75,"n_cols":44,"rows_kept":75,"cut":false,"hidden":false,"merged":[]}
["Bar grafy z-skóre na steny 20 otázok max",null,null,null,5,6,7,8,9,10,11,12,13,14,15,16,17,18,19,20,21,22,23,24,25,26,27,28]
[null,null,null,null,1,2,3,4,5,6,7,8,9,10,11,12,13,14,15,16,17,18,19,20,21,22,23,24,25,26,27,28,29,30,31,32,33,34,35,36,37,38,39,40]
[null,"Počet",{"$f":"Sumy_All_Q!B3","v":28},"Konotácia P +; N –; Q = nezadaná",{"$f":"IF(Sumy_All_Q!D4<>\"\",Sumy_All_Q!D4,\"\")","v":"\"01_Oso m\""},{"$f":"IF(Sumy_All_Q!E4<>\"\",Sumy_All_Q!E4,\"\")","v":"\"02_Oso m\""},{"$f":"IF(Sumy_All_Q!F4<>\"\",Sumy_All_Q!F4,\"\")","v":"\"03_Oso m\""},{"$f":"IF(Sumy_All_Q!G4<>\"\",Sumy_All_Q!G4,\"\")","v":"\"04_Oso m\""},{"$f":"IF(Sumy_All_Q!H4<>\"\",Sumy_All_Q!H4,\"\")","v":"\"05_Oso m\""},{"$f":"IF(Sumy_All_Q!I4<>\"\",Sumy_All_Q!I4,\"\")","v":"\"*06_Oso m\""},{"$f":"IF(Sumy_All_Q!J4<>\"\",Sumy_All_Q!J4,\"\")","v":"\"07_Oso m\""},{"$f":"IF(Sumy_All_Q!K4<>\"\",Sumy_All_Q!K4,\"\")","v":"\"08_Oso m\""},{"$f":"IF(Sumy_All_Q!L4<>\"\",Sumy_All_Q!L4,\"\")","v":"\"09_Oso f\""},{"$f":"IF(Sumy_All_Q!M4<>\"\",Sumy_All_Q!M4,\"\")","v":"\"**10_Oso m\""},{"$f":"IF(Sumy_All_Q!N4<>\"\",Sumy_All_Q!N4,\"\")","v":"\"11_Oso m\""},{"$f":"IF(Sumy_All_Q!O4<>\"\",Sumy_All_Q!O4,\"\")","v":"\"12_Oso m\""},{"$f":"IF(Sumy_All_Q!P4<>\"\",Sumy_All_Q!P4,\"\")","v":"\"13_Oso m\""},{"$f":"IF(Sumy_All_Q!Q4<>\"\",Sumy_All_Q!Q4,\"\")","v":"\"14_Oso m\""},{"$f":"IF(Sumy_All_Q!R4<>\"\",Sumy_All_Q!R4,\"\")","v":"\"15_Oso f\""},{"$f":"IF(Sumy_All_Q!S4<>\"\",Sumy_All_Q!S4,\"\")","v":"\"16_Oso f\""},{"$f":"IF(Sumy_All_Q!T4<>\"\",Sumy_All_Q!T4,\"\")","v":"\"17_Oso f\""},{"$f":"IF(Sumy_All_Q!U4<>\"\",Sumy_All_Q!U4,\"\")","v":"\"18_Oso f\""},{"$f":"IF(Sumy_All_Q!V4<>\"\",Sumy_All_Q!V4,\"\")","v":"\"19_Oso f\""},{"$f":"IF(Sumy_All_Q!W4<>\"\",Sumy_All_Q!W4,\"\")","v":"\"20_Oso f\""},{"$f":"IF(Sumy_All_Q!X4<>\"\",Sumy_All_Q!X4,\"\")","v":"\"21_Oso f\""},{"$f":"IF(Sumy_All_Q!Y4<>\"\",Sumy_All_Q!Y4,\"\")","v":"\"22_Oso f\""},{"$f":"IF(Sumy_All_Q!Z4<>\"\",Sumy_All_Q!Z4,\"\")","v":"\"23_Oso f\""},{"$f":"IF(Sumy_All_Q!AA4<>\"\",Sumy_All_Q!AA4,\"\")","v":"\"24_Oso f\""},{"$f":"IF(Sumy_All_Q!AB4<>\"\",Sumy_All_Q!AB4,\"\")","v":"\"25_Oso f\""},{"$f":"IF(Sumy_All_Q!AC4<>\"\",Sumy_All_Q!AC4,\"\")","v":"\"26_Oso f\""},{"$f":"IF(Sumy_All_Q!AD4<>\"\",Sumy_All_Q!AD4,\"\")","v":"\"27_Oso f\""},{"$f":"IF(Sumy_All_Q!AE4<>\"\",Sumy_All_Q!AE4,\"\")","v":"\"28_Oso f\""},{"$f":"IF(Sumy_All_Q!AF4<>\"\",Sumy_All_Q!AF4,\"\")","v":""},{"$f":"IF(Sumy_All_Q!AG4<>\"\",Sumy_All_Q!AG4,\"\")","v":""},{"$f":"IF(Sumy_All_Q!AH4<>\"\",Sumy_All_Q!AH4,\"\")","v":""},{"$f":"IF(Sumy_All_Q!AI4<>\"\",Sumy_All_Q!AI4,\"\")","v":""},{"$f":"IF(Sumy_All_Q!AJ4<>\"\",Sumy_All_Q!AJ4,\"\")","v":""},{"$f":"IF(Sumy_All_Q!AK4<>\"\",Sumy_All_Q!AK4,\"\")","v":""},{"$f":"IF(Sumy_All_Q!AL4<>\"\",Sumy_All_Q!AL4,\"\")","v":""},{"$f":"IF(Sumy_All_Q!AM4<>\"\",Sumy_All_Q!AM4,\"\")","v":""},{"$f":"IF(Sumy_All_Q!AN4<>\"\",Sumy_All_Q!AN4,\"\")","v":""},{"$f":"IF(Sumy_All_Q!AO4<>\"\",Sumy_All_Q!AO4,\"\")","v":""},{"$f":"IF(Sumy_All_Q!AP4<>\"\",Sumy_All_Q!AP4,\"\")","v":""},{"$f":"IF(Sumy_All_Q!AQ4<>\"\",Sumy_All_Q!AQ4,\"\")","v":""}]
[null,"Otázka 1","z-skóre","P",{"$f":"Sumy_All_Q!D13","v":-0.36830254380013955},{"$f":"Sumy_All_Q!E13","v":-1.1933002419124521},{"$f":"Sumy_All_Q!F13","v":-0.78080139285629591},{"$f":"Sumy_All_Q!G13","v":-0.78080139285629591},{"$f":"Sumy_All_Q!H13","v":0.45669515431217311},{"$f":"Sumy_All_Q!I13","v":-1.1933002419124521},{"$f":"Sumy_All_Q!J13","v":0.45669515431217311},{"$f":"Sumy_All_Q!K13","v":0.45669515431217311},{"$f":"Sumy_All_Q!L13","v":1.2816928524244857},{"$f":"Sumy_All_Q!M13","v":-0.36830254380013955},{"$f":"Sumy_All_Q!N13","v":4.4196305256016775E-2},{"$f":"Sumy_All_Q!O13","v":4.4196305256016775E-2},{"$f":"Sumy_All_Q!P13","v":-0.78080139285629591},{"$f":"Sumy_All_Q!Q13","v":-0.36830254380013955},{"$f":"Sumy_All_Q!R13","v":-1.1933002419124521},{"$f":"Sumy_All_Q!S13","v":-0.36830254380013955},{"$f":"Sumy_All_Q!T13","v":-1.1933002419124521},{"$f":"Sumy_All_Q!U13","v":0.45669515431217311},{"$f":"Sumy_All_Q!V13","v":-0.78080139285629591},{"$f":"Sumy_All_Q!W13","v":-0.36830254380013955},{"$f":"Sumy_All_Q!X13","v":-0.36830254380013955},{"$f":"Sumy_All_Q!Y13","v":0.86919400336832942},{"$f":"Sumy_All_Q!Z13","v":2.9316882486491114},{"$f":"Sumy_All_Q!AA13","v":4.4196305256016775E-2},{"$f":"Sumy_All_Q!AB13","v":4.4196305256016775E-2},{"$f":"Sumy_All_Q!AC13","v":-0.36830254380013955},{"$f":"Sumy_All_Q!AD13","v":2.1066905505367988},{"$f":"Sumy_All_Q!AE13","v":1.2816928524244857},{"$f":"Sumy_All_Q!AF13","v":""},{"$f":"Sumy_All_Q!AG13","v":""},{"$f":"Sumy_All_Q!AH13","v":""},{"$f":"Sumy_All_Q!AI13","v":""},{"$f":"Sumy_All_Q!AJ13","v":""},{"$f":"Sumy_All_Q!AK13","v":""},{"$f":"Sumy_All_Q!AL13","v":""},{"$f":"Sumy_All_Q!AM13","v":""},{"$f":"Sumy_All_Q!AN13","v":""},{"$f":"Sumy_All_Q!AO13","v":""},{"$f":"Sumy_All_Q!AP13","v":""},{"$f":"Sumy_All_Q!AQ13","v":""}]
[null,"Otázka 2","z-skóre",{"$f":"Sumy_All_Q!C25","v":"P"},{"$f":"Sumy_All_Q!D25","v":-0.54753849456984582},{"$f":"Sumy_All_Q!E25","v":-0.83680411434259461},{"$f":"Sumy_All_Q!F25","v":3.099274497565167E-2},{"$f":"Sumy_All_Q!G25","v":-0.54753849456984582},{"$f":"Sumy_All_Q!H25","v":-0.54753849456984582},{"$f":"Sumy_All_Q!I25","v":-0.83680411434259461},{"$f":"Sumy_All_Q!J25","v":0.89878960429389798},{"$f":"Sumy_All_Q!K25","v":0.32025836474840041},{"$f":"Sumy_All_Q!L25","v":1.1880552240666469},{"$f":"Sumy_All_Q!M25","v":-0.83680411434259461},{"$f":"Sumy_All_Q!N25","v":-0.54753849456984582},{"$f":"Sumy_All_Q!O25","v":-0.83680411434259461},{"$f":"Sumy_All_Q!P25","v":-0.54753849456984582},{"$f":"Sumy_All_Q!Q25","v":-0.2582728747970971},{"$f":"Sumy_All_Q!R25","v":-0.2582728747970971},{"$f":"Sumy_All_Q!S25","v":-0.83680411434259461},{"$f":"Sumy_All_Q!T25","v":-0.83680411434259461},{"$f":"Sumy_All_Q!U25","v":0.6095239845211492},{"$f":"Sumy_All_Q!V25","v":-0.2582728747970971},{"$f":"Sumy_All_Q!W25","v":-0.54753849456984582},{"$f":"Sumy_All_Q!X25","v":-0.54753849456984582},{"$f":"Sumy_All_Q!Y25","v":-0.54753849456984582},{"$f":"Sumy_All_Q!Z25","v":3.2129145624758881},{"$f":"Sumy_All_Q!AA25","v":-0.83680411434259461},{"$f":"Sumy_All_Q!AB25","v":1.7665864636121444},{"$f":"Sumy_All_Q!AC25","v":0.89878960429389798},{"$f":"Sumy_All_Q!AD25","v":0.6095239845211492},{"$f":"Sumy_All_Q!AE25","v":1.4773208438393957},{"$f":"Sumy_All_Q!AF25","v":""},{"$f":"Sumy_All_Q!AG25","v":""},{"$f":"Sumy_All_Q!AH25","v":""},{"$f":"Sumy_All_Q!AI25","v":""},{"$f":"Sumy_All_Q!AJ25","v":""},{"$f":"Sumy_All_Q!AK25","v":""},{"$f":"Sumy_All_Q!AL25","v":""},{"$f":"Sumy_All_Q!AM25","v":""},{"$f":"Sumy_All_Q!AN25","v":""},{"$f":"Sumy_All_Q!AO25","v":""},{"$f":"Sumy_All_Q!AP25","v":""},{"$f":"Sumy_All_Q!AQ25","v":""}]
[null,"Otázka 3","z-skóre",{"$f":"Sumy_All_Q!C37","v":"P"},{"$f":"Sumy_All_Q!D37","v":-0.91845648135184221},{"$f":"Sumy_All_Q!E37","v":-1.4036787733867777},{"$f":"Sumy_All_Q!F37","v":-0.43323418931690671},{"$f":"Sumy_All_Q!G37","v":-1.4036787733867777},{"$f":"Sumy_All_Q!H37","v":0.53721039475296439},{"$f":"Sumy_All_Q!I37","v":-0.43323418931690671},{"$f":"Sumy_All_Q!J37","v":0.53721039475296439},{"$f":"Sumy_All_Q!K37","v":0.53721039475296439},{"$f":"Sumy_All_Q!L37","v":1.0224326867878999},{"$f":"Sumy_All_Q!M37","v":5.1988102718028839E-2},{"$f":"Sumy_All_Q!N37","v":0.53721039475296439},{"$f":"Sumy_All_Q!O37","v":0.53721039475296439},{"$f":"Sumy_All_Q!P37","v":-1.4036787733867777},{"$f":"Sumy_All_Q!Q37","v":-0.91845648135184221},{"$f":"Sumy_All_Q!R37","v":-0.91845648135184221},{"$f":"Sumy_All_Q!S37","v":0.53721039475296439},{"$f":"Sumy_All_Q!T37","v":-0.91845648135184221},{"$f":"Sumy_All_Q!U37","v":1.0224326867878999},{"$f":"Sumy_All_Q!V37","v":-0.43323418931690671},{"$f":"Sumy_All_Q!W37","v":5.1988102718028839E-2},{"$f":"Sumy_All_Q!X37","v":0.53721039475296439},{"$f":"Sumy_All_Q!Y37","v":5.1988102718028839E-2},{"$f":"Sumy_All_Q!Z37","v":2.9633218549276421},{"$f":"Sumy_All_Q!AA37","v":-0.91845648135184221},{"$f":"Sumy_All_Q!AB37","v":5.1988102718028839E-2},{"$f":"Sumy_All_Q!AC37","v":-0.91845648135184221},{"$f":"Sumy_All_Q!AD37","v":1.5076549788228355},{"$f":"Sumy_All_Q!AE37","v":0.53721039475296439},{"$f":"Sumy_All_Q!AF37","v":""},{"$f":"Sumy_All_Q!AG37","v":""},{"$f":"Sumy_All_Q!AH37","v":""},{"$f":"Sumy_All_Q!AI37","v":""},{"$f":"Sumy_All_Q!AJ37","v":""},{"$f":"Sumy_All_Q!AK37","v":""},{"$f":"Sumy_All_Q!AL37","v":""},{"$f":"Sumy_All_Q!AM37","v":""},{"$f":"Sumy_All_Q!AN37","v":""},{"$f":"Sumy_All_Q!AO37","v":""},{"$f":"Sumy_All_Q!AP37","v":""},{"$f":"Sumy_All_Q!AQ37","v":""}]
[null,"Otázka 4","z-skóre",{"$f":"Sumy_All_Q!C49","v":"P"},{"$f":"Sumy_All_Q!D49","v":-0.5159852075350686},{"$f":"Sumy_All_Q!E49","v":-0.5159852075350686},{"$f":"Sumy_All_Q!F49","v":-0.5159852075350686},{"$f":"Sumy_All_Q!G49","v":-0.5159852075350686},{"$f":"Sumy_All_Q!H49","v":-0.15925469368366313},{"$f":"Sumy_All_Q!I49","v":-0.5159852075350686},{"$f":"Sumy_All_Q!J49","v":-0.15925469368366313},{"$f":"Sumy_All_Q!K49","v":-0.33761995060936589},{"$f":"Sumy_All_Q!L49","v":1.2676673617219587},{"$f":"Sumy_All_Q!M49","v":-0.5159852075350686},{"$f":"Sumy_All_Q!N49","v":-0.5159852075350686},{"$f":"Sumy_All_Q!O49","v":-0.5159852075350686},{"$f":"Sumy_All_Q!P49","v":-0.5159852075350686},{"$f":"Sumy_All_Q!Q49","v":-0.5159852075350686},{"$f":"Sumy_All_Q!R49","v":0.91093684787055329},{"$f":"Sumy_All_Q!S49","v":-0.5159852075350686},{"$f":"Sumy_All_Q!T49","v":-0.5159852075350686},{"$f":"Sumy_All_Q!U49","v":-0.15925469368366313},{"$f":"Sumy_All_Q!V49","v":-0.5159852075350686},{"$f":"Sumy_All_Q!W49","v":1.911056324203959E-2},{"$f":"Sumy_All_Q!X49","v":-0.5159852075350686},{"$f":"Sumy_All_Q!Y49","v":-0.5159852075350686},{"$f":"Sumy_All_Q!Z49","v":3.9431462156074999},{"$f":"Sumy_All_Q!AA49","v":-0.5159852075350686},{"$f":"Sumy_All_Q!AB49","v":1.6243978755733641},{"$f":"Sumy_All_Q!AC49","v":0.91093684787055329},{"$f":"Sumy_All_Q!AD49","v":-0.5159852075350686},{"$f":"Sumy_All_Q!AE49","v":0.91093684787055329},{"$f":"Sumy_All_Q!AF49","v":""},{"$f":"Sumy_All_Q!AG49","v":""},{"$f":"Sumy_All_Q!AH49","v":""},{"$f":"Sumy_All_Q!AI49","v":""},{"$f":"Sumy_All_Q!AJ49","v":""},{"$f":"Sumy_All_Q!AK49","v":""},{"$f":"Sumy_All_Q!AL49","v":""},{"$f":"Sumy_All_Q!AM49","v":""},{"$f":"Sumy_All_Q!AN49","v":""},{"$f":"Sumy_All_Q!AO49","v":""},{"$f":"Sumy_All_Q!AP49","v":""},{"$f":"Sumy_All_Q!AQ49","v":""}]
[null,"Otázka 5","z-skóre",{"$f":"Sumy_All_Q!C61","v":"P"},{"$f":"Sumy_All_Q!D61","v":-0.34382725689750759},{"$f":"Sumy_All_Q!E61","v":-1.1809718823870909},{"$f":"Sumy_All_Q!F61","v":-0.76239956964229927},{"$f":"Sumy_All_Q!G61","v":-0.76239956964229927},{"$f":"Sumy_All_Q!H61","v":-0.34382725689750759},{"$f":"Sumy_All_Q!I61","v":-0.76239956964229927},{"$f":"Sumy_All_Q!J61","v":0.91188968133686765},{"$f":"Sumy_All_Q!K61","v":7.4745055847284164E-2},{"$f":"Sumy_All_Q!L61","v":7.4745055847284164E-2},{"$f":"Sumy_All_Q!M61","v":-0.76239956964229927},{"$f":"Sumy_All_Q!N61","v":0.49331736859207587},{"$f":"Sumy_All_Q!O61","v":-0.34382725689750759},{"$f":"Sumy_All_Q!P61","v":-0.34382725689750759},{"$f":"Sumy_All_Q!Q61","v":7.4745055847284164E-2},{"$f":"Sumy_All_Q!R61","v":-1.1809718823870909},{"$f":"Sumy_All_Q!S61","v":-1.1809718823870909},{"$f":"Sumy_All_Q!T61","v":-1.1809718823870909},{"$f":"Sumy_All_Q!U61","v":0.91188968133686765},{"$f":"Sumy_All_Q!V61","v":0.49331736859207587},{"$f":"Sumy_All_Q!W61","v":-0.34382725689750759},{"$f":"Sumy_All_Q!X61","v":7.4745055847284164E-2},{"$f":"Sumy_All_Q!Y61","v":7.4745055847284164E-2},{"$f":"Sumy_All_Q!Z61","v":3.423323557805618},{"$f":"Sumy_All_Q!AA61","v":-0.34382725689750759},{"$f":"Sumy_All_Q!AB61","v":1.3304619940816593},{"$f":"Sumy_All_Q!AC61","v":-0.34382725689750759},{"$f":"Sumy_All_Q!AD61","v":1.3304619940816593},{"$f":"Sumy_All_Q!AE61","v":0.91188968133686765},{"$f":"Sumy_All_Q!AF61","v":""},{"$f":"Sumy_All_Q!AG61","v":""},{"$f":"Sumy_All_Q!AH61","v":""},{"$f":"Sumy_All_Q!AI61","v":""},{"$f":"Sumy_All_Q!AJ61","v":""},{"$f":"Sumy_All_Q!AK61","v":""},{"$f":"Sumy_All_Q!AL61","v":""},{"$f":"Sumy_All_Q!AM61","v":""},{"$f":"Sumy_All_Q!AN61","v":""},{"$f":"Sumy_All_Q!AO61","v":""},{"$f":"Sumy_All_Q!AP61","v":""},{"$f":"Sumy_All_Q!AQ61","v":""}]
[null,"Otázka 6","z-skóre",{"$f":"Sumy_All_Q!C73","v":"N"},{"$f":"Sumy_All_Q!D73","v":-0.54015342536229893},{"$f":"Sumy_All_Q!E73","v":1.7284909611593564},{"$f":"Sumy_All_Q!F73","v":-0.54015342536229893},{"$f":"Sumy_All_Q!G73","v":0.59416876789852879},{"$f":"Sumy_All_Q!H73","v":-0.16204602760868969},{"$f":"Sumy_All_Q!I73","v":3.0518668532969886},{"$f":"Sumy_All_Q!J73","v":-0.54015342536229893},{"$f":"Sumy_All_Q!K73","v":-0.35109972648549431},{"$f":"Sumy_All_Q!L73","v":-0.54015342536229893},{"$f":"Sumy_All_Q!M73","v":3.2409205521737934},{"$f":"Sumy_All_Q!N73","v":-0.54015342536229893},{"$f":"Sumy_All_Q!O73","v":2.7007671268114933E-2},{"$f":"Sumy_All_Q!P73","v":-0.54015342536229893},{"$f":"Sumy_All_Q!Q73","v":-0.54015342536229893},{"$f":"Sumy_All_Q!R73","v":-0.35109972648549431},{"$f":"Sumy_All_Q!S73","v":-0.16204602760868969},{"$f":"Sumy_All_Q!T73","v":-0.16204602760868969},{"$f":"Sumy_All_Q!U73","v":-0.35109972648549431},{"$f":"Sumy_All_Q!V73","v":-0.54015342536229893},{"$f":"Sumy_All_Q!W73","v":-0.35109972648549431},{"$f":"Sumy_All_Q!X73","v":-0.16204602760868969},{"$f":"Sumy_All_Q!Y73","v":-0.16204602760868969},{"$f":"Sumy_All_Q!Z73","v":-0.16204602760868969},{"$f":"Sumy_All_Q!AA73","v":-0.16204602760868969},{"$f":"Sumy_All_Q!AB73","v":-0.35109972648549431},{"$f":"Sumy_All_Q!AC73","v":-0.54015342536229893},{"$f":"Sumy_All_Q!AD73","v":-0.35109972648549431},{"$f":"Sumy_All_Q!AE73","v":-0.54015342536229893},{"$f":"Sumy_All_Q!AF73","v":""},{"$f":"Sumy_All_Q!AG73","v":""},{"$f":"Sumy_All_Q!AH73","v":""},{"$f":"Sumy_All_Q!AI73","v":""},{"$f":"Sumy_All_Q!AJ73","v":""},{"$f":"Sumy_All_Q!AK73","v":""},{"$f":"Sumy_All_Q!AL73","v":""},{"$f":"Sumy_All_Q!AM73","v":""},{"$f":"Sumy_All_Q!AN73","v":""},{"$f":"Sumy_All_Q!AO73","v":""},{"$f":"Sumy_All_Q!AP73","v":""},{"$f":"Sumy_All_Q!AQ73","v":""}]
[null,"Otázka 7","z-skóre",{"$f":"Sumy_All_Q!C85","v":"N"},{"$f":"Sumy_All_Q!D85","v":-0.34629758275871075},{"$f":"Sumy_All_Q!E85","v":1.849098413598399},{"$f":"Sumy_All_Q!F85","v":-0.52924724912180321},{"$f":"Sumy_All_Q!G85","v":1.3002494145091215},{"$f":"Sumy_All_Q!H85","v":1.9601749967474203E-2},{"$f":"Sumy_All_Q!I85","v":3.1297460781400464},{"$f":"Sumy_All_Q!J85","v":-0.52924724912180321},{"$f":"Sumy_All_Q!K85","v":-0.34629758275871075},{"$f":"Sumy_All_Q!L85","v":-0.52924724912180321},{"$f":"Sumy_All_Q!M85","v":2.7638467454138613},{"$f":"Sumy_All_Q!N85","v":-0.52924724912180321},{"$f":"Sumy_All_Q!O85","v":0.20255141633056667},{"$f":"Sumy_All_Q!P85","v":-0.52924724912180321},{"$f":"Sumy_All_Q!Q85","v":-0.52924724912180321},{"$f":"Sumy_All_Q!R85","v":-0.34629758275871075},{"$f":"Sumy_All_Q!S85","v":-0.34629758275871075},{"$f":"Sumy_All_Q!T85","v":1.9601749967474203E-2},{"$f":"Sumy_All_Q!U85","v":-0.52924724912180321},{"$f":"Sumy_All_Q!V85","v":-0.52924724912180321},{"$f":"Sumy_All_Q!W85","v":-0.34629758275871075},{"$f":"Sumy_All_Q!X85","v":-0.52924724912180321},{"$f":"Sumy_All_Q!Y85","v":-0.52924724912180321},{"$f":"Sumy_All_Q!Z85","v":-0.16334791639561827},{"$f":"Sumy_All_Q!AA85","v":-0.34629758275871075},{"$f":"Sumy_All_Q!AB85","v":-0.52924724912180321},{"$f":"Sumy_All_Q!AC85","v":-0.52924724912180321},{"$f":"Sumy_All_Q!AD85","v":-0.16334791639561827},{"$f":"Sumy_All_Q!AE85","v":-0.52924724912180321},{"$f":"Sumy_All_Q!AF85","v":""},{"$f":"Sumy_All_Q!AG85","v":""},{"$f":"Sumy_All_Q!AH85","v":""},{"$f":"Sumy_All_Q!AI85","v":""},{"$f":"Sumy_All_Q!AJ85","v":""},{"$f":"Sumy_All_Q!AK85","v":""},{"$f":"Sumy_All_Q!AL85","v":""},{"$f":"Sumy_All_Q!AM85","v":""},{"$f":"Sumy_All_Q!AN85","v":""},{"$f":"Sumy_All_Q!AO85","v":""},{"$f":"Sumy_All_Q!AP85","v":""},{"$f":"Sumy_All_Q!AQ85","v":""}]
[null,"Otázka 8","z-skóre",{"$f":"Sumy_All_Q!C97","v":"N"},{"$f":"Sumy_All_Q!D97","v":-0.43695171840506641},{"$f":"Sumy_All_Q!E97","v":2.1023148715715463},{"$f":"Sumy_All_Q!F97","v":-0.66779413567566748},{"$f":"Sumy_All_Q!G97","v":0.71726036794793924},{"$f":"Sumy_All_Q!H97","v":-0.20610930113446527},{"$f":"Sumy_All_Q!I97","v":2.7948421233833494},{"$f":"Sumy_All_Q!J97","v":-0.20610930113446527},{"$f":"Sumy_All_Q!K97","v":-0.43695171840506641},{"$f":"Sumy_All_Q!L97","v":-0.66779413567566748},{"$f":"Sumy_All_Q!M97","v":3.0256845406539505},{"$f":"Sumy_All_Q!N97","v":-0.43695171840506641},{"$f":"Sumy_All_Q!O97","v":-0.43695171840506641},{"$f":"Sumy_All_Q!P97","v":-0.66779413567566748},{"$f":"Sumy_All_Q!Q97","v":-0.66779413567566748},{"$f":"Sumy_All_Q!R97","v":-0.20610930113446527},{"$f":"Sumy_All_Q!S97","v":-0.20610930113446527},{"$f":"Sumy_All_Q!T97","v":-0.20610930113446527},{"$f":"Sumy_All_Q!U97","v":-0.20610930113446527},{"$f":"Sumy_All_Q!V97","v":-0.43695171840506641},{"$f":"Sumy_All_Q!W97","v":-0.20610930113446527},{"$f":"Sumy_All_Q!X97","v":-0.43695171840506641},{"$f":"Sumy_All_Q!Y97","v":-0.43695171840506641},{"$f":"Sumy_All_Q!Z97","v":-0.43695171840506641},{"$f":"Sumy_All_Q!AA97","v":-0.20610930113446527},{"$f":"Sumy_All_Q!AB97","v":-0.20610930113446527},{"$f":"Sumy_All_Q!AC97","v":-0.66779413567566748},{"$f":"Sumy_All_Q!AD97","v":0.71726036794793924},{"$f":"Sumy_All_Q!AE97","v":-0.66779413567566748},{"$f":"Sumy_All_Q!AF97","v":""},{"$f":"Sumy_All_Q!AG97","v":""},{"$f":"Sumy_All_Q!AH97","v":""},{"$f":"Sumy_All_Q!AI97","v":""},{"$f":"Sumy_All_Q!AJ97","v":""},{"$f":"Sumy_All_Q!AK97","v":""},{"$f":"Sumy_All_Q!AL97","v":""},{"$f":"Sumy_All_Q!AM97","v":""},{"$f":"Sumy_All_Q!AN97","v":""},{"$f":"Sumy_All_Q!AO97","v":""},{"$f":"Sumy_All_Q!AP97","v":""},{"$f":"Sumy_All_Q!AQ97","v":""}]
[null,"Otázka 9","z-skóre",{"$f":"Sumy_All_Q!C109","v":"N"},{"$f":"Sumy_All_Q!D109","v":-0.48649712973252451},{"$f":"Sumy_All_Q!E109","v":2.8769398165664106},{"$f":"Sumy_All_Q!F109","v":-0.48649712973252451},{"$f":"Sumy_All_Q!G109","v":0.3543621068422092},{"$f":"Sumy_All_Q!H109","v":-0.31832528241757774},{"$f":"Sumy_All_Q!I109","v":2.5405961219365167},{"$f":"Sumy_All_Q!J109","v":-0.48649712973252451},{"$f":"Sumy_All_Q!K109","v":1.8018412212315732E-2},{"$f":"Sumy_All_Q!L109","v":-0.48649712973252451},{"$f":"Sumy_All_Q!M109","v":2.8769398165664106},{"$f":"Sumy_All_Q!N109","v":-0.31832528241757774},{"$f":"Sumy_All_Q!O109","v":-0.15015343510263102},{"$f":"Sumy_All_Q!P109","v":-0.31832528241757774},{"$f":"Sumy_All_Q!Q109","v":-0.48649712973252451},{"$f":"Sumy_All_Q!R109","v":-0.48649712973252451},{"$f":"Sumy_All_Q!S109","v":-0.31832528241757774},{"$f":"Sumy_All_Q!T109","v":-0.31832528241757774},{"$f":"Sumy_All_Q!U109","v":-0.31832528241757774},{"$f":"Sumy_All_Q!V109","v":-0.48649712973252451},{"$f":"Sumy_All_Q!W109","v":-0.48649712973252451},{"$f":"Sumy_All_Q!X109","v":-0.48649712973252451},{"$f":"Sumy_All_Q!Y109","v":-0.48649712973252451},{"$f":"Sumy_All_Q!Z109","v":-0.48649712973252451},{"$f":"Sumy_All_Q!AA109","v":0.18619025952726248},{"$f":"Sumy_All_Q!AB109","v":-0.31832528241757774},{"$f":"Sumy_All_Q!AC109","v":-0.48649712973252451},{"$f":"Sumy_All_Q!AD109","v":-0.15015343510263102},{"$f":"Sumy_All_Q!AE109","v":-0.48649712973252451},{"$f":"Sumy_All_Q!AF109","v":""},{"$f":"Sumy_All_Q!AG109","v":""},{"$f":"Sumy_All_Q!AH109","v":""},{"$f":"Sumy_All_Q!AI109","v":""},{"$f":"Sumy_All_Q!AJ109","v":""},{"$f":"Sumy_All_Q!AK109","v":""},{"$f":"Sumy_All_Q!AL109","v":""},{"$f":"Sumy_All_Q!AM109","v":""},{"$f":"Sumy_All_Q!AN109","v":""},{"$f":"Sumy_All_Q!AO109","v":""},{"$f":"Sumy_All_Q!AP109","v":""},{"$f":"Sumy_All_Q!AQ109","v":""}]
[null,"Otázka 10","z-skóre",{"$f":"Sumy_All_Q!C121","v":"N"},{"$f":"Sumy_All_Q!D121","v":-0.49383327531767385},{"$f":"Sumy_All_Q!E121","v":1.3324180824608938},{"$f":"Sumy_All_Q!F121","v":-0.23294022420644991},{"$f":"Sumy_All_Q!G121","v":1.0715250313496698},{"$f":"Sumy_All_Q!H121","v":1.0715250313496698},{"$f":"Sumy_All_Q!I121","v":2.6368833380170131},{"$f":"Sumy_All_Q!J121","v":-0.23294022420644991},{"$f":"Sumy_All_Q!K121","v":-0.7547263264288977},{"$f":"Sumy_All_Q!L121","v":-0.7547263264288977},{"$f":"Sumy_All_Q!M121","v":3.1586694402394611},{"$f":"Sumy_All_Q!N121","v":-0.7547263264288977},{"$f":"Sumy_All_Q!O121","v":-0.23294022420644991},{"$f":"Sumy_All_Q!P121","v":-0.7547263264288977},{"$f":"Sumy_All_Q!Q121","v":-0.7547263264288977},{"$f":"Sumy_All_Q!R121","v":-0.49383327531767385},{"$f":"Sumy_All_Q!S121","v":-0.23294022420644991},{"$f":"Sumy_All_Q!T121","v":-0.49383327531767385},{"$f":"Sumy_All_Q!U121","v":-0.7547263264288977},{"$f":"Sumy_All_Q!V121","v":-0.23294022420644991},{"$f":"Sumy_All_Q!W121","v":-0.23294022420644991},{"$f":"Sumy_All_Q!X121","v":-0.49383327531767385},{"$f":"Sumy_All_Q!Y121","v":2.7952826904774006E-2},{"$f":"Sumy_All_Q!Z121","v":2.7952826904774006E-2},{"$f":"Sumy_All_Q!AA121","v":-0.23294022420644991},{"$f":"Sumy_All_Q!AB121","v":2.7952826904774006E-2},{"$f":"Sumy_All_Q!AC121","v":-0.7547263264288977},{"$f":"Sumy_All_Q!AD121","v":0.28884587801599793},{"$f":"Sumy_All_Q!AE121","v":-0.7547263264288977},{"$f":"Sumy_All_Q!AF121","v":""},{"$f":"Sumy_All_Q!AG121","v":""},{"$f":"Sumy_All_Q!AH121","v":""},{"$f":"Sumy_All_Q!AI121","v":""},{"$f":"Sumy_All_Q!AJ121","v":""},{"$f":"Sumy_All_Q!AK121","v":""},{"$f":"Sumy_All_Q!AL121","v":""},{"$f":"Sumy_All_Q!AM121","v":""},{"$f":"Sumy_All_Q!AN121","v":""},{"$f":"Sumy_All_Q!AO121","v":""},{"$f":"Sumy_All_Q!AP121","v":""},{"$f":"Sumy_All_Q!AQ121","v":""}]
[null,"Otázka 11","z-skóre",{"$f":"Sumy_All_Q!C133","v":"Q"},{"$f":"Sumy_All_Q!D133","v":""},{"$f":"Sumy_All_Q!E133","v":""},{"$f":"Sumy_All_Q!F133","v":""},{"$f":"Sumy_All_Q!G133","v":""},{"$f":"Sumy_All_Q!H133","v":""},{"$f":"Sumy_All_Q!I133","v":""},{"$f":"Sumy_All_Q!J133","v":""},{"$f":"Sumy_All_Q!K133","v":""},{"$f":"Sumy_All_Q!L133","v":""},{"$f":"Sumy_All_Q!M133","v":""},{"$f":"Sumy_All_Q!N133","v":""},{"$f":"Sumy_All_Q!O133","v":""},{"$f":"Sumy_All_Q!P133","v":""},{"$f":"Sumy_All_Q!Q133","v":""},{"$f":"Sumy_All_Q!R133","v":""},{"$f":"Sumy_All_Q!S133","v":""},{"$f":"Sumy_All_Q!T133","v":""},{"$f":"Sumy_All_Q!U133","v":""},{"$f":"Sumy_All_Q!V133","v":""},{"$f":"Sumy_All_Q!W133","v":""},{"$f":"Sumy_All_Q!X133","v":""},{"$f":"Sumy_All_Q!Y133","v":""},{"$f":"Sumy_All_Q!Z133","v":""},{"$f":"Sumy_All_Q!AA133","v":""},{"$f":"Sumy_All_Q!AB133","v":""},{"$f":"Sumy_All_Q!AC133","v":""},{"$f":"Sumy_All_Q!AD133","v":""},{"$f":"Sumy_All_Q!AE133","v":""},{"$f":"Sumy_All_Q!AF133","v":""},{"$f":"Sumy_All_Q!AG133","v":""},{"$f":"Sumy_All_Q!AH133","v":""},{"$f":"Sumy_All_Q!AI133","v":""},{"$f":"Sumy_All_Q!AJ133","v":""},{"$f":"Sumy_All_Q!AK133","v":""},{"$f":"Sumy_All_Q!AL133","v":""},{"$f":"Sumy_All_Q!AM133","v":""},{"$f":"Sumy_All_Q!AN133","v":""},{"$f":"Sumy_All_Q!AO133","v":""},{"$f":"Sumy_All_Q!AP133","v":""},{"$f":"Sumy_All_Q!AQ133","v":""}]
[null,"Otázka 12","z-skóre",{"$f":"Sumy_All_Q!C145","v":"Q"},{"$f":"Sumy_All_Q!D145","v":""},{"$f":"Sumy_All_Q!E145","v":""},{"$f":"Sumy_All_Q!F145","v":""},{"$f":"Sumy_All_Q!G145","v":""},{"$f":"Sumy_All_Q!H145","v":""},{"$f":"Sumy_All_Q!I145","v":""},{"$f":"Sumy_All_Q!J145","v":""},{"$f":"Sumy_All_Q!K145","v":""},{"$f":"Sumy_All_Q!L145","v":""},{"$f":"Sumy_All_Q!M145","v":""},{"$f":"Sumy_All_Q!N145","v":""},{"$f":"Sumy_All_Q!O145","v":""},{"$f":"Sumy_All_Q!P145","v":""},{"$f":"Sumy_All_Q!Q145","v":""},{"$f":"Sumy_All_Q!R145","v":""},{"$f":"Sumy_All_Q!S145","v":""},{"$f":"Sumy_All_Q!T145","v":""},{"$f":"Sumy_All_Q!U145","v":""},{"$f":"Sumy_All_Q!V145","v":""},{"$f":"Sumy_All_Q!W145","v":""},{"$f":"Sumy_All_Q!X145","v":""},{"$f":"Sumy_All_Q!Y145","v":""},{"$f":"Sumy_All_Q!Z145","v":""},{"$f":"Sumy_All_Q!AA145","v":""},{"$f":"Sumy_All_Q!AB145","v":""},{"$f":"Sumy_All_Q!AC145","v":""},{"$f":"Sumy_All_Q!AD145","v":""},{"$f":"Sumy_All_Q!AE145","v":""},{"$f":"Sumy_All_Q!AF145","v":""},{"$f":"Sumy_All_Q!AG145","v":""},{"$f":"Sumy_All_Q!AH145","v":""},{"$f":"Sumy_All_Q!AI145","v":""},{"$f":"Sumy_All_Q!AJ145","v":""},{"$f":"Sumy_All_Q!AK145","v":""},{"$f":"Sumy_All_Q!AL145","v":""},{"$f":"Sumy_All_Q!AM145","v":""},{"$f":"Sumy_All_Q!AN145","v":""},{"$f":"Sumy_All_Q!AO145","v":""},{"$f":"Sumy_All_Q!AP145","v":""},{"$f":"Sumy_All_Q!AQ145","v":""}]
[null,"Otázka 13","z-skóre",{"$f":"Sumy_All_Q!C157","v":"Q"},{"$f":"Sumy_All_Q!D157","v":""},{"$f":"Sumy_All_Q!E157","v":""},{"$f":"Sumy_All_Q!F157","v":""},{"$f":"Sumy_All_Q!G157","v":""},{"$f":"Sumy_All_Q!H157","v":""},{"$f":"Sumy_All_Q!I157","v":""},{"$f":"Sumy_All_Q!J157","v":""},{"$f":"Sumy_All_Q!K157","v":""},{"$f":"Sumy_All_Q!L157","v":""},{"$f":"Sumy_All_Q!M157","v":""},{"$f":"Sumy_All_Q!N157","v":""},{"$f":"Sumy_All_Q!O157","v":""},{"$f":"Sumy_All_Q!P157","v":""},{"$f":"Sumy_All_Q!Q157","v":""},{"$f":"Sumy_All_Q!R157","v":""},{"$f":"Sumy_All_Q!S157","v":""},{"$f":"Sumy_All_Q!T157","v":""},{"$f":"Sumy_All_Q!U157","v":""},{"$f":"Sumy_All_Q!V157","v":""},{"$f":"Sumy_All_Q!W157","v":""},{"$f":"Sumy_All_Q!X157","v":""},{"$f":"Sumy_All_Q!Y157","v":""},{"$f":"Sumy_All_Q!Z157","v":""},{"$f":"Sumy_All_Q!AA157","v":""},{"$f":"Sumy_All_Q!AB157","v":""},{"$f":"Sumy_All_Q!AC157","v":""},{"$f":"Sumy_All_Q!AD157","v":""},{"$f":"Sumy_All_Q!AE157","v":""},{"$f":"Sumy_All_Q!AF157","v":""},{"$f":"Sumy_All_Q!AG157","v":""},{"$f":"Sumy_All_Q!AH157","v":""},{"$f":"Sumy_All_Q!AI157","v":""},{"$f":"Sumy_All_Q!AJ157","v":""},{"$f":"Sumy_All_Q!AK157","v":""},{"$f":"Sumy_All_Q!AL157","v":""},{"$f":"Sumy_All_Q!AM157","v":""},{"$f":"Sumy_All_Q!AN157","v":""},{"$f":"Sumy_All_Q!AO157","v":""},{"$f":"Sumy_All_Q!AP157","v":""},{"$f":"Sumy_All_Q!AQ157","v":""}]
[null,"Otázka 14","z-skóre",{"$f":"Sumy_All_Q!C169","v":"Q"},{"$f":"Sumy_All_Q!D169","v":""},{"$f":"Sumy_All_Q!E169","v":""},{"$f":"Sumy_All_Q!F169","v":""},{"$f":"Sumy_All_Q!G169","v":""},{"$f":"Sumy_All_Q!H169","v":""},{"$f":"Sumy_All_Q!I169","v":""},{"$f":"Sumy_All_Q!J169","v":""},{"$f":"Sumy_All_Q!K169","v":""},{"$f":"Sumy_All_Q!L169","v":""},{"$f":"Sumy_All_Q!M169","v":""},{"$f":"Sumy_All_Q!N169","v":""},{"$f":"Sumy_All_Q!O169","v":""},{"$f":"Sumy_All_Q!P169","v":""},{"$f":"Sumy_All_Q!Q169","v":""},{"$f":"Sumy_All_Q!R169","v":""},{"$f":"Sumy_All_Q!S169","v":""},{"$f":"Sumy_All_Q!T169","v":""},{"$f":"Sumy_All_Q!U169","v":""},{"$f":"Sumy_All_Q!V169","v":""},{"$f":"Sumy_All_Q!W169","v":""},{"$f":"Sumy_All_Q!X169","v":""},{"$f":"Sumy_All_Q!Y169","v":""},{"$f":"Sumy_All_Q!Z169","v":""},{"$f":"Sumy_All_Q!AA169","v":""},{"$f":"Sumy_All_Q!AB169","v":""},{"$f":"Sumy_All_Q!AC169","v":""},{"$f":"Sumy_All_Q!AD169","v":""},{"$f":"Sumy_All_Q!AE169","v":""},{"$f":"Sumy_All_Q!AF169","v":""},{"$f":"Sumy_All_Q!AG169","v":""},{"$f":"Sumy_All_Q!AH169","v":""},{"$f":"Sumy_All_Q!AI169","v":""},{"$f":"Sumy_All_Q!AJ169","v":""},{"$f":"Sumy_All_Q!AK169","v":""},{"$f":"Sumy_All_Q!AL169","v":""},{"$f":"Sumy_All_Q!AM169","v":""},{"$f":"Sumy_All_Q!AN169","v":""},{"$f":"Sumy_All_Q!AO169","v":""},{"$f":"Sumy_All_Q!AP169","v":""},{"$f":"Sumy_All_Q!AQ169","v":""}]
[null,"Otázka 15","z-skóre",{"$f":"Sumy_All_Q!C181","v":"Q"},{"$f":"Sumy_All_Q!D181","v":""},{"$f":"Sumy_All_Q!E181","v":""},{"$f":"Sumy_All_Q!F181","v":""},{"$f":"Sumy_All_Q!G181","v":""},{"$f":"Sumy_All_Q!H181","v":""},{"$f":"Sumy_All_Q!I181","v":""},{"$f":"Sumy_All_Q!J181","v":""},{"$f":"Sumy_All_Q!K181","v":""},{"$f":"Sumy_All_Q!L181","v":""},{"$f":"Sumy_All_Q!M181","v":""},{"$f":"Sumy_All_Q!N181","v":""},{"$f":"Sumy_All_Q!O181","v":""},{"$f":"Sumy_All_Q!P181","v":""},{"$f":"Sumy_All_Q!Q181","v":""},{"$f":"Sumy_All_Q!R181","v":""},{"$f":"Sumy_All_Q!S181","v":""},{"$f":"Sumy_All_Q!T181","v":""},{"$f":"Sumy_All_Q!U181","v":""},{"$f":"Sumy_All_Q!V181","v":""},{"$f":"Sumy_All_Q!W181","v":""},{"$f":"Sumy_All_Q!X181","v":""},{"$f":"Sumy_All_Q!Y181","v":""},{"$f":"Sumy_All_Q!Z181","v":""},{"$f":"Sumy_All_Q!AA181","v":""},{"$f":"Sumy_All_Q!AB181","v":""},{"$f":"Sumy_All_Q!AC181","v":""},{"$f":"Sumy_All_Q!AD181","v":""},{"$f":"Sumy_All_Q!AE181","v":""},{"$f":"Sumy_All_Q!AF181","v":""},{"$f":"Sumy_All_Q!AG181","v":""},{"$f":"Sumy_All_Q!AH181","v":""},{"$f":"Sumy_All_Q!AI181","v":""},{"$f":"Sumy_All_Q!AJ181","v":""},{"$f":"Sumy_All_Q!AK181","v":""},{"$f":"Sumy_All_Q!AL181","v":""},{"$f":"Sumy_All_Q!AM181","v":""},{"$f":"Sumy_All_Q!AN181","v":""},{"$f":"Sumy_All_Q!AO181","v":""},{"$f":"Sumy_All_Q!AP181","v":""},{"$f":"Sumy_All_Q!AQ181","v":""}]
[null,"Otázka 16","z-skóre",{"$f":"Sumy_All_Q!C193","v":"Q"},{"$f":"Sumy_All_Q!D193","v":""},{"$f":"Sumy_All_Q!E193","v":""},{"$f":"Sumy_All_Q!F193","v":""},{"$f":"Sumy_All_Q!G193","v":""},{"$f":"Sumy_All_Q!H193","v":""},{"$f":"Sumy_All_Q!I193","v":""},{"$f":"Sumy_All_Q!J193","v":""},{"$f":"Sumy_All_Q!K193","v":""},{"$f":"Sumy_All_Q!L193","v":""},{"$f":"Sumy_All_Q!M193","v":""},{"$f":"Sumy_All_Q!N193","v":""},{"$f":"Sumy_All_Q!O193","v":""},{"$f":"Sumy_All_Q!P193","v":""},{"$f":"Sumy_All_Q!Q193","v":""},{"$f":"Sumy_All_Q!R193","v":""},{"$f":"Sumy_All_Q!S193","v":""},{"$f":"Sumy_All_Q!T193","v":""},{"$f":"Sumy_All_Q!U193","v":""},{"$f":"Sumy_All_Q!V193","v":""},{"$f":"Sumy_All_Q!W193","v":""},{"$f":"Sumy_All_Q!X193","v":""},{"$f":"Sumy_All_Q!Y193","v":""},{"$f":"Sumy_All_Q!Z193","v":""},{"$f":"Sumy_All_Q!AA193","v":""},{"$f":"Sumy_All_Q!AB193","v":""},{"$f":"Sumy_All_Q!AC193","v":""},{"$f":"Sumy_All_Q!AD193","v":""},{"$f":"Sumy_All_Q!AE193","v":""},{"$f":"Sumy_All_Q!AF193","v":""},{"$f":"Sumy_All_Q!AG193","v":""},{"$f":"Sumy_All_Q!AH193","v":""},{"$f":"Sumy_All_Q!AI193","v":""},{"$f":"Sumy_All_Q!AJ193","v":""},{"$f":"Sumy_All_Q!AK193","v":""},{"$f":"Sumy_All_Q!AL193","v":""},{"$f":"Sumy_All_Q!AM193","v":""},{"$f":"Sumy_All_Q!AN193","v":""},{"$f":"Sumy_All_Q!AO193","v":""},{"$f":"Sumy_All_Q!AP193","v":""},{"$f":"Sumy_All_Q!AQ193","v":""}]
[null,"Otázka 17","z-skóre",{"$f":"Sumy_All_Q!C205","v":"Q"},{"$f":"Sumy_All_Q!D205","v":""},{"$f":"Sumy_All_Q!E205","v":""},{"$f":"Sumy_All_Q!F205","v":""},{"$f":"Sumy_All_Q!G205","v":""},{"$f":"Sumy_All_Q!H205","v":""},{"$f":"Sumy_All_Q!I205","v":""},{"$f":"Sumy_All_Q!J205","v":""},{"$f":"Sumy_All_Q!K205","v":""},{"$f":"Sumy_All_Q!L205","v":""},{"$f":"Sumy_All_Q!M205","v":""},{"$f":"Sumy_All_Q!N205","v":""},{"$f":"Sumy_All_Q!O205","v":""},{"$f":"Sumy_All_Q!P205","v":""},{"$f":"Sumy_All_Q!Q205","v":""},{"$f":"Sumy_All_Q!R205","v":""},{"$f":"Sumy_All_Q!S205","v":""},{"$f":"Sumy_All_Q!T205","v":""},{"$f":"Sumy_All_Q!U205","v":""},{"$f":"Sumy_All_Q!V205","v":""},{"$f":"Sumy_All_Q!W205","v":""},{"$f":"Sumy_All_Q!X205","v":""},{"$f":"Sumy_All_Q!Y205","v":""},{"$f":"Sumy_All_Q!Z205","v":""},{"$f":"Sumy_All_Q!AA205","v":""},{"$f":"Sumy_All_Q!AB205","v":""},{"$f":"Sumy_All_Q!AC205","v":""},{"$f":"Sumy_All_Q!AD205","v":""},{"$f":"Sumy_All_Q!AE205","v":""},{"$f":"Sumy_All_Q!AF205","v":""},{"$f":"Sumy_All_Q!AG205","v":""},{"$f":"Sumy_All_Q!AH205","v":""},{"$f":"Sumy_All_Q!AI205","v":""},{"$f":"Sumy_All_Q!AJ205","v":""},{"$f":"Sumy_All_Q!AK205","v":""},{"$f":"Sumy_All_Q!AL205","v":""},{"$f":"Sumy_All_Q!AM205","v":""},{"$f":"Sumy_All_Q!AN205","v":""},{"$f":"Sumy_All_Q!AO205","v":""},{"$f":"Sumy_All_Q!AP205","v":""},{"$f":"Sumy_All_Q!AQ205","v":""}]
[null,"Otázka 18","z-skóre",{"$f":"Sumy_All_Q!C217","v":"Q"},{"$f":"Sumy_All_Q!D217","v":""},{"$f":"Sumy_All_Q!E217","v":""},{"$f":"Sumy_All_Q!F217","v":""},{"$f":"Sumy_All_Q!G217","v":""},{"$f":"Sumy_All_Q!H217","v":""},{"$f":"Sumy_All_Q!I217","v":""},{"$f":"Sumy_All_Q!J217","v":""},{"$f":"Sumy_All_Q!K217","v":""},{"$f":"Sumy_All_Q!L217","v":""},{"$f":"Sumy_All_Q!M217","v":""},{"$f":"Sumy_All_Q!N217","v":""},{"$f":"Sumy_All_Q!O217","v":""},{"$f":"Sumy_All_Q!P217","v":""},{"$f":"Sumy_All_Q!Q217","v":""},{"$f":"Sumy_All_Q!R217","v":""},{"$f":"Sumy_All_Q!S217","v":""},{"$f":"Sumy_All_Q!T217","v":""},{"$f":"Sumy_All_Q!U217","v":""},{"$f":"Sumy_All_Q!V217","v":""},{"$f":"Sumy_All_Q!W217","v":""},{"$f":"Sumy_All_Q!X217","v":""},{"$f":"Sumy_All_Q!Y217","v":""},{"$f":"Sumy_All_Q!Z217","v":""},{"$f":"Sumy_All_Q!AA217","v":""},{"$f":"Sumy_All_Q!AB217","v":""},{"$f":"Sumy_All_Q!AC217","v":""},{"$f":"Sumy_All_Q!AD217","v":""},{"$f":"Sumy_All_Q!AE217","v":""},{"$f":"Sumy_All_Q!AF217","v":""},{"$f":"Sumy_All_Q!AG217","v":""},{"$f":"Sumy_All_Q!AH217","v":""},{"$f":"Sumy_All_Q!AI217","v":""},{"$f":"Sumy_All_Q!AJ217","v":""},{"$f":"Sumy_All_Q!AK217","v":""},{"$f":"Sumy_All_Q!AL217","v":""},{"$f":"Sumy_All_Q!AM217","v":""},{"$f":"Sumy_All_Q!AN217","v":""},{"$f":"Sumy_All_Q!AO217","v":""},{"$f":"Sumy_All_Q!AP217","v":""},{"$f":"Sumy_All_Q!AQ217","v":""}]
[null,"Otázka 19","z-skóre",{"$f":"Sumy_All_Q!C229","v":"Q"},{"$f":"Sumy_All_Q!D229","v":""},{"$f":"Sumy_All_Q!E229","v":""},{"$f":"Sumy_All_Q!F229","v":""},{"$f":"Sumy_All_Q!G229","v":""},{"$f":"Sumy_All_Q!H229","v":""},{"$f":"Sumy_All_Q!I229","v":""},{"$f":"Sumy_All_Q!J229","v":""},{"$f":"Sumy_All_Q!K229","v":""},{"$f":"Sumy_All_Q!L229","v":""},{"$f":"Sumy_All_Q!M229","v":""},{"$f":"Sumy_All_Q!N229","v":""},{"$f":"Sumy_All_Q!O229","v":""},{"$f":"Sumy_All_Q!P229","v":""},{"$f":"Sumy_All_Q!Q229","v":""},{"$f":"Sumy_All_Q!R229","v":""},{"$f":"Sumy_All_Q!S229","v":""},{"$f":"Sumy_All_Q!T229","v":""},{"$f":"Sumy_All_Q!U229","v":""},{"$f":"Sumy_All_Q!V229","v":""},{"$f":"Sumy_All_Q!W229","v":""},{"$f":"Sumy_All_Q!X229","v":""},{"$f":"Sumy_All_Q!Y229","v":""},{"$f":"Sumy_All_Q!Z229","v":""},{"$f":"Sumy_All_Q!AA229","v":""},{"$f":"Sumy_All_Q!AB229","v":""},{"$f":"Sumy_All_Q!AC229","v":""},{"$f":"Sumy_All_Q!AD229","v":""},{"$f":"Sumy_All_Q!AE229","v":""},{"$f":"Sumy_All_Q!AF229","v":""},{"$f":"Sumy_All_Q!AG229","v":""},{"$f":"Sumy_All_Q!AH229","v":""},{"$f":"Sumy_All_Q!AI229","v":""},{"$f":"Sumy_All_Q!AJ229","v":""},{"$f":"Sumy_All_Q!AK229","v":""},{"$f":"Sumy_All_Q!AL229","v":""},{"$f":"Sumy_All_Q!AM229","v":""},{"$f":"Sumy_All_Q!AN229","v":""},{"$f":"Sumy_All_Q!AO229","v":""},{"$f":"Sumy_All_Q!AP229","v":""},{"$f":"Sumy_All_Q!AQ229","v":""}]
[null,"Otázka 20","z-skóre",{"$f":"Sumy_All_Q!C241","v":"Q"},{"$f":"Sumy_All_Q!D241","v":""},{"$f":"Sumy_All_Q!E241","v":""},{"$f":"Sumy_All_Q!F241","v":""},{"$f":"Sumy_All_Q!G241","v":""},{"$f":"Sumy_All_Q!H241","v":""},{"$f":"Sumy_All_Q!I241","v":""},{"$f":"Sumy_All_Q!J241","v":""},{"$f":"Sumy_All_Q!K241","v":""},{"$f":"Sumy_All_Q!L241","v":""},{"$f":"Sumy_All_Q!M241","v":""},{"$f":"Sumy_All_Q!N241","v":""},{"$f":"Sumy_All_Q!O241","v":""},{"$f":"Sumy_All_Q!P241","v":""},{"$f":"Sumy_All_Q!Q241","v":""},{"$f":"Sumy_All_Q!R241","v":""},{"$f":"Sumy_All_Q!S241","v":""},{"$f":"Sumy_All_Q!T241","v":""},{"$f":"Sumy_All_Q!U241","v":""},{"$f":"Sumy_All_Q!V241","v":""},{"$f":"Sumy_All_Q!W241","v":""},{"$f":"Sumy_All_Q!X241","v":""},{"$f":"Sumy_All_Q!Y241","v":""},{"$f":"Sumy_All_Q!Z241","v":""},{"$f":"Sumy_All_Q!AA241","v":""},{"$f":"Sumy_All_Q!AB241","v":""},{"$f":"Sumy_All_Q!AC241","v":""},{"$f":"Sumy_All_Q!AD241","v":""},{"$f":"Sumy_All_Q!AE241","v":""},{"$f":"Sumy_All_Q!AF241","v":""},{"$f":"Sumy_All_Q!AG241","v":""},{"$f":"Sumy_All_Q!AH241","v":""},{"$f":"Sumy_All_Q!AI241","v":""},{"$f":"Sumy_All_Q!AJ241","v":""},{"$f":"Sumy_All_Q!AK241","v":""},{"$f":"Sumy_All_Q!AL241","v":""},{"$f":"Sumy_All_Q!AM241","v":""},{"$f":"Sumy_All_Q!AN241","v":""},{"$f":"Sumy_All_Q!AO241","v":""},{"$f":"Sumy_All_Q!AP241","v":""},{"$f":"Sumy_All_Q!AQ241","v":""}]
[]
[null,"Otázka 1","steny",{"$f":"D4","v":"P"},{"$f":"IF(E4<>\"\",IF(E4>2.5,10,ROUND(E4 *2+5.5,0)),\"\")","v":5},{"$f":"IF(F4<>\"\",IF(F4>2.5,10,ROUND(F4 *2+5.5,0)),\"\")","v":3},4,4,6,3,6,6,8,5,6,6,4,5,3,5,3,6,4,5,5,7,10,6,6,5,10,8,"","","","","","","","","","","",""]
[null,"Otázka 2","steny",{"$f":"D5","v":"P"},4,{"$f":"IF(F5<>\"\",IF(F5>2.5,10,ROUND(F5 *2+5.5,0)),\"\")","v":4},6,4,4,4,7,6,8,4,4,4,4,5,5,4,{"$f":"IF(U5<>\"\",IF(U5>2.5,10,ROUND(U5 *2+5.5,0)),\"\")","v":4},7,5,4,4,4,10,4,9,7,7,8,"","","","","","","","","","","",""]
[null,"Otázka 3","steny","P",4,{"$f":"IF(F6<>\"\",IF(F6>2.5,10,ROUND(F6 *2+5.5,0)),\"\")","v":3},5,3,7,5,7,7,8,6,7,7,3,4,4,7,{"$f":"IF(U6<>\"\",IF(U6>2.5,10,ROUND(U6 *2+5.5,0)),\"\")","v":4},8,5,6,7,6,10,4,6,4,9,7,"","","","","","","","","","","",""]
[null,"Otázka 4","steny","P",4,{"$f":"IF(F7<>\"\",IF(F7>2.5,10,ROUND(F7 *2+5.5,0)),\"\")","v":4},4,4,5,4,5,5,8,4,4,4,4,4,7,4,{"$f":"IF(U7<>\"\",IF(U7>2.5,10,ROUND(U7 *2+5.5,0)),\"\")","v":4},5,4,6,4,4,10,4,9,7,4,7,"","","","","","","","","","","",""]
[null,"Otázka 5","steny","P",5,{"$f":"IF(F8<>\"\",IF(F8>2.5,10,ROUND(F8 *2+5.5,0)),\"\")","v":3},4,4,5,4,7,6,6,4,6,5,5,6,3,3,{"$f":"IF(U8<>\"\",IF(U8>2.5,10,ROUND(U8 *2+5.5,0)),\"\")","v":3},7,6,5,6,6,10,5,8,5,8,7,"","","","","","","","","","","",""]
[null,"Otázka 6","steny","N",4,{"$f":"IF(F9<>\"\",IF(F9>2.5,10,ROUND(F9 *2+5.5,0)),\"\")","v":9},4,7,5,10,4,5,4,10,4,6,4,4,5,5,{"$f":"IF(U9<>\"\",IF(U9>2.5,10,ROUND(U9 *2+5.5,0)),\"\")","v":5},5,4,5,5,5,5,5,5,4,5,4,"","","","","","","","","","","",""]
[null,"Otázka 7","steny","N",5,{"$f":"IF(F10<>\"\",IF(F10>2.5,10,ROUND(F10 *2+5.5,0)),\"\")","v":9},4,8,6,10,4,5,4,10,4,6,4,4,5,5,{"$f":"IF(U10<>\"\",IF(U10>2.5,10,ROUND(U10 *2+5.5,0)),\"\")","v":6},4,4,5,4,4,5,5,4,4,5,4,"","","","","","","","","","","",""]
[null,"Otázka 8","steny","N",5,{"$f":"IF(F11<>\"\",IF(F11>2.5,10,ROUND(F11 *2+5.5,0)),\"\")","v":10},4,7,5,10,5,5,4,10,5,5,4,4,5,5,{"$f":"IF(U11<>\"\",IF(U11>2.5,10,ROUND(U11 *2+5.5,0)),\"\")","v":5},5,5,5,5,5,5,5,5,4,7,4,"","","","","","","","","","","",""]
[null,"Otázka 9","steny","N",5,{"$f":"IF(F12<>\"\",IF(F12>2.5,10,ROUND(F12 *2+5.5,0)),\"\")","v":10},5,6,5,10,5,6,5,10,5,5,5,5,5,5,{"$f":"IF(U12<>\"\",IF(U12>2.5,10,ROUND(U12 *2+5.5,0)),\"\")","v":5},5,5,5,5,5,5,6,5,5,5,5,"","","","","","","","","","","",""]
[null,"Otázka 10","steny","N",5,{"$f":"IF(F13<>\"\",IF(F13>2.5,10,ROUND(F13 *2+5.5,0)),\"\")","v":8},5,8,8,10,5,4,4,10,4,5,4,4,5,5,{"$f":"IF(U13<>\"\",IF(U13>2.5,10,ROUND(U13 *2+5.5,0)),\"\")","v":5},4,5,5,5,6,6,5,6,4,6,4,"","","","","","","","","","","",""]
[null,"Otázka 11","steny","Q","",{"$f":"IF(F14<>\"\",IF(F14>2.5,10,ROUND(F14 *2+5.5,0)),\"\")","v":""},"","","","","","","","","","","","","","",{"$f":"IF(U14<>\"\",IF(U14>2.5,10,ROUND(U14 *2+5.5,0)),\"\")","v":""},"","","","","","","","","","","","","","","","","","","","","","",""]
[null,"Otázka 12","steny","Q","",{"$f":"IF(F15<>\"\",IF(F15>2.5,10,ROUND(F15 *2+5.5,0)),\"\")","v":""},"","","","","","","","","","","","","","",{"$f":"IF(U15<>\"\",IF(U15>2.5,10,ROUND(U15 *2+5.5,0)),\"\")","v":""},"","","","","","","","","","","","","","","","","","","","","","",""]
[null,"Otázka 13","steny","Q","",{"$f":"IF(F16<>\"\",IF(F16>2.5,10,ROUND(F16 *2+5.5,0)),\"\")","v":""},"","","","","","","","","","","","","","",{"$f":"IF(U16<>\"\",IF(U16>2.5,10,ROUND(U16 *2+5.5,0)),\"\")","v":""},"","","","","","","","","","","","","","","","","","","","","","",""]
[null,"Otázka 14","steny","Q","",{"$f":"IF(F17<>\"\",IF(F17>2.5,10,ROUND(F17 *2+5.5,0)),\"\")","v":""},"","","","","","","","","","","","","","",{"$f":"IF(U17<>\"\",IF(U17>2.5,10,ROUND(U17 *2+5.5,0)),\"\")","v":""},"","","","","","","","","","","","","","","","","","","","","","",""]
[null,"Otázka 15","steny","Q","",{"$f":"IF(F18<>\"\",IF(F18>2.5,10,ROUND(F18 *2+5.5,0)),\"\")","v":""},"","","","","","","","","","","","","","",{"$f":"IF(U18<>\"\",IF(U18>2.5,10,ROUND(U18 *2+5.5,0)),\"\")","v":""},"","","","","","","","","","","","","","","","","","","","","","",""]
[null,"Otázka 16","steny","Q","",{"$f":"IF(F19<>\"\",IF(F19>2.5,10,ROUND(F19 *2+5.5,0)),\"\")","v":""},"","","","","","","","","","","","","","",{"$f":"IF(U19<>\"\",IF(U19>2.5,10,ROUND(U19 *2+5.5,0)),\"\")","v":""},"","","","","","","","","","","","","","","","","","","","","","",""]
[null,"Otázka 17","steny","Q","",{"$f":"IF(F20<>\"\",IF(F20>2.5,10,ROUND(F20 *2+5.5,0)),\"\")","v":""},"","","","","","","","","","","","","","",{"$f":"IF(U20<>\"\",IF(U20>2.5,10,ROUND(U20 *2+5.5,0)),\"\")","v":""},"","","","","","","","","","","","","","","","","","","","","","",""]
[null,"Otázka 18","steny","Q","",{"$f":"IF(F21<>\"\",IF(F21>2.5,10,ROUND(F21 *2+5.5,0)),\"\")","v":""},"","","","","","","","","","","","","","",{"$f":"IF(U21<>\"\",IF(U21>2.5,10,ROUND(U21 *2+5.5,0)),\"\")","v":""},"","","","","","","","","","","","","","","","","","","","","","",""]
[null,"Otázka 19","steny","Q",{"$f":"IF(E22<>\"\",IF(E22>2.5,10,ROUND(E22 *2+5.5,0)),\"\")","v":""},"","","","","","","","","","","","","","","",{"$f":"IF(U22<>\"\",IF(U22>2.5,10,ROUND(U22 *2+5.5,0)),\"\")","v":""},"","","","","","","","","","","","","","","","","","","","","","",""]
[null,"Otázka 20","steny","Q",{"$f":"IF(E23<>\"\",IF(E23>2.5,10,ROUND(E23 *2+5.5,0)),\"\")","v":""},"","","","","","","","","","","","","","","","","","","","","","","","","","","","","","","","","","","","","","",""]
[]
[null,"Hranica normy P","P_HH","P",{"$f":"IF(E4<>\"\",7,\"\")","v":7},{"$f":"IF(F4<>\"\",7,\"\")","v":7},7,7,7,7,7,7,7,7,7,7,7,7,7,7,7,7,7,7,7,7,7,7,7,7,7,7,"","","","","","","","","","","",""]
[null,"Hranica normy N","N_HH","N",{"$f":"IF(E4<>\"\",3,\"\")","v":3},{"$f":"IF(F4<>\"\",3,\"\")","v":3},3,3,3,3,3,3,3,3,3,3,3,3,3,3,3,3,3,3,3,3,3,3,3,3,3,3,"","","","","","","","","","","",""]
[]
[null,null,null,null,null,null,null,null,null,null,"Pozicie žiakov vo všetkých otázkach; 3 voľby Pozitívne konotácie versus Negatívne"]
[]
[]
[]
[]
[]
[]
[]
[]
[]
[]
[]
[]
[]
[]
[]
[]
[]
[]
[]
[]
[]
[]
[]
[]
[]
[null,null,null,"Pozicie žiakov v jednotlivých otázkach; 3 voľby"]

{"sheet":"Questions","index":42,"n_rows":32,"n_cols":4,"rows_kept":32,"cut":false,"hidden":false,"merged":[]}
[null,"→","Hlavička sgm. Nemazať!","\"Version 01.00\",\"Škola\",\"Psychológ\",\"Obdobie\",\"Dátum\",\"Trieda\""]
["Konotácia",null,"Nemazať!","Skrátené"]
["P",1,"\"1. S kým z triedy by si chcel sedieť v jednej lavici?\"","1. Sedieť"]
["P",2,"\"2. S kým z triedy by si najradšej písaval úlohy a učieval sa?\"","2. Učiť sa"]
["P",3,"\"3. S kým z triedy by si chcel stráviť prázdniny na pustom ostrove?\"","3. Ostrov"]
["P",4,"\"4. Kto by najlepšie dokázal hájiť záujmy triedy?\"","4. Hájiť"]
["P",5,"\"5. Komu z triedy by si zveril svoje tajomstvo?\"","5. Tajomstvo"]
["N",6,"\"6. S kým z triedy by si nechcel sedieť v jednej lavici?\"","6. Nesedieť"]
["N",7,"\"7. S kým z triedy by si v žiadnom prípade nechcel písavať úlohy a učievať sa?\"","7. Neučiť sa"]
["N",8,"\"8. S kým z triedy by si nechcel stráviť prázdniny na pustom ostrove?\"","8. Nie Ostrov"]
["N",9,"\"9. Koho by si vôbec nevybral na hájenie záujmov triedy?\"","9. Nie Hájiť"]
["N",10,"\"10. Komu z triedy by si nikdy nezveril svoje tajomstvo?\"","10. Nezveril"]
["Q",11,"\"11. Nezadaná\"","11. Nezadaná"]
["Q",12,"\"12. Nezadaná\"","12. Nezadaná"]
["Q",13,"\"13. Nezadaná\"","13. Nezadaná"]
["Q",14,"\"14. Nezadaná\"","14. Nezadaná"]
["Q",15,"\"15. Nezadaná\"","15. Nezadaná"]
["Q",16,"\"16. Nezadaná\"","16. Nezadaná"]
["Q",17,"\"17. Nezadaná\"","17. Nezadaná"]
["Q",18,"\"18. Nezadaná\"","18. Nezadaná"]
["Q",19,"\"19. Nezadaná\"","19. Nezadaná"]
["Q",20,"\"20. Nezadaná\"","20. Nezadaná"]
[]
[null,null,"Nemazať!"]
[null,null,"Suma volieb 1 + 2 + 3 spolu"]
[null,null,"Suma volieb 1"]
[null,null,"Suma volieb 2"]
[null,null,"Suma volieb 3"]
[null,null,"Percento Suma volieb 1"]
[null,null,"Percento Suma volieb 2"]
[null,null,"Percento Suma volieb 3"]
[null,null,"Percento Suma volieb 1 + 2 + 3 spolu"]

{"sheet":"Technický návod","index":43,"n_rows":658,"n_cols":13,"rows_kept":658,"cut":false,"hidden":false,"merged":[]}
[null,"Technický návod na obsluhu všetkých spreadsheetov na vyhodnotenie sociometrie verzie A, B, C, D, E, F,G."]
[null,"Mgr. Stanislav Fila, psychológ CPPPaP Banská Bystrica"]
[]
[null,"Dôležité technické poznámky."]
[]
[null,"A. Musíme mať povolené makrá. (Všetky verzie spreadsheeotov)."]
[]
[null,null,"Pretože spreadsheet obsahuje makrá v jazyku Visual Basic pred samotnou prácou"]
[null,"je potrebné povoliť makrá."]
[]
[null,"V EXCELI 2003."]
[null,"Dáme Nastroje → Možnosti → Zabezpečenie → Zabezpečenie makier"]
[]
[]
[]
[]
[]
[]
[]
[]
[]
[]
[]
[]
[]
[]
[]
[]
[]
[]
[]
[]
[]
[null,"Môžeme zvoliť podľa potreby Stredná alebo ak máme dobrý rezidentný Antivirový program aj Nizka."]
[]
[null,"Ak zvolíme Stredná po spustení sa objaví oznam:"]
[]
[]
[]
[]
[]
[]
[]
[]
[]
[]
[]
[]
[null,"V EXCELI 2007 a vyššie."]
[]
[null,"Keď nie sú povolené makrá objaví sa napr. oznam:"]
[]
[]
[]
[]
[]
[]
[]
[]
[null,"Stlačíme Tlačidlo OFFICE vľavo hore."]
[]
[null,"Potom klikneme dole na Možnosti programu EXCEL a vyberieme Centrum dôveryhodnosti."]
[]
[]
[]
[]
[]
[]
[]
[]
[]
[]
[]
[]
[]
[]
[]
[]
[]
[]
[]
[]
[]
[]
[]
[]
[null,"Nastavenie centra dôveryhodnosti → Nastavenie makra:"]
[]
[]
[]
[]
[]
[]
[]
[]
[]
[]
[]
[]
[]
[]
[]
[null,"V EXCELI 2013."]
[]
[null,"Klikneme na SÚBOR:"]
[]
[]
[]
[]
[]
[]
[]
[]
[]
[]
[]
[]
[]
[]
[]
[]
[]
[null,"Vyberieme Možnosti:"]
[]
[]
[]
[]
[]
[]
[]
[]
[]
[]
[]
[]
[]
[]
[]
[]
[]
[]
[]
[]
[]
[]
[]
[]
[]
[]
[]
[]
[]
[]
[]
[]
[]
[null,"Vyberieme Možnosti → Centrum dôveryhodnosti:"]
[]
[]
[]
[]
[]
[]
[]
[]
[]
[]
[]
[]
[]
[]
[]
[]
[]
[]
[]
[]
[]
[]
[null,"Zaklikneme takto:"]
[]
[]
[]
[]
[]
[]
[]
[]
[]
[]
[]
[]
[]
[]
[]
[]
[]
[]
[]
[]
[]
[]
[]
[]
[null,"B. Musíme mať nainštalovaný Add In XY Chart Labeler. (Nie je nutný pre verzie Socio_Semafo bez histogramov)."]
[]
[null,"Autor je vývojár Microsoftu Rob Bovey, je zdarma na stiahnutie napríklad na lokácii:"]
[null,"http://www.appspro.com/Utilities/ChartLabeler.htm"]
[]
[]
[]
[]
[]
[]
[]
[]
[]
[]
[]
[]
[]
[]
[]
[]
[]
[]
[]
[]
[]
[]
[]
[]
[]
[]
[]
[]
[]
[]
[null,"Stiahneme verziu pre Windows:"]
[]
[]
[]
[]
[]
[]
[]
[]
[]
[]
[]
[]
[null,"a spustíme:",null," XYChartLabeler.exe"]
[]
[null,"B. Musíme mať nainštalované a povolené tzv. Doplnky a to konkrétne"]
[]
[null,null,"Analytické nástroje"]
[null,null,"Analytické nástroje - VBA"]
[null,null,"XY Chart Labeler 7.1"]
[]
[null,"V EXCELI 2003 dáme: Nástroje → Doplnky."]
[null,"Zobrazí sa toto:",null,null,null,null,null,null,"Zaklikneme to takto:"]
[]
[]
[]
[]
[]
[]
[]
[]
[]
[]
[]
[]
[]
[]
[]
[]
[]
[]
[]
[]
[]
[null,"Ak by sme to nezaklikli objaví sa oznam:",null,null,null,null,"Keď nie je zakliknuté XY Chart Labeler:",null,null,null,null,null,"Keď nie sú zakliknuté Analytické nástroje:"]
[]
[]
[]
[]
[]
[]
[]
[]
[]
[]
[]
[]
[null,"Keď by sme teraz stlačili Debug program vojde do makra a ukáže čo mu chýba:"]
[]
[]
[]
[]
[]
[]
[]
[]
[]
[]
[]
[]
[]
[]
[]
[]
[]
[]
[null,"Makro diferencuje, či sme v prostredí EXCEL 2003 alebo EXCEL 2007 a vyššie."]
[null,"Z okna makra odídeme tak, že stlačíme krížik vpravo hore (Koniec) a odklikneme OK v tomto ozname:"]
[]
[]
[]
[]
[]
[]
[]
[]
[]
[]
[null,"V EXCELI 2007 a vyššie."]
[]
[null,"Stlačíme Tlačidlo OFFICE vľavo hore."]
[null,"Potom klikneme dole na Možnosti programu EXCEL a vyberieme Doplnky."]
[null,"Predtým sme doinštalovali XY Chart Labels."]
[]
[]
[]
[]
[]
[]
[]
[]
[]
[]
[]
[]
[]
[]
[]
[]
[]
[]
[]
[]
[]
[]
[]
[]
[]
[]
[]
[]
[null,"Dáme Spustiť. Môže sa objaviť oznam:"]
[]
[]
[]
[]
[]
[]
[]
[]
[null,"Dáme Áno a Doplnok sa nainštaluje. Znovu dáme spustiť a objaví sa toto:",null,null,null,null,null,null,null,"Zaklikneme to takto:"]
[]
[]
[]
[]
[]
[]
[]
[]
[]
[]
[]
[]
[]
[]
[]
[]
[]
[]
[]
[]
[null,"Bez zakliknutých Doplnkov sa zobrazí toto:"]
[]
[]
[]
[]
[]
[]
[]
[]
[]
[]
[]
[]
[]
[]
[]
[]
[]
[]
[]
[]
[]
[null,"Vidíme, že makro identifikovalo verziu EXCELU a potrebuje XY Chart Labeler alebo daný doplnok."]
[null,"Z makra odídeme rovnako ako v EXCELI 2003."]
[]
[null,"V EXCELI 2013."]
[]
[null,"Klikneme na SÚBOR:"]
[]
[]
[]
[]
[]
[]
[]
[]
[]
[]
[]
[]
[]
[]
[]
[]
[]
[]
[null,"Vyberieme Možnosti:"]
[]
[]
[]
[]
[]
[]
[]
[]
[]
[]
[]
[]
[]
[]
[]
[]
[]
[]
[]
[]
[]
[]
[]
[]
[]
[]
[]
[]
[]
[]
[]
[]
[]
[null,"Vyberieme Doplnky:"]
[]
[]
[]
[]
[]
[]
[]
[]
[]
[]
[]
[]
[]
[]
[]
[]
[]
[]
[]
[]
[]
[null,"Vyberieme Spravovať : Doplnky programu Excel → Spustiť"]
[]
[]
[]
[]
[]
[null,"Zaklikneme takto:"]
[]
[]
[]
[]
[]
[]
[]
[]
[]
[]
[]
[]
[]
[]
[]
[]
[]
[]
[]
[]
[]
[]
[]
[]
[]
[]
[null,"Dáme OK. Keď nie sú k dispozícii Analytické nástroje a Analytické nástroje - VBA"]
[null,"musíme ich doinštalovať."]
[]
[null,"V iných verziách som to netestoval."]
[]
[null,"Problémy s kompatibilitou verzií EXCELU."]
[]
[null,"Makrá som programoval a odladil pôvodne v EXCELI 2003."]
[null,"V tejto verzii programy pracujú bez problémov."]
[]
[null,"Testovanie v iných verziách ukázalo, že môžu vniknúť určité problémy s vyššími verziami."]
[null,"Po prvom seminári 9. 10. 2017 som programy upravil, aby pracovali správne vo vyšších verziách."]
[]
[null,"Ďalšie testovanie."]
[]
[null," 1. Testovanie pod OFFICE 2007 PRO pod operačných systémom Windows XP."]
[null," ","Programy pracovali bez problémov."]
[null," 2. Testovanie pod OFFICE 2013 pod operačným systémom Windows 10."]
[null,null,"Programy pracovali bez problémov."]
[null," 3. Testovanie pod OFFICE 2007 pod operačným systémom Windows 10."]
[null,null,"Programy A, B, C pracovali bez problémov. Ale v programoch D, E, F, teda verziách"]
[null," ","s histogramami, program nevytvorí histogram. Pritom na niektorých PC programy pracujú"]
[null,null,"správne aj pod EXCEL 2007. Nie je jasné prečo."]
[]
[null,"Odporúčaný postup."]
[]
[null," 1. Natiahneme do nášho EXCELU súbor *.xls. Vyššie verzie ho načítajú."]
[null," 2. Vyskúšame, či pracuje správne. Vo verziách A, B, D, E takto:"]
[]
[null," ","a.) Prejdeme do Listu Q_10 a stlačíme tlačidlo „Prelož otázku do Sumy_All_Q“."]
[null," ",null,"Po chvíli sa objaví oznam:"]
[]
[]
[]
[]
[]
[]
[]
[]
[]
[]
[]
[]
[]
[null," ","b.) Stlačíme Áno. Program zbehne a dá oznam:"]
[]
[]
[]
[]
[]
[]
[]
[]
[]
[]
[]
[]
[]
[]
[null," ","c.) Stlačíme OK."]
[]
[null,"Vo verziách C, F overíme či program pracuje správne takto:"]
[]
[null,null,"a.) Prejdeme do Listu „Sumy_All_Q“"]
[null,null,"b.) Stlačíme tlačidlo „Preložiť do Target grafov“. Program zbehne a dá oznam o voľbe výstupu."]
[]
[null,null,"Verzia C:",null,null,null,null,null,"Verzia F:"]
[]
[]
[]
[]
[]
[]
[]
[]
[]
[]
[]
[]
[]
[]
[]
[]
[]
[]
[]
[]
[]
[]
[null," ","c.) Vyberieme niektorú z možností – pri verzii F zvolíme 4 aby sme videli, či sú histogramy "]
[null,null,"nakreslené správne – a dáme OK. Objaví sa záverečný oznam:"]
[]
[]
[]
[]
[]
[]
[]
[]
[]
[]
[]
[]
[]
[]
[null," 3. Prekontrolujeme Histogramy. Keď sú zelené čiary vodorovné napríklad takto:"]
[]
[]
[]
[]
[]
[]
[]
[]
[]
[]
[]
[]
[]
[]
[]
[]
[]
[null,null,"znamená to, že doplnok ATPVBAEN.XLAM nepracuje správne. Dôvod zatiaľ nepoznám. "]
[]
[null," 4. Potom súbor uložíme ako „Zošit programu EXCEL podporujúci makrá“."]
[null," 5. Tento súbor má príponu *.xlsm."]
[null," 6. Ďalej pracujeme s týmto súborom."]
[]
[null,"Koniec technického návodu."]
[]
[null,"V Banskej Bystrici dňa 6.2.2018 "]
[]
[null,"Stanislav Fila"]

{"sheet":"Stručný návod","index":44,"n_rows":390,"n_cols":4,"rows_kept":390,"cut":false,"hidden":false,"merged":[]}
[null,"Stručný návod na obsluhu spreadsheetu \"A_Socio_Semafo_Fila_Grun_ver_1_full.xls\""]
[null,"Mgr. Stanislav Fila, psychológ CPPPaP Banská Bystrica"]
[null,"Aktualizácia 8.11.2018"]
[]
[null,"Program nie je možné použiť na komerčné účely."]
[]
[null,"Dôležité upozornenie!"]
[null,"Pred prácou s programom je nutné dodržať pokyny uvedené v Technickom návode."]
[null,"Ten je v Liste: \"Technický návod\"."]
[]
[null,"Jednoducho povedané, treba mať povolené makrá,"]
[null,"treba mať povolené Doplnky:"]
[]
[null,null,"Analytické nástroje"]
[null,null,"Analytické nástroje VBA"]
[]
[null,"a treba mať nainštalovaný a povolený v Doplnkoch:"]
[]
[null,null,"XY Chart Labeler 7.1"]
[]
[null,"Ako sa to robí a ďalšie podrobnosti sú v už spomínanom \"Technickom návode\"."]
[]
[null,"Dimenzovanie programu."]
[]
[null,"Program má tieto parametre, ak chceme obmedzenia."]
[]
[null,"1. Počet otázok na jednotlivé sociálne role môže byť najviac 20."]
[null,"2. Počet osôb môže byť najmenej 4 a najviac 40."]
[null,"3. Počet volieb môže byť najviac 3."]
[null,"4. V Liste Questions musia byť zadané mená otázok v plnom znení (hlavičky v Listoch), ako aj"]
[null," v skrátenom znení ktoré program vkladá do názvov grafov jednotlivých otázok."]
[null,"5. V tomto liste taktiež musia byť zadané konotácie, P = pozitívna, N = negatívna, Q = nezadaná otázka."]
[]
[null,"Nezadaným otázkam dávame rovnaké meno aj pre plný aj pre skrátený názov, napr. \"11.  Nezadaná.\""]
[]
[null,"Názvy jednotlivých Listov nemožno meniť, pretože makrá programu sa o ne opierajú."]
[]
[null,"Názvy Listov sú tieto:"]
[]
[null,"Listy Q_1; Q_2; Q_3 .... až Q_20 sú Listy, kde sú matice odpovedí."]
[null,"Listy SG_1; SG_2; SG_3 .... až SG_20 sú Listy, kde sú súbory *.sgm pre Walshov program."]
[null,"List Questions: tam je spomínané znenie otázok."]
[null,"List Podrobný návod: tam je podrobný návod na obsluhu."]
[null,"List Stručný návod: tam je stručný návod na obsluhu bez chybových hlásení."]
[null,"List Technický Návod: tam je popis ako zapneme makrá."]
[null,"List Pomo: na odkladanie pomocných vecí"]
[]
[null,"Práca s programom."]
[]
[null,"Po otvorení súboru najprv zadáme znenie použitých sociometrických otázok, konotáciu a skrátené názvy."]
[]
[null,"Prejdeme do Listu Questions."]
[]
[null,"Do stĺpca B dáme konotácie otázok. Pre pozitívne otázky písmeno P, pre negatívne písmeno N"]
[null,null,"pre pozitívne otázky písmeno P"]
[null,null,"pre negatívne otázky písmeno N"]
[null,null,"pre nepoužité otázky písmeno Q"]
[null,"Písmená P a N sú povinné. Makrá kontroluje ich zadanie."]
[]
[null,"Do stĺpca C dáme znenie otázok."]
[]
[null,"Musia byť v konvencii pre Walshov program Sociometry, teda úvodzovky vľavo, text otázky medzera písmeno pohlavia a úvodzovky vpravo."]
[]
[null,"Do stĺpca D dáme skrátené názvy otázok. Nemusia byť v konvencii Walshovho programu, teda v úvodzovkách."]
[null,"Program ich dáva do názvov grafov."]
[]
[null,"Správne vyplnenie otázok v Liste Questions vyzerá napríklad takto:"]
[]
[null,"Otázky v Liste Questions vyzerajú napr. takto:"]
[]
[]
[]
[]
[]
[]
[]
[]
[]
[]
[]
[]
[]
[]
[]
[]
[]
[]
[]
[]
[]
[]
[]
[]
[]
[]
[null,"Potom prejdeme do Listu: Q_1. Dole vidíme tieto tlačidlá:"]
[]
[]
[]
[]
[]
[]
[]
[]
[]
[]
[]
[]
[]
[]
[]
[]
[null,"Najprv stlačíme tlačidlo „Vymaž údaje“. "]
[]
[]
[]
[]
[null,"Makro vykoná rôzne kontroly (viď Poddobný návod) a dá oznam:"]
[]
[]
[]
[]
[]
[]
[]
[]
[]
[]
[]
[]
[]
[]
[]
[]
[]
[null,"Stlačíme OK , makro sa nastaví na bunku „B5“ v Liste „Q_1“ teda sem:"]
[]
[]
[]
[]
[]
[]
[]
[]
[]
[]
[]
[null,"Postupne vkladáme čísla osôb do stĺpca „B“ a mená osôb do stĺpca „C“. Keď skončíme stlačíme"]
[null,"tlačidlo „Prelož mená“."]
[]
[]
[]
[]
[null,"Makro vykoná ďalšie kontroly (viď Podrobný návod) a vyžiada si počet volieb:"]
[]
[]
[]
[]
[]
[]
[]
[]
[]
[]
[]
[null,"Zadáme počet volieb, ak sú tri, stlačíme len OK a program preloží mená do všetkých Listov."]
[null,"Potom dá oznam o preložení mien do všetkých Listov::"]
[]
[]
[]
[]
[]
[]
[]
[]
[]
[]
[]
[]
[]
[]
[]
[]
[]
[]
[]
[]
[]
[null,"Pred preložením mien to v Liste Q_1 vyzerá napr. takto:"]
[]
[]
[]
[]
[]
[]
[]
[]
[]
[]
[]
[]
[]
[]
[]
[]
[]
[]
[]
[]
[]
[]
[]
[]
[]
[]
[]
[]
[]
[null,"Po preložení sú mená aj v hlavičkách stĺpcov napr."]
[]
[]
[]
[]
[]
[]
[]
[]
[]
[]
[]
[]
[]
[]
[]
[]
[]
[]
[]
[]
[]
[]
[]
[]
[null,"Údaje zadávame dvojklikmi na myši takto:"]
[null,null,"Nastavíme sa v danom riadku pod osobu, ktorá bola zvolená ako prvá"]
[null," ",null,"a dáme ľavý dvojklik myšou. V danej bunke sa objaví číslo 1."]
[null,null,"Nastavíme sa v danom riadku pod osobu, ktorá bola zvolená ako druhá"]
[null," ",null,"a dáme ľavý dvojklik myšou. V danej bunke sa objaví číslo 2."]
[null,null,"Nastavíme sa v danom riadku pod osobu, ktorá bola zvolená ako tretia"]
[null," ",null,"a dáme ľavý dvojklik myšou. V danej bunke sa objaví číslo 3."]
[]
[null,null,"Prejdeme do ďalšieho riadku a postup opakujeme."]
[]
[null,"Vyzerá to napr. takto (neukotvené priečky):"]
[]
[]
[]
[]
[]
[]
[]
[]
[]
[]
[]
[]
[]
[]
[]
[]
[]
[]
[]
[]
[null,"Môžeme si ukotviť priečky, kvôli prehľadu. Klikneme na Riadok 4 a dáme ukotviť priečky."]
[]
[]
[]
[]
[]
[]
[]
[]
[]
[]
[null,"Čo robiť, keď sa pomýlime:"]
[]
[null,"V bunke C3 je počítadlo klikov."]
[]
[]
[]
[]
[]
[]
[]
[]
[]
[]
[null,"1. Vymažeme chybné číslo."]
[null,"2. Nastavíme počítadlo, ktoré je v bunke C3 na hodnotu, ktorú chceme vložiť."]
[null,"3. Klikneme znovu na novú bunku 2x."]
[]
[null,"Alebo:"]
[null,"1. Vymažeme všetky čísla v danom riadku."]
[null,"2. Do bunky počítadla dáme hodnotu nula = 0"]
[null,"3. Znovu zadáme tri správne čísla."]
[]
[null,"Alebo:"]
[null,"1. Dvojklikneme na chybnom čísle. Číslo zmizne."]
[null,"2. Dáme ľavý klik na hociktorej inej prázdnej bunke. Chybné číslo zmizne."]
[null,"3. Teraz dvojklikneme na správnej bunke."]
[null,"4. Toto opakujeme, kým tam nebude správne číslo (max 3 razy), pretože to súvisí s počítadlom."]
[]
[null,"Lepšie je dávať pozor, alebo druhý postup s vymazaním riadku a nastavením počítadla na nulu."]
[null,"Matice môžeme aj kopírovať, ak ich máme vyhotovené predtým v EXCELI. (Tak postupujem pri"]
[null,"ladení)."]
[]
[null,"Keď vyplníme maticu stlačíme tlačidlo „Vypočítaj sumy“."]
[null,"pod maticu. Vyzerá to takto:"]
[]
[]
[]
[]
[null,"Makro vypočíta potrebné sumy a dá ich pod maticu. Vyzerá to napr. takto:"]
[]
[]
[]
[]
[]
[]
[]
[]
[]
[]
[]
[]
[]
[]
[]
[]
[null,"Program nič neoznámi,"]
[]
[null,"Teraz stlačíme tlačidlo „Prelož otázku do Sumy_All_Q“."]
[]
[]
[]
[]
[null,"Program preloží údaje do Listu Sumy_All_Q a položí otázku:"]
[]
[]
[]
[]
[]
[]
[]
[]
[]
[]
[]
[]
[]
[]
[null,"Stlačíme podľa situácie. Ak to nie je posledná otázka zvolíme Nie,"]
[null,"a program prejde do ďalšieho Listu."]
[null,"Vyplníme ďalšiu maticu a znovu stlačíme tlačidlá:"]
[]
[]
[]
[null,"a potom"]
[]
[]
[]
[null,"Keď je to posledná otázka stlačíme Áno."]
[null,"Program ešte vykoná nejaké kontroly a dá oznam:"]
[]
[]
[]
[]
[]
[]
[]
[]
[]
[]
[]
[]
[]
[]
[null,"To je všetko."]
[null,"2018-11-18"]

{"sheet":"Podrobný návod","index":45,"n_rows":1748,"n_cols":21,"rows_kept":1748,"cut":false,"hidden":false,"merged":[]}
[null,"Podrobný návod na obsluhu spreadsheetu \"B_Socio_Semafo_Fila_Grun_ver_1_full_new.xls\""]
[null,"Mgr. Stanislav Fila, psychológ CPPPaP Banská Bystrica"]
[null,"Aktualizácia 8.11.2018"]
[]
[null,"Program nie je možné použiť na komerčné účely."]
[]
[null,"Dôležité upozornenie!"]
[null,"Pred prácou s programom je nutné dodržať pokyny uvedené v Technickom návode."]
[null,"Ten je v Liste: \"Technický návod\"."]
[]
[null,"Jednoducho povedané, treba mať povolené makrá,"]
[null,"treba mať povolené Doplnky:"]
[]
[null,null,"Analytické nástroje"]
[null,null,"Analytické nástroje VBA"]
[]
[null,"a treba mať nainštalovaný a povolený v Doplnkoch:"]
[]
[null,null,"XY Chart Labeler 7.1"]
[]
[null,"Ako sa to robí a ďalšie podrobnosti sú v už spomínanom \"Technickom návode\"."]
[]
[null,"Úvod."]
[]
[null,null,"Tento spreadsheet som naprogramoval inšpirovaný postupom, ktorý používa na vyhodnotenie"]
[null,"sociometrie v triede Mgr. Dušan Grúň, psychológ, riaditeľ CPPPaP v Žiline."]
[]
[null,"Svoj postup popísal takto:"]
[]
[null,null,"Ad 2) Sociometria. Prikláňam sa ale k názoru, že sociometria mi povie o triede (a teraz"]
[null,"doplním nie moc odborné), že naozaj nemusím mať normy. Nemusím porovnávať 6.A z jednej ZŠ"]
[null,"so 6.B z inej ZŠ). Čiže: u nás v hárku v inštrukcii hovoríme deťom, že nech dajú prvé tri voľby"]
[null,"(spracúvame iba dve). To je Príloha Word. Aby sme podporili anonymitu, tak na tabuli majú"]
[null,"napísané čísla v triednom výkaze a k tomu mená (od 1. Áxxx až po napr. 22. Žxxx). No a teda tie"]
[null,"deti píšu do nášho hárku ku každej položke iba 3 čísla svojich spolužiakov. Od \"najsilnejšej\" voľby"]
[null,"po \"najslabšiu\". Koloniek je tam 5 voľných ku každej položke, oni píšu tri a spracúvame 2. Aby sme"]
[null,"tie dáta vôbec od nich dostali. No a celé to vidno spracované v Prílohe Excel, kde si vyznačím ja"]
[null,"sám farebne veci, ktoré sa tlačia na povrch, čiže, konkrétne:"]
[]
[null,"Základná škola v .................., dotazník o žiakoch, sociometria z roku 2010"]
[null,null,1,2,3,4,5,6,7,8,9,10,11,12,13,14,15,16,17,18,19]
[null,"Sympatický","0,0/0,0","10,5/0,0","0,0/5,3","0,0/5,3","0,0/0,0","0,0/0,0","0,0/5,3","0,0/0,0","0,0/0,0","5,3/5,3","10,5/10,5","10,5/10,5","26,3/5,3","0,0/0,0","5,3/5,3","5,3/5,3","0,0/15,8","0,0/0,0","0,0/0,0"]
[null,"Voľný čas","0,0/0,0","10,5/15,8","5,3/5,3","0,0/0,0","0,0/0,0","0,0/5,3","0,0/5,3","5,3/0,0","5,3/0,0","10,5/0,0","15,8/5,3","0,0/10,5","21,1/10,5","0,0/5,3","5,3/5,3","0,0/10,5","5,3/5,3","0,0/0,0","5,3/5,3"]
[null,"O problémoch","0,0/0,0","10,5/5,3","5,3/0,0","5,3/0,0","0,0/0,0","5,3/5,3","5,3/26,3","5,3/0,0","10,5/0,0","5,3/0,0","10,5/0,0","5,3/0,0","5,3/5,3","5,3/0,0","5,3/15,8","0,0/5,3","0,0/15,8","0,0/0,0","0,0/5,3"]
[null,"Spolupráca","0,0/0,0","15,8/0,0","0,0/10,5","0,0/5,3","0,0/0,0","0,0/5,3","5,3/15,8","5,3/0,0","5,3/0,0","5,3/10,5","15,8/5,3","5,3/5,3","10,5/5,3","10,5/5,3","0,0/10,5","0,0/0,0","5,3/10,5","0,0/0,0","5,3/0,0"]
[null,"Dôveruješ","0,0/0,0","5,3/21,1","10,5/0,0","0,0/0,0","0,0/0,0","0,0/0,0","0,0/0,0","5,3/0,0","10,5/0,0","0,0/0,0","15,8/0,0","10,5/15,8","15,8/5,3","5,3/15,8","10,5/5,3","0,0/0,0","0,0/10,5","0,0/0,0","0,0/0,0"]
[null,"Bojíš sa","0,0/0,0","0,0/5,3","10,5/0,0","0,0/0,0","15,8/0,0","5,3/0,0","0,0/5,3","0,0/0,0","0,0/0,0","5,3/0,0","0,0/0,0","0,0/5,3","5,3/0,0","5,3/0,0","0,0/0,0","10,5/10,5","5,3/5,3","0,0/0,0","0,0/10,5"]
[null,"Rozčuľuje ťa","15,8/15,8","0,0/0,0","0,0/0,0","5,3/0,0","57,9/5,3","0,0/0,0","0,0/0,0","0,0/0,0","0,0/0,0","0,0/10,5","0,0/0,0","0,0/0,0","0,0/5,3","0,0/5,3","0,0/5,3","5,3/15,8","5,3/5,3","0,0/0,0","0,0/0,0"]
[null,"Nespolupráca","15,8/15,8","0,0/0,0","0,0/10,5","0,0/0,0","63,2/5,3","0,0/0,0","0,0/0,0","0,0/5,3","0,0/5,3","0,0/0,0","5,3/0,0","0,0/5,3","0,0/0,0","0,0/5,3","0,0/0,0","0,0/5,3","5,3/0,0","0,0/0,0","0,0/5,3"]
[null,"Nepoznáš","0,0/0,0","0,0/0,0","0,0/0,0","0,0/5,3","36,8/0,0","0,0/0,0","5,3/0,0","31,6/10,5","0,0/31,6","0,0/0,0","0,0/0,0","0,0/0,0","0,0/0,0","0,0/0,0","0,0/0,0","0,0/0,0","5,3/5,3","5,3/15,8","0,0/0,0"]
[null,"Ľahostajný","5,3/21,1","0,0/5,3","0,0/0,0","5,3/0,0","47,4/0,0","0,0/0,0","5,3/10,5","0,0/5,3","0,0/0,0","0,0/0,0","0,0/0,0","0,0/0,0","0,0/0,0","5,3/10,5","5,3/0,0","0,0/0,0","0,0/5,3","5,3/5,3","0,0/5,3"]
[null,"Utláčaný","42,1/26,3","0,0/10,5","0,0/0,0","0,0/0,0","26,3/26,3","0,0/0,0","0,0/0,0","0,0/0,0","0,0/0,0","0,0/0,0","0,0/0,0","0,0/0,0","0,0/0,0","0,0/5,3","0,0/0,0","0,0/0,0","10,5/5,3","0,0/0,0","0,0/0,0"]
[null,"Nespoľahneš","5,3/15,8","0,0/0,0","0,0/0,0","5,3/0,0","42,1/5,3","0,0/0,0","0,0/0,0","0,0/15,8","0,0/0,0","0,0/5,3","0,0/0,0","0,0/0,0","0,0/0,0","0,0/10,5","0,0/0,0","0,0/10,5","5,3/0,0","0,0/0,0","21,1/15,8"]
[]
[]
[null,null,"Riadok hore sú čísla žiakov (tu konkrétne od 1 do 19). V stĺpci vľavo sú stručné odkazy na"]
[null,"otázky z hárku. V každej bunke sú dve čísla. Konkrétne: Napr. žiak číslo 8, v bunke I 11 má čísla"]
[null,"31,6/10,5. Čiže 31,6 percenta žiakov z triedy ho dalo v otázke \"Nepoznám ho\" na prvé miesto a"]
[null,"10,5 percenta žiakov z triedy ho dalo v tejto otázke na druhé miesto. Čiže o žiakovi číslo 8 môžem"]
[null,"povedať, že cca 42 percent žiakov ho v otázke \"Nepoznám ho\" dalo buď na prvé alebo na druhé"]
[null,"miesto. Čo už je teda pre mňa dosť veľa. A takto si vypočítam každú bunku a rozmýšľam nad"]
[null,"každou bunkou, či je to \"dosť\" alebo \"málo\" v rámci triedy. No a potom použijem tzv. \"semafor\"."]
[null,"Kde sú tie konotácie kladné a je ich dosť, dám tam zelenú, čiže \"prejazd povolený\", a kde sú"]
[null,"konotácie viac záporné a je ich dosť, dám tam \"stopku\", čiže červenú. No a potom vidím tie"]
[null,"triedne hviezdy (zelené) a problémových (červené), prípadne šedé myši (biele). Proste keď si"]
[null,"predstavím triedu ako obrus, tak niekde tie \"píky\" vyskočiť musia, niektoré sú červené, niektoré"]
[null,"zelené.. A o triede mám prehľad (viem, že nie je personifikovaný, čiže neviem, kto koho sýtil, ale"]
[null,"pre prácu s triedou to stačí, aj tak sa to na skupinách ukáže). No a potom vidím napr. žiaka č. 5,"]
[null,"kde nazbieral krásny červený trs a snažím sa to predstaviť vzťahovo a v rámci správania a"]
[null,"prežívania v tej triede a (že naraz sa mu dejú veci z riadku 8, 9, 10, 11, 12, 13, 14) v tej sile, ktorá je"]
[null,"tam uvedená. Často môžu byť aj protichodné. Aj červené, aj zelené. Nie je tam veľa vedy, ale je to"]
[null,"funkčné. Ako keby mi bola trieda sama pre seba normou. No a ten žiak číslo 5 bol v tej triede"]
[null,"vtedy kľúčový. On bol vlastne zákazkou. "]
[]
[null,"Príloha Word:"]
[]
[null,null,"Milí žiaci/študenti, "]
[]
[null,"sme pracovníci Centra pedagogicko-psychologického poradenstva a prevencie v Žiline a radi by sme"]
[null," sa dozvedeli niečo o vašej triede. Dotazník je anonymný, výsledky budú použité pre vnútornú potrebu"]
[null," školy, do ktorej chodíte a pre vás v záujme skvalitnenia vášho školského života. Prosíme vás, aby ste"]
[null," odpovedali čo najúprimnejšie a najstarostlivejšie. Ďakujeme !"]
[]
[null,"Som: chlapec /___/",null,null,null,null,"dievča /___/"]
[]
[null,"1. Kto je Ti z triedy najviac sympatický ?"]
[]
[null,"/__________/__________/__________/__________/__________/"]
[]
[null,"2. S kým z triedy by si najradšej trávil voľný čas ?"]
[]
[null,"/__________/__________/__________/__________/__________/"]
[]
[null,"3. S kým z triedy by si sa najradšej porozprával v prípade, keby si mal nejaké problémy ?"]
[]
[null,"/__________/__________/__________/__________/__________/"]
[]
[null,"4. S kým by si najradšej spolupracoval na nejakej práci do školy ?"]
[]
[null,"/__________/__________/__________/__________/__________/"]
[]
[null,"5. Komu z triedy najviac dôveruješ ?"]
[]
[null,"/__________/__________/__________/__________/__________/"]
[]
[null,"6. Koho sa v triede najviac bojíš ?"]
[]
[null,"/__________/__________/__________/__________/__________/"]
[]
[null,"7. Kto ťa v triede najviac rozčuľuje ?"]
[]
[null,"/__________/__________/__________/__________/__________/"]
[]
[null,"8. S kým by si určite nechcel spolupracovať na nejakej práci do školy ?"]
[]
[null,"/__________/__________/__________/__________/__________/"]
[]
[null,"9. Koho z triedy poznáš najmenej ?"]
[]
[null,"/__________/__________/__________/__________/__________/"]
[]
[null,"10. Kto z triedy ti je najviac ľahostajný ?"]
[]
[null,"/__________/__________/__________/__________/__________/"]
[]
[null,"11. Ktorí piati spolužiaci sú najviac utláčaní v triede ?"]
[]
[null,"/__________/__________/__________/__________/__________/"]
[]
[null,"12.  Na koho z triedy sa dá najmenej spoľahnúť ?"]
[]
[null,"/__________/__________/__________/__________/__________/"]
[]
[null,null,"Tento prístup je praktický z viacero hľadísk. Nepotrebuje samotné Sociogramy, lebo na"]
[null,"semaforoch vidno to, čo by sme videli aj na samotnom Sociograme. Okrem toho, umožňuje voliť"]
[null,"ľubovoľné otázky na mapovanie sociálnych rolí pričom nemusia byť \"párované\" v pozitívnej a"]
[null,"negatívnej konotácii. Každá má svoju konotáciu. Tento prístup sa používal aj na našej poradni pri"]
[null,"dotazníku \"Moje pocity v triede\", rovnako sme ho používali v Klube pre chlapcov na zisťovanie"]
[null,"sociálnych rolí \"alfa\", \"beta\", \"gama\" a \"omega\" ako aj zmenách v priebehu roku."]
[]
[null,null,"Má len dve nevýhody. Percentá musíme počítať zo sociometrickej matice, teda musíme ju"]
[null,"mať a druhá vec je voľba hraníc pre farby semaforu. V uvedenom spreadsheete je to odhad 15 %."]
[null,"Teda 3 voľby a viac."]
[null,null,"Je to prístup, kedy je trieda \"sama sebe normou\", teda neslúži to na porovnávanie tried, čo"]
[null,"ani nepotrebujeme v praxi."]
[]
[null,null,"Aby som uľahčil prácu psychológom a pedagógom tak som to naprogramoval vo Visual"]
[null,"Basicu v makrách v EXCELI. Pracoval som vo verzii EXCEL 2003, program som ošetril aj pre"]
[null,"verzie EXCEL 2007 a vyššie. Vychádzal som z programov pre sociometrie s párovanými otázkami,"]
[null,"ktoré som naprogramoval predtým, kde je aj pokus o „normatívne porovnávanie“."]
[]
[null,"Základný princíp programu."]
[]
[null,null,"Cieľom je, aby sa po zadaní matice volieb pre danú otázku program sám vypočítal percentá"]
[null,"volieb ako aj označil \"zelené\" a \"červené\" hviezdy v triede."]
[null,"Poznámka. Výpočet percent pre jednotlivé voľby som nechal, ak by to niekto potreboval, ale"]
[null,"všetky grafy som nakreslil len pre všetky tri voľby spolu."]
[]
[null,"Výstupy sú v princípe dva."]
[]
[null,"1. Graf triedy vo všetkých otázkach spolu. (Dáta sú z jednej triedy z BA ako príklad 5 otázok"]
[null,"s pozitívnou a 5 otázok s negatívnou konotáciou, ale na tom nezáleží. Na týchto dátach som"]
[null,"program odladil.)"]
[]
[null,"Vyzerá napríklad takto:"]
[]
[null,"Pozície žiakov vo všetkých otázkach; 3 voľby Pozitívne konotácie verzus Negatívne"]
[]
[]
[]
[]
[]
[]
[]
[]
[]
[]
[]
[]
[]
[]
[]
[]
[]
[]
[]
[]
[]
[]
[]
[]
[]
[null,"2. Grafy triedy v každej zadanej otázke samostatne. Všetko z troch volieb spolu."]
[null,"Vyzerajú napríklad takto:"]
[]
[null,"Pozície žiakov v jednotlivých otázkach; 3 voľby"]
[]
[]
[]
[]
[]
[]
[]
[]
[]
[]
[]
[]
[]
[]
[]
[]
[]
[]
[]
[]
[]
[]
[]
[]
[]
[]
[]
[]
[]
[null,"atď. napr.:"]
[]
[]
[]
[]
[]
[]
[]
[]
[]
[]
[]
[]
[]
[]
[]
[null,"alebo nezadaná otázka:"]
[]
[]
[]
[]
[]
[]
[]
[]
[]
[]
[]
[]
[]
[]
[]
[]
[null,"Podotýkam, že farby dáva program sám podľa pridelenej konotácie."]
[null,"Samotný číselný výstup vyzerá napr. takto:"]
[]
[]
[]
[]
[]
[]
[]
[]
[]
[]
[]
[]
[]
[]
[]
[]
[]
[]
[]
[]
[]
[]
[]
[]
[]
[]
[]
[]
[]
[]
[]
[]
[]
[]
[]
[]
[]
[]
[]
[]
[]
[]
[]
[]
[]
[]
[]
[null,null,"Aj tu program dáva farbu podľa konotácie (P = zelená; N = červená) podľa hraníc stenov."]
[null,"Ako vidno zvolil som prístup, ktorý používa aj Capretti v programe Group Sociometry ako aj Walsh"]
[null," v svojom programe Walsh`s Classroom Sociometrics. "]
[null,"(Autori tohto postupu sú COIE, J.D. - DODGE, K.A. (1983). Continuities and Changes in Children's"]
[null," Social Status: A Five-Year Longitudinal Study. In Merrill- Palmer Quartely, 29(3), 261-282.)"]
[null,"Viď „Použitá literatúra a pramene“ na konci návodu."]
[]
[null,null,"Aby som zjednodušil pohľad premenil som z-skóre na steny a tie kreslím v grafoch. Hranice"]
[null,"stenov sú v grafoch nakreslené, takže je jasné kto \"vyčnieva\" nad normu triedy. V prvom grafe,"]
[null,"kde sú obe konotácie, som stenom červených otázok otočil znamienko, v grafoch jednotlivých"]
[null,"tried nie, teda keď niekto \"vytŕča\" nad 7. sten v zelených otázkach, tak je lepší ako trieda, a ak"]
[null,"niekto \"vytŕča\" v červených otázkach, tak je horší ako trieda."]
[]
[null,"Dimenzovanie programu."]
[]
[null,"Program má tieto parametre, ak chceme obmedzenia."]
[]
[null,"1. Počet otázok na jednotlivé sociálne role môže byť najviac 20."]
[null,"2. Počet osôb môže byť najviac N = 40 a najmenej N = 4."]
[null,"3. Počet volieb môže byť najviac 3."]
[null,"4. V Liste Questions musia byť zadané mená otázok v plnom znení (hlavičky v Listoch), ako aj"]
[null," v skrátenom znení ktoré program vkladá do názvov grafov jednotlivých otázok."]
[null,"5. V tomto liste taktiež musia byť zadané konotácie, P = pozitívna, N = negatívna, Q = nezadaná otázka."]
[]
[null,"Nezadaným otázkam dávame rovnaké meno aj pre plný aj pre skrátený názov, napr. \"11.  Nezadaná.\""]
[]
[null,"Názvy jednotlivých Listov nemožno meniť, pretože makrá programu sa o ne opierajú."]
[]
[null,"Sú takéto:"]
[]
[null,"Listy Q_1; Q_2; Q_3 .... až Q_20 sú Listy, kde sú matice odpovedí."]
[null,"Listy SG_1; SG_2; SG_3 .... až SG_20 sú Listy, kde sú vygenerované súbory *.sgm"]
[null,null,"pre program Walsh`s Classroom Sociometrics. Mená osôb aj znenie otázok je nutné zadávať "]
[null,null,"v konvencii pre tento program. Konvencie sú tieto:"]
[]
[null,null,"a.) Znenie otázok v Liste Questions musí byť v úvodzovkách napríklad:"]
[]
[null,null,"\"1. S kým z triedy by si chcel sedieť v jednej lavici?\""]
[null,null,"(Číslo otázky nie je povinné, je užitočné pre orientáciu)"]
[]
[null,null,"b.) Mená osôb musia byť v úvodzovkách, pričom reťazec musí obsahovať jednu medzeru,"]
[null,null,"a ktorou nasleduje písmeno označujúce pohlavie a to m pre muža a f pre ženu. Napríklad:"]
[]
[null,null,"„01_Janko m“"]
[]
[null,null,"(Číslo osoby a podčiarnik nie sú povinné, je to tiež ale užitočné pre orientáciu)"]
[]
[null,"List Sumy_All_Q: tu sú preložené dáta všetkých zadaných otázok a robím tam aj nejaké výpočty."]
[null,"List Grafy:  tu sú všetky grafy aj s dátami, ktoré potrebujú."]
[null,"List Technický návod: tam sú nutné technické nastavenia pre správne fungovanie programu."]
[null,"List Podrobný návod: tam je podrobný návod na obsluhu."]
[null,"List Stručný návod: tam je stručný návod na obsluhu bez chybových hlásení."]
[null,"List Pomo: na odkladanie pomocných vecí"]
[]
[null,"Práca s programom."]
[]
[null,"Po otvorení súboru najprv zadáme znenie použitých sociometrických otázok, konotáciu a skrátené názvy."]
[]
[null,"Prejdeme do Listu Questions."]
[]
[null,"Do stĺpca B dáme konotácie otázok."]
[null,null,"pre pozitívne otázky písmeno P"]
[null,null,"pre negatívne otázky písmeno N"]
[null,null,"pre nepoužité otázky písmeno Q"]
[null,"Písmená P, N a Q sú povinné. Makrá kontroluje ich zadanie."]
[]
[null,"Do stĺpca C dáme znenie otázok."]
[]
[null,"Musia byť v konvencii pre Walshov program Sociometry, teda úvodzovky vľavo, text otázky a úvodzovky vpravo."]
[null,"Makro to kontroluje."]
[]
[null,"Do stĺpca D dáme skrátené názvy otázok. Nemusia byť v konvencii Walshovho programu, teda v úvodzovkách."]
[null,"Program ich dáva do názvov grafov."]
[]
[null,"Správne vyplnenie otázok v Liste Questions vyzerá napríklad takto:"]
[]
[]
[]
[]
[]
[]
[]
[]
[]
[]
[]
[]
[]
[]
[]
[]
[]
[]
[]
[]
[]
[]
[]
[]
[null,"V bunke D2 musí byť hlavička pre súbory *.sgm. Vyzerá takto:"]
[]
[null,"\"Version 01.00\",\"Škola\",\"Psychológ\",\"Obdobie\",\"Dátum\",\"Trieda\""]
[]
[null,"Môžeme to zmeniť ak chceme, okrem prvého \"Version 01.00\""]
[null,"\"Version 01.00\",\"ZŠ Sitnianska\",\"2.polrok\",\"13.júna.2018\",\"5.A\""]
[]
[null,"Potom prejdeme do Listu: Q_1. Dole vidíme tieto tlačidlá:"]
[]
[]
[]
[]
[]
[]
[]
[]
[]
[]
[]
[]
[]
[]
[]
[null,"Teraz stlačíme tlačidlo \"Vymaž údaje\"."]
[]
[null,"Makro najprv prekontroluje, ži je zadaná hlavička pre súbor *.sgm v bunke D1. Ak nie je dá oznam:"]
[]
[]
[]
[]
[]
[]
[]
[]
[]
[]
[]
[]
[]
[]
[null,"Hlavička vyzerá takto:"]
[]
[null,"\"Version 01.00\",\"Škola\",\"Psychológ\",\"Obdobie\",\"Dátum\",\"Trieda\""]
[null,"Školu, Psychológa, Obdobie, Dátum a Triedu môžeme zmeniť. Úvodzovky sú nutné."]
[null,"Tu ich ale makro už nekontroluje."]
[]
[null,"Ďalej program kontroluje, či sú zadané všetky otázky a či sú v konvencii pre Walshov program."]
[null,"Ak chýba nejaká otázka program dá napr. oznam:"]
[]
[]
[]
[]
[]
[]
[]
[]
[]
[]
[]
[]
[]
[]
[]
[]
[]
[null,"V hlavičke aj v texte je číslo otázky, ktorá chýba."]
[null,"Konvencia pre Walshov program je, že musí byť text otázok v úvodzovkách."]
[]
[null,"Ak v texte otázky chýbajú úvodzovky vľavo program dá napr. oznam:"]
[]
[]
[]
[]
[]
[]
[]
[]
[]
[]
[]
[]
[]
[]
[]
[]
[]
[null,"Ak v texte otázky chýbajú úvodzovky vpravo program dá napr. oznam:"]
[]
[]
[]
[]
[]
[]
[]
[]
[]
[]
[]
[]
[]
[]
[]
[]
[]
[null,"Ďalej program prekontroluje či sú zadané všetky skrátené názvy otázok."]
[null,"Ak nepoužijeme všetkých 20 možných otázok, ostatným treba dať názov napr.: 13_Nezadaná."]
[null,"Tieto sa používajú v grafoch. Nemusia byť v úvodzovkách."]
[]
[null,"Ak niektorý názov chýba program dá oznam napr.:"]
[]
[]
[]
[]
[]
[]
[]
[]
[]
[]
[]
[]
[]
[]
[]
[]
[]
[null,"Ďalej program prekontroluje, či sú zadané písmená označujúce konotácie otázok, teda P, N alebo Q."]
[null,"Ak niektorá chýba dá napr. oznam:"]
[]
[]
[]
[]
[]
[]
[]
[]
[]
[]
[]
[]
[]
[]
[]
[]
[null,"Potom program prekontroluje, či označenie konotácií má povolené písmená, teda P, N alebo Q."]
[null,"Ak nie program dá oznam:"]
[]
[]
[]
[]
[]
[]
[]
[]
[]
[]
[]
[]
[]
[]
[null,"Keď je to v poriadku makro vymaže všetky údaje z listov a dá oznam:"]
[]
[]
[]
[]
[]
[]
[]
[]
[]
[]
[]
[]
[]
[]
[]
[]
[null,"Stlačíme OK a makro sa nastaví na bunku \"B5\" v Liste \"Q_1\" teda sem:"]
[]
[]
[]
[]
[]
[]
[]
[]
[]
[]
[null,"Postupne vkladáme čísla osôb do stĺpca \"B\" a mená osôb do stĺpca \"C\". Keď skončíme stlačíme tlačidlo \"Prelož mená\""]
[]
[null,"Makro vykoná tieto kontroly:"]
[]
[null,"1. Či je vôbec niečo zadané. Ak nie, dá oznam:"]
[]
[]
[]
[]
[]
[]
[]
[]
[]
[]
[]
[]
[]
[]
[]
[null,"2. Či je počet osôb menší alebo rovný N = 40. Ak nie dá oznam:"]
[]
[]
[]
[]
[]
[]
[]
[]
[]
[]
[]
[]
[]
[]
[]
[null,"3. Či je počet osôb rovný alebo väčší ako N = 4.  Ak nie, dá oznam:"]
[]
[]
[]
[]
[]
[]
[]
[]
[]
[]
[]
[]
[]
[]
[]
[null," 4. Či je pri všetkých menách aj číslo. Ak nie dá oznam:"]
[]
[]
[]
[]
[]
[]
[]
[]
[]
[]
[]
[]
[]
[]
[null," 5. Či je pri všetkých číslach meno osoby. Ak nie dá oznam:"]
[]
[]
[]
[]
[]
[]
[]
[]
[]
[]
[]
[]
[]
[]
[null,"6. Či sú čísla zadané správne, teda zvyšujú sa o 1. Ak nie makro dá oznam:"]
[]
[]
[]
[]
[]
[]
[]
[]
[]
[]
[]
[]
[]
[]
[]
[null,"Kontrola či sú mená v konvencii pre Walshov program."]
[]
[null,"7. Či je v mene osoby prvý znak úvodzovky. Ak nie, makro dá napr. oznam:"]
[]
[]
[]
[]
[]
[]
[]
[]
[]
[]
[]
[]
[]
[]
[null,"8. Či je v mene osoby posledný znak úvodzovky. Ak nie, makro dá napr. oznam:"]
[]
[]
[]
[]
[]
[]
[]
[]
[]
[]
[]
[]
[]
[]
[null,"9. Či je zadané písmeno pohlavia f alebo m. Ak nie dá oznam napr.:"]
[]
[]
[]
[]
[]
[]
[]
[]
[]
[]
[]
[]
[]
[]
[]
[null,"10. Či je pred písmenom pohlavia medzera. Ak nie, makro dá napr. oznam:"]
[]
[]
[]
[]
[]
[]
[]
[]
[]
[]
[]
[]
[]
[]
[null,"11. Či sú zadané všetky mená."]
[]
[]
[]
[]
[]
[]
[]
[]
[]
[]
[]
[]
[]
[]
[null,"Keď je všetko v poriadku tieto hlásenia sa neobjavujú. Objaví sa oznam:"]
[]
[]
[]
[]
[]
[]
[]
[]
[]
[]
[]
[null,"Preddefinovaný (Default) počet sú tri voľby. Ak zadáme viac alebo nulu program dá oznam:"]
[]
[]
[]
[]
[]
[]
[]
[]
[]
[]
[]
[]
[]
[]
[null,"Ak nezadáme nič program dá oznam:"]
[]
[]
[]
[]
[]
[]
[]
[]
[]
[]
[]
[]
[]
[]
[null,"Zadáme počet volieb, ak sú tri, stlačíme len OK a program preloží mená do všetkých Listov."]
[null,"Potom dá oznam o preložení mien do všetkých Listov::"]
[]
[]
[]
[]
[]
[]
[]
[]
[]
[]
[]
[]
[]
[]
[]
[]
[]
[]
[]
[]
[]
[null,"Pred preložením mien to vyzerá napr. takto:"]
[]
[]
[]
[]
[]
[]
[]
[]
[]
[]
[]
[]
[]
[]
[]
[]
[]
[]
[]
[]
[]
[]
[]
[]
[]
[]
[]
[]
[null,"Po preložení mien to vyzerá takto:"]
[]
[]
[]
[]
[]
[]
[]
[]
[]
[]
[]
[]
[]
[]
[]
[]
[]
[]
[]
[]
[]
[]
[]
[]
[]
[]
[]
[]
[]
[]
[]
[]
[]
[]
[]
[null,"Stlačíme OK a kurzor sa nastaví na prvú bunku D5 v matici prvej otázky Q_1."]
[null,"Údaje volieb do matice zadávame klikaním ľavým tlačidlom na myši na danej bunke."]
[null,"(Môžeme ich aj priamo vpisovať do buniek, ale to nie je veľmi praktické.)"]
[]
[null,"Môžeme si ukotviť priečky, kvôli prehľadu. Klikneme na Riadok 4 a dáme ukotviť priečky."]
[]
[null,"Údaje zadávame dvojklikmi na myši takto:"]
[null,null,"Nastavíme sa v danom riadku pod osobu, ktorá bola zvolená ako prvá"]
[null," ",null,"a dáme ľavý dvojklik myšou. V danej bunke sa objaví číslo 1."]
[null,null,"Nastavíme sa v danom riadku pod osobu, ktorá bola zvolená ako druhá"]
[null," ",null,"a dáme ľavý dvojklik myšou. V danej bunke sa objaví číslo 2."]
[null,null,"Nastavíme sa v danom riadku pod osobu, ktorá bola zvolená ako tretia"]
[null," ",null,"a dáme ľavý dvojklik myšou. V danej bunke sa objaví číslo 3."]
[]
[null,null,"Prejdeme do ďalšieho riadku a postup opakujeme."]
[]
[null,"Vyzerá to napr. takto (neukotvené priečky):"]
[]
[]
[]
[]
[]
[]
[]
[]
[]
[]
[]
[]
[]
[]
[]
[]
[]
[]
[]
[null,"Môžeme si ukotviť priečky, kvôli prehľadu. Klikneme na Riadok 4 a dáme ukotviť priečky."]
[]
[]
[]
[]
[]
[]
[]
[]
[]
[]
[]
[null,"Čo robiť, keď sa pomýlime:"]
[]
[null,"V bunke C3 je počítadlo klikov."]
[]
[]
[]
[]
[]
[]
[]
[]
[]
[null,"1. Vymažeme chybné číslo."]
[null,"2. Nastavíme počítadlo, ktoré je v bunke C3 na hodnotu, ktorú chceme vložiť."]
[null,"3. Klikneme znovu na novú bunku 2x."]
[]
[null,"Alebo:"]
[null,"1. Vymažeme všetky čísla v danom riadku."]
[null,"2. Do bunky počítadla dáme hodnotu nula = 0"]
[null,"3. Znovu zadáme tri správne čísla."]
[]
[null,"Alebo:"]
[null,"1. Dvojklikneme na chybnom čísle. Číslo zmizne."]
[null,"2. Dáme ľavý klik na hociktorej inej prázdnej bunke. Chybné číslo zmizne."]
[null,"3. Teraz dvojklikneme na správnej bunke."]
[null,"4. Toto opakujeme, kým tam nebude správne číslo (max 3 razy), pretože to súvisí s počítadlom."]
[]
[null,"Lepšie je dávať pozor, alebo druhý postup s vymazaním riadku a nastavením počítadla na nulu."]
[null,"Matice môžeme aj kopírovať, ak ich máme vyhotovené predtým v EXCELI. (Tak postupujem pri ladení)."]
[]
[null,"Keď vyplníme maticu stlačíme tlačidlo \"Vypočítaj sumy\"."]
[null,"Makro prekontroluje tzv. \"duplicity, teda keď niektorá osoba volila seba."]
[null,"Ak sa to vyskytne dá oznam:"]
[]
[]
[]
[]
[]
[]
[]
[]
[]
[]
[]
[]
[]
[]
[]
[]
[]
[null,"Keď je to v poriadku makro vypočíta potrebné sumy a dá ich pod maticu:"]
[null,"Horná matica vyzerá takto:"]
[]
[]
[]
[]
[]
[]
[]
[]
[]
[]
[]
[]
[]
[]
[]
[]
[]
[]
[]
[]
[]
[]
[]
[]
[]
[]
[]
[]
[]
[]
[]
[]
[]
[]
[]
[]
[]
[]
[]
[]
[]
[]
[]
[null,"Dolná matica vyzerá takto:"]
[]
[]
[]
[]
[]
[]
[]
[]
[]
[]
[]
[]
[]
[]
[]
[]
[]
[]
[]
[]
[]
[]
[]
[]
[]
[]
[]
[]
[]
[]
[]
[]
[]
[null,"V tejto dolnej matici sú vytvorené reťazce osôb, ktoré sú potrebné pre vytvorenie súbory *.sgm pre program Walsh Sociometrics."]
[]
[null,"Ak sme nezadali nič a stlačíme tlačidlo \"Vypočítaj sumy\" makro dá oznam:"]
[]
[]
[]
[]
[]
[]
[]
[]
[]
[]
[]
[]
[]
[null,"Ak je to v poriadku Makro zároveň aj vypočíta reťazce osôb"]
[null,"a vytvorí súbor *.sgm pre Walshov program pre danú otázku."]
[null,"Zároveň dá oznam: "]
[]
[]
[]
[]
[]
[]
[]
[]
[]
[]
[]
[]
[]
[]
[]
[]
[]
[]
[null,"Je to len informatívny oznam. Stlačíme OK a pmakro skončí."]
[null,"Tento informatívny oznam zrušený 18.11.2018, lebo to zbyročne zdržiavalo."]
[]
[null,"Potom stlačíme tlačidlo „Prelož otázku do Sumy_All_Q“."]
[]
[null,"Aj tu program najprv prekontroluje, či je matica prázdna alebo či sme zabudli stlačiť tlačidlo"]
[null,"„Vypočítaj sumy“. Vtedy dá oznam:"]
[]
[]
[]
[]
[]
[]
[]
[]
[]
[]
[]
[]
[]
[]
[null,"Ak je to v poriadku, oznam sa neobjaví. Makro preloží otázku do Listu \"Sumy_All_Q\" a dá oznam:"]
[]
[]
[]
[]
[]
[]
[]
[]
[]
[]
[]
[]
[]
[null,"Odpovedáme podľa toho, či zadávame ešte ďalšiu maticu alebo je to posledná otázka."]
[]
[null,"Keď dáme Áno, program najprv preloží údaje do Listu Sumy_All_Q danej otázky."]
[null,"Potom prekontroluje či sú všetky otázky, ktoré majú konotácie P a N preložené,"]
[null,"teda či sme nezabudli stlačiť pri niektorej otázke stlačiť"]
[null,"tlačidlo \"Preložiť otázku do Sumy_All_Q\""]
[null,"Ak to nesedí dá oznam:"]
[]
[]
[]
[]
[]
[]
[]
[]
[]
[]
[]
[]
[]
[]
[]
[null,"Ak je to v poriadku po stlačení Áno, program vykoná všetky výpočty a aktualizuje grafy a dá oznam:"]
[]
[]
[]
[]
[]
[]
[]
[]
[]
[]
[]
[]
[]
[null,"Stlačíme OK a program skončí."]
[]
[null,"Keď stlačíme Nie, makro prejde do ďalšieho Listu na bunku „D5“ na začiatok matice."]
[]
[null,"Funkcia tlačidla „Koriguj mená po pridaní mena“."]
[null,"Zrušené 10.11.2018"]
[]
[null,"Dodatok. Získanie sociogramu z programu Walsh`s Classroom Sociometrics."]
[null,"(Autori programu sú Donald Wash a Richard Walsh z Roscoe Middle School, Illinois, USA)"]
[null,"Viď „Použitá literatúra a pramene“ na konci návodu."]
[]
[null,"Webová stránka programu je: http://www.classroomsociometrics.com/"]
[]
[null,"Z tejto stránky je možné stiahnuť si Demo verziu zdarma, ktoré je plne funkčná okrem toho,"]
[null,"že neumožňuje ukladať vyhodnotené dáta. Samotný sociogram sa z neho dá vybrať grabom obrazovky a uložiť ako obrázok."]
[null,"Cena programu je 39.99 dolárov. Na tejto stránke je aj demo video obsluhy programu."]
[]
[null,"Úplný návod na obsluhu programu je v súbore: 02_Sociometria_Walsh_návod_A4_18_12_2016.doc,"]
[null,"ktorý som napísal pre psychológov v zácviku."]
[]
[null,"Tu popisujem len postup, ako dostaneme do programu vytvorený súbor *.sgm."]
[]
[null,"A. Vytvorenie textového súboru *.sgm."]
[]
[null,null,"Je to obyčajný textový súbor. V ľubovoľnom textovom editore, napríklad Edit Plus ale Notepad"]
[null," alebo aj vo Worde si vytvoríme prázdny súbor napríklad Q_1.txt. Vo Worde ho uložíme ako"]
[null," obyčajný text."]
[]
[null,null,"V súbore v EXCELI napr.: Socio_semafo_Fila_Grun_verzia_2.xls prejdeme do listu SG_1 a"]
[null," označíme text v stĺpci od bunky B1 až po bunku, kde je nejaký text. Dĺžka závisí od poštu osôb."]
[null,"Je tam napríklad toto:"]
[]
[null,"\"Version 01.00\",\"Škola\",\"Psychológ\",\"Obdobie\",\"Dátum\",\"Trieda\""]
[null,20]
[null,"\"01_Oso m\""]
[null,"\"02_Oso m\""]
[null,"\"03_Oso m\""]
[null,"\"04_Osor m\""]
[null,"\"05_Oso m\""]
[null,"\"06_Oso m\""]
[null,"\"07_Oso m\""]
[null,"\"08_Oso m\""]
[null,"\"09_Oso m\""]
[null,"\"10_Oso m\""]
[null,"\"11_Oso m\""]
[null,"\"12_Oso m\""]
[null,"\"13_Oso m\""]
[null,"\"14_Oso f\""]
[null,"\"15_Oso f\""]
[null,"\"16_Oso f\""]
[null,"\"17_Oso f\""]
[null,"\"18_Oso f\""]
[null,"\"19_Oso f\""]
[null,"\"20_Oso f\""]
[null,"3 \"\",\"\""]
[null,"\"1. S kým z triedy by si chcel sedieť v jednej lavici?\""]
[null,"\"\""]
[null,"\"\""]
[null,"\"\""]
[null," 9, 12, 0,"]
[null," 4, 5, 13,"]
[null," 5, 7, 13,"]
[null," 10, 0, 0,"]
[null," 4, 6, 10,"]
[null," 4, 5, 8,"]
[null," 3, 0, 0,"]
[null," 5, 6, 9,"]
[null," 1, 12, 13,"]
[null," 2, 4, 15,"]
[null," 13, 0, 0,"]
[null," 1, 9, 13,"]
[null," 2, 4, 9,"]
[null," 16, 0, 0,"]
[null," 16, 18, 19,"]
[null," 14, 17, 18,"]
[null," 14, 16, 18,"]
[null," 16, 17, 0,"]
[null," 0, 0, 0,"]
[null," 0, 0, 0,"]
[]
[null,"Označený text vezmeme do clipboardu (Ctrl + C) a prejdeme do nášho súboru Q_1.txt."]
[null,"Text tam vložíme nie Ctrl + V (Prilepiť, teda Paste) ale Úpravy → Prilepiť špeciálne →"]
[null,"Neformátovaný text, ak sme vo Worde."]
[]
[null,"Ak sme v Poznámkovom bloku (Notepad), dáme len Ctrl+V. Dáme Uložiť. To je bežná práca"]
[null,"s Wordom alebo Notepadom."]
[]
[null,"Potom súbor premenujeme na Q_1.sgm."]
[]
[null,"B. Vytvorenie sociogramu programom Walsh`s Classroom Sociometrics.",null,null,null,null,null,null,null,"Ikonka:"]
[]
[null,"1. Spustíme program či už demo verziu, alebo zakúpenú verziu"]
[null,null,"(naša poradňa program kúpila)."]
[null,null,"Objaví sa okno:"]
[]
[]
[]
[]
[]
[]
[]
[]
[]
[]
[]
[]
[]
[]
[]
[]
[]
[]
[]
[]
[]
[]
[]
[]
[]
[null,"Dáme File → Open a vyberieme náš súbor Q_1.sgm. Dáme Otvoriť:"]
[]
[]
[]
[]
[]
[]
[]
[]
[]
[]
[]
[]
[]
[]
[]
[]
[null,null,"2. Prekontrolujeme, či máme dáta správne zadané tak, že postupne prejdeme Step One až"]
[null," Step Five. Postupne vidíme toto:"]
[]
[]
[]
[]
[]
[]
[]
[]
[]
[]
[]
[]
[]
[]
[]
[]
[]
[]
[]
[]
[]
[]
[]
[]
[]
[]
[]
[]
[]
[]
[]
[]
[]
[]
[]
[]
[]
[]
[]
[]
[]
[]
[]
[]
[]
[]
[]
[]
[]
[]
[]
[]
[]
[]
[]
[]
[]
[]
[]
[]
[]
[]
[]
[]
[]
[]
[]
[]
[]
[]
[]
[]
[]
[]
[]
[]
[]
[]
[]
[]
[]
[]
[]
[]
[]
[]
[]
[]
[]
[]
[]
[]
[]
[]
[]
[]
[]
[]
[]
[]
[]
[]
[]
[]
[]
[]
[]
[null,"Keď už sme zbehlí, tak hneď prejdeme na Step Five."]
[null,"Výhoda toho, že EXCEL nám sám pripraví súbor *.sgm je zrejmá. Nemusíme v programe"]
[null,"Sociometrics nič zadávať, čo je mimochodom aj dosť zdĺhavé. Identifikačné údaje môžeme"]
[null,"samozrejme meniť aj tu."]
[]
[null,"Zväčšíme si sociogram a môžeme ho prípadne upraviť tak, že posúvame osoby a šípky idú s nimi."]
[]
[null,"Dáme vytučniť vzájomné voľby a poposúvame tak, aby bolo čo najmenej prekrížení."]
[]
[null,"Ak máme kúpenú plnú verziu programu, môžeme si súbor uložiť napríklad pod názvom"]
[null,"Q_1_a.sgm."]
[null,"Výhoda je, že odloží už poposúvaný sociogram. Ak nie môžeme si sociogram grabnúť z obrazovky"]
[null,"napríklad programom UltraSnap alebo iným a uložiť ho napríklad ako Sociogram_Q_1.jpg."]
[]
[null,"Výsledok je napríklad takýto:"]
[]
[]
[]
[]
[]
[]
[]
[]
[]
[]
[]
[]
[]
[]
[]
[]
[]
[]
[]
[]
[]
[]
[]
[]
[]
[]
[]
[]
[]
[]
[]
[]
[]
[]
[null,"Graf nominácií:"]
[]
[]
[]
[]
[]
[]
[]
[]
[]
[]
[]
[]
[]
[]
[]
[]
[]
[]
[]
[]
[]
[]
[]
[]
[]
[]
[]
[]
[]
[null,"V programe tento graf nekreslím. Údaje sú v Liste Sumy_All_Q. Napríklad:"]
[]
[]
[]
[]
[]
[]
[]
[]
[]
[null,"V programe sú tieto voľby prevedené na steny v Liste Grafy, pre každú otázku."]
[null,"Napríklad pre túto otázku normatívny graf vyzerá takto:"]
[]
[]
[]
[]
[]
[]
[]
[]
[]
[]
[]
[]
[]
[]
[]
[]
[null,"Tu už vidíme, že v rámci triedy počet volieb P = 5 odpovedá 9. stenu, počet P = 4 odpovedá"]
[null,"8. stenu."]
[null,"Teda žiaci č. 4, 5, 9, 13 a 16 majú nadpriemerný počet pozitívnych volieb."]
[null,"Žiaci ktorí získali nulu volieb sú na hranici podpriemeru 3 sten."]
[]
[null,"V sociograme sú to títo žiaci:"]
[]
[]
[]
[]
[]
[]
[]
[null,"Program ešte ponúka tzv. Sociomapu. To je graf kde sú na osy „y“ voľby a pri nich čísla žiakov."]
[null,"Tento graf nekreslím v spreadsheete. Nie je v prípade jednej pozitívnej otázky veľmi informatívny."]
[]
[null,"Rovnako si môžeme vyrobiť sociogramy všetkých otázok ak chceme."]
[]
[null,"Psychometrická poznámka."]
[]
[null,"Keď pozeráme tie steny, tak vidíme, že sa nevyskytujú steny 1 a 2. To súvisí s postupom výpočtu z-skóre."]
[null,"Postup, ktorý používajú Coie a Dodge a ktorý prevzali aj Capretti a Walsh, z-skóre nenormalizujú."]
[null,"Pritom dáta majú veľkú smerodajnú odchýlku SD. Okrem toho dáta sú väčšinou zošikmené doľava,"]
[null,"takže nie sú „roztiahnuté“ na Gaussovu krivku. Čiastočne je to aj spôsobené zaokrúhlením stenov."]
[]
[null,"Ilustrácia."]
[]
[null,"Keď si vypočítame z-skóre najprv Blomovou a Rankitovou transformáciou tak dostaneme trochu"]
[null,"odlišné hodnoty, než nenormalizované z = (xi + AM)/SD."]
[]
[]
[]
[]
[]
[]
[]
[]
[]
[]
[]
[]
[]
[]
[]
[]
[]
[]
[]
[]
[null,"Vidíme, že rozdiely medzi Blomovou a Rankitovou transformáciou sú minimálne, kým z-skóre"]
[null,"nenormalizované sa odlišuje. Keď vypočítame zaokrúhlené steny tak je ten rozdiel ešte väčší:"]
[]
[]
[]
[]
[]
[]
[]
[]
[]
[]
[]
[]
[]
[]
[]
[]
[]
[]
[]
[null,"Riešením by mohlo byť steny nezaokrúhliť, ale to robí grafy menej prehľadnými, napríklad:"]
[]
[]
[]
[]
[]
[]
[]
[]
[]
[]
[]
[]
[]
[]
[]
[]
[null,"Oproti tomuto:"]
[]
[]
[]
[]
[]
[]
[]
[]
[]
[]
[]
[]
[]
[]
[]
[]
[null,"Zaujímavé je, že pri porovnaní Pozitívnej a Negatívnej otázky vidíme, že ak má niekto"]
[null,"nadpriemerný počet pozitívnych volieb trebárs v otázke „S kým by si chcel sedieť ?“ "]
[null,"to automaticky neznamená  podpriemerný počet negatívnych volieb v otázke"]
[null,"„S kým by si nechcel sedieť?“"]
[null,"Nie vždy to tak je."]
[]
[null,"Je to zjavné z porovnania napr. týchto grafov:"]
[]
[]
[]
[]
[]
[]
[]
[]
[]
[]
[]
[]
[]
[]
[]
[]
[]
[]
[]
[]
[]
[]
[]
[]
[]
[]
[]
[]
[]
[]
[]
[null,"Napríklad osoba č.16 má vysoké aj pozitívne preferencie (8.sten) aj negatívne (7.sten)."]
[null,"Zrejme sú v triede dve skupiny žiakov, jedni ju vysoko favorizujú a druhí vysoko odmietajú."]
[null,"Oproti tomu osoba č.11 má vysoké negatívne preferencie (8.sten) a nízke pozitívne (3.sten)."]
[]
[null,"Použitá literatúra a premene."]
[]
[null,"BodySays Group: Методика диагностики межличностных и межгрупповых"]
[null," ","отношений Дж. Морено «Cоциометрия». Обработка и интерпретация результатов."]
[null," ","http://bodysays.ru/tests-on-the-interpersonal-relationships-in-a-team/methods-of-diagnosis-of-interpersonal-and-intergroup-relations-moreno-sociometry.html"]
[]
[null,"Capretti S.: Program GroupDynamics. Ver. 1.2.5. Release date 23/02/2016. Trial."]
[null,null,"Brescia, Lombardia, Italy. (Simone Capretti is a developer of education software)."]
[null," ","https://groupdynamics.en.softonic.com/"]
[null,null,"Manuál: http://manualzz.com/doc/7058425/user-manual---simone-capretti"]
[]
[null,"Coie, J., D., Dodge, K., A.:Continuities and Changes in Children’s Social Status: "]
[null," ","A Five-Year Longitudinal Study. In Merrill- Palmer Quartely, 29(3), 261-282. 1983"]
[null," ","http://www.saske.sk/cas/public/media/6069/03_Lipovsk%C3%A1_Dobe%C5%A1.pdf"]
[]
[null,"LeDiS Group: SociometryPro computer program. Russian Federation."]
[null," ","http://www.sociometry.ru/files/sociometrypro/2_2/socio_manual_eng_2_2.pdf"]
[]
[null,"Медпортал.com ©: Социометрическая оценка групповой сплоченности"]
[null,"http://медпортал.com/psihologiya-pedagogika-voennaya/sotsiometricheskaya-otsenka-gruppovoy.html"]
[]
[null,"Noga Henryk, PL: Metody socjometryczne w edukacji techniczno - informatycznej. "]
[null," ","http://tvv-journal.upol.cz/pdfs/tvv/2009/01/37.pdf"]
[]
[null,"Osicenaua, M., E., Popab., I.: Access Technologies (AT) for students with visual impairments."]
[null," ","aTechnical University of Civil Engineering of Bucharest, Romania, 2014"]
[null," ","bSchool for the Visually Impaired, Bucharest, Romania, 2014"]
[null," ","http://www.sciencedirect.com/science/article/pii/S1877042815015724"]
[null,"Petrusek, M.: Sociometrie. Nakladatelství Svoboda, Praha 1969"]
[]
[null,"Попова Г.В., Богдан Ж.Б.: "]
[null," ","Социометрическое исследование динамических процессов в малой группе."]
[null," ","Национальный Технический Университет «Харьковский Политехнический Институт»"]
[null," ","Кафедра педагогики и психологии управления  социальными системами"]
[null," ","Монография 2015."]
[null," ","http://конференция.com.ua/files/file/monofrafiya_popova_bogdan.pdf"]
[]
[null,"Rumińska, Patrycja, Phm wędr.: Jak przeprowadzić badanie socjometryczne?"]
[null," ","Stowarzyszenie Harcerskie, 2015"]
[null," ","http://www.sh.org.pl/wp-content/uploads/2016/01/Skrypt-socjometryczny.pdf"]
[]
[null,"Sherman, Lawrence W., PhD: Sociometry in the Classroom: How to do it."]
[null," ","Miami University, Ohio, USA, 2002"]
[null,null,"http://www.users.miamioh.edu/shermalw/sociometryfiles/socio_step16.htmlx"]
[]
[null,"Šuláková, Michaela : Využití sociometrie v práci vychovatele a pedagoga. Bakalářska práce."]
[null,null,"Universita Palackého, Olomouc 2011"]
[null," ","https://theses.cz/id/0t8tp2/?lang=en;furl=%2Fid%2F0t8tp2%2F"]
[]
[null,"Baш Пcиxoлог ©: Метод социометрических измерений (социометрия)."]
[null," ","http://www.vashpsixolog.ru/psychodiagnostic-school-psychologist/73-diagnosis-of-interpersonal/476-the-method-of-sociometric-measurements-sociometry"]
[]
[null,"Walsh, Donald  and Walsh, Richard : Walsh`s Classroom Sociometrics. "]
[null," ","Roscoe Middle School, Illinois, USA, 2004"]
[null," ","http://www.classroomsociometrics.com/"]
[]
[null,"Zatloukalová, B.: ","Formální a neformální vztahy ve skupině školní třídy víceletého gymnázia"]
[null," ","a základní školy.  ","Diplomová práce. Univesita Tomáše Bati ve Zlíně. 2010"]
[null,null,"http://digilib.k.utb.cz/bitstream/handle/10563/12344/zatloukalov%C3%A1_2010_dp.pdf?sequence=1"]
[]
[null,"Zwierzyńska, Elżbieta : Poznawanie klasy szkolnej. "]
[null," ","Centrum Metodyczne Pomocy Psychologiczno-Pedagogicznej. Warszawa 2008"]
[null,null,"http://www.bc.ore.edu.pl/Content/215/Poznawanie+klasy+szkolnej.pdf"]
[]
[null,"Fila.","  V Banskej Bystrici dňa 26.4.2018"]

{"sheet":"Pomo","index":46,"n_rows":292,"n_cols":37,"rows_kept":292,"cut":false,"hidden":false,"merged":[]}
[]
[null,null,"Dáta pre ladenie",null,"Soc_Trieda_14_14.xls",null,null,null,null,null,null,null,null,null,null,null,null,null,null,null,null,null,null,null,null,null,null,null,null,null,null,null,null,"www"]
[null,null,null,null,1,2,3,4,5,6,7,8,9,10,11,12,13,14,15,16,17,18,19,20,21,22,23,24,25,26,27,28,null,null,"→","Hlavička sgm. Nemazať!","\"Version 01.00\",\"Škola\",\"Psychológ\",\"Obdobie\",\"Dátum\",\"Trieda\""]
["Q_1",1,"\"01_Oso m\"","Q_1_P",null,null,null,null,1,null,null,null,null,3,2,null,null,null,null,null,null,null,null,null,null,null,null,null,null,null,null,null,null,"Konotácia",null,"Nemazať!","Skrátené"]
[null,2,"\"02_Oso m\"",null,null,null,null,null,null,null,null,1,3,null,2,null,null,null,null,null,null,null,null,null,null,null,null,null,null,null,null,null,null,"P",1,"\"1. S kým z triedy by si chcel sedieť v jednej lavici?\"","1. Sedieť"]
[null,3,"\"03_Oso m\"",null,null,null,null,null,null,null,null,null,2,null,null,3,null,null,null,null,null,null,null,null,null,null,null,null,null,null,null,1,null,"P",2,"\"2. S kým z triedy by si najradšej písaval úlohy a učieval sa?\"","2. Učiť sa"]
[null,4,"\"04_Oso m\"",null,null,null,null,null,null,null,null,null,null,null,null,null,null,null,null,null,null,null,null,null,null,null,3,null,1,null,null,2,null,"P",3,"\"3. S kým z triedy by si chcel stráviť prázdniny na pustom ostrove?\"","3. Ostrov"]
[null,5,"\"05_Oso m\"",null,1,null,null,null,null,null,3,null,2,null,null,null,null,null,null,null,null,null,null,null,null,null,null,null,null,null,null,null,null,"P",4,"\"4. Kto by najlepšie dokázal hájiť záujmy triedy?\"","4. Hájiť"]
[null,6,"\"*06_Oso m\"",null,null,null,null,null,null,null,null,null,null,3,1,2,null,null,null,null,null,null,null,null,null,null,null,null,null,null,null,null,null,"P",5,"\"5. Komu z triedy by si zveril svoje tajomstvo?\"","5. Tajomstvo"]
[null,7,"\"07_Oso m\"",null,null,null,null,null,3,null,null,null,1,null,null,null,null,null,null,null,null,null,null,null,null,null,null,null,null,null,null,2,null,"N",6,"\"6. S kým z triedy by si nechcel sedieť v jednej lavici?\"","6. Nesedieť"]
[null,8,"\"08_Oso m\"",null,null,null,null,null,null,null,2,null,3,null,null,null,null,null,null,null,null,null,null,null,null,null,null,null,null,null,null,1,null,"N",7,"\"7. S kým z triedy by si v žiadnom prípade nechcel písavať úlohy a učievať sa?\"","7. Neučiť sa"]
[null,9,"\"09_Oso f\"",null,null,null,2,null,null,null,3,null,null,null,null,null,null,null,null,null,null,null,null,null,null,null,null,null,null,null,null,1,null,"N",8,"\"8. S kým z triedy by si nechcel stráviť prázdniny na pustom ostrove?\"","8. Nie Ostrov"]
[null,10,"\"**10_Oso m\"",null,1,null,null,null,2,null,null,3,null,null,null,null,null,null,null,null,null,null,null,null,null,null,null,null,null,null,null,null,null,"N",9,"\"9. Koho by si vôbec nevybral na hájenie záujmov triedy?\"","9. Nie Hájiť"]
[null,11,"\"11_Oso m\"",null,null,null,null,null,null,null,2,1,null,null,null,null,null,null,null,null,null,null,null,null,null,null,null,null,null,null,null,3,null,"N",10,"\"10. Komu z triedy by si nikdy nezveril svoje tajomstvo?\"","10. Nezveril"]
[null,12,"\"12_Oso m\"",null,null,null,null,null,null,null,null,null,null,null,null,null,null,null,null,null,null,null,null,2,3,null,1,null,null,null,null,null,null,"Q",11,"\"11. Nezadaná\"","11. Nezadaná"]
[null,13,"\"13_Oso m\"",null,null,null,null,2,null,null,null,null,null,null,null,3,null,1,null,null,null,null,null,null,null,null,null,null,null,null,null,null,null,"Q",12,"\"12. Nezadaná\"","12. Nezadaná"]
[null,14,"\"14_Oso m\"",null,null,null,null,null,null,null,null,3,2,null,null,null,1,null,null,null,null,null,null,null,null,null,null,null,null,null,null,null,null,"Q",13,"\"13. Nezadaná\"","13. Nezadaná"]
[null,15,"\"15_Oso f\"",null,null,null,null,null,null,null,null,null,null,null,null,null,null,null,null,null,null,null,null,null,null,3,2,null,null,1,null,null,null,"Q",14,"\"14. Nezadaná\"","14. Nezadaná"]
[null,16,"\"16_Oso f\"",null,null,null,null,null,null,null,null,null,null,null,null,null,null,null,null,null,null,null,null,null,null,3,null,2,null,null,1,null,null,"Q",15,"\"15. Nezadaná\"","15. Nezadaná"]
[null,17,"\"17_Oso f\"",null,null,null,null,null,null,null,null,null,null,null,null,null,null,null,null,2,null,null,null,null,null,1,null,null,null,null,3,null,null,"Q",16,"\"16. Nezadaná\"","16. Nezadaná"]
[null,18,"\"18_Oso f\"",null,null,null,null,null,null,null,null,null,null,null,null,null,null,null,null,null,null,null,null,2,null,null,3,null,null,null,1,null,null,"Q",17,"\"17. Nezadaná\"","17. Nezadaná"]
[null,19,"\"19_Oso f\"",null,null,null,null,null,null,null,null,null,null,null,null,null,null,null,null,null,null,1,null,null,null,null,3,null,null,null,2,null,null,"Q",18,"\"18. Nezadaná\"","18. Nezadaná"]
[null,20,"\"20_Oso f\"",null,null,null,null,null,null,null,null,null,null,null,null,null,null,null,null,null,null,2,null,null,null,null,3,null,null,null,1,null,null,"Q",19,"\"19. Nezadaná\"","19. Nezadaná"]
[null,21,"\"21_Oso f\"",null,null,null,null,null,null,null,null,null,null,null,null,null,null,null,null,null,null,null,null,null,null,3,null,1,null,null,2,null,null,"Q",20,"\"20. Nezadaná\"","20. Nezadaná"]
[null,22,"\"22_Oso f\"",null,null,null,null,null,null,null,null,null,null,null,null,null,null,null,null,null,null,null,null,null,null,null,2,null,1,null,3]
[null,23,"\"23_Oso f\"",null,null,null,null,null,3,null,null,null,null,null,null,null,null,null,null,null,null,1,null,null,null,null,null,null,2,null,null,null,null,null,null,"Nemazať!"]
[null,24,"\"24_Oso f\"",null,null,null,null,null,null,null,null,null,null,null,null,null,null,null,null,null,null,null,1,null,2,null,null,null,null,3,null,null,null,null,null,"Suma volieb 1 + 2 + 3 spolu"]
[null,25,"\"25_Oso f\"",null,null,null,null,null,null,null,null,null,null,null,null,null,null,null,null,null,null,null,null,null,null,2,1,null,null,null,3,null,null,null,null,"Suma volieb 1"]
[null,26,"\"26_Oso f\"",null,null,null,null,null,null,null,null,null,null,null,null,null,null,1,null,null,null,null,null,null,null,null,3,2,null,null,null,null,null,null,null,"Suma volieb 2"]
[null,27,"\"27_Oso f\"",null,null,null,null,null,null,null,null,null,null,null,null,null,null,null,null,2,null,1,null,null,null,null,3,null,null,null,null,null,null,null,null,"Suma volieb 3"]
[null,28,"\"28_Oso f\"",null,null,null,null,null,null,null,null,null,null,null,null,null,null,null,null,null,null,null,null,null,null,null,null,null,null,null,null,null,null,null,null,"Percento Suma volieb 1"]
[null,null,null,null,null,null,null,null,null,null,null,null,null,null,null,null,null,null,null,null,null,null,null,null,null,null,null,null,null,null,null,null,null,null,null,"Percento Suma volieb 2"]
["Q_2",1,"\"01_Oso m\"","Q_2_P",null,null,null,null,1,null,3,null,null,null,2,null,null,null,null,null,null,null,null,null,null,null,null,null,null,null,null,null,null,null,null,"Percento Suma volieb 3"]
[null,2,"\"02_Oso m\"",null,null,null,null,null,null,null,3,1,2,null,null,null,null,null,null,null,null,null,null,null,null,null,null,null,null,null,null,null,null,null,null,"Percento Suma volieb 1 + 2 + 3 spolu"]
[null,3,"\"03_Oso m\"",null,null,null,null,null,null,null,1,null,null,null,null,null,null,null,null,null,null,null,null,null,null,null,2,null,null,null,null,3]
[null,4,"\"04_Oso m\"",null,null,null,null,null,null,null,null,null,1,null,null,null,3,2,null,null,null,null,null,null,null,null,null,null,null,null,null,null,null,"Soňa"]
[null,5,"\"05_Oso m\"",null,1,null,null,null,null,null,null,null,2,null,null,null,null,null,null,null,null,null,null,null,null,null,null,null,null,null,null,3]
[null,6,"\"*06_Oso m\"",null,null,null,null,null,null,null,null,null,null,null,null,null,null,null,null,null,null,null,null,null,null,null,3,null,2,1,null,null,null,null,"→","Hlavička sgm. Nemazať!","\"Version 01.00\",\"Škola\",\"Psychológ\",\"Obdobie\",\"Dátum\",\"Trieda\""]
[null,7,"\"07_Oso m\"",null,null,null,2,null,null,null,null,null,1,null,null,null,null,null,null,null,null,null,null,null,null,null,null,null,null,null,null,3,null,"Konotácia",null,"Nemazať!","Skrátené"]
[null,8,"\"08_Oso m\"",null,null,null,null,null,null,null,1,null,2,null,null,null,null,null,null,null,null,null,null,null,null,null,null,null,null,null,null,3,null,"P",1,"\"1.Medzi mojich kamarátov v triede patrí\"","1. Kamarát "]
[null,9,"\"09_Oso f\"",null,null,null,1,null,null,null,3,null,null,null,null,null,null,null,null,null,null,null,null,null,null,null,null,null,null,null,null,2,null,"N",2,"\"2.Ako priateľov by som si zo spolužiakov nevybral\"","2. Kamarát - nie"]
[null,10,"\"**10_Oso m\"",null,null,null,2,null,null,null,null,null,3,null,null,null,null,null,null,null,null,null,null,null,null,null,1,null,null,null,null,null,null,"N",3,"\"3.V triede je nešťastný\"","3. Nešťastný"]
[null,11,"\"11_Oso m\"",null,null,null,null,null,null,null,1,2,null,null,null,null,null,null,null,null,null,null,null,null,null,null,null,null,null,null,null,3,null,"N",4,"\"4. V triede je niekto komu ostatní ubližujú\"","4. Komu ubližujú"]
[null,12,"\"12_Oso m\"",null,null,null,null,null,null,null,null,3,null,null,null,null,null,null,null,null,null,null,null,null,null,null,1,null,null,null,2,null,null,"N",5,"\"5. V triede je niekto s kým sa nikto nechce kamarátiť\"","5. Nechcú sa kamarátiť s"]
[null,13,"\"13_Oso m\"",null,null,null,null,3,null,null,null,null,null,null,null,null,null,1,null,null,null,null,null,null,null,null,null,null,null,null,null,2,null,"N",6,"\"6. V triede najviac provokuje?\"","6.  Provokuje"]
[null,14,"\"14_Oso m\"",null,null,null,null,null,null,null,null,1,2,null,null,null,null,null,null,null,null,null,null,null,null,null,null,null,null,null,null,3,null,"N",7,"\"7. V triede ubližuje slabším?\"","7. Kto ubližuje"]
[null,15,"\"15_Oso f\"",null,null,null,null,null,null,null,null,null,null,null,null,null,null,null,null,null,null,null,null,null,null,null,3,null,2,1,null,null,null,"P",8,"\"8. Kto zastáva slabších?\"","8. Zastáva slabších"]
[null,16,"\"16_Oso f\"",null,null,null,null,null,null,null,null,null,null,null,null,null,null,null,null,null,null,null,null,null,null,null,3,null,2,null,1,null,null,"N",9,"\"9. Chce aby bolo podľa neho/nej a ostatní aby sa prispôsobili?\"","9. Podľa neho"]
[null,17,"\"17_Oso f\"",null,null,null,null,null,null,null,null,null,null,null,null,null,null,null,1,null,null,null,null,null,null,null,null,null,null,2,3,null,null,"N",10,"\"10. V triede mi najviac vadí\"","10. Vadí mi "]
[null,18,"\"18_Oso f\"",null,null,null,null,null,null,null,null,null,null,null,null,null,null,null,null,null,null,null,2,null,null,null,1,null,null,null,3,null,null,"P",11,"\"11.Veľa žiakov v triede má rado \"","11. Majú radi"]
[null,19,"\"19_Oso f\"",null,null,null,null,null,null,null,null,null,null,null,null,null,null,null,null,null,null,1,null,null,null,null,2,null,null,null,3,null,null,"N",12,"\"12. V triede sa nikto nechce kamarátiť s \"","12. Nechcú sa kamarátiť"]
[null,20,"\"20_Oso f\"",null,null,null,null,null,null,null,null,null,null,null,null,null,null,null,null,null,null,1,null,null,null,null,3,null,2,null,null,null,null,"N",13,"\"13. Kto mi ublížil v triede\"","13. Ublížil mi "]
[null,21,"\"21_Oso f\"",null,null,null,null,null,null,null,null,null,null,null,null,null,null,null,null,null,null,3,null,null,null,null,2,null,1,null,null,null,null,"Q",14,"\"14. Nezadaná\"","14. Nezadaná"]
[null,22,"\"22_Oso f\"",null,null,null,null,null,null,null,null,null,null,null,null,null,null,null,null,null,null,null,null,null,null,null,2,null,3,1,null,null,null,"Q",15,"\"15. Nezadaná\"","15. Nezadaná"]
[null,23,"\"23_Oso f\"",null,null,null,null,null,null,null,null,null,null,null,null,null,null,null,null,null,null,3,null,2,null,null,null,null,1,null,null,null,null,"Q",16,"\"16. Nezadaná\"","16. Nezadaná"]
[null,24,"\"24_Oso f\"",null,null,null,null,null,null,null,null,null,null,null,null,null,null,null,null,null,null,null,3,null,1,null,null,null,null,2,null,null,null,"Q",17,"\"17. Nezadaná\"","17. Nezadaná"]
[null,25,"\"25_Oso f\"",null,null,null,null,null,null,null,null,null,null,null,null,null,null,null,null,null,null,null,null,null,null,3,1,null,null,2,null,null,null,"Q",18,"\"18. Nezadaná\"","18. Nezadaná"]
[null,26,"\"26_Oso f\"",null,null,null,null,null,null,null,null,null,null,null,null,null,null,null,3,null,null,null,null,null,null,null,2,null,1,null,null,null,null,"Q",19,"\"19. Nezadaná\"","19. Nezadaná"]
[null,27,"\"27_Oso f\"",null,null,null,null,null,null,null,null,null,null,null,null,null,null,null,null,null,null,2,null,null,null,null,1,null,3,null,null,null,null,"Q",20,"\"20. Nezadaná\"","20. Nezadaná"]
[null,28,"\"28_Oso f\""]
[null,null,null,null,null,null,null,null,null,null,null,null,null,null,null,null,null,null,null,null,null,null,null,null,null,null,null,null,null,null,null,null,null,null,null,"Nemazať!"]
["Q_3",1,"\"01_Oso m\"","Q_3_P",null,null,null,null,1,null,null,null,null,2,3,null,null,null,null,null,null,null,null,null,null,null,null,null,null,null,null,null,null,null,null,"Suma volieb 1 + 2 + 3 spolu"]
[null,2,"\"02_Oso m\"",null,null,null,null,null,null,null,3,2,1,null,null,null,null,null,null,null,null,null,null,null,null,null,null,null,null,null,null,null,null,null,null,"Suma volieb 1"]
[null,3,"\"03_Oso m\"",null,null,null,null,null,null,null,3,null,2,null,null,null,null,null,null,null,null,null,null,null,null,null,null,null,null,null,null,1,null,null,null,"Suma volieb 2"]
[null,4,"\"04_Oso m\"",null,null,null,null,null,1,null,null,null,3,null,null,2,null,null,null,null,null,null,null,null,null,null,null,null,null,null,null,null,null,null,null,"Suma volieb 3"]
[null,5,"\"05_Oso m\"",null,null,null,null,null,null,2,null,null,null,1,null,null,null,null,null,null,null,null,null,null,null,null,null,null,null,null,null,3,null,null,null,"Percento Suma volieb 1"]
[null,6,"\"*06_Oso m\"",null,null,null,null,null,null,null,null,null,null,3,1,2,null,null,null,null,null,null,null,null,null,null,null,null,null,null,null,null,null,null,null,"Percento Suma volieb 2"]
[null,7,"\"07_Oso m\"",null,null,null,3,null,null,null,null,1,null,null,2,null,null,null,null,null,null,null,null,null,null,null,null,null,null,null,null,null,null,null,null,"Percento Suma volieb 3"]
[null,8,"\"08_Oso m\"",null,null,null,null,null,null,null,null,null,3,null,1,2,null,null,null,null,null,null,null,null,null,null,null,null,null,null,null,null,null,null,null,"Percento Suma volieb 1 + 2 + 3 spolu"]
[null,9,"\"09_Oso f\"",null,null,null,3,null,null,null,2,null,null,null,null,null,null,null,null,null,null,null,null,null,null,null,null,null,null,null,null,1]
[null,10,"\"**10_Oso m\"",null,3,null,null,null,2,1]
[null,11,"\"11_Oso m\"",null,null,null,null,null,null,null,2,1,null,null,null,null,null,null,null,null,null,null,null,null,null,null,null,null,null,null,null,3]
[null,12,"\"12_Oso m\"",null,null,null,null,null,null,null,null,null,null,null,null,null,null,null,null,null,null,null,null,2,null,null,1,null,null,null,3]
[null,13,"\"13_Oso m\"",null,null,null,null,null,null,null,null,null,2,null,null,3,null,1]
[null,14,"\"14_Oso m\"",null,null,null,null,null,null,null,null,1,null,null,null,null,null,null,null,null,null,null,null,null,null,null,2,null,null,3]
[null,15,"\"15_Oso f\"",null,null,null,null,null,null,null,null,null,null,null,null,null,null,null,null,null,null,null,null,null,null,1,3,null,2]
[null,16,"\"16_Oso f\"",null,null,null,null,null,null,null,null,null,null,null,null,null,null,null,null,null,null,3,null,1,null,null,null,null,null,null,2]
[null,17,"\"17_Oso f\"",null,null,null,null,null,null,null,null,null,null,null,null,null,null,null,null,1,null,null,null,null,3,2]
[null,18,"\"18_Oso f\"",null,null,null,null,null,null,null,null,null,null,null,null,null,null,null,null,3,null,null,null,null,null,null,2,null,null,null,1]
[null,19,"\"19_Oso f\"",null,null,null,null,null,null,null,null,null,null,null,null,null,null,null,null,null,1,null,null,null,null,null,3,null,null,null,2]
[null,20,"\"20_Oso f\"",null,null,null,null,null,null,null,null,null,null,null,null,null,null,null,null,null,null,3,null,null,null,null,2,null,null,null,1]
[null,21,"\"21_Oso f\"",null,null,null,null,null,null,null,null,null,null,null,null,null,null,null,null,null,null,2,3,null,null,null,null,1]
[null,22,"\"22_Oso f\"",null,null,null,null,null,null,null,null,null,null,null,null,null,null,null,null,2,null,null,null,null,1,null,3]
[null,23,"\"23_Oso f\"",null,null,null,null,null,3,null,null,null,null,null,null,null,null,null,null,null,null,2,null,null,null,null,null,null,1]
[null,24,"\"24_Oso f\"",null,null,null,null,null,null,null,null,null,null,null,null,null,null,null,2,null,null,null,null,null,3,null,null,null,1]
[null,25,"\"25_Oso f\"",null,null,null,null,null,null,null,null,null,null,null,null,null,null,null,null,3,null,null,null,null,null,null,1,null,null,null,2]
[null,26,"\"26_Oso f\"",null,null,null,null,null,null,null,null,null,null,null,null,null,null,null,null,null,null,null,null,1,2,3]
[null,27,"\"27_Oso f\"",null,null,null,null,null,null,null,null,null,null,null,null,null,null,null,null,null,null,3,1,null,null,null,2]
[null,28,"\"28_Oso f\""]
[]
["Q_4",1,"\"01_Oso m\"","Q_4_P",null,null,null,null,null,null,null,null,null,null,null,null,null,null,1,null,null,null,null,null,null,null,3,null,null,2]
[null,2,"\"02_Oso m\"",null,null,null,null,null,null,null,3,null,null,null,null,null,null,null,null,null,null,null,null,null,null,null,1,null,2]
[null,3,"\"03_Oso m\"",null,null,null,null,null,null,null,null,null,null,null,null,null,null,null,null,null,null,null,null,null,null,null,1,null,null,2,null,3]
[null,4,"\"04_Oso m\"",null,null,null,null,null,null,null,null,null,2,null,null,null,null,null,1,null,null,null,null,null,null,null,3]
[null,5,"\"05_Oso m\"",null,null,null,null,null,null,null,null,null,3,null,null,null,null,null,null,null,null,null,null,null,null,null,2,null,null,null,null,1]
[null,6,"\"*06_Oso m\"",null,null,null,null,null,null,null,null,3,null,null,null,null,null,null,null,null,null,null,null,null,null,null,1,null,null,2]
[null,7,"\"07_Oso m\"",null,null,null,null,null,null,null,null,null,null,null,null,null,null,null,3,null,null,null,null,null,null,null,1,null,null,2]
[null,8,"\"08_Oso m\"",null,null,null,null,null,null,null,null,null,3,null,null,null,null,null,null,null,null,null,null,null,null,null,1,null,null,2]
[null,9,"\"09_Oso f\"",null,null,null,null,null,null,null,null,null,null,null,null,null,null,null,null,null,null,null,null,null,null,null,1,null,3,null,null,2]
[null,10,"\"**10_Oso m\"",null,null,null,null,null,null,null,null,null,1,null,null,null,null,null,null,null,null,null,null,null,null,null,3,null,null,null,null,2]
[null,11,"\"11_Oso m\"",null,null,null,null,null,null,null,2,null,1,null,null,null,null,null,null,null,null,null,null,null,null,null,null,null,null,null,null,3]
[null,12,"\"12_Oso m\"",null,null,null,null,null,null,null,null,null,3,null,null,null,null,null,null,null,null,null,null,null,null,null,1,null,null,null,null,2]
[null,13,"\"13_Oso m\"",null,null,null,null,null,null,null,null,null,null,null,null,null,null,null,null,null,null,null,null,null,null,null,1,null,2,null,null,3]
[null,14,"\"14_Oso m\"",null,null,null,null,null,null,null,null,null,3,null,null,null,null,null,null,null,null,null,null,null,null,null,1,null,null,null,null,2]
[null,15,"\"15_Oso f\"",null,null,null,null,null,3,null,null,null,null,null,null,null,null,null,null,null,null,null,null,null,null,null,2,null,1]
[null,16,"\"16_Oso f\"",null,null,null,null,null,null,null,null,null,null,null,null,null,null,null,1,null,null,null,null,null,null,null,2,null,3]
[null,17,"\"17_Oso f\"",null,null,null,null,null,null,null,null,null,null,null,null,null,null,null,1,null,null,null,null,null,null,null,3,null,null,2]
[null,18,"\"18_Oso f\"",null,null,null,null,null,null,null,null,null,null,null,null,null,null,null,null,null,null,null,null,2,null,null,1,null,3]
[null,19,"\"19_Oso f\"",null,null,null,null,null,null,null,null,null,3,null,null,null,null,null,null,null,null,null,null,null,null,null,1,null,2]
[null,20,"\"20_Oso f\"",null,null,null,null,null,null,null,null,null,2,null,null,null,null,null,null,null,null,3,null,null,null,null,1]
[null,21,"\"21_Oso f\"",null,null,null,null,null,null,null,null,null,2,null,null,null,null,null,null,null,null,null,null,null,null,null,1,null,3]
[null,22,"\"22_Oso f\"",null,null,null,null,null,null,null,null,null,null,null,null,null,null,null,null,null,null,null,null,null,null,null,2,null,1,3]
[null,23,"\"23_Oso f\"",null,null,null,null,null,3,null,null,null,null,null,null,null,null,null,null,null,null,1,null,2]
[null,24,"\"24_Oso f\"",null,null,null,null,null,null,null,null,null,null,null,null,null,null,null,3,null,null,null,null,null,null,null,1,null,2]
[null,25,"\"25_Oso f\"",null,null,null,null,null,null,null,null,null,null,null,null,null,null,null,2,null,null,null,null,null,null,null,1,null,null,3]
[null,26,"\"26_Oso f\"",null,null,null,null,null,null,null,null,null,null,null,null,null,null,null,3,null,null,null,null,null,null,null,1,null,2]
[null,27,"\"27_Oso f\"",null,null,null,null,null,null,null,null,null,null,null,null,null,null,null,null,null,null,null,null,3,null,null,1,null,2]
[null,28,"\"28_Oso f\""]
[]
["Q_5",1,"\"01_Oso m\"","Q_5_P",null,null,null,null,1,null,3,null,null,null,2]
[null,2,"\"02_Oso m\"",null,null,null,null,null,null,null,2,null,3,null,null,null,null,null,null,null,null,null,null,null,null,null,1]
[null,3,"\"03_Oso m\"",null,null,null,null,null,null,null,3,null,2,null,null,null,null,null,null,null,null,null,null,null,null,null,null,null,null,null,null,1]
[null,4,"\"04_Oso m\"",null,null,null,null,null,null,null,null,null,null,null,2,null,null,null,null,null,null,null,null,null,null,null,3,null,null,null,null,1]
[null,5,"\"05_Oso m\"",null,2,null,null,null,null,null,null,null,null,1,null,null,null,null,null,null,null,null,null,null,null,null,null,null,null,null,null,3]
[null,6,"\"*06_Oso m\"",null,null,null,null,null,null,null,null,null,null,null,1]
[null,7,"\"07_Oso m\"",null,null,null,null,null,null,null,null,1,null,null,2,null,null,3]
[null,8,"\"08_Oso m\"",null,null,null,null,null,null,null,null,null,1,null,null,null,null,null,null,null,null,null,null,null,null,null,3,null,null,2]
[null,9,"\"09_Oso f\"",null,null,null,2,null,null,null,3,null,null,null,null,null,null,null,null,null,null,null,null,null,null,null,null,null,null,null,null,1]
[null,10,"\"**10_Oso m\"",null,1,null,null,null,2,3]
[null,11,"\"11_Oso m\"",null,null,null,null,null,null,null,1,3,null,null,null,null,null,null,null,null,null,null,null,null,null,null,null,null,null,null,null,2]
[null,12,"\"12_Oso m\"",null,null,null,null,null,null,null,null,null,null,null,null,null,2,1,null,null,null,null,null,3]
[null,13,"\"13_Oso m\"",null,null,null,null,2,null,null,null,null,null,null,null,3,null,1]
[null,14,"\"14_Oso m\"",null,null,null,null,null,null,null,null,2,null,null,null,3,1]
[null,15,"\"15_Oso f\"",null,null,null,null,null,null,null,null,null,null,null,null,null,null,null,null,null,null,null,null,null,null,3,1,null,2]
[null,16,"\"16_Oso f\"",null,null,null,null,null,null,null,null,null,null,null,null,null,null,null,null,null,null,null,null,null,null,null,3,null,2,null,1]
[null,17,"\"17_Oso f\"",null,null,null,null,null,null,null,null,null,null,null,null,null,null,null,null,null,null,null,null,null,3,1,null,null,null,null,2]
[null,18,"\"18_Oso f\"",null,null,null,null,null,null,null,null,null,null,null,null,null,null,null,null,null,null,null,2,null,null,null,3,null,null,null,1]
[null,19,"\"19_Oso f\"",null,null,null,null,null,null,null,null,null,null,null,null,null,null,null,null,null,null,1,null,null,null,null,2,null,null,null,3]
[null,20,"\"20_Oso f\"",null,null,null,null,null,null,null,null,null,null,null,null,null,null,null,null,null,null,1,null,null,null,null,2,null,3]
[null,21,"\"21_Oso f\"",null,null,null,null,null,null,null,null,null,null,null,null,null,null,null,null,null,null,2,null,null,null,3,null,1]
[null,22,"\"22_Oso f\"",null,null,null,null,null,null,null,null,null,null,null,null,null,null,null,null,null,null,null,null,null,null,null,3,null,1,null,2]
[null,23,"\"23_Oso f\"",null,null,null,null,null,null,null,null,null,null,null,null,null,null,null,null,null,null,2,null,null,null,null,null,null,1,null,3]
[null,24,"\"24_Oso f\"",null,null,null,null,null,null,null,null,null,null,null,null,null,null,null,null,null,null,null,3,null,1,null,null,null,null,2]
[null,25,"\"25_Oso f\"",null,null,null,null,null,null,null,null,null,null,null,null,null,null,null,null,null,null,null,null,3,2,null,1]
[null,26,"\"26_Oso f\"",null,null,null,null,null,null,null,null,null,null,null,null,null,null,null,null,null,null,null,2,null,null,null,null,1,3]
[null,27,"\"27_Oso f\"",null,null,null,null,null,null,null,null,null,null,null,null,null,null,null,null,null,null,1,3,null,null,null,2]
[null,28,"\"28_Oso f\""]
[]
["Q_6",1,"\"01_Oso m\"","Q_1_N",null,null,null,null,null,null,null,null,null,null,null,null,null,null,null,2,1,null,null,null,null,null,3]
[null,2,"\"02_Oso m\"",null,null,null,null,3,null,2,null,null,null,1]
[null,3,"\"03_Oso m\"",null,null,null,null,null,2,3,null,null,null,1]
[null,4,"\"04_Oso m\"",null,null,null,null,null,null,null,null,null,null,2,null,null,null,null,null,null,null,null,null,null,1,null,null,3]
[null,5,"\"05_Oso m\"",null,null,null,null,2,null,null,null,null,null,null,null,3,null,null,null,null,null,null,null,null,null,null,null,null,null,null,1]
[null,6,"\"*06_Oso m\"",null,null,null,null,null,null,null,null,null,null,null,null,null,null,null,null,null,1,null,null,2,null,3]
[null,7,"\"07_Oso m\"",null,null,3,null,null,null,1,null,null,null,2]
[null,8,"\"08_Oso m\"",null,null,null,null,null,null,2,null,null,null,3,null,null,null,null,null,null,null,null,null,null,null,null,null,1]
[null,9,"\"09_Oso f\"",null,null,null,null,null,null,null,null,null,null,null,null,null,null,null,3,null,null,null,null,null,null,null,1,null,2]
[null,10,"\"**10_Oso m\"",null,null,null,null,2,null,null,null,null,null,null,null,null,null,null,null,1,null,3]
[null,11,"\"11_Oso m\"",null,null,1,null,2,null,null,null,null,null,3]
[null,12,"\"12_Oso m\"",null,null,3,null,null,2,null,null,null,null,null,null,null,null,null,null,null,null,null,null,null,null,1]
[null,13,"\"13_Oso m\"",null,null,null,null,null,null,1,null,null,null,null,null,null,null,null,null,null,null,null,null,null,2]
[null,14,"\"14_Oso m\"",null,null,1,null,null,null,3,null,null,null,2]
[null,15,"\"15_Oso f\"",null,null,null,null,3,null,1,null,null,null,2]
[null,16,"\"16_Oso f\"",null,null,3,null,null,null,2,null,null,null,1]
[null,17,"\"17_Oso f\"",null,null,null,null,null,null,1,null,3,null,2]
[null,18,"\"18_Oso f\"",null,null,3,null,null,null,2,null,null,null,1]
[null,19,"\"19_Oso f\"",null,null,1,null,null,null,2,null,null,null,3]
[null,20,"\"20_Oso f\"",null,null,null,null,3,null,1,null,null,null,2]
[null,21,"\"21_Oso f\"",null,null,1,null,null,null,3,null,null,null,2]
[null,22,"\"22_Oso f\"",null,null,3,null,null,null,2,null,null,null,1]
[null,23,"\"23_Oso f\"",null,null,2,null,null,null,1,null,null,null,3]
[null,24,"\"24_Oso f\"",null,null,null,null,null,null,1,null,null,null,3,null,2]
[null,25,"\"25_Oso f\"",null,null,3,null,null,null,1,null,null,null,2]
[null,26,"\"26_Oso f\"",null,null,1,null,null,null,2,null,null,null,3]
[null,27,"\"27_Oso f\"",null,null,null,null,null,null,1,null,null,null,2,null,3]
[null,28,"\"28_Oso f\""]
[]
["Q_7",1,"\"01_Oso m\"","Q_2_N",null,null,null,null,null,null,null,null,null,null,null,null,null,null,null,null,1,null,null,null,null,null,3,null,null,null,2]
[null,2,"\"02_Oso m\"",null,null,null,null,3,null,2,null,null,null,1]
[null,3,"\"03_Oso m\"",null,null,null,null,2,null,3,null,null,null,1]
[null,4,"\"04_Oso m\"",null,null,1,null,null,null,3,null,null,null,2]
[null,5,"\"05_Oso m\"",null,null,null,null,3,null,1,null,null,null,2]
[null,6,"\"*06_Oso m\"",null,null,2,null,3,null,null,null,null,null,null,null,null,null,null,null,null,null,null,null,null,null,null,null,1]
[null,7,"\"07_Oso m\"",null,null,3,null,null,null,1,null,null,null,2]
[null,8,"\"08_Oso m\"",null,null,null,null,3,null,1,null,null,null,2]
[null,9,"\"09_Oso f\"",null,null,null,null,null,null,null,null,null,null,null,null,null,null,null,2,null,3,null,null,null,null,null,1]
[null,10,"\"**10_Oso m\"",null,null,3,null,null,null,1,null,null,null,null,null,2]
[null,11,"\"11_Oso m\"",null,null,1,null,2,null,null,null,null,null,3]
[null,12,"\"12_Oso m\"",null,null,null,null,null,1,2,null,null,null,3]
[null,13,"\"13_Oso m\"",null,null,null,null,null,null,2,null,null,null,1,null,3]
[null,14,"\"14_Oso m\"",null,null,1,null,null,null,3,null,null,null,2]
[null,15,"\"15_Oso f\"",null,null,3,null,null,null,1,null,null,null,2]
[null,16,"\"16_Oso f\"",null,null,3,null,null,null,2,null,null,null,1]
[null,17,"\"17_Oso f\"",null,3,null,null,null,null,1,null,2]
[null,18,"\"18_Oso f\"",null,null,3,null,null,null,1,null,null,null,2]
[null,19,"\"19_Oso f\"",null,null,1,null,null,null,2,null,null,null,3]
[null,20,"\"20_Oso f\"",null,null,null,null,null,null,1,null,null,null,2,null,3]
[null,21,"\"21_Oso f\"",null,null,1,null,null,null,2,null,null,null,3]
[null,22,"\"22_Oso f\"",null,null,null,null,null,2,1,null,null,null,3]
[null,23,"\"23_Oso f\"",null,null,null,null,null,null,1,null,null,null,null,null,2,null,null,null,null,null,null,null,null,null,null,null,null,null,null,3]
[null,24,"\"24_Oso f\"",null,null,1,null,2,null,null,null,null,null,null,null,null,null,null,null,null,null,null,null,3]
[null,25,"\"25_Oso f\"",null,null,null,null,2,3,1]
[null,26,"\"26_Oso f\"",null,null,null,null,1,null,null,null,null,null,null,null,null,null,null,null,2,3]
[null,27,"\"27_Oso f\"",null,null,1,null,2,null,null,null,null,null,3]
[null,28,"\"28_Oso f\""]
[]
["Q_8",1,"\"01_Oso m\"","Q_3_N",null,null,null,null,null,null,null,null,null,null,null,null,null,null,null,null,2,null,null,3,null,null,null,null,null,null,1]
[null,2,"\"02_Oso m\"",null,null,null,null,3,null,null,null,null,null,1,2]
[null,3,"\"03_Oso m\"",null,null,3,null,null,1,null,null,null,null,null,null,null,null,null,null,null,null,null,null,null,null,null,null,null,null,null,2]
[null,4,"\"04_Oso m\"",null,null,null,null,null,null,null,null,null,null,null,null,null,null,null,null,null,null,null,null,null,2,null,null,1,null,null,3]
[null,5,"\"05_Oso m\"",null,null,null,null,2,null,null,null,null,null,null,null,null,null,null,null,null,null,null,3,null,null,null,null,1]
[null,6,"\"*06_Oso m\"",null,null,null,null,null,null,null,null,null,null,null,null,null,null,null,2,3,1]
[null,7,"\"07_Oso m\"",null,null,2,null,null,3,null,null,null,null,null,null,null,null,null,null,null,null,null,null,null,null,null,null,null,null,null,1]
[null,8,"\"08_Oso m\"",null,null,null,null,3,null,1,null,null,null,2]
[null,9,"\"09_Oso f\"",null,null,null,null,null,null,null,null,null,null,null,null,null,null,null,3,null,null,null,null,null,null,null,1,null,2]
[null,10,"\"**10_Oso m\"",null,null,null,null,null,null,null,null,null,null,null,null,null,null,null,null,null,null,3,null,null,null,null,null,null,2,null,1]
[null,11,"\"11_Oso m\"",null,null,2,null,1,null,null,null,null,null,3]
[null,12,"\"12_Oso m\"",null,null,1,null,null,null,null,null,3,null,null,null,null,null,null,null,null,null,2]
[null,13,"\"13_Oso m\"",null,null,null,null,null,null,1,null,null,null,3,null,null,null,null,null,null,null,null,null,null,null,null,null,null,null,null,2]
[null,14,"\"14_Oso m\"",null,null,1,null,null,null,3,null,null,null,2]
[null,15,"\"15_Oso f\"",null,null,3,null,null,null,1,null,null,null,2]
[null,16,"\"16_Oso f\"",null,null,3,null,null,null,2,null,null,null,1]
[null,17,"\"17_Oso f\"",null,2,null,null,null,null,1,null,null,null,3]
[null,18,"\"18_Oso f\"",null,null,3,null,null,null,2,null,null,null,1]
[null,19,"\"19_Oso f\"",null,null,1,null,null,null,2,null,null,null,3]
[null,20,"\"20_Oso f\"",null,null,null,null,1,null,2,3]
[null,21,"\"21_Oso f\"",null,null,1,null,null,null,3,null,null,null,2]
[null,22,"\"22_Oso f\"",null,null,null,null,3,null,1,null,null,null,2]
[null,23,"\"23_Oso f\"",null,null,null,null,null,null,2,3,null,null,1]
[null,24,"\"24_Oso f\"",null,null,null,null,null,null,null,null,null,null,null,null,null,null,null,null,3,null,null,null,2,null,1]
[null,25,"\"25_Oso f\"",null,null,null,null,null,null,1,null,null,null,2,null,3]
[null,26,"\"26_Oso f\"",null,null,2,null,null,null,1,null,null,null,3]
[null,27,"\"27_Oso f\"",null,null,1,null,null,null,2,null,null,null,3]
[null,28,"\"28_Oso f\""]
[]
["Q_9",1,"\"01_Oso m\"","Q_4_N",null,null,null,null,null,2,null,3,null,1]
[null,2,"\"02_Oso m\"",null,null,null,null,2,null,3,null,null,null,1]
[null,3,"\"03_Oso m\"",null,null,null,null,3,null,1,null,null,null,2]
[null,4,"\"04_Oso m\"",null,null,3,null,null,null,2,null,null,null,1]
[null,5,"\"05_Oso m\"",null,null,3,null,null,null,null,null,null,null,null,null,null,null,null,null,null,null,null,null,null,null,null,null,2,null,null,1]
[null,6,"\"*06_Oso m\"",null,null,2,null,3,null,null,null,null,null,null,null,null,null,null,null,null,null,null,null,null,null,null,null,1]
[null,7,"\"07_Oso m\"",null,null,2,null,null,null,1,null,null,null,3]
[null,8,"\"08_Oso m\"",null,null,null,null,3,null,2,null,null,null,1]
[null,9,"\"09_Oso f\"",null,null,1,null,null,null,3,null,null,null,2]
[null,10,"\"**10_Oso m\"",null,null,1,null,null,null,null,null,null,null,null,null,null,null,null,null,null,null,2,null,null,null,null,null,null,3]
[null,11,"\"11_Oso m\"",null,null,2,null,3,null,null,null,null,null,1]
[null,12,"\"12_Oso m\"",null,null,3,null,null,null,1,null,null,null,2]
[null,13,"\"13_Oso m\"",null,null,3,null,null,null,1,null,null,null,2]
[null,14,"\"14_Oso m\"",null,null,1,null,null,null,3,null,null,null,2]
[null,15,"\"15_Oso f\"",null,null,3,null,null,null,1,null,null,null,2]
[null,16,"\"16_Oso f\"",null,null,3,null,null,null,2,null,null,null,1]
[null,17,"\"17_Oso f\"",null,null,null,null,null,null,null,null,null,null,3,null,null,null,null,null,1,null,null,null,null,null,null,null,null,null,null,2]
[null,18,"\"18_Oso f\"",null,null,2,null,null,null,3,null,null,null,1]
[null,19,"\"19_Oso f\"",null,null,1,null,null,null,2,null,null,null,3]
[null,20,"\"20_Oso f\"",null,null,2,null,null,null,null,null,1,null,null,null,null,null,null,null,null,null,null,null,null,null,null,null,3]
[null,21,"\"21_Oso f\"",null,null,1,null,null,null,3,null,null,null,2]
[null,22,"\"22_Oso f\"",null,null,3,null,null,null,2,null,null,null,1]
[null,23,"\"23_Oso f\"",null,null,1,null,null,null,null,null,2,null,null,null,null,null,null,null,null,null,null,null,null,null,null,null,3]
[null,24,"\"24_Oso f\"",null,null,1,null,null,2,null,null,null,null,null,null,null,null,null,null,null,3]
[null,25,"\"25_Oso f\"",null,null,null,null,null,null,1,null,null,null,2,null,3]
[null,26,"\"26_Oso f\"",null,null,null,null,null,null,null,null,null,null,null,3,1,2]
[null,27,"\"27_Oso f\"",null,null,3,null,null,null,2,null,null,null,1]
[null,28,"\"28_Oso f\""]
[]
["Q_10",1,"\"01_Oso m\"","Q_5_N",null,null,null,2,null,null,null,null,null,null,null,3,null,null,null,null,null,null,null,null,null,null,null,null,null,null,1]
[null,2,"\"02_Oso m\"",null,null,null,null,1,null,2,null,null,null,3]
[null,3,"\"03_Oso m\"",null,3,null,null,1,2]
[null,4,"\"04_Oso m\"",null,null,null,2,null,null,null,null,null,null,null,null,null,null,null,null,null,null,null,1,null,null,null,null,3]
[null,5,"\"05_Oso m\"",null,null,3,null,1,null,null,null,null,null,null,null,null,null,null,null,null,null,null,2]
[null,6,"\"*06_Oso m\"",null,null,null,null,null,null,null,null,null,null,null,null,null,null,null,null,null,null,null,null,3,null,null,1,null,2]
[null,7,"\"07_Oso m\"",null,null,null,null,null,null,null,null,null,null,null,null,null,null,null,null,null,null,null,null,null,1,null,3,null,null,null,2]
[null,8,"\"08_Oso m\"",null,null,null,1,null,null,3,null,null,null,2]
[null,9,"\"09_Oso f\"",null,null,null,null,null,null,1,null,null,null,2,null,null,null,null,3]
[null,10,"\"**10_Oso m\"",null,null,null,null,null,null,null,null,null,null,null,null,null,null,null,null,null,null,null,null,null,null,null,3,null,2,null,1]
[null,11,"\"11_Oso m\"",null,null,1,null,2,null,null,null,null,null,3]
[null,12,"\"12_Oso m\"",null,null,2,null,null,1,null,null,null,null,3]
[null,13,"\"13_Oso m\"",null,null,null,null,null,null,1,null,null,null,2,null,null,null,null,null,null,null,null,null,null,null,null,null,null,3]
[null,14,"\"14_Oso m\"",null,null,1,null,null,3,null,null,null,null,2]
[null,15,"\"15_Oso f\"",null,null,null,null,null,null,null,null,null,null,null,null,null,null,null,null,1,null,null,null,null,null,null,null,3,null,null,2]
[null,16,"\"16_Oso f\"",null,null,3,null,null,null,2,null,null,null,1]
[null,17,"\"17_Oso f\"",null,null,null,null,null,null,1,null,null,null,2,null,null,null,null,null,3]
[null,18,"\"18_Oso f\"",null,null,3,null,null,null,2,null,null,null,1]
[null,19,"\"19_Oso f\"",null,null,1,null,null,null,2,null,null,null,3]
[null,20,"\"20_Oso f\"",null,null,null,null,2,null,3,null,null,null,null,null,null,null,null,null,null,null,null,null,null,null,1]
[null,21,"\"21_Oso f\"",null,null,1,null,null,null,3,null,null,null,2]
[null,22,"\"22_Oso f\"",null,null,null,null,2,1,null,null,null,null,null,null,3]
[null,23,"\"23_Oso f\"",null,null,null,null,null,null,null,2,null,null,3,null,null,null,null,null,null,null,null,null,null,null,1]
[null,24,"\"24_Oso f\"",null,null,null,null,null,null,null,null,null,null,null,null,null,null,null,null,null,3,null,null,2,null,1]
[null,25,"\"25_Oso f\"",null,null,null,null,null,3,1,null,null,null,2]
[null,26,"\"26_Oso f\"",null,null,null,null,null,1,3,2]
[null,27,"\"27_Oso f\"",null,null,null,null,null,3,1,null,null,null,2]
[null,28,"\"28_Oso f\""]

{"sheet":"Pomo_1","index":47,"n_rows":306,"n_cols":35,"rows_kept":306,"cut":false,"hidden":false,"merged":[]}
[]
[null,null,null,1,2,3,4,5,6,7,8,9,10,11,12,13,14]
["Q_1",1,"\"01_Oso f\"",null,null,null,null,null,null,null,null,null,null,null,null,null,null,null,null,null,null,null,null,null,null,null,null,null,null,null,null,null,null,null,"Q_1"]
[null,2,"\"02_Oso m\"",null,null,null,3,null,null,1,2]
[null,3,"\"03_Oso m\"",null,null,null,null,1,null,null,null,null,null,null,2,3]
[null,4,"\"04_Osor m\"",null,2,null,null,3,null,1]
[null,5,"\"05_Oso m\""]
[null,6,"\"06_Oso m\"",null,null,null,null,null,null,2,3,null,null,null,1]
[null,7,"\"07_Oso m\"",null,1,null,null,null,3,null,2]
[null,8,"\"08_Oso m\"",null,2,null,null,null,3,1]
[null,9,"\"09_Oso f\"",2,null,null,null,null,null,null,null,3,null,1]
[null,10,"\"10_Oso f\"",2,null,null,null,null,null,null,3,null,null,1]
[null,11,"\"11_Oso f\""]
[null,12,"\"12_Oso m\"",null,null,3,null,1,null,null,null,null,null,null,null,2]
[null,13,"\"13_Oso m\""]
[null,14,"\"14_Oso m\""]
[]
[null,null,null,1,2,3,4,5,6,7,8,9,10,11,12,13,14]
["Q_2",1,"\"01_Oso f\""]
[null,2,"\"02_Oso m\""]
[null,3,"\"03_Oso m\""]
[null,4,"\"04_Osor m\""]
[null,5,"\"05_Oso m\""]
[null,6,"\"06_Oso m\""]
[null,7,"\"07_Oso m\""]
[null,8,"\"08_Oso m\""]
[null,9,"\"09_Oso f\"",null,null,null,null,null,3]
[null,10,"\"10_Oso f\"",null,null,2,null,3,null,null,null,null,null,null,null,1]
[null,11,"\"11_Oso f\""]
[null,12,"\"12_Oso m\""]
[null,13,"\"13_Oso m\""]
[null,14,"\"14_Oso m\""]
[]
[null,null,null,1,2,3,4,5,6,7,8,9,10,11,12,13,14,null,null,null,null,null,null,null,null,null,null,null,null,null,null,null,null,"Q_2"]
["Q_3",1,"\"01_Oso f\"",null,null,null,null,3]
[null,2,"\"02_Oso m\""]
[null,3,"\"03_Oso m\""]
[null,4,"\"04_Osor m\""]
[null,5,"\"05_Oso m\""]
[null,6,"\"06_Oso m\""]
[null,7,"\"07_Oso m\"",null,null,null,null,null,null,null,null,null,null,null,null,null,1]
[null,8,"\"08_Oso m\"",3,null,null,null,null,null,null,null,null,2]
[null,9,"\"09_Oso f\"",null,null,null,null,null,null,2,1,null,null,null,null,null,3]
[null,10,"\"10_Oso f\""]
[null,11,"\"11_Oso f\""]
[null,12,"\"12_Oso m\""]
[null,13,"\"13_Oso m\""]
[null,14,"\"14_Oso m\""]
[]
[null,null,null,1,2,3,4,5,6,7,8,9,10,11,12,13,14]
["Q_4",1,"\"01_Oso f\""]
[null,2,"\"02_Oso m\"",null,null,null,null,null,null,null,2]
[null,3,"\"03_Oso m\""]
[null,4,"\"04_Osor m\""]
[null,5,"\"05_Oso m\""]
[null,6,"\"06_Oso m\""]
[null,7,"\"07_Oso m\""]
[null,8,"\"08_Oso m\""]
[null,9,"\"09_Oso f\"",null,null,null,null,null,null,null,1,null,2,null,null,null,3]
[null,10,"\"10_Oso f\"",null,null,null,null,null,null,1,3,null,null,null,null,null,2]
[null,11,"\"11_Oso f\"",null,null,null,null,null,null,null,3,null,null,null,null,null,1]
[null,12,"\"12_Oso m\"",null,null,null,null,null,null,null,null,null,null,null,null,null,null,null,null,null,null,null,null,null,null,null,null,null,null,null,null,null,null,"Q_3"]
[null,13,"\"13_Oso m\""]
[null,14,"\"14_Oso m\""]
[]
[null,null,null,1,2,3,4,5,6,7,8,9,10,11,12,13,14]
["Q_5",1,"\"01_Oso f\""]
[null,2,"\"02_Oso m\""]
[null,3,"\"03_Oso m\""]
[null,4,"\"04_Osor m\""]
[null,5,"\"05_Oso m\""]
[null,6,"\"06_Oso m\""]
[null,7,"\"07_Oso m\""]
[null,8,"\"08_Oso m\""]
[null,9,"\"09_Oso f\""]
[null,10,"\"10_Oso f\"",null,null,null,null,null,null,null,1]
[null,11,"\"11_Oso f\""]
[null,12,"\"12_Oso m\""]
[null,13,"\"13_Oso m\""]
[null,14,"\"14_Oso m\""]
[]
[null,null,null,1,2,3,4,5,6,7,8,9,10,11,12,13,14]
["Q_6",1,"\"01_Oso f\"",null,null,null,null,null,null,null,null,null,null,null,null,null,null,null,null,null,null,null,null,null,null,null,null,null,null,null,null,null,null,null,"Q_4"]
[null,2,"\"02_Oso m\""]
[null,3,"\"03_Oso m\"",null,null,null,null,null,1]
[null,4,"\"04_Osor m\""]
[null,5,"\"05_Oso m\""]
[null,6,"\"06_Oso m\""]
[null,7,"\"07_Oso m\""]
[null,8,"\"08_Oso m\"",null,null,null,null,2,null,null,null,null,null,null,3]
[null,9,"\"09_Oso f\"",null,null,null,null,null,1]
[null,10,"\"10_Oso f\"",null,null,null,null,1,3,null,null,2]
[null,11,"\"11_Oso f\"",null,null,null,null,2,null,null,null,null,null,null,1,3]
[null,12,"\"12_Oso m\""]
[null,13,"\"13_Oso m\""]
[null,14,"\"14_Oso m\""]
[]
[null,null,null,1,2,3,4,5,6,7,8,9,10,11,12,13,14]
["Q_7",1,"\"01_Oso f\""]
[null,2,"\"02_Oso m\""]
[null,3,"\"03_Oso m\"",null,null,null,null,null,1]
[null,4,"\"04_Osor m\""]
[null,5,"\"05_Oso m\""]
[null,6,"\"06_Oso m\""]
[null,7,"\"07_Oso m\""]
[null,8,"\"08_Oso m\"",null,null,null,null,2,null,null,null,null,null,null,3]
[null,9,"\"09_Oso f\"",null,null,null,null,null,1,null,null,null,null,null,null,null,null,null,null,null,null,null,null,null,null,null,null,null,null,null,null,null,"Q_5"]
[null,10,"\"10_Oso f\"",null,null,null,null,1,3,null,null,2]
[null,11,"\"11_Oso f\"",null,null,null,null,2,null,null,null,null,null,null,1,3]
[null,12,"\"12_Oso m\""]
[null,13,"\"13_Oso m\""]
[null,14,"\"14_Oso m\""]
[]
[null,null,null,1,2,3,4,5,6,7,8,9,10,11,12,13,14]
["Q_8",1,"\"01_Oso f\""]
[null,2,"\"02_Oso m\""]
[null,3,"\"03_Oso m\""]
[null,4,"\"04_Osor m\"",null,null,null,null,1,null,null,null,3,2]
[null,5,"\"05_Oso m\""]
[null,6,"\"06_Oso m\"",null,null,null,null,null,null,null,null,3]
[null,7,"\"07_Oso m\""]
[null,8,"\"08_Oso m\""]
[null,9,"\"09_Oso f\"",1,null,null,null,null,null,null,null,3,2]
[null,10,"\"10_Oso f\"",null,3,null,null,null,null,null,1,null,null,1]
[null,11,"\"11_Oso f\"",3,null,null,null,null,null,null,null,2,1]
[null,12,"\"12_Oso m\""]
[null,13,"\"13_Oso m\""]
[null,14,"\"14_Oso m\"",null,null,null,null,null,null,null,null,null,null,null,null,null,null,null,null,null,null,null,null,null,null,null,null,null,null,null,null,"Q_6"]
[]
[null,null,null,1,2,3,4,5,6,7,8,9,10,11,12,13,14]
["Q_9",1,"\"01_Oso f\""]
[null,2,"\"02_Oso m\""]
[null,3,"\"03_Oso m\""]
[null,4,"\"04_Osor m\""]
[null,5,"\"05_Oso m\""]
[null,6,"\"06_Oso m\""]
[null,7,"\"07_Oso m\"",null,null,null,null,1,null,null,null,2]
[null,8,"\"08_Oso m\""]
[null,9,"\"09_Oso f\""]
[null,10,"\"10_Oso f\"",null,null,null,null,1,2,null,null,3]
[null,11,"\"11_Oso f\"",null,null,null,null,3]
[null,12,"\"12_Oso m\""]
[null,13,"\"13_Oso m\""]
[null,14,"\"14_Oso m\""]
[]
[null,null,null,1,2,3,4,5,6,7,8,9,10,11,12,13,14]
["Q_10",1,"\"01_Oso f\""]
[null,2,"\"02_Oso m\"",null,null,1]
[null,3,"\"03_Oso m\""]
[null,4,"\"04_Osor m\""]
[null,5,"\"05_Oso m\""]
[null,6,"\"06_Oso m\""]
[null,7,"\"07_Oso m\""]
[null,8,"\"08_Oso m\""]
[null,9,"\"09_Oso f\"",null,null,null,null,null,3]
[null,10,"\"10_Oso f\""]
[null,11,"\"11_Oso f\""]
[null,12,"\"12_Oso m\"",null,null,null,null,null,null,null,null,null,null,null,null,null,null,null,null,null,null,null,null,null,null,null,null,null,null,null,null,null,null,"Q_7"]
[null,13,"\"13_Oso m\""]
[null,14,"\"14_Oso m\""]
[]
[null,null,null,1,2,3,4,5,6,7,8,9,10,11,12,13,14]
["Q_11",1,"\"01_Oso f\""]
[null,2,"\"02_Oso m\""]
[null,3,"\"03_Oso m\"",null,null,null,null,1]
[null,4,"\"04_Osor m\""]
[null,5,"\"05_Oso m\"",null,null,null,null,1]
[null,6,"\"06_Oso m\""]
[null,7,"\"07_Oso m\""]
[null,8,"\"08_Oso m\"",null,null,null,null,1]
[null,9,"\"09_Oso f\"",null,null,null,null,1]
[null,10,"\"10_Oso f\"",null,null,null,null,2,null,null,null,1]
[null,11,"\"11_Oso f\"",null,null,null,null,null,null,null,null,1]
[null,12,"\"12_Oso m\""]
[null,13,"\"13_Oso m\""]
[null,14,"\"14_Oso m\""]
[]
[null,null,null,1,2,3,4,5,6,7,8,9,10,11,12,13,14]
["Q_12",1,"\"01_Oso f\""]
[null,2,"\"02_Oso m\""]
[null,3,"\"03_Oso m\""]
[null,4,"\"04_Osor m\""]
[null,5,"\"05_Oso m\""]
[null,6,"\"06_Oso m\"",null,null,null,null,null,null,null,null,null,null,null,null,null,null,null,null,null,null,null,null,null,null,null,null,null,null,null,null,null,null,"Q_8"]
[null,7,"\"07_Oso m\""]
[null,8,"\"08_Oso m\""]
[null,9,"\"09_Oso f\""]
[null,10,"\"10_Oso f\"",null,null,null,null,null,null,null,1]
[null,11,"\"11_Oso f\""]
[null,12,"\"12_Oso m\""]
[null,13,"\"13_Oso m\""]
[null,14,"\"14_Oso m\""]
[]
[null,null,null,1,2,3,4,5,6,7,8,9,10,11,12,13,14]
["Q_13",1,"\"01_Oso f\""]
[null,2,"\"02_Oso m\""]
[null,3,"\"03_Oso m\""]
[null,4,"\"04_Osor m\""]
[null,5,"\"05_Oso m\""]
[null,6,"\"06_Oso m\""]
[null,7,"\"07_Oso m\"",null,null,null,3,1,null,null,null,null,null,null,2]
[null,8,"\"08_Oso m\""]
[null,9,"\"09_Oso f\"",null,null,null,null,null,1]
[null,10,"\"10_Oso f\"",null,null,null,null,null,null,null,null,1]
[null,11,"\"11_Oso f\""]
[null,12,"\"12_Oso m\""]
[null,13,"\"13_Oso m\""]
[null,14,"\"14_Oso m\""]
[]
[]
[]
[null,null,null,null,null,null,null,null,null,null,null,null,null,null,null,null,null,null,null,null,null,null,null,null,null,null,null,null,null,null,null,"Q_9"]
[]
[]
[]
[]
[]
[]
[]
[]
[]
[]
[]
[]
[]
[]
[]
[]
[]
[]
[]
[]
[]
[]
[]
[]
[]
[null,null,null,null,null,null,null,null,null,null,null,null,null,null,null,null,null,null,null,null,null,null,null,null,null,null,null,null,null,null,null,"Q_10"]
[]
[]
[]
[]
[]
[]
[]
[]
[]
[]
[]
[]
[]
[]
[]
[]
[]
[]
[]
[]
[]
[null,null,null,null,null,null,null,null,null,null,null,null,null,null,null,null,null,null,null,null,null,null,null,null,null,null,null,null,null,null,null,null,"Q_11"]
[]
[]
[]
[]
[]
[]
[]
[]
[]
[]
[]
[]
[]
[]
[]
[]
[]
[]
[]
[]
[]
[]
[null,null,null,null,null,null,null,null,null,null,null,null,null,null,null,null,null,null,null,null,null,null,null,null,null,null,null,null,null,null,null,"Q_12"]
[]
[]
[]
[]
[]
[]
[]
[]
[]
[]
[]
[]
[]
[]
[]
[]
[]
[]
[]
[]
[]
[]
[null,null,null,null,null,null,null,null,null,null,null,null,null,null,null,null,null,null,null,null,null,null,null,null,null,null,null,null,null,null,null,null,"Q_13"]