{"text_format":"1","workbook":"xlsx","n_sheets":31,"sheets":["Q_1_P","Q_1_N","Q_2_P","Q_2_N","Q_3_P","Q_3_N","Q_4_P","Q_4_N","Q_5_P","Q_5_N","Questions","Sgm_Q1","Sgm_Q2","Sgm_Q3","Sgm_Q4","Sgm_Q5","Sumy_All_Q","Individualne","Target_All_Sumar","Target_grafy_Q_1","Target_grafy_Q_2","Target_grafy_Q_3","Target_grafy_Q_4","Target_grafy_Q_5","Odlo_Q_1_hranice","Odlo","Stručný návod","Podrobný návod","Technický návod","Pomo","Pomo_1"],"not_rendered":{"charts":69,"images":185,"macros":1,"external_links":0,"defined_names":1,"comments":1,"pivot_tables":0},"unopened":[],"bounds":{"document_bytes":16777216,"sheet_cells":100000,"rows_first":2000,"rows_last":500,"rows_between":2000,"halvings":0,"cell_chars":16384,"cell_head_chars":4096},"cells_cut":0,"cells_raw":0,"read":"whole","date_system":"1900"}

{"sheet":"Q_1_P","index":0,"n_rows":67,"n_cols":70,"rows_kept":67,"cut":false,"hidden":false,"merged":[]}
["\"1. S kým z triedy by si chcel sedieť v jednej lavici?\""]
[null,3]
[null,28,null,1,2,3,4,5,6,7,8,9,10,11,12,13,14,15,16,17,18,19,20,21,22,23,24,25,26,27,28]
[null,null,null,"\"01_Oso m\"","\"02_Oso m\"","\"03_Oso m\"","\"04_Oso m\"","\"05_Oso m\"","\"*06_Oso m\"","\"07_Oso m\"","\"08_Oso m\"","\"09_Oso f\"","\"**10_Oso m\"","\"11_Oso m\"","\"12_Oso m\"","\"13_Oso m\"","\"14_Oso m\"","\"15_Oso f\"","\"16_Oso f\"","\"17_Oso f\"","\"18_Oso f\"","\"19_Oso f\"","\"20_Oso f\"","\"21_Oso f\"","\"22_Oso f\"","\"23_Oso f\"","\"24_Oso f\"","\"25_Oso f\"","\"26_Oso f\"","\"27_Oso f\"","\"28_Oso f\""]
["→",1,"\"01_Oso m\"",null,null,null,null,1,null,null,null,null,3,2,null,null,null,null,null,null,null,null,null,null,null,null,null,null,null,null,null,3,null,null,null,null,null,null,null,null,null,null,2,0,1,1,4,0,4,4,6,2,3,3,1,2,0,2,0,4,1,2,2,5,10,3,3,2,8,6]
[null,2,"\"02_Oso m\"",null,null,null,null,null,null,null,1,3,null,2,null,null,null,null,null,null,null,null,null,null,null,null,null,null,null,null,null,3,null,null,null,null,null,null,null,null,null,null,3,3,3,3,3,3,3,3,3,3,3,3,3,3,3,3,3,3,3,3,3,3,3,3,3,3,3,0]
[null,3,"\"03_Oso m\"",null,null,null,null,null,null,null,null,2,null,null,3,null,null,null,null,null,null,null,null,null,null,null,null,null,null,null,1,3,null,null,null,null,null,null,null,null,null,null,2,0,1,0,2,0,2,0,2,1,0,0,1,1,0,1,0,3,0,1,1,1,2,2,2,1,2,0]
[null,4,"\"04_Oso m\"",null,null,null,null,null,null,null,null,null,null,null,null,null,null,null,null,null,null,null,null,null,null,3,null,1,null,null,2,3]
[null,5,"\"05_Oso m\"",1,null,null,null,null,null,3,null,2,null,null,null,null,null,null,null,null,null,null,null,null,null,null,null,null,null,null,null,3]
[null,6,"\"*06_Oso m\"",null,null,null,null,null,null,null,null,null,3,1,2,null,null,null,null,null,null,null,null,null,null,null,null,null,null,null,null,3]
[null,7,"\"07_Oso m\"",null,null,null,null,3,null,null,null,1,null,null,null,null,null,null,null,null,null,null,null,null,null,null,null,null,null,null,2,3]
[null,8,"\"08_Oso m\"",null,null,null,null,null,null,2,null,3,null,null,null,null,null,null,null,null,null,null,null,null,null,null,null,null,null,null,1,3]
[null,9,"\"09_Oso f\"",null,null,2,null,null,null,3,null,null,null,null,null,null,null,null,null,null,null,null,null,null,null,null,null,null,null,null,1,3]
[null,10,"\"**10_Oso m\"",1,null,null,null,2,null,null,3,null,null,null,null,null,null,null,null,null,null,null,null,null,null,null,null,null,null,null,null,3]
[null,11,"\"11_Oso m\"",null,null,null,null,null,null,2,1,null,null,null,null,null,null,null,null,null,null,null,null,null,null,null,null,null,null,null,3,3]
[null,12,"\"12_Oso m\"",null,null,null,null,null,null,null,null,null,null,null,null,null,null,null,null,null,null,null,2,3,null,1,null,null,null,null,null,3]
[null,13,"\"13_Oso m\"",null,null,null,2,null,null,null,null,null,null,null,3,null,1,null,null,null,null,null,null,null,null,null,null,null,null,null,null,3]
[null,14,"\"14_Oso m\"",null,null,null,null,null,null,null,3,2,null,null,null,1,null,null,null,null,null,null,null,null,null,null,null,null,null,null,null,3]
[null,15,"\"15_Oso f\"",null,null,null,null,null,null,null,null,null,null,null,null,null,null,null,null,null,null,null,null,null,3,2,null,null,1,null,null,3]
[null,16,"\"16_Oso f\"",null,null,null,null,null,null,null,null,null,null,null,null,null,null,null,null,null,null,null,null,null,3,null,2,null,null,1,null,3]
[null,17,"\"17_Oso f\"",null,null,null,null,null,null,null,null,null,null,null,null,null,null,null,2,null,null,null,null,null,1,null,null,null,null,3,null,3]
[null,18,"\"18_Oso f\"",null,null,null,null,null,null,null,null,null,null,null,null,null,null,null,null,null,null,null,2,null,null,3,null,null,null,1,null,3]
[null,19,"\"19_Oso f\"",null,null,null,null,null,null,null,null,null,null,null,null,null,null,null,null,null,1,null,null,null,null,3,null,null,null,2,null,3]
[null,20,"\"20_Oso f\"",null,null,null,null,null,null,null,null,null,null,null,null,null,null,null,null,null,2,null,null,null,null,3,null,null,null,1,null,3]
[null,21,"\"21_Oso f\"",null,null,null,null,null,null,null,null,null,null,null,null,null,null,null,null,null,null,null,null,null,3,null,1,null,null,2,null,3]
[null,22,"\"22_Oso f\"",null,null,null,null,null,null,null,null,null,null,null,null,null,null,null,null,null,null,null,null,null,null,2,null,1,null,3,null,3]
[null,23,"\"23_Oso f\"",null,null,null,null,3,null,null,null,null,null,null,null,null,null,null,null,null,1,null,null,null,null,null,null,2,null,null,null,3]
[null,24,"\"24_Oso f\"",null,null,null,null,null,null,null,null,null,null,null,null,null,null,null,null,null,null,1,null,2,null,null,null,null,3,null,null,3]
[null,25,"\"25_Oso f\"",null,null,null,null,null,null,null,null,null,null,null,null,null,null,null,null,null,null,null,null,null,2,1,null,null,null,3,null,3]
[null,26,"\"26_Oso f\"",null,null,null,null,null,null,null,null,null,null,null,null,null,1,null,null,null,null,null,null,null,null,3,2,null,null,null,null,3]
[null,27,"\"27_Oso f\"",null,null,null,null,null,null,null,null,null,null,null,null,null,null,null,2,null,1,null,null,null,null,3,null,null,null,null,null,3]
[null,28,"\"28_Oso f\"",null,null,null,null,null,null,null,null,null,null,null,null,null,null,null,null,null,null,null,null,null,null,null,null,null,null,null,null,0]
[null,null,null,2,0,1,1,4,0,4,4,6,2,3,3,1,2,0,2,0,4,1,2,2,5,10,3,3,2,8,6,{"$f":"SUM($D$33:$AE$33)","v":81}]
[]
[]
[]
[null,null,null,1,2,3,4,5,6,7,8,9,10,11,12,13,14,15,16,17,18,19,20,21,22,23,24,25,26,27,28]
[null,null,null,"\"01_Oso m\"","\"02_Oso m\"","\"03_Oso m\"","\"04_Oso m\"","\"05_Oso m\"","\"*06_Oso m\"","\"07_Oso m\"","\"08_Oso m\"","\"09_Oso f\"","\"**10_Oso m\"","\"11_Oso m\"","\"12_Oso m\"","\"13_Oso m\"","\"14_Oso m\"","\"15_Oso f\"","\"16_Oso f\"","\"17_Oso f\"","\"18_Oso f\"","\"19_Oso f\"","\"20_Oso f\"","\"21_Oso f\"","\"22_Oso f\"","\"23_Oso f\"","\"24_Oso f\"","\"25_Oso f\"","\"26_Oso f\"","\"27_Oso f\"","\"28_Oso f\""]
[null,1,"\"01_Oso m\"",{"$f":"IF(D5<>0,D$3,\"\")","v":""},"","","",5,"","","","",10,11,"","","","","","","","","","","","","","","","","",null," 5, 10, 11,"," 16, 17, 23,",{"$f":"CONCATENATE(AG39,AH39)","v":" 5, 10, 11, 16, 17, 23,"},null,5,10,11,2]
[null,2,"\"02_Oso m\"",{"$f":"IF(D6<>0,D$3,\"\")","v":""},"","","","","","",8,9,"",11,"","","","","","","","","","","","","","","","","",null," 8, 9, 11,"," 4, 6, 10,"," 8, 9, 11, 4, 6, 10,",null,8,9,11,0]
[null,3,"\"03_Oso m\"",{"$f":"IF(D7<>0,D$3,\"\")","v":""},"","","","","","","",9,"","",12,"","","","","","","","","","","","","","","",28,null," 9, 12, 28,"," 5, 6, 10,"," 9, 12, 28, 5, 6, 10,",null,9,12,28,1]
[null,4,"\"04_Oso m\"",{"$f":"IF(D8<>0,D$3,\"\")","v":""},"","","","","","","","","","","","","","","","","","","","","",23,"",25,"","",28,null," 23, 25, 28,"," 10, 21, 24,"," 23, 25, 28, 10, 21, 24,",null,23,25,28,0]
[null,5,"\"05_Oso m\"",{"$f":"IF(D9<>0,D$3,\"\")","v":1},"","","","","",7,"",9,"","","","","","","","","","","","","","","","","","","",null," 1, 7, 9,"," 4, 12, 27,"," 1, 7, 9, 4, 12, 27,",null,1,7,9,2]
[null,6,"\"*06_Oso m\"",{"$f":"IF(D10<>0,D$3,\"\")","v":""},"","","","","","","","",10,11,12,"","","","","","","","","","","","","","","","",null," 10, 11, 12,"," 17, 20, 22,"," 10, 11, 12, 17, 20, 22,",null,10,11,12,0]
[null,7,"\"07_Oso m\"",{"$f":"IF(D11<>0,D$3,\"\")","v":""},"","","",5,"","","",9,"","","","","","","","","","","","","","","","","","",28,null," 5, 9, 28,"," 2, 6, 10,"," 5, 9, 28, 2, 6, 10,",null,5,9,28,2]
[null,8,"\"08_Oso m\"",{"$f":"IF(D12<>0,D$3,\"\")","v":""},"","","","","",7,"",9,"","","","","","","","","","","","","","","","","","",28,null," 7, 9, 28,"," 6, 10, 24,"," 7, 9, 28, 6, 10, 24,",null,7,9,28,0]
[null,9,"\"09_Oso f\"",{"$f":"IF(D13<>0,D$3,\"\")","v":""},"",3,"","","",7,"","","","","","","","","","","","","","","","","","","","",28,null," 3, 7, 28,"," 15, 23, 25,"," 3, 7, 28, 15, 23, 25,",null,3,7,28,2]
[null,10,"\"**10_Oso m\"",{"$f":"IF(D14<>0,D$3,\"\")","v":1},"","","",5,"","",8,"","","","","","","","","","","","","","","","","","","","",null," 1, 5, 8,"," 4, 16, 18,"," 1, 5, 8, 4, 16, 18,",null,1,5,8,1]
[null,11,"\"11_Oso m\"",{"$f":"IF(D15<>0,D$3,\"\")","v":""},"","","","","",7,8,"","","","","","","","","","","","","","","","","","","",28,null," 7, 8, 28,"," 2, 4, 10,"," 7, 8, 28, 2, 4, 10,",null,7,8,28,0]
[null,12,"\"12_Oso m\"",{"$f":"IF(D16<>0,D$3,\"\")","v":""},"","","","","","","","","","","","","","","","","","",20,21,"",23,"","","","","",null," 20, 21, 23,"," 2, 5, 22,"," 20, 21, 23, 2, 5, 22,",null,20,21,23,0]
[null,13,"\"13_Oso m\"",{"$f":"IF(D17<>0,D$3,\"\")","v":""},"","",4,"","","","","","","",12,"",14,"","","","","","","","","","","","","","",null," 4, 12, 14,"," 6, 21, 0,"," 4, 12, 14, 6, 21, 0,",null,4,12,14,1]
[null,14,"\"14_Oso m\"",{"$f":"IF(D18<>0,D$3,\"\")","v":""},"","","","","","",8,9,"","","",13,"","","","","","","","","","","","","","","",null," 8, 9, 13,"," 2, 6, 10,"," 8, 9, 13, 2, 6, 10,",null,8,9,13,1]
[null,15,"\"15_Oso f\"",{"$f":"IF(D19<>0,D$3,\"\")","v":""},"","","","","","","","","","","","","","","","","","","","",22,23,"","",26,"","",null," 22, 23, 26,"," 4, 6, 10,"," 22, 23, 26, 4, 6, 10,",null,22,23,26,0]
[null,16,"\"16_Oso f\"",{"$f":"IF(D20<>0,D$3,\"\")","v":""},"","","","","","","","","","","","","","","","","","","","",22,"",24,"","",27,"",null," 22, 24, 27,"," 2, 6, 10,"," 22, 24, 27, 2, 6, 10,",null,22,24,27,1]
[null,17,"\"17_Oso f\"",{"$f":"IF(D21<>0,D$3,\"\")","v":""},"","","","","","","","","","","","","","",16,"","","","","",22,"","","","",27,"",null," 16, 22, 27,"," 6, 8, 10,"," 16, 22, 27, 6, 8, 10,",null,16,22,27,0]
[null,18,"\"18_Oso f\"",{"$f":"IF(D22<>0,D$3,\"\")","v":""},"","","","","","","","","","","","","","","","","","",20,"","",23,"","","",27,"",null," 20, 23, 27,"," 2, 6, 10,"," 20, 23, 27, 2, 6, 10,",null,20,23,27,3]
[null,19,"\"19_Oso f\"",{"$f":"IF(D23<>0,D$3,\"\")","v":""},"","","","","","","","","","","","","","","","",18,"","","","",23,"","","",27,"",null," 18, 23, 27,"," 2, 6, 10,"," 18, 23, 27, 2, 6, 10,",null,18,23,27,0]
[null,20,"\"20_Oso f\"",{"$f":"IF(D24<>0,D$3,\"\")","v":""},"","","","","","","","","","","","","","","","",18,"","","","",23,"","","",27,"",null," 18, 23, 27,"," 4, 6, 10,"," 18, 23, 27, 4, 6, 10,",null,18,23,27,1]
[null,21,"\"21_Oso f\"",{"$f":"IF(D25<>0,D$3,\"\")","v":""},"","","","","","","","","","","","","","","","","","","","",22,"",24,"","",27,"",null," 22, 24, 27,"," 2, 6, 10,"," 22, 24, 27, 2, 6, 10,",null,22,24,27,1]
[null,22,"\"22_Oso f\"",{"$f":"IF(D26<>0,D$3,\"\")","v":""},"","","","","","","","","","","","","","","","","","","","","",23,"",25,"",27,"",null," 23, 25, 27,"," 2, 6, 10,"," 23, 25, 27, 2, 6, 10,",null,23,25,27,1]
[null,23,"\"23_Oso f\"",{"$f":"IF(D27<>0,D$3,\"\")","v":""},"","","",5,"","","","","","","","","","","","",18,"","","","","","",25,"","","",null," 5, 18, 25,"," 2, 6, 10,"," 5, 18, 25, 2, 6, 10,",null,5,18,25,2]
[null,24,"\"24_Oso f\"",{"$f":"IF(D28<>0,D$3,\"\")","v":""},"","","","","","","","","","","","","","","","","",19,"",21,"","","","",26,"","",null," 19, 21, 26,"," 6, 10, 12,"," 19, 21, 26, 6, 10, 12,",null,19,21,26,2]
[null,25,"\"25_Oso f\"",{"$f":"IF(D29<>0,D$3,\"\")","v":""},"","","","","","","","","","","","","","","","","","","","",22,23,"","","",27,"",null," 22, 23, 27,"," 2, 6, 10,"," 22, 23, 27, 2, 6, 10,",null,22,23,27,2]
[null,26,"\"26_Oso f\"",{"$f":"IF(D30<>0,D$3,\"\")","v":""},"","","","","","","","","","","","",14,"","","","","","","","",23,24,"","","","",null," 14, 23, 24,"," 2, 6, 10,"," 14, 23, 24, 2, 6, 10,",null,14,23,24,1]
[null,27,"\"27_Oso f\"",{"$f":"IF(D31<>0,D$3,\"\")","v":""},"","","","","","","","","","","","","","",16,"",18,"","","","",23,"","","","","",null," 16, 18, 23,"," 6, 10, 12,"," 16, 18, 23, 6, 10, 12,",null,16,18,23,2]
[null,28,"\"28_Oso f\"",{"$f":"IF(D32<>0,D$3,\"\")","v":""},"","","","","","","","","","","","","","","","","","","","","","","","","","","",null," 0, 0, 0,"," 0, 0, 0,"," 0, 0, 0, 0, 0, 0,",null,0,0,0,0]
[null,null,null,null,null,null,null,null,null,null,null,null,null,null,null,null,null,null,null,null,null,null,null,null,null,null,null,null,null,null,null,null,null,null,null,null,null,null,null,{"$f":"SUM($AN$39:$AN$66)","v":28}]

{"sheet":"Q_1_N","index":1,"n_rows":67,"n_cols":70,"rows_kept":67,"cut":false,"hidden":false,"merged":[]}
["\"1. S kým z triedy by si nechcel sedieť v jednej lavici?\""]
[null,3]
[null,28,null,1,2,3,4,5,6,7,8,9,10,11,12,13,14,15,16,17,18,19,20,21,22,23,24,25,26,27,28]
[null,null,null,"\"01_Oso m\"","\"02_Oso m\"","\"03_Oso m\"","\"04_Oso m\"","\"05_Oso m\"","\"*06_Oso m\"","\"07_Oso m\"","\"08_Oso m\"","\"09_Oso f\"","\"**10_Oso m\"","\"11_Oso m\"","\"12_Oso m\"","\"13_Oso m\"","\"14_Oso m\"","\"15_Oso f\"","\"16_Oso f\"","\"17_Oso f\"","\"18_Oso f\"","\"19_Oso f\"","\"20_Oso f\"","\"21_Oso f\"","\"22_Oso f\"","\"23_Oso f\"","\"24_Oso f\"","\"25_Oso f\"","\"26_Oso f\"","\"27_Oso f\"","\"28_Oso f\""]
["→",1,"\"01_Oso m\"",null,null,null,null,null,null,null,null,null,null,null,null,null,null,null,2,1,null,null,null,null,null,3,null,null,null,null,null,3,null,null,null,null,null,null,null,null,null,null,0,12,0,6,2,19,0,1,0,20,0,3,0,0,1,2,2,1,0,1,2,2,2,2,1,0,1,0]
[null,2,"\"02_Oso m\"",null,null,null,3,null,2,null,null,null,1,null,null,null,null,null,null,null,null,null,null,null,null,null,null,null,null,null,null,3,null,null,null,null,null,null,null,null,null,null,3,3,3,3,3,3,3,3,3,3,3,3,2,3,3,3,3,3,3,3,3,3,3,3,3,3,3,0]
[null,3,"\"03_Oso m\"",null,null,null,null,2,3,null,null,null,1,null,null,null,null,null,null,null,null,null,null,null,null,null,null,null,null,null,null,3,null,null,null,null,null,null,null,null,null,null,0,0,0,1,1,3,0,0,0,3,0,1,0,0,0,1,1,1,0,1,0,1,0,0,0,0,0,0]
[null,4,"\"04_Oso m\"",null,null,null,null,null,null,null,null,null,2,null,null,null,null,null,null,null,null,null,null,1,null,null,3,null,null,null,null,3]
[null,5,"\"05_Oso m\"",null,null,null,2,null,null,null,null,null,null,null,3,null,null,null,null,null,null,null,null,null,null,null,null,null,null,1,null,3]
[null,6,"\"*06_Oso m\"",null,null,null,null,null,null,null,null,null,null,null,null,null,null,null,null,1,null,null,2,null,3,null,null,null,null,null,null,3]
[null,7,"\"07_Oso m\"",null,3,null,null,null,1,null,null,null,2,null,null,null,null,null,null,null,null,null,null,null,null,null,null,null,null,null,null,3]
[null,8,"\"08_Oso m\"",null,null,null,null,null,2,null,null,null,3,null,null,null,null,null,null,null,null,null,null,null,null,null,1,null,null,null,null,3]
[null,9,"\"09_Oso f\"",null,null,null,null,null,null,null,null,null,null,null,null,null,null,3,null,null,null,null,null,null,null,1,null,2,null,null,null,3]
[null,10,"\"**10_Oso m\"",null,null,null,2,null,null,null,null,null,null,null,null,null,null,null,1,null,3,null,null,null,null,null,null,null,null,null,null,3]
[null,11,"\"11_Oso m\"",null,1,null,2,null,null,null,null,null,3,null,null,null,null,null,null,null,null,null,null,null,null,null,null,null,null,null,null,3]
[null,12,"\"12_Oso m\"",null,3,null,null,2,null,null,null,null,null,null,null,null,null,null,null,null,null,null,null,null,1,null,null,null,null,null,null,3]
[null,13,"\"13_Oso m\"",null,null,null,null,null,1,null,null,null,null,null,null,null,null,null,null,null,null,null,null,2,null,null,null,null,null,null,null,2]
[null,14,"\"14_Oso m\"",null,1,null,null,null,3,null,null,null,2,null,null,null,null,null,null,null,null,null,null,null,null,null,null,null,null,null,null,3]
[null,15,"\"15_Oso f\"",null,null,null,3,null,1,null,null,null,2,null,null,null,null,null,null,null,null,null,null,null,null,null,null,null,null,null,null,3]
[null,16,"\"16_Oso f\"",null,3,null,null,null,2,null,null,null,1,null,null,null,null,null,null,null,null,null,null,null,null,null,null,null,null,null,null,3]
[null,17,"\"17_Oso f\"",null,null,null,null,null,1,null,3,null,2,null,null,null,null,null,null,null,null,null,null,null,null,null,null,null,null,null,null,3]
[null,18,"\"18_Oso f\"",null,3,null,null,null,2,null,null,null,1,null,null,null,null,null,null,null,null,null,null,null,null,null,null,null,null,null,null,3]
[null,19,"\"19_Oso f\"",null,1,null,null,null,2,null,null,null,3,null,null,null,null,null,null,null,null,null,null,null,null,null,null,null,null,null,null,3]
[null,20,"\"20_Oso f\"",null,null,null,3,null,1,null,null,null,2,null,null,null,null,null,null,null,null,null,null,null,null,null,null,null,null,null,null,3]
[null,21,"\"21_Oso f\"",null,1,null,null,null,3,null,null,null,2,null,null,null,null,null,null,null,null,null,null,null,null,null,null,null,null,null,null,3]
[null,22,"\"22_Oso f\"",null,3,null,null,null,2,null,null,null,1,null,null,null,null,null,null,null,null,null,null,null,null,null,null,null,null,null,null,3]
[null,23,"\"23_Oso f\"",null,2,null,null,null,1,null,null,null,3,null,null,null,null,null,null,null,null,null,null,null,null,null,null,null,null,null,null,3]
[null,24,"\"24_Oso f\"",null,null,null,null,null,1,null,null,null,3,null,2,null,null,null,null,null,null,null,null,null,null,null,null,null,null,null,null,3]
[null,25,"\"25_Oso f\"",null,3,null,null,null,1,null,null,null,2,null,null,null,null,null,null,null,null,null,null,null,null,null,null,null,null,null,null,3]
[null,26,"\"26_Oso f\"",null,1,null,null,null,2,null,null,null,3,null,null,null,null,null,null,null,null,null,null,null,null,null,null,null,null,null,null,3]
[null,27,"\"27_Oso f\"",null,null,null,null,null,1,null,null,null,2,null,3,null,null,null,null,null,null,null,null,null,null,null,null,null,null,null,null,3]
[null,28,"\"28_Oso f\"",null,null,null,null,null,null,null,null,null,null,null,null,null,null,null,null,null,null,null,null,null,null,null,null,null,null,null,null,0]
[null,null,null,0,12,0,6,2,19,0,1,0,20,0,3,0,0,1,2,2,1,0,1,2,2,2,2,1,0,1,0,{"$f":"SUM($D$33:$AE$33)","v":80}]
[]
[]
[]
[null,null,null,1,2,3,4,5,6,7,8,9,10,11,12,13,14,15,16,17,18,19,20,21,22,23,24,25,26,27,28]
[null,null,null,"\"01_Oso m\"","\"02_Oso m\"","\"03_Oso m\"","\"04_Oso m\"","\"05_Oso m\"","\"*06_Oso m\"","\"07_Oso m\"","\"08_Oso m\"","\"09_Oso f\"","\"**10_Oso m\"","\"11_Oso m\"","\"12_Oso m\"","\"13_Oso m\"","\"14_Oso m\"","\"15_Oso f\"","\"16_Oso f\"","\"17_Oso f\"","\"18_Oso f\"","\"19_Oso f\"","\"20_Oso f\"","\"21_Oso f\"","\"22_Oso f\"","\"23_Oso f\"","\"24_Oso f\"","\"25_Oso f\"","\"26_Oso f\"","\"27_Oso f\"","\"28_Oso f\""]
[null,1,"\"01_Oso m\"",{"$f":"IF(D5<>0,D$3,\"\")","v":""},"","","","","","","","","","","","","","",16,17,"","","","","",23,"","","","","",null," 16, 17, 23,",null,null,null,16,17,23,0]
[null,2,"\"02_Oso m\"","","","",4,"",6,"","","",10,"","","","","","","","","","","","","","","","","","",null," 4, 6, 10,",null,null,null,4,6,10,0]
[null,3,"\"03_Oso m\"","","","","",5,6,"","","",10,"","","","","","","","","","","","","","","","","","",null," 5, 6, 10,",null,null,null,5,6,10,0]
[null,4,"\"04_Oso m\"","","","","","","","","","",10,"","","","","","","","","","",21,"","",24,"","","","",null," 10, 21, 24,",null,null,null,10,21,24,1]
[null,5,"\"05_Oso m\"","","","",4,"","","","","","","",12,"","","","","","","","","","","","","","",27,"",null," 4, 12, 27,",null,null,null,4,12,27,1]
[null,6,"\"*06_Oso m\"","","","","","","","","","","","","","","","","",17,"","",20,"",22,"","","","","","",null," 17, 20, 22,",null,null,null,17,20,22,3]
[null,7,"\"07_Oso m\"","",2,"","","",6,"","","",10,"","","","","","","","","","","","","","","","","","",null," 2, 6, 10,",null,null,null,2,6,10,0]
[null,8,"\"08_Oso m\"","","","","","",6,"","","",10,"","","","","","","","","","","","","",24,"","","","",null," 6, 10, 24,",null,null,null,6,10,24,0]
[null,9,"\"09_Oso f\"","","","","","","","","","","","","","","",15,"","","","","","","",23,"",25,"","","",null," 15, 23, 25,",null,null,null,15,23,25,0]
[null,10,"\"**10_Oso m\"","","","",{"$f":"IF(G14<>0,G$3,\"\")","v":4},"","","","","","","","","","","",16,"",18,"","","","","","","","","","",null," 4, 16, 18,",null,null,null,4,16,18,3]
[null,11,"\"11_Oso m\"",{"$f":"IF(D15<>0,D$3,\"\")","v":""},2,"",4,"","","","","",10,"","","","","","","","","","","","","","","","","","",null," 2, 4, 10,",null,null,null,2,4,10,0]
[null,12,"\"12_Oso m\"","",2,"","",5,"","","","","","","","","","","","","","","","",22,"","","","","","",null," 2, 5, 22,",null,null,null,2,5,22,1]
[null,13,"\"13_Oso m\"","","","","","",6,"","","","","","","","","","","","","","",21,"","","","","","","",null," 6, 21, 0,",null,null,null,6,21,0,0]
[null,14,"\"14_Oso m\"","",2,"","","",6,"","","",10,"","","","","","","","","","","","","","","","","","",null," 2, 6, 10,",null,null,null,2,6,10,0]
[null,15,"\"15_Oso f\"","","","",4,"",6,"","","",10,"","","","","","","","","","","","","","","","","","",null," 4, 6, 10,",null,null,null,4,6,10,0]
[null,16,"\"16_Oso f\"","",2,"","","",6,"","","",10,"","","","","","","","","","","","","","","","","","",null," 2, 6, 10,",null,null,null,2,6,10,1]
[null,17,"\"17_Oso f\"","","","","","",6,"",8,"",10,"","","","","","","","","","","","","","","","","","",null," 6, 8, 10,",null,null,null,6,8,10,1]
[null,18,"\"18_Oso f\"","",2,"","","",6,"","","",10,"","","","","","","","","","","","","","","","","","",null," 2, 6, 10,",null,null,null,2,6,10,1]
[null,19,"\"19_Oso f\"","",2,"","","",6,"","","",10,"","","","","","","","","","","","","","","","","","",null," 2, 6, 10,",null,null,null,2,6,10,0]
[null,20,"\"20_Oso f\"","","","",{"$f":"IF(G24<>0,G$3,\"\")","v":4},"",6,"","","",10,"","","","","","","","","","","","","","","","","","",null," 4, 6, 10,",null,null,null,4,6,10,1]
[null,21,"\"21_Oso f\"",{"$f":"IF(D25<>0,D$3,\"\")","v":""},2,"","","",6,"","","",10,"","","","","","","","","","","","","","","","","","",null," 2, 6, 10,",null,null,null,2,6,10,0]
[null,22,"\"22_Oso f\"","",2,"","","",6,"","","",10,"","","","","","","","","","","","","","","","","","",null," 2, 6, 10,",null,null,null,2,6,10,1]
[null,23,"\"23_Oso f\"","",2,"","","",6,"","","",10,"","","","","","","","","","","","","","","","","","",null," 2, 6, 10,",null,null,null,2,6,10,0]
[null,24,"\"24_Oso f\"","","","","","",6,"","","",10,"",12,"","","","","","","","","","","","","","","","",null," 6, 10, 12,",null,null,null,6,10,12,0]
[null,25,"\"25_Oso f\"","",2,"","","",6,"","","",10,"","","","","","","","","","","","","","","","","","",null," 2, 6, 10,",null,null,null,2,6,10,0]
[null,26,"\"26_Oso f\"","",2,"","","",6,"","","",10,"","","","","","","","","","","","","","","","","","",null," 2, 6, 10,",null,null,null,2,6,10,0]
[null,27,"\"27_Oso f\"","","","","","",6,"","","",10,"",12,"","","","","","","","","","","","","","","","",null," 6, 10, 12,",null,null,null,6,10,12,0]
[null,28,"\"28_Oso f\"","","","","","","","","","","","","","","","","","","","","","","","","","","","","",null," 0, 0, 0,",null,null,null,0,0,0,0]
[null,null,null,null,null,null,null,null,null,null,null,null,null,null,null,null,null,null,null,null,null,null,null,null,null,null,null,null,null,null,null,null,null,null,null,null,null,null,null,{"$f":"SUM($AN$39:$AN$66)","v":14}]

{"sheet":"Q_2_P","index":2,"n_rows":67,"n_cols":70,"rows_kept":67,"cut":false,"hidden":false,"merged":[]}
["\"2. S kým z triedy by si najradšej písaval úlohy a učieval sa?\""]
[null,3]
[null,28,null,1,2,3,4,5,6,7,8,9,10,11,12,13,14,15,16,17,18,19,20,21,22,23,24,25,26,27,28]
[null,null,null,"\"01_Oso m\"","\"02_Oso m\"","\"03_Oso m\"","\"04_Oso m\"","\"05_Oso m\"","\"*06_Oso m\"","\"07_Oso m\"","\"08_Oso m\"","\"09_Oso f\"","\"**10_Oso m\"","\"11_Oso m\"","\"12_Oso m\"","\"13_Oso m\"","\"14_Oso m\"","\"15_Oso f\"","\"16_Oso f\"","\"17_Oso f\"","\"18_Oso f\"","\"19_Oso f\"","\"20_Oso f\"","\"21_Oso f\"","\"22_Oso f\"","\"23_Oso f\"","\"24_Oso f\"","\"25_Oso f\"","\"26_Oso f\"","\"27_Oso f\"","\"28_Oso f\""]
["→",1,"\"01_Oso m\"",null,null,null,null,1,null,3,null,null,null,2,null,null,null,null,null,null,null,null,null,null,null,null,null,null,null,null,null,3,null,null,null,null,null,null,null,null,null,null,1,0,3,1,1,0,6,4,7,0,1,0,1,2,2,0,0,5,2,1,1,1,14,0,9,6,5,8]
[null,2,"\"02_Oso m\"",null,null,null,null,null,null,3,1,2,null,null,null,null,null,null,null,null,null,null,null,null,null,null,null,null,null,null,null,3,null,null,null,null,null,null,null,null,null,null,3,3,3,3,3,3,3,3,3,3,3,3,3,3,3,3,3,3,3,3,3,3,3,3,3,3,3,0]
[null,3,"\"03_Oso m\"",null,null,null,null,null,null,1,null,null,null,null,null,null,null,null,null,null,null,null,null,null,null,2,null,null,null,null,3,3,null,null,null,null,null,null,null,null,null,null,1,0,1,1,1,0,2,0,1,0,0,0,1,0,1,0,0,3,1,1,0,1,3,0,3,2,1,0]
[null,4,"\"04_Oso m\"",null,null,null,null,null,null,null,null,1,null,null,null,3,2,null,null,null,null,null,null,null,null,null,null,null,null,null,null,3]
[null,5,"\"05_Oso m\"",1,null,null,null,null,null,null,null,2,null,null,null,null,null,null,null,null,null,null,null,null,null,null,null,null,null,null,3,3]
[null,6,"\"*06_Oso m\"",null,null,null,null,null,null,null,null,null,null,null,null,null,null,null,null,null,null,null,null,null,null,3,null,2,1,null,null,3]
[null,7,"\"07_Oso m\"",null,null,2,null,null,null,null,null,1,null,null,null,null,null,null,null,null,null,null,null,null,null,null,null,null,null,null,3,3]
[null,8,"\"08_Oso m\"",null,null,null,null,null,null,1,null,2,null,null,null,null,null,null,null,null,null,null,null,null,null,null,null,null,null,null,3,3]
[null,9,"\"09_Oso f\"",null,null,1,null,null,null,3,null,null,null,null,null,null,null,null,null,null,null,null,null,null,null,null,null,null,null,null,2,3]
[null,10,"\"**10_Oso m\"",null,null,2,null,null,null,null,null,3,null,null,null,null,null,null,null,null,null,null,null,null,null,1,null,null,null,null,null,3]
[null,11,"\"11_Oso m\"",null,null,null,null,null,null,1,2,null,null,null,null,null,null,null,null,null,null,null,null,null,null,null,null,null,null,null,3,3]
[null,12,"\"12_Oso m\"",null,null,null,null,null,null,null,3,null,null,null,null,null,null,null,null,null,null,null,null,null,null,1,null,null,null,2,null,3]
[null,13,"\"13_Oso m\"",null,null,null,3,null,null,null,null,null,null,null,null,null,1,null,null,null,null,null,null,null,null,null,null,null,null,null,2,3]
[null,14,"\"14_Oso m\"",null,null,null,null,null,null,null,1,2,null,null,null,null,null,null,null,null,null,null,null,null,null,null,null,null,null,null,3,3]
[null,15,"\"15_Oso f\"",null,null,null,null,null,null,null,null,null,null,null,null,null,null,null,null,null,null,null,null,null,null,3,null,2,1,null,null,3]
[null,16,"\"16_Oso f\"",null,null,null,null,null,null,null,null,null,null,null,null,null,null,null,null,null,null,null,null,null,null,3,null,2,null,1,null,3]
[null,17,"\"17_Oso f\"",null,null,null,null,null,null,null,null,null,null,null,null,null,null,1,null,null,null,null,null,null,null,null,null,null,2,3,null,3]
[null,18,"\"18_Oso f\"",null,null,null,null,null,null,null,null,null,null,null,null,null,null,null,null,null,null,2,null,null,null,1,null,null,null,3,null,3]
[null,19,"\"19_Oso f\"",null,null,null,null,null,null,null,null,null,null,null,null,null,null,null,null,null,1,null,null,null,null,2,null,null,null,3,null,3]
[null,20,"\"20_Oso f\"",null,null,null,null,null,null,null,null,null,null,null,null,null,null,null,null,null,1,null,null,null,null,3,null,2,null,null,null,3]
[null,21,"\"21_Oso f\"",null,null,null,null,null,null,null,null,null,null,null,null,null,null,null,null,null,3,null,null,null,null,2,null,1,null,null,null,3]
[null,22,"\"22_Oso f\"",null,null,null,null,null,null,null,null,null,null,null,null,null,null,null,null,null,null,null,null,null,null,2,null,3,1,null,null,3]
[null,23,"\"23_Oso f\"",null,null,null,null,null,null,null,null,null,null,null,null,null,null,null,null,null,3,null,2,null,null,null,null,1,null,null,null,3]
[null,24,"\"24_Oso f\"",null,null,null,null,null,null,null,null,null,null,null,null,null,null,null,null,null,null,3,null,1,null,null,null,null,2,null,null,3]
[null,25,"\"25_Oso f\"",null,null,null,null,null,null,null,null,null,null,null,null,null,null,null,null,null,null,null,null,null,3,1,null,null,2,null,null,3]
[null,26,"\"26_Oso f\"",null,null,null,null,null,null,null,null,null,null,null,null,null,null,3,null,null,null,null,null,null,null,2,null,1,null,null,null,3]
[null,27,"\"27_Oso f\"",null,null,null,null,null,null,null,null,null,null,null,null,null,null,null,null,null,2,null,null,null,null,1,null,3,null,null,null,3]
[null,28,"\"28_Oso f\"",null,null,null,null,null,null,null,null,null,null,null,null,null,null,null,null,null,null,null,null,null,null,null,null,null,null,null,null,0]
[null,null,null,1,0,3,1,1,0,6,4,7,0,1,0,1,2,2,0,0,5,2,1,1,1,14,0,9,6,5,8,{"$f":"SUM($D$33:$AE$33)","v":81}]
[]
[]
[]
[null,null,null,1,2,3,4,5,6,7,8,9,10,11,12,13,14,15,16,17,18,19,20,21,22,23,24,25,26,27,28]
[null,null,null,"\"01_Oso m\"","\"02_Oso m\"","\"03_Oso m\"","\"04_Oso m\"","\"05_Oso m\"","\"*06_Oso m\"","\"07_Oso m\"","\"08_Oso m\"","\"09_Oso f\"","\"**10_Oso m\"","\"11_Oso m\"","\"12_Oso m\"","\"13_Oso m\"","\"14_Oso m\"","\"15_Oso f\"","\"16_Oso f\"","\"17_Oso f\"","\"18_Oso f\"","\"19_Oso f\"","\"20_Oso f\"","\"21_Oso f\"","\"22_Oso f\"","\"23_Oso f\"","\"24_Oso f\"","\"25_Oso f\"","\"26_Oso f\"","\"27_Oso f\"","\"28_Oso f\""]
[null,1,"\"01_Oso m\"",{"$f":"IF(D5<>0,D$3,\"\")","v":""},"","","",5,"",7,"","","",11,"","","","","","","","","","","","","","","","","",null," 5, 7, 11,"," 17, 23, 27,",{"$f":"CONCATENATE(AG39,AH39)","v":" 5, 7, 11, 17, 23, 27,"},null,5,7,11,1]
[null,2,"\"02_Oso m\"","","","","","","",7,8,9,"","","","","","","","","","","","","","","","","","","",null," 7, 8, 9,"," 4, 6, 10,"," 7, 8, 9, 4, 6, 10,",null,7,8,9,0]
[null,3,"\"03_Oso m\"","","","","","","",7,"","","","","","","","","","","","","","","",23,"","","","",28,null," 7, 23, 28,"," 4, 6, 10,"," 7, 23, 28, 4, 6, 10,",null,7,23,28,1]
[null,4,"\"04_Oso m\"","","","","","","","","",9,"","","",13,14,"","","","","","","","","","","","","","",null," 9, 13, 14,"," 2, 6, 10,"," 9, 13, 14, 2, 6, 10,",null,9,13,14,1]
[null,5,"\"05_Oso m\"",1,"","","","","","","",9,"","","","","","","","","","","","","","","","","","",28,null," 1, 9, 28,"," 4, 6, 10,"," 1, 9, 28, 4, 6, 10,",null,1,9,28,1]
[null,6,"\"*06_Oso m\"","","","","","","","","","","","","","","","","","","","","","","",23,"",25,26,"","",null," 23, 25, 26,"," 2, 4, 24,"," 23, 25, 26, 2, 4, 24,",null,23,25,26,0]
[null,7,"\"07_Oso m\"","","",3,"","","","","",9,"","","","","","","","","","","","","","","","","","",28,null," 3, 9, 28,"," 2, 6, 10,"," 3, 9, 28, 2, 6, 10,",null,3,9,28,2]
[null,8,"\"08_Oso m\"","","","","","","",7,"",9,"","","","","","","","","","","","","","","","","","",28,null," 7, 9, 28,"," 4, 6, 10,"," 7, 9, 28, 4, 6, 10,",null,7,9,28,0]
[null,9,"\"09_Oso f\"","","",3,"","","",7,"","","","","","","","","","","","","","","","","","","","",28,null," 3, 7, 28,"," 15, 17, 23,"," 3, 7, 28, 15, 17, 23,",null,3,7,28,1]
[null,10,"\"**10_Oso m\"","","",3,{"$f":"IF(G14<>0,G$3,\"\")","v":""},"","","","",9,"","","","","","","","","","","","","",23,"","","","","",null," 3, 9, 23,"," 2, 6, 12,"," 3, 9, 23, 2, 6, 12,",null,3,9,23,0]
[null,11,"\"11_Oso m\"",{"$f":"IF(D15<>0,D$3,\"\")","v":""},"","","","","",7,8,"","","","","","","","","","","","","","","","","","","",28,null," 7, 8, 28,"," 2, 4, 10,"," 7, 8, 28, 2, 4, 10,",null,7,8,28,0]
[null,12,"\"12_Oso m\"","","","","","","","",8,"","","","","","","","","","","","","","",23,"","","",27,"",null," 8, 23, 27,"," 5, 6, 10,"," 8, 23, 27, 5, 6, 10,",null,8,23,27,0]
[null,13,"\"13_Oso m\"","","","",4,"","","","","","","","","",14,"","","","","","","","","","","","","",28,null," 4, 14, 28,"," 6, 10, 12,"," 4, 14, 28, 6, 10, 12,",null,4,14,28,1]
[null,14,"\"14_Oso m\"","","","","","","","",8,9,"","","","","","","","","","","","","","","","","","",28,null," 8, 9, 28,"," 2, 6, 10,"," 8, 9, 28, 2, 6, 10,",null,8,9,28,0]
[null,15,"\"15_Oso f\"","","","","","","","","","","","","","","","","","","","","","","",23,"",25,26,"","",null," 23, 25, 26,"," 2, 6, 10,"," 23, 25, 26, 2, 6, 10,",null,23,25,26,1]
[null,16,"\"16_Oso f\"","","","","","","","","","","","","","","","","","","","","","","",23,"",25,"",27,"",null," 23, 25, 27,"," 2, 6, 10,"," 23, 25, 27, 2, 6, 10,",null,23,25,27,0]
[null,17,"\"17_Oso f\"","","","","","","","","","","","","","","",15,"","","","","","","","","","",26,27,"",null," 15, 26, 27,"," 1, 6, 8,"," 15, 26, 27, 1, 6, 8,",null,15,26,27,0]
[null,18,"\"18_Oso f\"","","","","","","","","","","","","","","","","","","",19,"","","",23,"","","",27,"",null," 19, 23, 27,"," 2, 6, 10,"," 19, 23, 27, 2, 6, 10,",null,19,23,27,3]
[null,19,"\"19_Oso f\"","","","","","","","","","","","","","","","","","",18,"","","","",23,"","","",27,"",null," 18, 23, 27,"," 2, 6, 10,"," 18, 23, 27, 2, 6, 10,",null,18,23,27,1]
[null,20,"\"20_Oso f\"","","","",{"$f":"IF(G24<>0,G$3,\"\")","v":""},"","","","","","","","","","","","","",18,"","","","",23,"",25,"","","",null," 18, 23, 25,"," 6, 10, 12,"," 18, 23, 25, 6, 10, 12,",null,18,23,25,1]
[null,21,"\"21_Oso f\"",{"$f":"IF(D25<>0,D$3,\"\")","v":""},"","","","","","","","","","","","","","","","",18,"","","","",23,"",25,"","","",null," 18, 23, 25,"," 2, 6, 10,"," 18, 23, 25, 2, 6, 10,",null,18,23,25,0]
[null,22,"\"22_Oso f\"","","","","","","","","","","","","","","","","","","","","","","",23,"",25,26,"","",null," 23, 25, 26,"," 5, 6, 10,"," 23, 25, 26, 5, 6, 10,",null,23,25,26,1]
[null,23,"\"23_Oso f\"","","","","","","","","","","","","","","","","","",18,"",20,"","","","",25,"","","",null," 18, 20, 25,"," 6, 12, 27,"," 18, 20, 25, 6, 12, 27,",null,18,20,25,3]
[null,24,"\"24_Oso f\"","","","","","","","","","","","","","","","","","","",19,"",21,"","","","",26,"","",null," 19, 21, 26,"," 2, 4, 20,"," 19, 21, 26, 2, 4, 20,",null,19,21,26,0]
[null,25,"\"25_Oso f\"","","","","","","","","","","","","","","","","","","","","","",22,23,"","",26,"","",null," 22, 23, 26,"," 4, 5, 6,"," 22, 23, 26, 4, 5, 6,",null,22,23,26,3]
[null,26,"\"26_Oso f\"","","","","","","","","","","","","","","",15,"","","","","","","",23,"",25,"","","",null," 15, 23, 25,"," 4, 16, 17,"," 15, 23, 25, 4, 16, 17,",null,15,23,25,2]
[null,27,"\"27_Oso f\"","","","","","","","","","","","","","","","","","",18,"","","","",23,"",25,"","","",null," 18, 23, 25,"," 2, 4, 10,"," 18, 23, 25, 2, 4, 10,",null,18,23,25,1]
[null,28,"\"28_Oso f\"","","","","","","","","","","","","","","","","","","","","","","","","","","","","",null," 0, 0, 0,"," 0, 0, 0,"," 0, 0, 0, 0, 0, 0,",null,0,0,0,0]
[null,null,null,null,null,null,null,null,null,null,null,null,null,null,null,null,null,null,null,null,null,null,null,null,null,null,null,null,null,null,null,null,null,null,null,null,null,null,null,{"$f":"SUM($AN$39:$AN$66)","v":24}]

{"sheet":"Q_2_N","index":3,"n_rows":67,"n_cols":70,"rows_kept":67,"cut":false,"hidden":false,"merged":[]}
["\"2. S kým z triedy by si v žiadnom prípade nechcel písavať úlohy a učievať sa?\""]
[null,3]
[null,28,null,1,2,3,4,5,6,7,8,9,10,11,12,13,14,15,16,17,18,19,20,21,22,23,24,25,26,27,28]
[null,null,null,"\"01_Oso m\"","\"02_Oso m\"","\"03_Oso m\"","\"04_Oso m\"","\"05_Oso m\"","\"*06_Oso m\"","\"07_Oso m\"","\"08_Oso m\"","\"09_Oso f\"","\"**10_Oso m\"","\"11_Oso m\"","\"12_Oso m\"","\"13_Oso m\"","\"14_Oso m\"","\"15_Oso f\"","\"16_Oso f\"","\"17_Oso f\"","\"18_Oso f\"","\"19_Oso f\"","\"20_Oso f\"","\"21_Oso f\"","\"22_Oso f\"","\"23_Oso f\"","\"24_Oso f\"","\"25_Oso f\"","\"26_Oso f\"","\"27_Oso f\"","\"28_Oso f\""]
["→",1,"\"01_Oso m\"",null,null,null,null,null,null,null,null,null,null,null,null,null,null,null,null,1,null,null,null,null,null,3,null,null,null,2,null,3,null,null,null,null,null,null,null,null,null,null,1,13,0,10,3,20,0,1,0,18,0,4,0,0,1,1,3,0,0,1,0,0,2,1,0,0,2,0]
[null,2,"\"02_Oso m\"",null,null,null,3,null,2,null,null,null,1,null,null,null,null,null,null,null,null,null,null,null,null,null,null,null,null,null,null,3,null,null,null,null,null,null,null,null,null,null,3,3,3,3,3,3,3,3,3,3,3,3,3,3,3,3,3,3,3,3,3,3,3,3,3,3,3,0]
[null,3,"\"03_Oso m\"",null,null,null,2,null,3,null,null,null,1,null,null,null,null,null,null,null,null,null,null,null,null,null,null,null,null,null,null,3,null,null,null,null,null,null,null,null,null,null,1,3,0,2,0,2,0,0,0,2,0,1,0,0,0,0,1,0,0,0,0,0,0,0,0,0,0,0]
[null,4,"\"04_Oso m\"",null,1,null,null,null,3,null,null,null,2,null,null,null,null,null,null,null,null,null,null,null,null,null,null,null,null,null,null,3]
[null,5,"\"05_Oso m\"",null,null,null,3,null,1,null,null,null,2,null,null,null,null,null,null,null,null,null,null,null,null,null,null,null,null,null,null,3]
[null,6,"\"*06_Oso m\"",null,2,null,3,null,null,null,null,null,null,null,null,null,null,null,null,null,null,null,null,null,null,null,1,null,null,null,null,3]
[null,7,"\"07_Oso m\"",null,3,null,null,null,1,null,null,null,2,null,null,null,null,null,null,null,null,null,null,null,null,null,null,null,null,null,null,3]
[null,8,"\"08_Oso m\"",null,null,null,3,null,1,null,null,null,2,null,null,null,null,null,null,null,null,null,null,null,null,null,null,null,null,null,null,3]
[null,9,"\"09_Oso f\"",null,null,null,null,null,null,null,null,null,null,null,null,null,null,2,null,3,null,null,null,null,null,1,null,null,null,null,null,3]
[null,10,"\"**10_Oso m\"",null,3,null,null,null,1,null,null,null,null,null,2,null,null,null,null,null,null,null,null,null,null,null,null,null,null,null,null,3]
[null,11,"\"11_Oso m\"",null,1,null,2,null,null,null,null,null,3,null,null,null,null,null,null,null,null,null,null,null,null,null,null,null,null,null,null,3]
[null,12,"\"12_Oso m\"",null,null,null,null,1,2,null,null,null,3,null,null,null,null,null,null,null,null,null,null,null,null,null,null,null,null,null,null,3]
[null,13,"\"13_Oso m\"",null,null,null,null,null,2,null,null,null,1,null,3,null,null,null,null,null,null,null,null,null,null,null,null,null,null,null,null,3]
[null,14,"\"14_Oso m\"",null,1,null,null,null,3,null,null,null,2,null,null,null,null,null,null,null,null,null,null,null,null,null,null,null,null,null,null,3]
[null,15,"\"15_Oso f\"",null,3,null,null,null,1,null,null,null,2,null,null,null,null,null,null,null,null,null,null,null,null,null,null,null,null,null,null,3]
[null,16,"\"16_Oso f\"",null,3,null,null,null,2,null,null,null,1,null,null,null,null,null,null,null,null,null,null,null,null,null,null,null,null,null,null,3]
[null,17,"\"17_Oso f\"",3,null,null,null,null,1,null,2,null,null,null,null,null,null,null,null,null,null,null,null,null,null,null,null,null,null,null,null,3]
[null,18,"\"18_Oso f\"",null,3,null,null,null,1,null,null,null,2,null,null,null,null,null,null,null,null,null,null,null,null,null,null,null,null,null,null,3]
[null,19,"\"19_Oso f\"",null,1,null,null,null,2,null,null,null,3,null,null,null,null,null,null,null,null,null,null,null,null,null,null,null,null,null,null,3]
[null,20,"\"20_Oso f\"",null,null,null,null,null,1,null,null,null,2,null,3,null,null,null,null,null,null,null,null,null,null,null,null,null,null,null,null,3]
[null,21,"\"21_Oso f\"",null,1,null,null,null,2,null,null,null,3,null,null,null,null,null,null,null,null,null,null,null,null,null,null,null,null,null,null,3]
[null,22,"\"22_Oso f\"",null,null,null,null,2,1,null,null,null,3,null,null,null,null,null,null,null,null,null,null,null,null,null,null,null,null,null,null,3]
[null,23,"\"23_Oso f\"",null,null,null,null,null,1,null,null,null,null,null,2,null,null,null,null,null,null,null,null,null,null,null,null,null,null,3,null,3]
[null,24,"\"24_Oso f\"",null,1,null,2,null,null,null,null,null,null,null,null,null,null,null,null,null,null,null,3,null,null,null,null,null,null,null,null,3]
[null,25,"\"25_Oso f\"",null,null,null,2,3,1,null,null,null,null,null,null,null,null,null,null,null,null,null,null,null,null,null,null,null,null,null,null,3]
[null,26,"\"26_Oso f\"",null,null,null,1,null,null,null,null,null,null,null,null,null,null,null,2,3,null,null,null,null,null,null,null,null,null,null,null,3]
[null,27,"\"27_Oso f\"",null,1,null,2,null,null,null,null,null,3,null,null,null,null,null,null,null,null,null,null,null,null,null,null,null,null,null,null,3]
[null,28,"\"28_Oso f\"",null,null,null,null,null,null,null,null,null,null,null,null,null,null,null,null,null,null,null,null,null,null,null,null,null,null,null,null,0]
[null,null,null,1,13,0,10,3,20,0,1,0,18,0,4,0,0,1,1,3,0,0,1,0,0,2,1,0,0,2,0,{"$f":"SUM($D$33:$AE$33)","v":81}]
[]
[]
[]
[null,null,null,1,2,3,4,5,6,7,8,9,10,11,12,13,14,15,16,17,18,19,20,21,22,23,24,25,26,27,28]
[null,null,null,"\"01_Oso m\"","\"02_Oso m\"","\"03_Oso m\"","\"04_Oso m\"","\"05_Oso m\"","\"*06_Oso m\"","\"07_Oso m\"","\"08_Oso m\"","\"09_Oso f\"","\"**10_Oso m\"","\"11_Oso m\"","\"12_Oso m\"","\"13_Oso m\"","\"14_Oso m\"","\"15_Oso f\"","\"16_Oso f\"","\"17_Oso f\"","\"18_Oso f\"","\"19_Oso f\"","\"20_Oso f\"","\"21_Oso f\"","\"22_Oso f\"","\"23_Oso f\"","\"24_Oso f\"","\"25_Oso f\"","\"26_Oso f\"","\"27_Oso f\"","\"28_Oso f\""]
[null,1,"\"01_Oso m\"",{"$f":"IF(D5<>0,D$3,\"\")","v":""},"","","","","","","","","","","","","","","",17,"","","","","",23,"","","",27,"",null," 17, 23, 27,",null,null,null,17,23,27,1]
[null,2,"\"02_Oso m\"","","","",4,"",6,"","","",10,"","","","","","","","","","","","","","","","","","",null," 4, 6, 10,",null,null,null,4,6,10,3]
[null,3,"\"03_Oso m\"","","","",4,"",6,"","","",10,"","","","","","","","","","","","","","","","","","",null," 4, 6, 10,",null,null,null,4,6,10,0]
[null,4,"\"04_Oso m\"","",2,"","","",6,"","","",10,"","","","","","","","","","","","","","","","","","",null," 2, 6, 10,",null,null,null,2,6,10,2]
[null,5,"\"05_Oso m\"","","","",4,"",6,"","","",10,"","","","","","","","","","","","","","","","","","",null," 4, 6, 10,",null,null,null,4,6,10,0]
[null,6,"\"*06_Oso m\"","",2,"",4,"","","","","","","","","","","","","","","","","","","",24,"","","","",null," 2, 4, 24,",null,null,null,2,4,24,2]
[null,7,"\"07_Oso m\"","",2,"","","",6,"","","",10,"","","","","","","","","","","","","","","","","","",null," 2, 6, 10,",null,null,null,2,6,10,0]
[null,8,"\"08_Oso m\"","","","",4,"",6,"","","",10,"","","","","","","","","","","","","","","","","","",null," 4, 6, 10,",null,null,null,4,6,10,0]
[null,9,"\"09_Oso f\"","","","","","","","","","","","","","","",15,"",17,"","","","","",23,"","","","","",null," 15, 17, 23,",null,null,null,15,17,23,0]
[null,10,"\"**10_Oso m\"","",2,"",{"$f":"IF(G14<>0,G$3,\"\")","v":""},"",6,"","","","","",12,"","","","","","","","","","","","","","","","",null," 2, 6, 12,",null,null,null,2,6,12,2]
[null,11,"\"11_Oso m\"",{"$f":"IF(D15<>0,D$3,\"\")","v":""},2,"",4,"","","","","",10,"","","","","","","","","","","","","","","","","","",null," 2, 4, 10,",null,null,null,2,4,10,0]
[null,12,"\"12_Oso m\"","","","","",5,6,"","","",10,"","","","","","","","","","","","","","","","","","",null," 5, 6, 10,",null,null,null,5,6,10,1]
[null,13,"\"13_Oso m\"","","","","","",6,"","","",10,"",12,"","","","","","","","","","","","","","","","",null," 6, 10, 12,",null,null,null,6,10,12,0]
[null,14,"\"14_Oso m\"","",2,"","","",6,"","","",10,"","","","","","","","","","","","","","","","","","",null," 2, 6, 10,",null,null,null,2,6,10,0]
[null,15,"\"15_Oso f\"","",2,"","","",6,"","","",10,"","","","","","","","","","","","","","","","","","",null," 2, 6, 10,",null,null,null,2,6,10,0]
[null,16,"\"16_Oso f\"","",2,"","","",6,"","","",10,"","","","","","","","","","","","","","","","","","",null," 2, 6, 10,",null,null,null,2,6,10,0]
[null,17,"\"17_Oso f\"",1,"","","","",6,"",8,"","","","","","","","","","","","","","","","","","","","",null," 1, 6, 8,",null,null,null,1,6,8,1]
[null,18,"\"18_Oso f\"","",2,"","","",6,"","","",10,"","","","","","","","","","","","","","","","","","",null," 2, 6, 10,",null,null,null,2,6,10,0]
[null,19,"\"19_Oso f\"","",2,"","","",6,"","","",10,"","","","","","","","","","","","","","","","","","",null," 2, 6, 10,",null,null,null,2,6,10,0]
[null,20,"\"20_Oso f\"","","","",{"$f":"IF(G24<>0,G$3,\"\")","v":""},"",6,"","","",10,"",12,"","","","","","","","","","","","","","","","",null," 6, 10, 12,",null,null,null,6,10,12,0]
[null,21,"\"21_Oso f\"",{"$f":"IF(D25<>0,D$3,\"\")","v":""},2,"","","",6,"","","",10,"","","","","","","","","","","","","","","","","","",null," 2, 6, 10,",null,null,null,2,6,10,0]
[null,22,"\"22_Oso f\"","","","","",5,6,"","","",10,"","","","","","","","","","","","","","","","","","",null," 5, 6, 10,",null,null,null,5,6,10,0]
[null,23,"\"23_Oso f\"","","","","","",6,"","","","","",12,"","","","","","","","","","","","","","",27,"",null," 6, 12, 27,",null,null,null,6,12,27,0]
[null,24,"\"24_Oso f\"","",2,"",4,"","","","","","","","","","","","","","","",20,"","","","","","","","",null," 2, 4, 20,",null,null,null,2,4,20,0]
[null,25,"\"25_Oso f\"","","","",4,5,6,"","","","","","","","","","","","","","","","","","","","","","",null," 4, 5, 6,",null,null,null,4,5,6,0]
[null,26,"\"26_Oso f\"","","","",4,"","","","","","","","","","","",16,17,"","","","","","","","","","","",null," 4, 16, 17,",null,null,null,4,16,17,0]
[null,27,"\"27_Oso f\"","",2,"",4,"","","","","",10,"","","","","","","","","","","","","","","","","","",null," 2, 4, 10,",null,null,null,2,4,10,0]
[null,28,"\"28_Oso f\"","","","","","","","","","","","","","","","","","","","","","","","","","","","","",null," 0, 0, 0,",null,null,null,0,0,0,0]
[null,null,null,null,null,null,null,null,null,null,null,null,null,null,null,null,null,null,null,null,null,null,null,null,null,null,null,null,null,null,null,null,null,null,null,null,null,null,null,{"$f":"SUM($AN$39:$AN$66)","v":12}]

{"sheet":"Q_3_P","index":4,"n_rows":67,"n_cols":70,"rows_kept":67,"cut":false,"hidden":false,"merged":[]}
["\"3. S kým z triedy by si chcel stráviť prázdniny na pustom ostrove?\""]
[null,3]
[null,28,null,1,2,3,4,5,6,7,8,9,10,11,12,13,14,15,16,17,18,19,20,21,22,23,24,25,26,27,28]
[null,null,null,"\"01_Oso m\"","\"02_Oso m\"","\"03_Oso m\"","\"04_Oso m\"","\"05_Oso m\"","\"*06_Oso m\"","\"07_Oso m\"","\"08_Oso m\"","\"09_Oso f\"","\"**10_Oso m\"","\"11_Oso m\"","\"12_Oso m\"","\"13_Oso m\"","\"14_Oso m\"","\"15_Oso f\"","\"16_Oso f\"","\"17_Oso f\"","\"18_Oso f\"","\"19_Oso f\"","\"20_Oso f\"","\"21_Oso f\"","\"22_Oso f\"","\"23_Oso f\"","\"24_Oso f\"","\"25_Oso f\"","\"26_Oso f\"","\"27_Oso f\"","\"28_Oso f\""]
["→",1,"\"01_Oso m\"",null,null,null,null,1,null,null,null,null,2,3,null,null,null,null,null,null,null,null,null,null,null,null,null,null,null,null,null,3,null,null,null,null,null,null,null,null,null,null,1,0,2,0,4,2,4,4,5,3,4,4,0,1,1,4,1,5,2,3,4,3,9,1,3,1,6,4]
[null,2,"\"02_Oso m\"",null,null,null,null,null,null,3,2,1,null,null,null,null,null,null,null,null,null,null,null,null,null,null,null,null,null,null,null,3,null,null,null,null,null,null,null,null,null,null,3,3,3,3,3,3,3,3,3,3,3,3,3,3,3,3,3,3,3,3,3,3,3,3,3,3,3,0]
[null,3,"\"03_Oso m\"",null,null,null,null,null,null,3,null,2,null,null,null,null,null,null,null,null,null,null,null,null,null,null,null,null,null,null,1,3,null,null,null,null,null,null,null,null,null,null,1,0,2,0,1,1,2,1,1,3,2,0,0,0,0,1,0,3,1,0,1,0,2,1,1,0,2,0]
[null,4,"\"04_Oso m\"",null,null,null,null,1,null,null,null,3,null,null,2,null,null,null,null,null,null,null,null,null,null,null,null,null,null,null,null,3]
[null,5,"\"05_Oso m\"",null,null,null,null,null,2,null,null,null,1,null,null,null,null,null,null,null,null,null,null,null,null,null,null,null,null,null,3,3]
[null,6,"\"*06_Oso m\"",null,null,null,null,null,null,null,null,null,3,1,2,null,null,null,null,null,null,null,null,null,null,null,null,null,null,null,null,3]
[null,7,"\"07_Oso m\"",null,null,3,null,null,null,null,1,null,null,2,null,null,null,null,null,null,null,null,null,null,null,null,null,null,null,null,null,3]
[null,8,"\"08_Oso m\"",null,null,null,null,null,null,null,null,3,null,1,2,null,null,null,null,null,null,null,null,null,null,null,null,null,null,null,null,3]
[null,9,"\"09_Oso f\"",null,null,3,null,null,null,2,null,null,null,null,null,null,null,null,null,null,null,null,null,null,null,null,null,null,null,null,1,3]
[null,10,"\"**10_Oso m\"",3,null,null,null,2,1,null,null,null,null,null,null,null,null,null,null,null,null,null,null,null,null,null,null,null,null,null,null,3]
[null,11,"\"11_Oso m\"",null,null,null,null,null,null,2,1,null,null,null,null,null,null,null,null,null,null,null,null,null,null,null,null,null,null,null,3,3]
[null,12,"\"12_Oso m\"",null,null,null,null,null,null,null,null,null,null,null,null,null,null,null,null,null,null,null,2,null,null,1,null,null,null,3,null,3]
[null,13,"\"13_Oso m\"",null,null,null,null,null,null,null,null,2,null,null,3,null,1,null,null,null,null,null,null,null,null,null,null,null,null,null,null,3]
[null,14,"\"14_Oso m\"",null,null,null,null,null,null,null,1,null,null,null,null,null,null,null,null,null,null,null,null,null,null,2,null,null,3,null,null,3]
[null,15,"\"15_Oso f\"",null,null,null,null,null,null,null,null,null,null,null,null,null,null,null,null,null,null,null,null,null,1,3,null,2,null,null,null,3]
[null,16,"\"16_Oso f\"",null,null,null,null,null,null,null,null,null,null,null,null,null,null,null,null,null,3,null,1,null,null,null,null,null,null,2,null,3]
[null,17,"\"17_Oso f\"",null,null,null,null,null,null,null,null,null,null,null,null,null,null,null,1,null,null,null,null,3,2,null,null,null,null,null,null,3]
[null,18,"\"18_Oso f\"",null,null,null,null,null,null,null,null,null,null,null,null,null,null,null,3,null,null,null,null,null,null,2,null,null,null,1,null,3]
[null,19,"\"19_Oso f\"",null,null,null,null,null,null,null,null,null,null,null,null,null,null,null,null,1,null,null,null,null,null,3,null,null,null,2,null,3]
[null,20,"\"20_Oso f\"",null,null,null,null,null,null,null,null,null,null,null,null,null,null,null,null,null,3,null,null,null,null,2,null,null,null,1,null,3]
[null,21,"\"21_Oso f\"",null,null,null,null,null,null,null,null,null,null,null,null,null,null,null,null,null,2,3,null,null,null,null,1,null,null,null,null,3]
[null,22,"\"22_Oso f\"",null,null,null,null,null,null,null,null,null,null,null,null,null,null,null,2,null,null,null,null,1,null,3,null,null,null,null,null,3]
[null,23,"\"23_Oso f\"",null,null,null,null,3,null,null,null,null,null,null,null,null,null,null,null,null,2,null,null,null,null,null,null,1,null,null,null,3]
[null,24,"\"24_Oso f\"",null,null,null,null,null,null,null,null,null,null,null,null,null,null,2,null,null,null,null,null,3,null,null,null,1,null,null,null,3]
[null,25,"\"25_Oso f\"",null,null,null,null,null,null,null,null,null,null,null,null,null,null,null,3,null,null,null,null,null,null,1,null,null,null,2,null,3]
[null,26,"\"26_Oso f\"",null,null,null,null,null,null,null,null,null,null,null,null,null,null,null,null,null,null,null,1,2,3,null,null,null,null,null,null,3]
[null,27,"\"27_Oso f\"",null,null,null,null,null,null,null,null,null,null,null,null,null,null,null,null,null,3,1,null,null,null,2,null,null,null,null,null,3]
[null,28,"\"28_Oso f\"",null,null,null,null,null,null,null,null,null,null,null,null,null,null,null,null,null,null,null,null,null,null,null,null,null,null,null,null,0]
[null,null,null,1,0,2,0,4,2,4,4,5,3,4,4,0,1,1,4,1,5,2,3,4,3,9,1,3,1,6,4,{"$f":"SUM($D$33:$AE$33)","v":81}]
[]
[]
[]
[null,null,null,1,2,3,4,5,6,7,8,9,10,11,12,13,14,15,16,17,18,19,20,21,22,23,24,25,26,27,28]
[null,null,null,"\"01_Oso m\"","\"02_Oso m\"","\"03_Oso m\"","\"04_Oso m\"","\"05_Oso m\"","\"*06_Oso m\"","\"07_Oso m\"","\"08_Oso m\"","\"09_Oso f\"","\"**10_Oso m\"","\"11_Oso m\"","\"12_Oso m\"","\"13_Oso m\"","\"14_Oso m\"","\"15_Oso f\"","\"16_Oso f\"","\"17_Oso f\"","\"18_Oso f\"","\"19_Oso f\"","\"20_Oso f\"","\"21_Oso f\"","\"22_Oso f\"","\"23_Oso f\"","\"24_Oso f\"","\"25_Oso f\"","\"26_Oso f\"","\"27_Oso f\"","\"28_Oso f\""]
[null,1,"\"01_Oso m\"",{"$f":"IF(D5<>0,D$3,\"\")","v":""},"","","",5,"","","","",10,11,"","","","","","","","","","","","","","","","","",null," 5, 10, 11,"," 17, 20, 27,",{"$f":"CONCATENATE(AG39,AH39)","v":" 5, 10, 11, 17, 20, 27,"},null,5,10,11,1]
[null,2,"\"02_Oso m\"","","","","","","",7,8,9,"","","","","","","","","","","","","","","","","","","",null," 7, 8, 9,"," 4, 10, 11,"," 7, 8, 9, 4, 10, 11,",null,7,8,9,0]
[null,3,"\"03_Oso m\"","","","","","","",7,"",9,"","","","","","","","","","","","","","","","","","",28,null," 7, 9, 28,"," 2, 5, 27,"," 7, 9, 28, 2, 5, 27,",null,7,9,28,2]
[null,4,"\"04_Oso m\"","","","","",5,"","","",9,"","",12,"","","","","","","","","","","","","","","","",null," 5, 9, 12,"," 21, 24, 27,"," 5, 9, 12, 21, 24, 27,",null,5,9,12,0]
[null,5,"\"05_Oso m\"","","","","","",6,"","","",10,"","","","","","","","","","","","","","","","","",28,null," 6, 10, 28,"," 4, 19, 24,"," 6, 10, 28, 4, 19, 24,",null,6,10,28,1]
[null,6,"\"*06_Oso m\"","","","","","","","","","",10,11,12,"","","","","","","","","","","","","","","","",null," 10, 11, 12,"," 15, 16, 17,"," 10, 11, 12, 15, 16, 17,",null,10,11,12,1]
[null,7,"\"07_Oso m\"","","",3,"","","","",8,"","",11,"","","","","","","","","","","","","","","","","",null," 3, 8, 11,"," 2, 5, 27,"," 3, 8, 11, 2, 5, 27,",null,3,8,11,2]
[null,8,"\"08_Oso m\"","","","","","","","","",9,"",11,12,"","","","","","","","","","","","","","","","",null," 9, 11, 12,"," 4, 6, 10,"," 9, 11, 12, 4, 6, 10,",null,9,11,12,1]
[null,9,"\"09_Oso f\"","","",3,"","","",7,"","","","","","","","","","","","","","","","","","","","",28,null," 3, 7, 28,"," 15, 23, 25,"," 3, 7, 28, 15, 23, 25,",null,3,7,28,1]
[null,10,"\"**10_Oso m\"",1,"","",{"$f":"IF(G14<>0,G$3,\"\")","v":""},5,6,"","","","","","","","","","","","","","","","","","","","","","",null," 1, 5, 6,"," 18, 25, 27,"," 1, 5, 6, 18, 25, 27,",null,1,5,6,3]
[null,11,"\"11_Oso m\"",{"$f":"IF(D15<>0,D$3,\"\")","v":""},"","","","","",7,8,"","","","","","","","","","","","","","","","","","","",28,null," 7, 8, 28,"," 2, 4, 10,"," 7, 8, 28, 2, 4, 10,",null,7,8,28,2]
[null,12,"\"12_Oso m\"","","","","","","","","","","","","","","","","","","","",20,"","",23,"","","",27,"",null," 20, 23, 27,"," 2, 8, 18,"," 20, 23, 27, 2, 8, 18,",null,20,23,27,0]
[null,13,"\"13_Oso m\"","","","","","","","","",9,"","",12,"",14,"","","","","","","","","","","","","","",null," 9, 12, 14,"," 6, 10, 27,"," 9, 12, 14, 6, 10, 27,",null,9,12,14,0]
[null,14,"\"14_Oso m\"","","","","","","","",8,"","","","","","","","","","","","","","",23,"","",26,"","",null," 8, 23, 26,"," 2, 6, 10,"," 8, 23, 26, 2, 6, 10,",null,8,23,26,0]
[null,15,"\"15_Oso f\"","","","","","","","","","","","","","","","","","","","","","",22,23,"",25,"","","",null," 22, 23, 25,"," 2, 6, 10,"," 22, 23, 25, 2, 6, 10,",null,22,23,25,0]
[null,16,"\"16_Oso f\"","","","","","","","","","","","","","","","","","",18,"",20,"","","","","","",27,"",null," 18, 20, 27,"," 2, 6, 10,"," 18, 20, 27, 2, 6, 10,",null,18,20,27,1]
[null,17,"\"17_Oso f\"","","","","","","","","","","","","","","","",16,"","","","",21,22,"","","","","","",null," 16, 21, 22,"," 1, 6, 10,"," 16, 21, 22, 1, 6, 10,",null,16,21,22,0]
[null,18,"\"18_Oso f\"","","","","","","","","","","","","","","","",16,"","","","","","",23,"","","",27,"",null," 16, 23, 27,"," 2, 6, 10,"," 16, 23, 27, 2, 6, 10,",null,16,23,27,3]
[null,19,"\"19_Oso f\"","","","","","","","","","","","","","","","","",17,"","","","","",23,"","","",27,"",null," 17, 23, 27,"," 2, 6, 10,"," 17, 23, 27, 2, 6, 10,",null,17,23,27,1]
[null,20,"\"20_Oso f\"","","","",{"$f":"IF(G24<>0,G$3,\"\")","v":""},"","","","","","","","","","","","","",18,"","","","",23,"","","",27,"",null," 18, 23, 27,"," 4, 6, 7,"," 18, 23, 27, 4, 6, 7,",null,18,23,27,0]
[null,21,"\"21_Oso f\"",{"$f":"IF(D25<>0,D$3,\"\")","v":""},"","","","","","","","","","","","","","","","",18,19,"","","","",24,"","","","",null," 18, 19, 24,"," 2, 6, 10,"," 18, 19, 24, 2, 6, 10,",null,18,19,24,1]
[null,22,"\"22_Oso f\"","","","","","","","","","","","","","","","",16,"","","","",21,"",23,"","","","","",null," 16, 21, 23,"," 4, 6, 10,"," 16, 21, 23, 4, 6, 10,",null,16,21,23,0]
[null,23,"\"23_Oso f\"","","","","",5,"","","","","","","","","","","","",18,"","","","","","",25,"","","",null," 5, 18, 25,"," 6, 7, 10,"," 5, 18, 25, 6, 7, 10,",null,5,18,25,2]
[null,24,"\"24_Oso f\"","","","","","","","","","","","","","","",15,"","","","","",21,"","","",25,"","","",null," 15, 21, 25,"," 16, 20, 22,"," 15, 21, 25, 16, 20, 22,",null,15,21,25,1]
[null,25,"\"25_Oso f\"","","","","","","","","","","","","","","","",16,"","","","","","",23,"","","",27,"",null," 16, 23, 27,"," 6, 10, 12,"," 16, 23, 27, 6, 10, 12,",null,16,23,27,1]
[null,26,"\"26_Oso f\"","","","","","","","","","","","","","","","","","","","",20,21,22,"","","","","","",null," 20, 21, 22,"," 2, 6, 10,"," 20, 21, 22, 2, 6, 10,",null,20,21,22,0]
[null,27,"\"27_Oso f\"","","","","","","","","","","","","","","","","","",18,19,"","","",23,"","","","","",null," 18, 19, 23,"," 2, 6, 10,"," 18, 19, 23, 2, 6, 10,",null,18,19,23,2]
[null,28,"\"28_Oso f\"","","","","","","","","","","","","","","","","","","","","","","","","","","","","",null," 0, 0, 0,"," 0, 0, 0,"," 0, 0, 0, 0, 0, 0,",null,0,0,0,0]
[null,null,null,null,null,null,null,null,null,null,null,null,null,null,null,null,null,null,null,null,null,null,null,null,null,null,null,null,null,null,null,null,null,null,null,null,null,null,null,{"$f":"SUM($AN$39:$AN$66)","v":26}]

{"sheet":"Q_3_N","index":5,"n_rows":67,"n_cols":70,"rows_kept":67,"cut":false,"hidden":false,"merged":[]}
["\"3. S kým z triedy by si nechcel stráviť prázdniny na pustom ostrove?\""]
[null,3]
[null,28,null,1,2,3,4,5,6,7,8,9,10,11,12,13,14,15,16,17,18,19,20,21,22,23,24,25,26,27,28]
[null,null,null,"\"01_Oso m\"","\"02_Oso m\"","\"03_Oso m\"","\"04_Oso m\"","\"05_Oso m\"","\"*06_Oso m\"","\"07_Oso m\"","\"08_Oso m\"","\"09_Oso f\"","\"**10_Oso m\"","\"11_Oso m\"","\"12_Oso m\"","\"13_Oso m\"","\"14_Oso m\"","\"15_Oso f\"","\"16_Oso f\"","\"17_Oso f\"","\"18_Oso f\"","\"19_Oso f\"","\"20_Oso f\"","\"21_Oso f\"","\"22_Oso f\"","\"23_Oso f\"","\"24_Oso f\"","\"25_Oso f\"","\"26_Oso f\"","\"27_Oso f\"","\"28_Oso f\""]
["→",1,"\"01_Oso m\"",null,null,null,null,null,null,null,null,null,null,null,null,null,null,null,null,2,null,null,3,null,null,null,null,null,null,1,null,3,null,null,null,null,null,null,null,null,null,null,1,12,0,6,2,15,2,1,0,16,1,1,0,0,2,2,2,2,1,2,1,1,1,2,2,0,6,0]
[null,2,"\"02_Oso m\"",null,null,null,3,null,null,null,null,null,1,2,null,null,null,null,null,null,null,null,null,null,null,null,null,null,null,null,null,3,null,null,null,null,null,null,null,null,null,null,3,3,3,3,3,3,3,3,3,3,3,3,3,3,3,3,3,3,3,3,3,3,3,3,3,3,3,0]
[null,3,"\"03_Oso m\"",null,3,null,null,1,null,null,null,null,null,null,null,null,null,null,null,null,null,null,null,null,null,null,null,null,null,2,null,3,null,null,null,null,null,null,null,null,null,null,1,1,0,0,0,3,0,0,0,3,1,0,0,0,1,1,2,1,0,0,0,0,0,0,1,0,1,0]
[null,4,"\"04_Oso m\"",null,null,null,null,null,null,null,null,null,null,null,null,null,null,null,null,null,null,null,null,2,null,null,1,null,null,3,null,3]
[null,5,"\"05_Oso m\"",null,null,null,2,null,null,null,null,null,null,null,null,null,null,null,null,null,null,3,null,null,null,null,1,null,null,null,null,3]
[null,6,"\"*06_Oso m\"",null,null,null,null,null,null,null,null,null,null,null,null,null,null,2,3,1,null,null,null,null,null,null,null,null,null,null,null,3]
[null,7,"\"07_Oso m\"",null,2,null,null,3,null,null,null,null,null,null,null,null,null,null,null,null,null,null,null,null,null,null,null,null,null,1,null,3]
[null,8,"\"08_Oso m\"",null,null,null,3,null,1,null,null,null,2,null,null,null,null,null,null,null,null,null,null,null,null,null,null,null,null,null,null,3]
[null,9,"\"09_Oso f\"",null,null,null,null,null,null,null,null,null,null,null,null,null,null,3,null,null,null,null,null,null,null,1,null,2,null,null,null,3]
[null,10,"\"**10_Oso m\"",null,null,null,null,null,null,null,null,null,null,null,null,null,null,null,null,null,3,null,null,null,null,null,null,2,null,1,null,3]
[null,11,"\"11_Oso m\"",null,2,null,1,null,null,null,null,null,3,null,null,null,null,null,null,null,null,null,null,null,null,null,null,null,null,null,null,3]
[null,12,"\"12_Oso m\"",null,1,null,null,null,null,null,3,null,null,null,null,null,null,null,null,null,2,null,null,null,null,null,null,null,null,null,null,3]
[null,13,"\"13_Oso m\"",null,null,null,null,null,1,null,null,null,3,null,null,null,null,null,null,null,null,null,null,null,null,null,null,null,null,2,null,3]
[null,14,"\"14_Oso m\"",null,1,null,null,null,3,null,null,null,2,null,null,null,null,null,null,null,null,null,null,null,null,null,null,null,null,null,null,3]
[null,15,"\"15_Oso f\"",null,3,null,null,null,1,null,null,null,2,null,null,null,null,null,null,null,null,null,null,null,null,null,null,null,null,null,null,3]
[null,16,"\"16_Oso f\"",null,3,null,null,null,2,null,null,null,1,null,null,null,null,null,null,null,null,null,null,null,null,null,null,null,null,null,null,3]
[null,17,"\"17_Oso f\"",2,null,null,null,null,1,null,null,null,3,null,null,null,null,null,null,null,null,null,null,null,null,null,null,null,null,null,null,3]
[null,18,"\"18_Oso f\"",null,3,null,null,null,2,null,null,null,1,null,null,null,null,null,null,null,null,null,null,null,null,null,null,null,null,null,null,3]
[null,19,"\"19_Oso f\"",null,1,null,null,null,2,null,null,null,3,null,null,null,null,null,null,null,null,null,null,null,null,null,null,null,null,null,null,3]
[null,20,"\"20_Oso f\"",null,null,null,1,null,2,3,null,null,null,null,null,null,null,null,null,null,null,null,null,null,null,null,null,null,null,null,null,3]
[null,21,"\"21_Oso f\"",null,1,null,null,null,3,null,null,null,2,null,null,null,null,null,null,null,null,null,null,null,null,null,null,null,null,null,null,3]
[null,22,"\"22_Oso f\"",null,null,null,3,null,1,null,null,null,2,null,null,null,null,null,null,null,null,null,null,null,null,null,null,null,null,null,null,3]
[null,23,"\"23_Oso f\"",null,null,null,null,null,2,3,null,null,1,null,null,null,null,null,null,null,null,null,null,null,null,null,null,null,null,null,null,3]
[null,24,"\"24_Oso f\"",null,null,null,null,null,null,null,null,null,null,null,null,null,null,null,3,null,null,null,2,null,1,null,null,null,null,null,null,3]
[null,25,"\"25_Oso f\"",null,null,null,null,null,1,null,null,null,2,null,3,null,null,null,null,null,null,null,null,null,null,null,null,null,null,null,null,3]
[null,26,"\"26_Oso f\"",null,2,null,null,null,1,null,null,null,3,null,null,null,null,null,null,null,null,null,null,null,null,null,null,null,null,null,null,3]
[null,27,"\"27_Oso f\"",null,1,null,null,null,2,null,null,null,3,null,null,null,null,null,null,null,null,null,null,null,null,null,null,null,null,null,null,3]
[null,28,"\"28_Oso f\"",null,null,null,null,null,null,null,null,null,null,null,null,null,null,null,null,null,null,null,null,null,null,null,null,null,null,null,null,0]
[null,null,null,1,12,0,6,2,15,2,1,0,16,1,1,0,0,2,2,2,2,1,2,1,1,1,2,2,0,6,0,{"$f":"SUM($D$33:$AE$33)","v":81}]
[]
[]
[]
[null,null,null,1,2,3,4,5,6,7,8,9,10,11,12,13,14,15,16,17,18,19,20,21,22,23,24,25,26,27,28]
[null,null,null,"\"01_Oso m\"","\"02_Oso m\"","\"03_Oso m\"","\"04_Oso m\"","\"05_Oso m\"","\"*06_Oso m\"","\"07_Oso m\"","\"08_Oso m\"","\"09_Oso f\"","\"**10_Oso m\"","\"11_Oso m\"","\"12_Oso m\"","\"13_Oso m\"","\"14_Oso m\"","\"15_Oso f\"","\"16_Oso f\"","\"17_Oso f\"","\"18_Oso f\"","\"19_Oso f\"","\"20_Oso f\"","\"21_Oso f\"","\"22_Oso f\"","\"23_Oso f\"","\"24_Oso f\"","\"25_Oso f\"","\"26_Oso f\"","\"27_Oso f\"","\"28_Oso f\""]
[null,1,"\"01_Oso m\"",{"$f":"IF(D5<>0,D$3,\"\")","v":""},"","","","","","","","","","","","","","","",17,"","",20,"","","","","","",27,"",null," 17, 20, 27,",null,null,null,17,20,27,1]
[null,2,"\"02_Oso m\"","","","",4,"","","","","",10,11,"","","","","","","","","","","","","","","","","",null," 4, 10, 11,",null,null,null,4,10,11,1]
[null,3,"\"03_Oso m\"","",2,"","",5,"","","","","","","","","","","","","","","","","","","","","",27,"",null," 2, 5, 27,",null,null,null,2,5,27,0]
[null,4,"\"04_Oso m\"","","","","","","","","","","","","","","","","","","","","",21,"","",24,"","",27,"",null," 21, 24, 27,",null,null,null,21,24,27,0]
[null,5,"\"05_Oso m\"","","","",4,"","","","","","","","","","","","","","",19,"","","","",24,"","","","",null," 4, 19, 24,",null,null,null,4,19,24,0]
[null,6,"\"*06_Oso m\"","","","","","","","","","","","","","","",15,16,17,"","","","","","","","","","","",null," 15, 16, 17,",null,null,null,15,16,17,3]
[null,7,"\"07_Oso m\"","",2,"","",5,"","","","","","","","","","","","","","","","","","","","","",27,"",null," 2, 5, 27,",null,null,null,2,5,27,0]
[null,8,"\"08_Oso m\"","","","",4,"",6,"","","",10,"","","","","","","","","","","","","","","","","","",null," 4, 6, 10,",null,null,null,4,6,10,0]
[null,9,"\"09_Oso f\"","","","","","","","","","","","","","","",15,"","","","","","","",23,"",25,"","","",null," 15, 23, 25,",null,null,null,15,23,25,0]
[null,10,"\"**10_Oso m\"","","","",{"$f":"IF(G14<>0,G$3,\"\")","v":""},"","","","","","","","","","","","","",18,"","","","","","",25,"",27,"",null," 18, 25, 27,",null,null,null,18,25,27,3]
[null,11,"\"11_Oso m\"",{"$f":"IF(D15<>0,D$3,\"\")","v":""},2,"",4,"","","","","",10,"","","","","","","","","","","","","","","","","","",null," 2, 4, 10,",null,null,null,2,4,10,1]
[null,12,"\"12_Oso m\"","",2,"","","","","",8,"","","","","","","","","",18,"","","","","","","","","","",null," 2, 8, 18,",null,null,null,2,8,18,0]
[null,13,"\"13_Oso m\"","","","","","",6,"","","",10,"","","","","","","","","","","","","","","","",27,"",null," 6, 10, 27,",null,null,null,6,10,27,0]
[null,14,"\"14_Oso m\"","",2,"","","",6,"","","",10,"","","","","","","","","","","","","","","","","","",null," 2, 6, 10,",null,null,null,2,6,10,0]
[null,15,"\"15_Oso f\"","",2,"","","",6,"","","",10,"","","","","","","","","","","","","","","","","","",null," 2, 6, 10,",null,null,null,2,6,10,1]
[null,16,"\"16_Oso f\"","",2,"","","",6,"","","",10,"","","","","","","","","","","","","","","","","","",null," 2, 6, 10,",null,null,null,2,6,10,1]
[null,17,"\"17_Oso f\"",1,"","","","",6,"","","",10,"","","","","","","","","","","","","","","","","","",null," 1, 6, 10,",null,null,null,1,6,10,2]
[null,18,"\"18_Oso f\"","",2,"","","",6,"","","",10,"","","","","","","","","","","","","","","","","","",null," 2, 6, 10,",null,null,null,2,6,10,1]
[null,19,"\"19_Oso f\"","",2,"","","",6,"","","",10,"","","","","","","","","","","","","","","","","","",null," 2, 6, 10,",null,null,null,2,6,10,0]
[null,20,"\"20_Oso f\"","","","",{"$f":"IF(G24<>0,G$3,\"\")","v":4},"",6,7,"","","","","","","","","","","","","","","","","","","","","",null," 4, 6, 7,",null,null,null,4,6,7,0]
[null,21,"\"21_Oso f\"",{"$f":"IF(D25<>0,D$3,\"\")","v":""},2,"","","",6,"","","",10,"","","","","","","","","","","","","","","","","","",null," 2, 6, 10,",null,null,null,2,6,10,0]
[null,22,"\"22_Oso f\"","","","",4,"",6,"","","",10,"","","","","","","","","","","","","","","","","","",null," 4, 6, 10,",null,null,null,4,6,10,0]
[null,23,"\"23_Oso f\"","","","","","",6,7,"","",10,"","","","","","","","","","","","","","","","","","",null," 6, 7, 10,",null,null,null,6,7,10,0]
[null,24,"\"24_Oso f\"","","","","","","","","","","","","","","","",16,"","","",20,"",22,"","","","","","",null," 16, 20, 22,",null,null,null,16,20,22,0]
[null,25,"\"25_Oso f\"","","","","","",6,"","","",10,"",12,"","","","","","","","","","","","","","","","",null," 6, 10, 12,",null,null,null,6,10,12,1]
[null,26,"\"26_Oso f\"","",2,"","","",6,"","","",10,"","","","","","","","","","","","","","","","","","",null," 2, 6, 10,",null,null,null,2,6,10,0]
[null,27,"\"27_Oso f\"","",2,"","","",6,"","","",10,"","","","","","","","","","","","","","","","","","",null," 2, 6, 10,",null,null,null,2,6,10,1]
[null,28,"\"28_Oso f\"","","","","","","","","","","","","","","","","","","","","","","","","","","","","",null," 0, 0, 0,",null,null,null,0,0,0,0]
[null,null,null,null,null,null,null,null,null,null,null,null,null,null,null,null,null,null,null,null,null,null,null,null,null,null,null,null,null,null,null,null,null,null,null,null,null,null,null,{"$f":"SUM($AN$39:$AN$66)","v":16}]

{"sheet":"Q_4_P","index":6,"n_rows":67,"n_cols":70,"rows_kept":67,"cut":false,"hidden":false,"merged":[]}
["\"4. Kto by najlepšie dokázal hájiť záujmy triedy?\""]
[null,3]
[null,28,null,1,2,3,4,5,6,7,8,9,10,11,12,13,14,15,16,17,18,19,20,21,22,23,24,25,26,27,28]
[null,null,null,"\"01_Oso m\"","\"02_Oso m\"","\"03_Oso m\"","\"04_Oso m\"","\"05_Oso m\"","\"*06_Oso m\"","\"07_Oso m\"","\"08_Oso m\"","\"09_Oso f\"","\"**10_Oso m\"","\"11_Oso m\"","\"12_Oso m\"","\"13_Oso m\"","\"14_Oso m\"","\"15_Oso f\"","\"16_Oso f\"","\"17_Oso f\"","\"18_Oso f\"","\"19_Oso f\"","\"20_Oso f\"","\"21_Oso f\"","\"22_Oso f\"","\"23_Oso f\"","\"24_Oso f\"","\"25_Oso f\"","\"26_Oso f\"","\"27_Oso f\"","\"28_Oso f\""]
["→",1,"\"01_Oso m\"",null,null,null,null,null,null,null,null,null,null,null,null,null,null,1,null,null,null,null,null,null,null,3,null,null,2,null,null,3,null,null,null,null,null,null,null,null,null,null,0,0,0,0,2,0,2,1,10,0,0,0,0,0,8,0,0,2,0,3,0,0,25,0,12,8,0,8]
[null,2,"\"02_Oso m\"",null,null,null,null,null,null,3,null,null,null,null,null,null,null,null,null,null,null,null,null,null,null,1,null,2,null,null,null,3,null,null,null,null,null,null,null,null,null,null,3,3,3,3,3,3,3,3,3,3,3,3,3,3,3,3,3,3,3,3,3,3,3,3,3,3,3,0]
[null,3,"\"03_Oso m\"",null,null,null,null,null,null,null,null,null,null,null,null,null,null,null,null,null,null,null,null,null,null,1,null,null,2,null,3,3,null,null,null,null,null,null,null,null,null,null,0,0,0,0,1,0,0,0,0,0,0,0,0,0,1,0,0,2,0,2,0,0,3,0,2,1,0,0]
[null,4,"\"04_Oso m\"",null,null,null,null,null,null,null,null,2,null,null,null,null,null,1,null,null,null,null,null,null,null,3,null,null,null,null,null,3]
[null,5,"\"05_Oso m\"",null,null,null,null,null,null,null,null,3,null,null,null,null,null,null,null,null,null,null,null,null,null,2,null,null,null,null,1,3]
[null,6,"\"*06_Oso m\"",null,null,null,null,null,null,null,3,null,null,null,null,null,null,null,null,null,null,null,null,null,null,1,null,null,2,null,null,3]
[null,7,"\"07_Oso m\"",null,null,null,null,null,null,null,null,null,null,null,null,null,null,3,null,null,null,null,null,null,null,1,null,null,2,null,null,3]
[null,8,"\"08_Oso m\"",null,null,null,null,null,null,null,null,3,null,null,null,null,null,null,null,null,null,null,null,null,null,1,null,null,2,null,null,3]
[null,9,"\"09_Oso f\"",null,null,null,null,null,null,null,null,null,null,null,null,null,null,null,null,null,null,null,null,null,null,1,null,3,null,null,2,3]
[null,10,"\"**10_Oso m\"",null,null,null,null,null,null,null,null,1,null,null,null,null,null,null,null,null,null,null,null,null,null,3,null,null,null,null,2,3]
[null,11,"\"11_Oso m\"",null,null,null,null,null,null,2,null,1,null,null,null,null,null,null,null,null,null,null,null,null,null,null,null,null,null,null,3,3]
[null,12,"\"12_Oso m\"",null,null,null,null,null,null,null,null,3,null,null,null,null,null,null,null,null,null,null,null,null,null,1,null,null,null,null,2,3]
[null,13,"\"13_Oso m\"",null,null,null,null,null,null,null,null,null,null,null,null,null,null,null,null,null,null,null,null,null,null,1,null,2,null,null,3,3]
[null,14,"\"14_Oso m\"",null,null,null,null,null,null,null,null,3,null,null,null,null,null,null,null,null,null,null,null,null,null,1,null,null,null,null,2,3]
[null,15,"\"15_Oso f\"",null,null,null,null,3,null,null,null,null,null,null,null,null,null,null,null,null,null,null,null,null,null,2,null,1,null,null,null,3]
[null,16,"\"16_Oso f\"",null,null,null,null,null,null,null,null,null,null,null,null,null,null,1,null,null,null,null,null,null,null,2,null,3,null,null,null,3]
[null,17,"\"17_Oso f\"",null,null,null,null,null,null,null,null,null,null,null,null,null,null,1,null,null,null,null,null,null,null,3,null,null,2,null,null,3]
[null,18,"\"18_Oso f\"",null,null,null,null,null,null,null,null,null,null,null,null,null,null,null,null,null,null,null,2,null,null,1,null,3,null,null,null,3]
[null,19,"\"19_Oso f\"",null,null,null,null,null,null,null,null,3,null,null,null,null,null,null,null,null,null,null,null,null,null,1,null,2,null,null,null,3]
[null,20,"\"20_Oso f\"",null,null,null,null,null,null,null,null,2,null,null,null,null,null,null,null,null,3,null,null,null,null,1,null,null,null,null,null,3]
[null,21,"\"21_Oso f\"",null,null,null,null,null,null,null,null,2,null,null,null,null,null,null,null,null,null,null,null,null,null,1,null,3,null,null,null,3]
[null,22,"\"22_Oso f\"",null,null,null,null,null,null,null,null,null,null,null,null,null,null,null,null,null,null,null,null,null,null,2,null,1,3,null,null,3]
[null,23,"\"23_Oso f\"",null,null,null,null,3,null,null,null,null,null,null,null,null,null,null,null,null,1,null,2,null,null,null,null,null,null,null,null,3]
[null,24,"\"24_Oso f\"",null,null,null,null,null,null,null,null,null,null,null,null,null,null,3,null,null,null,null,null,null,null,1,null,2,null,null,null,3]
[null,25,"\"25_Oso f\"",null,null,null,null,null,null,null,null,null,null,null,null,null,null,2,null,null,null,null,null,null,null,1,null,null,3,null,null,3]
[null,26,"\"26_Oso f\"",null,null,null,null,null,null,null,null,null,null,null,null,null,null,3,null,null,null,null,null,null,null,1,null,2,null,null,null,3]
[null,27,"\"27_Oso f\"",null,null,null,null,null,null,null,null,null,null,null,null,null,null,null,null,null,null,null,3,null,null,1,null,2,null,null,null,3]
[null,28,"\"28_Oso f\"",null,null,null,null,null,null,null,null,null,null,null,null,null,null,null,null,null,null,null,null,null,null,null,null,null,null,null,null,0]
[null,null,null,0,0,0,0,2,0,2,1,10,0,0,0,0,0,8,0,0,2,0,3,0,0,25,0,12,8,0,8,{"$f":"SUM($D$33:$AE$33)","v":81}]
[]
[]
[]
[null,null,null,1,2,3,4,5,6,7,8,9,10,11,12,13,14,15,16,17,18,19,20,21,22,23,24,25,26,27,28]
[null,null,null,"\"01_Oso m\"","\"02_Oso m\"","\"03_Oso m\"","\"04_Oso m\"","\"05_Oso m\"","\"*06_Oso m\"","\"07_Oso m\"","\"08_Oso m\"","\"09_Oso f\"","\"**10_Oso m\"","\"11_Oso m\"","\"12_Oso m\"","\"13_Oso m\"","\"14_Oso m\"","\"15_Oso f\"","\"16_Oso f\"","\"17_Oso f\"","\"18_Oso f\"","\"19_Oso f\"","\"20_Oso f\"","\"21_Oso f\"","\"22_Oso f\"","\"23_Oso f\"","\"24_Oso f\"","\"25_Oso f\"","\"26_Oso f\"","\"27_Oso f\"","\"28_Oso f\""]
[null,1,"\"01_Oso m\"",{"$f":"IF(D5<>0,D$3,\"\")","v":""},"","","","","","","","","","","","","",15,"","","","","","","",23,"","",26,"","",null," 15, 23, 26,"," 6, 8, 10,",{"$f":"CONCATENATE(AG39,AH39)","v":" 15, 23, 26, 6, 8, 10,"},null,15,23,26,0]
[null,2,"\"02_Oso m\"","","","","","","",7,"","","","","","","","","","","","","","","",23,"",25,"","","",null," 7, 23, 25,"," 4, 6, 10,"," 7, 23, 25, 4, 6, 10,",null,7,23,25,0]
[null,3,"\"03_Oso m\"","","","","","","","","","","","","","","","","","","","","","","",23,"","",26,"",28,null," 23, 26, 28,"," 4, 6, 10,"," 23, 26, 28, 4, 6, 10,",null,23,26,28,0]
[null,4,"\"04_Oso m\"","","","","","","","","",9,"","","","","",15,"","","","","","","",23,"","","","","",null," 9, 15, 23,"," 2, 6, 10,"," 9, 15, 23, 2, 6, 10,",null,9,15,23,0]
[null,5,"\"05_Oso m\"","","","","","","","","",9,"","","","","","","","","","","","","",23,"","","","",28,null," 9, 23, 28,"," 2, 24, 27,"," 9, 23, 28, 2, 24, 27,",null,9,23,28,1]
[null,6,"\"*06_Oso m\"","","","","","","","",8,"","","","","","","","","","","","","","",23,"","",26,"","",null," 8, 23, 26,"," 2, 4, 24,"," 8, 23, 26, 2, 4, 24,",null,8,23,26,0]
[null,7,"\"07_Oso m\"","","","","","","","","","","","","","","",15,"","","","","","","",23,"","",26,"","",null," 15, 23, 26,"," 2, 6, 10,"," 15, 23, 26, 2, 6, 10,",null,15,23,26,0]
[null,8,"\"08_Oso m\"","","","","","","","","",9,"","","","","","","","","","","","","",23,"","",26,"","",null," 9, 23, 26,"," 4, 6, 10,"," 9, 23, 26, 4, 6, 10,",null,9,23,26,0]
[null,9,"\"09_Oso f\"","","","","","","","","","","","","","","","","","","","","","","",23,"",25,"","",28,null," 23, 25, 28,"," 2, 6, 10,"," 23, 25, 28, 2, 6, 10,",null,23,25,28,0]
[null,10,"\"**10_Oso m\"","","","",{"$f":"IF(G14<>0,G$3,\"\")","v":""},"","","","",9,"","","","","","","","","","","","","",23,"","","","",28,null," 9, 23, 28,"," 2, 18, 25,"," 9, 23, 28, 2, 18, 25,",null,9,23,28,0]
[null,11,"\"11_Oso m\"",{"$f":"IF(D15<>0,D$3,\"\")","v":""},"","","","","",7,"",9,"","","","","","","","","","","","","","","","","","",28,null," 7, 9, 28,"," 2, 4, 10,"," 7, 9, 28, 2, 4, 10,",null,7,9,28,0]
[null,12,"\"12_Oso m\"","","","","","","","","",9,"","","","","","","","","","","","","",23,"","","","",28,null," 9, 23, 28,"," 2, 6, 10,"," 9, 23, 28, 2, 6, 10,",null,9,23,28,0]
[null,13,"\"13_Oso m\"","","","","","","","","","","","","","","","","","","","","","","",23,"",25,"","",28,null," 23, 25, 28,"," 2, 6, 10,"," 23, 25, 28, 2, 6, 10,",null,23,25,28,0]
[null,14,"\"14_Oso m\"","","","","","","","","",9,"","","","","","","","","","","","","",23,"","","","",28,null," 9, 23, 28,"," 2, 6, 10,"," 9, 23, 28, 2, 6, 10,",null,9,23,28,0]
[null,15,"\"15_Oso f\"","","","","",5,"","","","","","","","","","","","","","","","","",23,"",25,"","","",null," 5, 23, 25,"," 2, 6, 10,"," 5, 23, 25, 2, 6, 10,",null,5,23,25,1]
[null,16,"\"16_Oso f\"","","","","","","","","","","","","","","",15,"","","","","","","",23,"",25,"","","",null," 15, 23, 25,"," 2, 6, 10,"," 15, 23, 25, 2, 6, 10,",null,15,23,25,0]
[null,17,"\"17_Oso f\"","","","","","","","","","","","","","","",15,"","","","","","","",23,"","",26,"","",null," 15, 23, 26,"," 10, 16, 27,"," 15, 23, 26, 10, 16, 27,",null,15,23,26,0]
[null,18,"\"18_Oso f\"","","","","","","","","","","","","","","","","","","","",20,"","",23,"",25,"","","",null," 20, 23, 25,"," 2, 6, 10,"," 20, 23, 25, 2, 6, 10,",null,20,23,25,2]
[null,19,"\"19_Oso f\"","","","","","","","","",9,"","","","","","","","","","","","","",23,"",25,"","","",null," 9, 23, 25,"," 2, 6, 10,"," 9, 23, 25, 2, 6, 10,",null,9,23,25,0]
[null,20,"\"20_Oso f\"","","","",{"$f":"IF(G24<>0,G$3,\"\")","v":""},"","","","",9,"","","","","","","","",18,"","","","",23,"","","","","",null," 9, 18, 23,"," 2, 8, 24,"," 9, 18, 23, 2, 8, 24,",null,9,18,23,2]
[null,21,"\"21_Oso f\"",{"$f":"IF(D25<>0,D$3,\"\")","v":""},"","","","","","","",9,"","","","","","","","","","","","","",23,"",25,"","","",null," 9, 23, 25,"," 2, 6, 10,"," 9, 23, 25, 2, 6, 10,",null,9,23,25,0]
[null,22,"\"22_Oso f\"","","","","","","","","","","","","","","","","","","","","","","",23,"",25,26,"","",null," 23, 25, 26,"," 2, 6, 10,"," 23, 25, 26, 2, 6, 10,",null,23,25,26,0]
[null,23,"\"23_Oso f\"","","","","",5,"","","","","","","","","","","","",18,"",20,"","","","","","","","",null," 5, 18, 20,"," 2, 8, 24,"," 5, 18, 20, 2, 8, 24,",null,5,18,20,3]
[null,24,"\"24_Oso f\"","","","","","","","","","","","","","","",15,"","","","","","","",23,"",25,"","","",null," 15, 23, 25,"," 2, 5, 17,"," 15, 23, 25, 2, 5, 17,",null,15,23,25,0]
[null,25,"\"25_Oso f\"","","","","","","","","","","","","","","",15,"","","","","","","",23,"","",26,"","",null," 15, 23, 26,"," 6, 10, 12,"," 15, 23, 26, 6, 10, 12,",null,15,23,26,2]
[null,26,"\"26_Oso f\"","","","","","","","","","","","","","","",15,"","","","","","","",23,"",25,"","","",null," 15, 23, 25,"," 11, 12, 13,"," 15, 23, 25, 11, 12, 13,",null,15,23,25,1]
[null,27,"\"27_Oso f\"","","","","","","","","","","","","","","","","","","","",20,"","",23,"",25,"","","",null," 20, 23, 25,"," 2, 6, 10,"," 20, 23, 25, 2, 6, 10,",null,20,23,25,0]
[null,28,"\"28_Oso f\"","","","","","","","","","","","","","","","","","","","","","","","","","","","","",null," 0, 0, 0,"," 0, 0, 0,"," 0, 0, 0, 0, 0, 0,",null,0,0,0,0]
[null,null,null,null,null,null,null,null,null,null,null,null,null,null,null,null,null,null,null,null,null,null,null,null,null,null,null,null,null,null,null,null,null,null,null,null,null,null,null,{"$f":"SUM($AN$39:$AN$66)","v":12}]

{"sheet":"Q_4_N","index":7,"n_rows":67,"n_cols":70,"rows_kept":67,"cut":false,"hidden":false,"merged":[]}
["\"4. Koho by si vôbec nevybral na hájenie záujmov triedy?\""]
[null,3]
[null,28,null,1,2,3,4,5,6,7,8,9,10,11,12,13,14,15,16,17,18,19,20,21,22,23,24,25,26,27,28]
[null,null,null,"\"01_Oso m\"","\"02_Oso m\"","\"03_Oso m\"","\"04_Oso m\"","\"05_Oso m\"","\"*06_Oso m\"","\"07_Oso m\"","\"08_Oso m\"","\"09_Oso f\"","\"**10_Oso m\"","\"11_Oso m\"","\"12_Oso m\"","\"13_Oso m\"","\"14_Oso m\"","\"15_Oso f\"","\"16_Oso f\"","\"17_Oso f\"","\"18_Oso f\"","\"19_Oso f\"","\"20_Oso f\"","\"21_Oso f\"","\"22_Oso f\"","\"23_Oso f\"","\"24_Oso f\"","\"25_Oso f\"","\"26_Oso f\"","\"27_Oso f\"","\"28_Oso f\""]
["→",1,"\"01_Oso m\"",null,null,null,null,null,2,null,3,null,1,null,null,null,null,null,null,null,null,null,null,null,null,null,null,null,null,null,null,3,null,null,null,null,null,null,null,null,null,null,0,20,0,5,1,18,0,3,0,20,1,2,1,0,0,1,1,1,0,0,0,0,0,4,1,0,2,0]
[null,2,"\"02_Oso m\"",null,null,null,2,null,3,null,null,null,1,null,null,null,null,null,null,null,null,null,null,null,null,null,null,null,null,null,null,3,null,null,null,null,null,null,null,null,null,null,3,3,3,3,3,3,3,3,3,3,3,3,3,3,3,3,3,3,3,3,3,3,3,3,3,3,3,0]
[null,3,"\"03_Oso m\"",null,null,null,3,null,1,null,null,null,2,null,null,null,null,null,null,null,null,null,null,null,null,null,null,null,null,null,null,3,null,null,null,null,null,null,null,null,null,null,0,3,0,2,1,2,0,0,0,3,0,0,0,0,0,0,0,1,0,0,0,0,0,1,1,0,0,0]
[null,4,"\"04_Oso m\"",null,3,null,null,null,2,null,null,null,1,null,null,null,null,null,null,null,null,null,null,null,null,null,null,null,null,null,null,3]
[null,5,"\"05_Oso m\"",null,3,null,null,null,null,null,null,null,null,null,null,null,null,null,null,null,null,null,null,null,null,null,2,null,null,1,null,3]
[null,6,"\"*06_Oso m\"",null,2,null,3,null,null,null,null,null,null,null,null,null,null,null,null,null,null,null,null,null,null,null,1,null,null,null,null,3]
[null,7,"\"07_Oso m\"",null,2,null,null,null,1,null,null,null,3,null,null,null,null,null,null,null,null,null,null,null,null,null,null,null,null,null,null,3]
[null,8,"\"08_Oso m\"",null,null,null,3,null,2,null,null,null,1,null,null,null,null,null,null,null,null,null,null,null,null,null,null,null,null,null,null,3]
[null,9,"\"09_Oso f\"",null,1,null,null,null,3,null,null,null,2,null,null,null,null,null,null,null,null,null,null,null,null,null,null,null,null,null,null,3]
[null,10,"\"**10_Oso m\"",null,1,null,null,null,null,null,null,null,null,null,null,null,null,null,null,null,2,null,null,null,null,null,null,3,null,null,null,3]
[null,11,"\"11_Oso m\"",null,2,null,3,null,null,null,null,null,1,null,null,null,null,null,null,null,null,null,null,null,null,null,null,null,null,null,null,3]
[null,12,"\"12_Oso m\"",null,3,null,null,null,1,null,null,null,2,null,null,null,null,null,null,null,null,null,null,null,null,null,null,null,null,null,null,3]
[null,13,"\"13_Oso m\"",null,3,null,null,null,1,null,null,null,2,null,null,null,null,null,null,null,null,null,null,null,null,null,null,null,null,null,null,3]
[null,14,"\"14_Oso m\"",null,1,null,null,null,3,null,null,null,2,null,null,null,null,null,null,null,null,null,null,null,null,null,null,null,null,null,null,3]
[null,15,"\"15_Oso f\"",null,3,null,null,null,1,null,null,null,2,null,null,null,null,null,null,null,null,null,null,null,null,null,null,null,null,null,null,3]
[null,16,"\"16_Oso f\"",null,3,null,null,null,2,null,null,null,1,null,null,null,null,null,null,null,null,null,null,null,null,null,null,null,null,null,null,3]
[null,17,"\"17_Oso f\"",null,null,null,null,null,null,null,null,null,3,null,null,null,null,null,1,null,null,null,null,null,null,null,null,null,null,2,null,3]
[null,18,"\"18_Oso f\"",null,2,null,null,null,3,null,null,null,1,null,null,null,null,null,null,null,null,null,null,null,null,null,null,null,null,null,null,3]
[null,19,"\"19_Oso f\"",null,1,null,null,null,2,null,null,null,3,null,null,null,null,null,null,null,null,null,null,null,null,null,null,null,null,null,null,3]
[null,20,"\"20_Oso f\"",null,2,null,null,null,null,null,1,null,null,null,null,null,null,null,null,null,null,null,null,null,null,null,3,null,null,null,null,3]
[null,21,"\"21_Oso f\"",null,1,null,null,null,3,null,null,null,2,null,null,null,null,null,null,null,null,null,null,null,null,null,null,null,null,null,null,3]
[null,22,"\"22_Oso f\"",null,3,null,null,null,2,null,null,null,1,null,null,null,null,null,null,null,null,null,null,null,null,null,null,null,null,null,null,3]
[null,23,"\"23_Oso f\"",null,1,null,null,null,null,null,2,null,null,null,null,null,null,null,null,null,null,null,null,null,null,null,3,null,null,null,null,3]
[null,24,"\"24_Oso f\"",null,1,null,null,2,null,null,null,null,null,null,null,null,null,null,null,3,null,null,null,null,null,null,null,null,null,null,null,3]
[null,25,"\"25_Oso f\"",null,null,null,null,null,1,null,null,null,2,null,3,null,null,null,null,null,null,null,null,null,null,null,null,null,null,null,null,3]
[null,26,"\"26_Oso f\"",null,null,null,null,null,null,null,null,null,null,3,1,2,null,null,null,null,null,null,null,null,null,null,null,null,null,null,null,3]
[null,27,"\"27_Oso f\"",null,3,null,null,null,2,null,null,null,1,null,null,null,null,null,null,null,null,null,null,null,null,null,null,null,null,null,null,3]
[null,28,"\"28_Oso f\"",null,null,null,null,null,null,null,null,null,null,null,null,null,null,null,null,null,null,null,null,null,null,null,null,null,null,null,null,0]
[null,null,null,0,20,0,5,1,18,0,3,0,20,1,2,1,0,0,1,1,1,0,0,0,0,0,4,1,0,2,0,{"$f":"SUM($D$33:$AE$33)","v":81}]
[]
[]
[]
[null,null,null,1,2,3,4,5,6,7,8,9,10,11,12,13,14,15,16,17,18,19,20,21,22,23,24,25,26,27,28]
[null,null,null,"\"01_Oso m\"","\"02_Oso m\"","\"03_Oso m\"","\"04_Oso m\"","\"05_Oso m\"","\"*06_Oso m\"","\"07_Oso m\"","\"08_Oso m\"","\"09_Oso f\"","\"**10_Oso m\"","\"11_Oso m\"","\"12_Oso m\"","\"13_Oso m\"","\"14_Oso m\"","\"15_Oso f\"","\"16_Oso f\"","\"17_Oso f\"","\"18_Oso f\"","\"19_Oso f\"","\"20_Oso f\"","\"21_Oso f\"","\"22_Oso f\"","\"23_Oso f\"","\"24_Oso f\"","\"25_Oso f\"","\"26_Oso f\"","\"27_Oso f\"","\"28_Oso f\""]
[null,1,"\"01_Oso m\"",{"$f":"IF(D5<>0,D$3,\"\")","v":""},"","","","",6,"",8,"",10,"","","","","","","","","","","","","","","","","","",null," 6, 8, 10,",null,null,null,6,8,10,0]
[null,2,"\"02_Oso m\"","","","",4,"",6,"","","",10,"","","","","","","","","","","","","","","","","","",null," 4, 6, 10,",null,null,null,4,6,10,3]
[null,3,"\"03_Oso m\"","","","",4,"",6,"","","",10,"","","","","","","","","","","","","","","","","","",null," 4, 6, 10,",null,null,null,4,6,10,0]
[null,4,"\"04_Oso m\"","",2,"","","",6,"","","",10,"","","","","","","","","","","","","","","","","","",null," 2, 6, 10,",null,null,null,2,6,10,2]
[null,5,"\"05_Oso m\"","",2,"","","","","","","","","","","","","","","","","","","","","",24,"","",27,"",null," 2, 24, 27,",null,null,null,2,24,27,1]
[null,6,"\"*06_Oso m\"","",2,"",4,"","","","","","","","","","","","","","","","","","","",24,"","","","",null," 2, 4, 24,",null,null,null,2,4,24,2]
[null,7,"\"07_Oso m\"","",2,"","","",6,"","","",10,"","","","","","","","","","","","","","","","","","",null," 2, 6, 10,",null,null,null,2,6,10,0]
[null,8,"\"08_Oso m\"","","","",4,"",6,"","","",10,"","","","","","","","","","","","","","","","","","",null," 4, 6, 10,",null,null,null,4,6,10,0]
[null,9,"\"09_Oso f\"","",2,"","","",6,"","","",10,"","","","","","","","","","","","","","","","","","",null," 2, 6, 10,",null,null,null,2,6,10,0]
[null,10,"\"**10_Oso m\"","",2,"",{"$f":"IF(G14<>0,G$3,\"\")","v":""},"","","","","","","","","","","","","",18,"","","","","","",25,"","","",null," 2, 18, 25,",null,null,null,2,18,25,3]
[null,11,"\"11_Oso m\"",{"$f":"IF(D15<>0,D$3,\"\")","v":""},2,"",4,"","","","","",10,"","","","","","","","","","","","","","","","","","",null," 2, 4, 10,",null,null,null,2,4,10,0]
[null,12,"\"12_Oso m\"","",2,"","","",6,"","","",10,"","","","","","","","","","","","","","","","","","",null," 2, 6, 10,",null,null,null,2,6,10,0]
[null,13,"\"13_Oso m\"","",2,"","","",6,"","","",10,"","","","","","","","","","","","","","","","","","",null," 2, 6, 10,",null,null,null,2,6,10,0]
[null,14,"\"14_Oso m\"","",2,"","","",6,"","","",10,"","","","","","","","","","","","","","","","","","",null," 2, 6, 10,",null,null,null,2,6,10,0]
[null,15,"\"15_Oso f\"","",2,"","","",6,"","","",10,"","","","","","","","","","","","","","","","","","",null," 2, 6, 10,",null,null,null,2,6,10,0]
[null,16,"\"16_Oso f\"","",2,"","","",6,"","","",10,"","","","","","","","","","","","","","","","","","",null," 2, 6, 10,",null,null,null,2,6,10,0]
[null,17,"\"17_Oso f\"","","","","","","","","","",10,"","","","","",16,"","","","","","","","","","",27,"",null," 10, 16, 27,",null,null,null,10,16,27,0]
[null,18,"\"18_Oso f\"","",2,"","","",6,"","","",10,"","","","","","","","","","","","","","","","","","",null," 2, 6, 10,",null,null,null,2,6,10,1]
[null,19,"\"19_Oso f\"","",2,"","","",6,"","","",10,"","","","","","","","","","","","","","","","","","",null," 2, 6, 10,",null,null,null,2,6,10,0]
[null,20,"\"20_Oso f\"","",2,"",{"$f":"IF(G24<>0,G$3,\"\")","v":""},"","","",8,"","","","","","","","","","","","","","","",24,"","","","",null," 2, 8, 24,",null,null,null,2,8,24,0]
[null,21,"\"21_Oso f\"",{"$f":"IF(D25<>0,D$3,\"\")","v":""},2,"","","",6,"","","",10,"","","","","","","","","","","","","","","","","","",null," 2, 6, 10,",null,null,null,2,6,10,0]
[null,22,"\"22_Oso f\"","",2,"","","",6,"","","",10,"","","","","","","","","","","","","","","","","","",null," 2, 6, 10,",null,null,null,2,6,10,0]
[null,23,"\"23_Oso f\"","",2,"","","","","",8,"","","","","","","","","","","","","","","",24,"","","","",null," 2, 8, 24,",null,null,null,2,8,24,0]
[null,24,"\"24_Oso f\"","",2,"","",5,"","","","","","","","","","","",17,"","","","","","","","","","","",null," 2, 5, 17,",null,null,null,2,5,17,1]
[null,25,"\"25_Oso f\"","","","","","",6,"","","",10,"",12,"","","","","","","","","","","","","","","","",null," 6, 10, 12,",null,null,null,6,10,12,1]
[null,26,"\"26_Oso f\"","","","","","","","","","","",11,12,13,"","","","","","","","","","","","","","","",null," 11, 12, 13,",null,null,null,11,12,13,0]
[null,27,"\"27_Oso f\"","",2,"","","",6,"","","",10,"","","","","","","","","","","","","","","","","","",null," 2, 6, 10,",null,null,null,2,6,10,0]
[null,28,"\"28_Oso f\"","","","","","","","","","","","","","","","","","","","","","","","","","","","","",null," 0, 0, 0,",null,null,null,0,0,0,0]
[null,null,null,null,null,null,null,null,null,null,null,null,null,null,null,null,null,null,null,null,null,null,null,null,null,null,null,null,null,null,null,null,null,null,null,null,null,null,null,{"$f":"SUM($AN$39:$AN$66)","v":14}]

{"sheet":"Q_5_P","index":8,"n_rows":67,"n_cols":70,"rows_kept":67,"cut":false,"hidden":false,"merged":[]}
["\"5. Komu z triedy by si zveril svoje tajomstvo?\""]
[null,3]
[null,28,null,1,2,3,4,5,6,7,8,9,10,11,12,13,14,15,16,17,18,19,20,21,22,23,24,25,26,27,28]
[null,null,null,"\"01_Oso m\"","\"02_Oso m\"","\"03_Oso m\"","\"04_Oso m\"","\"05_Oso m\"","\"*06_Oso m\"","\"07_Oso m\"","\"08_Oso m\"","\"09_Oso f\"","\"**10_Oso m\"","\"11_Oso m\"","\"12_Oso m\"","\"13_Oso m\"","\"14_Oso m\"","\"15_Oso f\"","\"16_Oso f\"","\"17_Oso f\"","\"18_Oso f\"","\"19_Oso f\"","\"20_Oso f\"","\"21_Oso f\"","\"22_Oso f\"","\"23_Oso f\"","\"24_Oso f\"","\"25_Oso f\"","\"26_Oso f\"","\"27_Oso f\"","\"28_Oso f\""]
["→",1,"\"01_Oso m\"",null,null,null,null,1,null,3,null,null,null,2,null,null,null,null,null,null,null,null,null,null,null,null,null,null,null,null,null,3,null,null,null,null,null,null,null,null,null,null,2,0,1,1,2,1,5,3,3,1,4,2,2,3,0,0,0,5,4,2,3,3,11,2,6,2,6,5]
[null,2,"\"02_Oso m\"",null,null,null,null,null,null,2,null,3,null,null,null,null,null,null,null,null,null,null,null,null,null,1,null,null,null,null,null,3,null,null,null,null,null,null,null,null,null,null,3,3,3,3,3,1,3,3,3,3,3,3,3,3,3,3,3,3,3,3,3,3,3,3,3,3,3,0]
[null,3,"\"03_Oso m\"",null,null,null,null,null,null,3,null,2,null,null,null,null,null,null,null,null,null,null,null,null,null,null,null,null,null,null,1,3,null,null,null,null,null,null,null,null,null,null,1,0,1,0,2,0,1,0,1,1,1,2,2,2,0,0,0,3,2,1,1,0,3,2,2,1,3,0]
[null,4,"\"04_Oso m\"",null,null,null,null,null,null,null,null,null,null,2,null,null,null,null,null,null,null,null,null,null,null,3,null,null,null,null,1,3]
[null,5,"\"05_Oso m\"",2,null,null,null,null,null,null,null,null,1,null,null,null,null,null,null,null,null,null,null,null,null,null,null,null,null,null,3,3]
[null,6,"\"*06_Oso m\"",null,null,null,null,null,null,null,null,null,null,1,null,null,null,null,null,null,null,null,null,null,null,null,null,null,null,null,null,1]
[null,7,"\"07_Oso m\"",null,null,null,null,null,null,null,1,null,null,2,null,null,3,null,null,null,null,null,null,null,null,null,null,null,null,null,null,3]
[null,8,"\"08_Oso m\"",null,null,null,null,null,null,null,null,1,null,null,null,null,null,null,null,null,null,null,null,null,null,3,null,null,2,null,null,3]
[null,9,"\"09_Oso f\"",null,null,2,null,null,null,3,null,null,null,null,null,null,null,null,null,null,null,null,null,null,null,null,null,null,null,null,1,3]
[null,10,"\"**10_Oso m\"",1,null,null,null,2,3,null,null,null,null,null,null,null,null,null,null,null,null,null,null,null,null,null,null,null,null,null,null,3]
[null,11,"\"11_Oso m\"",null,null,null,null,null,null,1,3,null,null,null,null,null,null,null,null,null,null,null,null,null,null,null,null,null,null,null,2,3]
[null,12,"\"12_Oso m\"",null,null,null,null,null,null,null,null,null,null,null,null,2,1,null,null,null,null,null,3,null,null,null,null,null,null,null,null,3]
[null,13,"\"13_Oso m\"",null,null,null,2,null,null,null,null,null,null,null,3,null,1,null,null,null,null,null,null,null,null,null,null,null,null,null,null,3]
[null,14,"\"14_Oso m\"",null,null,null,null,null,null,null,2,null,null,null,3,1,null,null,null,null,null,null,null,null,null,null,null,null,null,null,null,3]
[null,15,"\"15_Oso f\"",null,null,null,null,null,null,null,null,null,null,null,null,null,null,null,null,null,null,null,null,null,3,1,null,2,null,null,null,3]
[null,16,"\"16_Oso f\"",null,null,null,null,null,null,null,null,null,null,null,null,null,null,null,null,null,null,null,null,null,null,3,null,2,null,1,null,3]
[null,17,"\"17_Oso f\"",null,null,null,null,null,null,null,null,null,null,null,null,null,null,null,null,null,null,null,null,3,1,null,null,null,null,2,null,3]
[null,18,"\"18_Oso f\"",null,null,null,null,null,null,null,null,null,null,null,null,null,null,null,null,null,null,2,null,null,null,3,null,null,null,1,null,3]
[null,19,"\"19_Oso f\"",null,null,null,null,null,null,null,null,null,null,null,null,null,null,null,null,null,1,null,null,null,null,2,null,null,null,3,null,3]
[null,20,"\"20_Oso f\"",null,null,null,null,null,null,null,null,null,null,null,null,null,null,null,null,null,1,null,null,null,null,2,null,3,null,null,null,3]
[null,21,"\"21_Oso f\"",null,null,null,null,null,null,null,null,null,null,null,null,null,null,null,null,null,2,null,null,null,3,null,1,null,null,null,null,3]
[null,22,"\"22_Oso f\"",null,null,null,null,null,null,null,null,null,null,null,null,null,null,null,null,null,null,null,null,null,null,3,null,1,null,2,null,3]
[null,23,"\"23_Oso f\"",null,null,null,null,null,null,null,null,null,null,null,null,null,null,null,null,null,2,null,null,null,null,null,null,1,null,3,null,3]
[null,24,"\"24_Oso f\"",null,null,null,null,null,null,null,null,null,null,null,null,null,null,null,null,null,null,3,null,1,null,null,null,null,2,null,null,3]
[null,25,"\"25_Oso f\"",null,null,null,null,null,null,null,null,null,null,null,null,null,null,null,null,null,null,null,3,2,null,1,null,null,null,null,null,3]
[null,26,"\"26_Oso f\"",null,null,null,null,null,null,null,null,null,null,null,null,null,null,null,null,null,null,2,null,null,null,null,1,3,null,null,null,3]
[null,27,"\"27_Oso f\"",null,null,null,null,null,null,null,null,null,null,null,null,null,null,null,null,null,1,3,null,null,null,2,null,null,null,null,null,3]
[null,28,"\"28_Oso f\"",null,null,null,null,null,null,null,null,null,null,null,null,null,null,null,null,null,null,null,null,null,null,null,null,null,null,null,null,0]
[null,null,null,2,0,1,1,2,1,5,3,3,1,4,2,2,3,0,0,0,5,4,2,3,3,11,2,6,2,6,5,{"$f":"SUM($D$33:$AE$33)","v":79}]
[]
[]
[]
[null,null,null,1,2,3,4,5,6,7,8,9,10,11,12,13,14,15,16,17,18,19,20,21,22,23,24,25,26,27,28]
[null,null,null,"\"01_Oso m\"","\"02_Oso m\"","\"03_Oso m\"","\"04_Oso m\"","\"05_Oso m\"","\"*06_Oso m\"","\"07_Oso m\"","\"08_Oso m\"","\"09_Oso f\"","\"**10_Oso m\"","\"11_Oso m\"","\"12_Oso m\"","\"13_Oso m\"","\"14_Oso m\"","\"15_Oso f\"","\"16_Oso f\"","\"17_Oso f\"","\"18_Oso f\"","\"19_Oso f\"","\"20_Oso f\"","\"21_Oso f\"","\"22_Oso f\"","\"23_Oso f\"","\"24_Oso f\"","\"25_Oso f\"","\"26_Oso f\"","\"27_Oso f\"","\"28_Oso f\""]
[null,1,"\"01_Oso m\"",{"$f":"IF(D5<>0,D$3,\"\")","v":""},"","","",5,"",7,"","","",11,"","","","","","","","","","","","","","","","","",null," 5, 7, 11,"," 4, 12, 27,",{"$f":"CONCATENATE(AG39,AH39)","v":" 5, 7, 11, 4, 12, 27,"},null,5,7,11,1]
[null,2,"\"02_Oso m\"","","","","","","",7,"",9,"","","","","","","","","","","","","",23,"","","","","",null," 7, 9, 23,"," 4, 6, 10,"," 7, 9, 23, 4, 6, 10,",null,7,9,23,0]
[null,3,"\"03_Oso m\"","","","","","","",7,"",9,"","","","","","","","","","","","","","","","","","",28,null," 7, 9, 28,"," 1, 4, 5,"," 7, 9, 28, 1, 4, 5,",null,7,9,28,1]
[null,4,"\"04_Oso m\"","","","","","","","","","","",11,"","","","","","","","","","","",23,"","","","",28,null," 11, 23, 28,"," 3, 19, 24,"," 11, 23, 28, 3, 19, 24,",null,11,23,28,0]
[null,5,"\"05_Oso m\"",1,"","","","","","","","",10,"","","","","","","","","","","","","","","","","",28,null," 1, 10, 28,"," 2, 4, 19,"," 1, 10, 28, 2, 4, 19,",null,1,10,28,2]
[null,6,"\"*06_Oso m\"","","","","","","","","","","",11,"","","","","","","","","","","","","","","","","",null," 11, 0, 0,"," 20, 23, 25,"," 11, 0, 0, 20, 23, 25,",null,11,0,0,0]
[null,7,"\"07_Oso m\"","","","","","","","",8,"","",11,"","",14,"","","","","","","","","","","","","","",null," 8, 11, 14,"," 21, 23, 27,"," 8, 11, 14, 21, 23, 27,",null,8,11,14,1]
[null,8,"\"08_Oso m\"","","","","","","","","",9,"","","","","","","","","","","","","",23,"","",26,"","",null," 9, 23, 26,"," 3, 6, 10,"," 9, 23, 26, 3, 6, 10,",null,9,23,26,0]
[null,9,"\"09_Oso f\"","","",3,"","","",7,"","","","","","","","","","","","","","","","","","","","",28,null," 3, 7, 28,"," 6, 10, 15,"," 3, 7, 28, 6, 10, 15,",null,3,7,28,1]
[null,10,"\"**10_Oso m\"",1,"","",{"$f":"IF(G14<>0,G$3,\"\")","v":""},5,6,"","","","","","","","","","","","","","","","","","","","","","",null," 1, 5, 6,"," 23, 25, 27,"," 1, 5, 6, 23, 25, 27,",null,1,5,6,1]
[null,11,"\"11_Oso m\"",{"$f":"IF(D15<>0,D$3,\"\")","v":""},"","","","","",7,8,"","","","","","","","","","","","","","","","","","","",28,null," 7, 8, 28,"," 2, 4, 10,"," 7, 8, 28, 2, 4, 10,",null,7,8,28,1]
[null,12,"\"12_Oso m\"","","","","","","","","","","","","",13,14,"","","","","",20,"","","","","","","","",null," 13, 14, 20,"," 2, 5, 10,"," 13, 14, 20, 2, 5, 10,",null,13,14,20,2]
[null,13,"\"13_Oso m\"","","","",4,"","","","","","","",12,"",14,"","","","","","","","","","","","","","",null," 4, 12, 14,"," 6, 10, 25,"," 4, 12, 14, 6, 10, 25,",null,4,12,14,2]
[null,14,"\"14_Oso m\"","","","","","","","",8,"","","",12,13,"","","","","","","","","","","","","","","",null," 8, 12, 13,"," 2, 5, 10,"," 8, 12, 13, 2, 5, 10,",null,8,12,13,2]
[null,15,"\"15_Oso f\"","","","","","","","","","","","","","","","","","","","","","",22,23,"",25,"","","",null," 22, 23, 25,"," 16, 24, 27,"," 22, 23, 25, 16, 24, 27,",null,22,23,25,0]
[null,16,"\"16_Oso f\"","","","","","","","","","","","","","","","","","","","","","","",23,"",25,"",27,"",null," 23, 25, 27,"," 2, 6, 10,"," 23, 25, 27, 2, 6, 10,",null,23,25,27,0]
[null,17,"\"17_Oso f\"","","","","","","","","","","","","","","","","","","","","",21,22,"","","","",27,"",null," 21, 22, 27,"," 6, 10, 16,"," 21, 22, 27, 6, 10, 16,",null,21,22,27,0]
[null,18,"\"18_Oso f\"","","","","","","","","","","","","","","","","","","",19,"","","",23,"","","",27,"",null," 19, 23, 27,"," 2, 6, 10,"," 19, 23, 27, 2, 6, 10,",null,19,23,27,3]
[null,19,"\"19_Oso f\"","","","","","","","","","","","","","","","","","",18,"","","","",23,"","","",27,"",null," 18, 23, 27,"," 2, 6, 10,"," 18, 23, 27, 2, 6, 10,",null,18,23,27,2]
[null,20,"\"20_Oso f\"","","","",{"$f":"IF(G24<>0,G$3,\"\")","v":""},"","","","","","","","","","","","","",18,"","","","",23,"",25,"","","",null," 18, 23, 25,"," 4, 6, 22,"," 18, 23, 25, 4, 6, 22,",null,18,23,25,1]
[null,21,"\"21_Oso f\"",{"$f":"IF(D25<>0,D$3,\"\")","v":""},"","","","","","","","","","","","","","","","",18,"","","",22,"",24,"","","","",null," 18, 22, 24,"," 2, 6, 10,"," 18, 22, 24, 2, 6, 10,",null,18,22,24,1]
[null,22,"\"22_Oso f\"","","","","","","","","","","","","","","","","","","","","","","",23,"",25,"",27,"",null," 23, 25, 27,"," 4, 5, 12,"," 23, 25, 27, 4, 5, 12,",null,23,25,27,0]
[null,23,"\"23_Oso f\"","","","","","","","","","","","","","","","","","",18,"","","","","","",25,"",27,"",null," 18, 25, 27,"," 7, 10, 22,"," 18, 25, 27, 7, 10, 22,",null,18,25,27,3]
[null,24,"\"24_Oso f\"","","","","","","","","","","","","","","","","","","",19,"",21,"","","","",26,"","",null," 19, 21, 26,"," 17, 20, 22,"," 19, 21, 26, 17, 20, 22,",null,19,21,26,2]
[null,25,"\"25_Oso f\"","","","","","","","","","","","","","","","","","","","",20,21,"",23,"","","","","",null," 20, 21, 23,"," 5, 6, 10,"," 20, 21, 23, 5, 6, 10,",null,20,21,23,2]
[null,26,"\"26_Oso f\"","","","","","","","","","","","","","","","","","","",19,"","","","",24,25,"","","",null," 19, 24, 25,"," 5, 6, 7,"," 19, 24, 25, 5, 6, 7,",null,19,24,25,1]
[null,27,"\"27_Oso f\"","","","","","","","","","","","","","","","","","",18,19,"","","",23,"","","","","",null," 18, 19, 23,"," 5, 6, 10,"," 18, 19, 23, 5, 6, 10,",null,18,19,23,3]
[null,28,"\"28_Oso f\"","","","","","","","","","","","","","","","","","","","","","","","","","","","","",null," 0, 0, 0,"," 0, 0, 0,"," 0, 0, 0, 0, 0, 0,",null,0,0,0,0]
[null,null,null,null,null,null,null,null,null,null,null,null,null,null,null,null,null,null,null,null,null,null,null,null,null,null,null,null,null,null,null,null,null,null,null,null,null,null,null,{"$f":"SUM($AN$39:$AN$66)","v":32}]

{"sheet":"Q_5_N","index":9,"n_rows":67,"n_cols":70,"rows_kept":67,"cut":false,"hidden":false,"merged":[]}
["\"5. Komu z triedy by si nikdy nezveril svoje tajomstvo?\""]
[null,3]
[null,28,null,1,2,3,4,5,6,7,8,9,10,11,12,13,14,15,16,17,18,19,20,21,22,23,24,25,26,27,28]
[null,null,null,"\"01_Oso m\"","\"02_Oso m\"","\"03_Oso m\"","\"04_Oso m\"","\"05_Oso m\"","\"*06_Oso m\"","\"07_Oso m\"","\"08_Oso m\"","\"09_Oso f\"","\"**10_Oso m\"","\"11_Oso m\"","\"12_Oso m\"","\"13_Oso m\"","\"14_Oso m\"","\"15_Oso f\"","\"16_Oso f\"","\"17_Oso f\"","\"18_Oso f\"","\"19_Oso f\"","\"20_Oso f\"","\"21_Oso f\"","\"22_Oso f\"","\"23_Oso f\"","\"24_Oso f\"","\"25_Oso f\"","\"26_Oso f\"","\"27_Oso f\"","\"28_Oso f\""]
["→",1,"\"01_Oso m\"",null,null,null,2,null,null,null,null,null,null,null,3,null,null,null,null,null,null,null,null,null,null,null,null,null,null,1,null,3,null,null,null,null,null,null,null,null,null,null,1,8,2,7,7,13,2,0,0,15,0,2,0,0,1,2,1,0,2,2,1,3,3,2,3,0,4,0]
[null,2,"\"02_Oso m\"",null,null,null,1,null,2,null,null,null,3,null,null,null,null,null,null,null,null,null,null,null,null,null,null,null,null,null,null,3,null,null,null,null,null,null,null,null,null,null,3,3,3,3,3,3,3,3,3,3,3,3,3,3,3,3,3,3,3,3,3,3,3,3,3,3,3,0]
[null,3,"\"03_Oso m\"",3,null,null,1,2,null,null,null,null,null,null,null,null,null,null,null,null,null,null,null,null,null,null,null,null,null,null,null,3,null,null,null,null,null,null,null,null,null,null,0,0,1,1,0,2,1,0,0,3,0,0,0,0,0,0,0,0,0,1,0,0,2,0,2,0,1,0]
[null,4,"\"04_Oso m\"",null,null,2,null,null,null,null,null,null,null,null,null,null,null,null,null,null,null,1,null,null,null,null,3,null,null,null,null,3]
[null,5,"\"05_Oso m\"",null,3,null,1,null,null,null,null,null,null,null,null,null,null,null,null,null,null,2,null,null,null,null,null,null,null,null,null,3]
[null,6,"\"*06_Oso m\"",null,null,null,null,null,null,null,null,null,null,null,null,null,null,null,null,null,null,null,3,null,null,1,null,2,null,null,null,3]
[null,7,"\"07_Oso m\"",null,null,null,null,null,null,null,null,null,null,null,null,null,null,null,null,null,null,null,null,1,null,3,null,null,null,2,null,3]
[null,8,"\"08_Oso m\"",null,null,1,null,null,3,null,null,null,2,null,null,null,null,null,null,null,null,null,null,null,null,null,null,null,null,null,null,3]
[null,9,"\"09_Oso f\"",null,null,null,null,null,1,null,null,null,2,null,null,null,null,3,null,null,null,null,null,null,null,null,null,null,null,null,null,3]
[null,10,"\"**10_Oso m\"",null,null,null,null,null,null,null,null,null,null,null,null,null,null,null,null,null,null,null,null,null,null,3,null,2,null,1,null,3]
[null,11,"\"11_Oso m\"",null,1,null,2,null,null,null,null,null,3,null,null,null,null,null,null,null,null,null,null,null,null,null,null,null,null,null,null,3]
[null,12,"\"12_Oso m\"",null,2,null,null,1,null,null,null,null,3,null,null,null,null,null,null,null,null,null,null,null,null,null,null,null,null,null,null,3]
[null,13,"\"13_Oso m\"",null,null,null,null,null,1,null,null,null,2,null,null,null,null,null,null,null,null,null,null,null,null,null,null,3,null,null,null,3]
[null,14,"\"14_Oso m\"",null,1,null,null,3,null,null,null,null,2,null,null,null,null,null,null,null,null,null,null,null,null,null,null,null,null,null,null,3]
[null,15,"\"15_Oso f\"",null,null,null,null,null,null,null,null,null,null,null,null,null,null,null,1,null,null,null,null,null,null,null,3,null,null,2,null,3]
[null,16,"\"16_Oso f\"",null,3,null,null,null,2,null,null,null,1,null,null,null,null,null,null,null,null,null,null,null,null,null,null,null,null,null,null,3]
[null,17,"\"17_Oso f\"",null,null,null,null,null,1,null,null,null,2,null,null,null,null,null,3,null,null,null,null,null,null,null,null,null,null,null,null,3]
[null,18,"\"18_Oso f\"",null,3,null,null,null,2,null,null,null,1,null,null,null,null,null,null,null,null,null,null,null,null,null,null,null,null,null,null,3]
[null,19,"\"19_Oso f\"",null,1,null,null,null,2,null,null,null,3,null,null,null,null,null,null,null,null,null,null,null,null,null,null,null,null,null,null,3]
[null,20,"\"20_Oso f\"",null,null,null,2,null,3,null,null,null,null,null,null,null,null,null,null,null,null,null,null,null,1,null,null,null,null,null,null,3]
[null,21,"\"21_Oso f\"",null,1,null,null,null,3,null,null,null,2,null,null,null,null,null,null,null,null,null,null,null,null,null,null,null,null,null,null,3]
[null,22,"\"22_Oso f\"",null,null,null,2,1,null,null,null,null,null,null,3,null,null,null,null,null,null,null,null,null,null,null,null,null,null,null,null,3]
[null,23,"\"23_Oso f\"",null,null,null,null,null,null,2,null,null,3,null,null,null,null,null,null,null,null,null,null,null,1,null,null,null,null,null,null,3]
[null,24,"\"24_Oso f\"",null,null,null,null,null,null,null,null,null,null,null,null,null,null,null,null,3,null,null,2,null,1,null,null,null,null,null,null,3]
[null,25,"\"25_Oso f\"",null,null,null,null,3,1,null,null,null,2,null,null,null,null,null,null,null,null,null,null,null,null,null,null,null,null,null,null,3]
[null,26,"\"26_Oso f\"",null,null,null,null,1,3,2,null,null,null,null,null,null,null,null,null,null,null,null,null,null,null,null,null,null,null,null,null,3]
[null,27,"\"27_Oso f\"",null,null,null,null,3,1,null,null,null,2,null,null,null,null,null,null,null,null,null,null,null,null,null,null,null,null,null,null,3]
[null,28,"\"28_Oso f\"",null,null,null,null,null,null,null,null,null,null,null,null,null,null,null,null,null,null,null,null,null,null,null,null,null,null,null,null,0]
[null,null,null,1,8,2,7,7,13,2,0,0,15,0,2,0,0,1,2,1,0,2,2,1,3,3,2,3,0,4,0,{"$f":"SUM($D$33:$AE$33)","v":81}]
[]
[]
[]
[null,null,null,1,2,3,4,5,6,7,8,9,10,11,12,13,14,15,16,17,18,19,20,21,22,23,24,25,26,27,28]
[null,null,null,"\"01_Oso m\"","\"02_Oso m\"","\"03_Oso m\"","\"04_Oso m\"","\"05_Oso m\"","\"*06_Oso m\"","\"07_Oso m\"","\"08_Oso m\"","\"09_Oso f\"","\"**10_Oso m\"","\"11_Oso m\"","\"12_Oso m\"","\"13_Oso m\"","\"14_Oso m\"","\"15_Oso f\"","\"16_Oso f\"","\"17_Oso f\"","\"18_Oso f\"","\"19_Oso f\"","\"20_Oso f\"","\"21_Oso f\"","\"22_Oso f\"","\"23_Oso f\"","\"24_Oso f\"","\"25_Oso f\"","\"26_Oso f\"","\"27_Oso f\"","\"28_Oso f\""]
[null,1,"\"01_Oso m\"",{"$f":"IF(D5<>0,D$3,\"\")","v":""},"","",4,"","","","","","","",12,"","","","","","","","","","","","","","",27,"",null," 4, 12, 27,",null,null,null,4,12,27,0]
[null,2,"\"02_Oso m\"","","","",4,"",6,"","","",10,"","","","","","","","","","","","","","","","","","",null," 4, 6, 10,",null,null,null,4,6,10,0]
[null,3,"\"03_Oso m\"",1,"","",4,5,"","","","","","","","","","","","","","","","","","","","","","","",null," 1, 4, 5,",null,null,null,1,4,5,1]
[null,4,"\"04_Oso m\"","","",3,"","","","","","","","","","","","","","","",19,"","","","",24,"","","","",null," 3, 19, 24,",null,null,null,3,19,24,1]
[null,5,"\"05_Oso m\"","",2,"",4,"","","","","","","","","","","","","","",19,"","","","","","","","","",null," 2, 4, 19,",null,null,null,2,4,19,0]
[null,6,"\"*06_Oso m\"","","","","","","","","","","","","","","","","","","","",20,"","",23,"",25,"","","",null," 20, 23, 25,",null,null,null,20,23,25,2]
[null,7,"\"07_Oso m\"","","","","","","","","","","","","","","","","","","","","",21,"",23,"","","",27,"",null," 21, 23, 27,",null,null,null,21,23,27,1]
[null,8,"\"08_Oso m\"","","",3,"","",6,"","","",10,"","","","","","","","","","","","","","","","","","",null," 3, 6, 10,",null,null,null,3,6,10,0]
[null,9,"\"09_Oso f\"","","","","","",6,"","","",10,"","","","",15,"","","","","","","","","","","","","",null," 6, 10, 15,",null,null,null,6,10,15,0]
[null,10,"\"**10_Oso m\"","","","",{"$f":"IF(G14<>0,G$3,\"\")","v":""},"","","","","","","","","","","","","","","","","","",23,"",25,"",27,"",null," 23, 25, 27,",null,null,null,23,25,27,3]
[null,11,"\"11_Oso m\"",{"$f":"IF(D15<>0,D$3,\"\")","v":""},2,"",4,"","","","","",10,"","","","","","","","","","","","","","","","","","",null," 2, 4, 10,",null,null,null,2,4,10,0]
[null,12,"\"12_Oso m\"","",2,"","",5,"","","","",10,"","","","","","","","","","","","","","","","","","",null," 2, 5, 10,",null,null,null,2,5,10,0]
[null,13,"\"13_Oso m\"","","","","","",6,"","","",10,"","","","","","","","","","","","","","",25,"","","",null," 6, 10, 25,",null,null,null,6,10,25,0]
[null,14,"\"14_Oso m\"","",2,"","",5,"","","","",10,"","","","","","","","","","","","","","","","","","",null," 2, 5, 10,",null,null,null,2,5,10,0]
[null,15,"\"15_Oso f\"","","","","","","","","","","","","","","","",16,"","","","","","","",24,"","",27,"",null," 16, 24, 27,",null,null,null,16,24,27,0]
[null,16,"\"16_Oso f\"","",2,"","","",6,"","","",10,"","","","","","","","","","","","","","","","","","",null," 2, 6, 10,",null,null,null,2,6,10,0]
[null,17,"\"17_Oso f\"","","","","","",6,"","","",10,"","","","","",16,"","","","","","","","","","","","",null," 6, 10, 16,",null,null,null,6,10,16,0]
[null,18,"\"18_Oso f\"","",2,"","","",6,"","","",10,"","","","","","","","","","","","","","","","","","",null," 2, 6, 10,",null,null,null,2,6,10,0]
[null,19,"\"19_Oso f\"","",2,"","","",6,"","","",10,"","","","","","","","","","","","","","","","","","",null," 2, 6, 10,",null,null,null,2,6,10,0]
[null,20,"\"20_Oso f\"","","","",{"$f":"IF(G24<>0,G$3,\"\")","v":4},"",6,"","","","","","","","","","","","","","","",22,"","","","","","",null," 4, 6, 22,",null,null,null,4,6,22,1]
[null,21,"\"21_Oso f\"",{"$f":"IF(D25<>0,D$3,\"\")","v":""},2,"","","",6,"","","",10,"","","","","","","","","","","","","","","","","","",null," 2, 6, 10,",null,null,null,2,6,10,0]
[null,22,"\"22_Oso f\"","","","",4,5,"","","","","","",12,"","","","","","","","","","","","","","","","",null," 4, 5, 12,",null,null,null,4,5,12,0]
[null,23,"\"23_Oso f\"","","","","","","",7,"","",10,"","","","","","","","","","","",22,"","","","","","",null," 7, 10, 22,",null,null,null,7,10,22,2]
[null,24,"\"24_Oso f\"","","","","","","","","","","","","","","","","",17,"","",20,"",22,"","","","","","",null," 17, 20, 22,",null,null,null,17,20,22,0]
[null,25,"\"25_Oso f\"","","","","",5,6,"","","",10,"","","","","","","","","","","","","","","","","","",null," 5, 6, 10,",null,null,null,5,6,10,2]
[null,26,"\"26_Oso f\"","","","","",5,6,7,"","","","","","","","","","","","","","","","","","","","","",null," 5, 6, 7,",null,null,null,5,6,7,0]
[null,27,"\"27_Oso f\"","","","","",5,6,"","","",10,"","","","","","","","","","","","","","","","","","",null," 5, 6, 10,",null,null,null,5,6,10,1]
[null,28,"\"28_Oso f\"","","","","","","","","","","","","","","","","","","","","","","","","","","","","",null," 0, 0, 0,",null,null,null,0,0,0,0]
[null,null,null,null,null,null,null,null,null,null,null,null,null,null,null,null,null,null,null,null,null,null,null,null,null,null,null,null,null,null,null,null,null,null,null,null,null,null,null,{"$f":"SUM($AN$39:$AN$66)","v":14}]

{"sheet":"Questions","index":10,"n_rows":16,"n_cols":4,"rows_kept":16,"cut":false,"hidden":false,"merged":[]}
[null,"→","Hlavička sgm. Nemazať!","\"Version 01.00\",\"Škola\",\"Psychológ\",\"Obdobie\",\"Dátum\",\"Trieda\""]
[null,null,null,"Názvy do grafov↓"]
["1. Q_1_P","P","\"1. S kým z triedy by si chcel sedieť v jednej lavici?\"","Sedieť"]
["2. Q_1_N","N","\"1. S kým z triedy by si nechcel sedieť v jednej lavici?\""]
[]
["3. Q_2_P","P","\"2. S kým z triedy by si najradšej písaval úlohy a učieval sa?\"","Učiť sa"]
["4. Q_2_N","N","\"2. S kým z triedy by si v žiadnom prípade nechcel písavať úlohy a učievať sa?\""]
[]
["5. Q_3_P","P","\"3. S kým z triedy by si chcel stráviť prázdniny na pustom ostrove?\"","Pustý ostrov"]
["6. Q_3_N","N","\"3. S kým z triedy by si nechcel stráviť prázdniny na pustom ostrove?\""]
[]
["7. Q_4_P","P","\"4. Kto by najlepšie dokázal hájiť záujmy triedy?\"","Hájiť záujmy"]
["8. Q_4_N","N","\"4. Koho by si vôbec nevybral na hájenie záujmov triedy?\""]
[]
["9. Q_5_P","P","\"5. Komu z triedy by si zveril svoje tajomstvo?\"","Tajomstvo"]
["10. Q_5_N","N","\"5. Komu z triedy by si nikdy nezveril svoje tajomstvo?\""]

{"sheet":"Sgm_Q1","index":11,"n_rows":63,"n_cols":2,"rows_kept":63,"cut":false,"hidden":false,"merged":[]}
[null,"\"Version 01.00\",\"Škola\",\"Psychológ\",\"Obdobie\",\"Dátum\",\"Trieda\""]
[null,28]
[1,"\"01_Oso m\""]
[2,"\"02_Oso m\""]
[3,"\"03_Oso m\""]
[4,"\"04_Oso m\""]
[5,"\"05_Oso m\""]
[6,"\"*06_Oso m\""]
[7,"\"07_Oso m\""]
[8,"\"08_Oso m\""]
[9,"\"09_Oso f\""]
[10,"\"**10_Oso m\""]
[11,"\"11_Oso m\""]
[12,"\"12_Oso m\""]
[13,"\"13_Oso m\""]
[14,"\"14_Oso m\""]
[15,"\"15_Oso f\""]
[16,"\"16_Oso f\""]
[17,"\"17_Oso f\""]
[18,"\"18_Oso f\""]
[19,"\"19_Oso f\""]
[20,"\"20_Oso f\""]
[21,"\"21_Oso f\""]
[22,"\"22_Oso f\""]
[23,"\"23_Oso f\""]
[24,"\"24_Oso f\""]
[25,"\"25_Oso f\""]
[26,"\"26_Oso f\""]
[27,"\"27_Oso f\""]
[28,"\"28_Oso f\""]
[null,"3 \"\",\"\""]
[null,"\"1. S kým z triedy by si chcel sedieť v jednej lavici?\""]
[null,"\"\""]
[null,"\"\""]
[null,"\"1. S kým z triedy by si nechcel sedieť v jednej lavici?\""]
[null," 5, 10, 11, 16, 17, 23,"]
[null," 8, 9, 11, 4, 6, 10,"]
[null," 9, 12, 28, 5, 6, 10,"]
[null," 23, 25, 28, 10, 21, 24,"]
[null," 1, 7, 9, 4, 12, 27,"]
[null," 10, 11, 12, 17, 20, 22,"]
[null," 5, 9, 28, 2, 6, 10,"]
[null," 7, 9, 28, 6, 10, 24,"]
[null," 3, 7, 28, 15, 23, 25,"]
[null," 1, 5, 8, 4, 16, 18,"]
[null," 7, 8, 28, 2, 4, 10,"]
[null," 20, 21, 23, 2, 5, 22,"]
[null," 4, 12, 14, 6, 21, 0,"]
[null," 8, 9, 13, 2, 6, 10,"]
[null," 22, 23, 26, 4, 6, 10,"]
[null," 22, 24, 27, 2, 6, 10,"]
[null," 16, 22, 27, 6, 8, 10,"]
[null," 20, 23, 27, 2, 6, 10,"]
[null," 18, 23, 27, 2, 6, 10,"]
[null," 18, 23, 27, 4, 6, 10,"]
[null," 22, 24, 27, 2, 6, 10,"]
[null," 23, 25, 27, 2, 6, 10,"]
[null," 5, 18, 25, 2, 6, 10,"]
[null," 19, 21, 26, 6, 10, 12,"]
[null," 22, 23, 27, 2, 6, 10,"]
[null," 14, 23, 24, 2, 6, 10,"]
[null," 16, 18, 23, 6, 10, 12,"]
[null," 0, 0, 0, 0, 0, 0,"]

{"sheet":"Sgm_Q2","index":12,"n_rows":63,"n_cols":2,"rows_kept":63,"cut":false,"hidden":false,"merged":[]}
[null,"\"Version 01.00\",\"Škola\",\"Psychológ\",\"Obdobie\",\"Dátum\",\"Trieda\""]
[null,28]
[1,"\"01_Oso m\""]
[2,"\"02_Oso m\""]
[3,"\"03_Oso m\""]
[4,"\"04_Oso m\""]
[5,"\"05_Oso m\""]
[6,"\"*06_Oso m\""]
[7,"\"07_Oso m\""]
[8,"\"08_Oso m\""]
[9,"\"09_Oso f\""]
[10,"\"**10_Oso m\""]
[11,"\"11_Oso m\""]
[12,"\"12_Oso m\""]
[13,"\"13_Oso m\""]
[14,"\"14_Oso m\""]
[15,"\"15_Oso f\""]
[16,"\"16_Oso f\""]
[17,"\"17_Oso f\""]
[18,"\"18_Oso f\""]
[19,"\"19_Oso f\""]
[20,"\"20_Oso f\""]
[21,"\"21_Oso f\""]
[22,"\"22_Oso f\""]
[23,"\"23_Oso f\""]
[24,"\"24_Oso f\""]
[25,"\"25_Oso f\""]
[26,"\"26_Oso f\""]
[27,"\"27_Oso f\""]
[28,"\"28_Oso f\""]
[null,"3 \"\",\"\""]
[null,"\"2. S kým z triedy by si najradšej písaval úlohy a učieval sa?\""]
[null,"\"\""]
[null,"\"\""]
[null,"\"2. S kým z triedy by si v žiadnom prípade nechcel písavať úlohy a učievať sa?\""]
[null," 5, 7, 11, 17, 23, 27,"]
[null," 7, 8, 9, 4, 6, 10,"]
[null," 7, 23, 28, 4, 6, 10,"]
[null," 9, 13, 14, 2, 6, 10,"]
[null," 1, 9, 28, 4, 6, 10,"]
[null," 23, 25, 26, 2, 4, 24,"]
[null," 3, 9, 28, 2, 6, 10,"]
[null," 7, 9, 28, 4, 6, 10,"]
[null," 3, 7, 28, 15, 17, 23,"]
[null," 3, 9, 23, 2, 6, 12,"]
[null," 7, 8, 28, 2, 4, 10,"]
[null," 8, 23, 27, 5, 6, 10,"]
[null," 4, 14, 28, 6, 10, 12,"]
[null," 8, 9, 28, 2, 6, 10,"]
[null," 23, 25, 26, 2, 6, 10,"]
[null," 23, 25, 27, 2, 6, 10,"]
[null," 15, 26, 27, 1, 6, 8,"]
[null," 19, 23, 27, 2, 6, 10,"]
[null," 18, 23, 27, 2, 6, 10,"]
[null," 18, 23, 25, 6, 10, 12,"]
[null," 18, 23, 25, 2, 6, 10,"]
[null," 23, 25, 26, 5, 6, 10,"]
[null," 18, 20, 25, 6, 12, 27,"]
[null," 19, 21, 26, 2, 4, 20,"]
[null," 22, 23, 26, 4, 5, 6,"]
[null," 15, 23, 25, 4, 16, 17,"]
[null," 18, 23, 25, 2, 4, 10,"]
[null," 0, 0, 0, 0, 0, 0,"]

{"sheet":"Sgm_Q3","index":13,"n_rows":63,"n_cols":2,"rows_kept":63,"cut":false,"hidden":false,"merged":[]}
[null,"\"Version 01.00\",\"Škola\",\"Psychológ\",\"Obdobie\",\"Dátum\",\"Trieda\""]
[null,28]
[1,"\"01_Oso m\""]
[2,"\"02_Oso m\""]
[3,"\"03_Oso m\""]
[4,"\"04_Oso m\""]
[5,"\"05_Oso m\""]
[6,"\"*06_Oso m\""]
[7,"\"07_Oso m\""]
[8,"\"08_Oso m\""]
[9,"\"09_Oso f\""]
[10,"\"**10_Oso m\""]
[11,"\"11_Oso m\""]
[12,"\"12_Oso m\""]
[13,"\"13_Oso m\""]
[14,"\"14_Oso m\""]
[15,"\"15_Oso f\""]
[16,"\"16_Oso f\""]
[17,"\"17_Oso f\""]
[18,"\"18_Oso f\""]
[19,"\"19_Oso f\""]
[20,"\"20_Oso f\""]
[21,"\"21_Oso f\""]
[22,"\"22_Oso f\""]
[23,"\"23_Oso f\""]
[24,"\"24_Oso f\""]
[25,"\"25_Oso f\""]
[26,"\"26_Oso f\""]
[27,"\"27_Oso f\""]
[28,"\"28_Oso f\""]
[null,"3 \"\",\"\""]
[null,"\"3. S kým z triedy by si chcel stráviť prázdniny na pustom ostrove?\""]
[null,"\"\""]
[null,"\"\""]
[null,"\"3. S kým z triedy by si nechcel stráviť prázdniny na pustom ostrove?\""]
[null," 5, 10, 11, 17, 20, 27,"]
[null," 7, 8, 9, 4, 10, 11,"]
[null," 7, 9, 28, 2, 5, 27,"]
[null," 5, 9, 12, 21, 24, 27,"]
[null," 6, 10, 28, 4, 19, 24,"]
[null," 10, 11, 12, 15, 16, 17,"]
[null," 3, 8, 11, 2, 5, 27,"]
[null," 9, 11, 12, 4, 6, 10,"]
[null," 3, 7, 28, 15, 23, 25,"]
[null," 1, 5, 6, 18, 25, 27,"]
[null," 7, 8, 28, 2, 4, 10,"]
[null," 20, 23, 27, 2, 8, 18,"]
[null," 9, 12, 14, 6, 10, 27,"]
[null," 8, 23, 26, 2, 6, 10,"]
[null," 22, 23, 25, 2, 6, 10,"]
[null," 18, 20, 27, 2, 6, 10,"]
[null," 16, 21, 22, 1, 6, 10,"]
[null," 16, 23, 27, 2, 6, 10,"]
[null," 17, 23, 27, 2, 6, 10,"]
[null," 18, 23, 27, 4, 6, 7,"]
[null," 18, 19, 24, 2, 6, 10,"]
[null," 16, 21, 23, 4, 6, 10,"]
[null," 5, 18, 25, 6, 7, 10,"]
[null," 15, 21, 25, 16, 20, 22,"]
[null," 16, 23, 27, 6, 10, 12,"]
[null," 20, 21, 22, 2, 6, 10,"]
[null," 18, 19, 23, 2, 6, 10,"]
[null," 0, 0, 0, 0, 0, 0,"]

{"sheet":"Sgm_Q4","index":14,"n_rows":63,"n_cols":2,"rows_kept":63,"cut":false,"hidden":false,"merged":[]}
[null,"\"Version 01.00\",\"Škola\",\"Psychológ\",\"Obdobie\",\"Dátum\",\"Trieda\""]
[null,28]
[1,"\"01_Oso m\""]
[2,"\"02_Oso m\""]
[3,"\"03_Oso m\""]
[4,"\"04_Oso m\""]
[5,"\"05_Oso m\""]
[6,"\"*06_Oso m\""]
[7,"\"07_Oso m\""]
[8,"\"08_Oso m\""]
[9,"\"09_Oso f\""]
[10,"\"**10_Oso m\""]
[11,"\"11_Oso m\""]
[12,"\"12_Oso m\""]
[13,"\"13_Oso m\""]
[14,"\"14_Oso m\""]
[15,"\"15_Oso f\""]
[16,"\"16_Oso f\""]
[17,"\"17_Oso f\""]
[18,"\"18_Oso f\""]
[19,"\"19_Oso f\""]
[20,"\"20_Oso f\""]
[21,"\"21_Oso f\""]
[22,"\"22_Oso f\""]
[23,"\"23_Oso f\""]
[24,"\"24_Oso f\""]
[25,"\"25_Oso f\""]
[26,"\"26_Oso f\""]
[27,"\"27_Oso f\""]
[28,"\"28_Oso f\""]
[null,"3 \"\",\"\""]
[null,"\"4. Kto by najlepšie dokázal hájiť záujmy triedy?\""]
[null,"\"\""]
[null,"\"\""]
[null,"\"4. Koho by si vôbec nevybral na hájenie záujmov triedy?\""]
[null," 15, 23, 26, 6, 8, 10,"]
[null," 7, 23, 25, 4, 6, 10,"]
[null," 23, 26, 28, 4, 6, 10,"]
[null," 9, 15, 23, 2, 6, 10,"]
[null," 9, 23, 28, 2, 24, 27,"]
[null," 8, 23, 26, 2, 4, 24,"]
[null," 15, 23, 26, 2, 6, 10,"]
[null," 9, 23, 26, 4, 6, 10,"]
[null," 23, 25, 28, 2, 6, 10,"]
[null," 9, 23, 28, 2, 18, 25,"]
[null," 7, 9, 28, 2, 4, 10,"]
[null," 9, 23, 28, 2, 6, 10,"]
[null," 23, 25, 28, 2, 6, 10,"]
[null," 9, 23, 28, 2, 6, 10,"]
[null," 5, 23, 25, 2, 6, 10,"]
[null," 15, 23, 25, 2, 6, 10,"]
[null," 15, 23, 26, 10, 16, 27,"]
[null," 20, 23, 25, 2, 6, 10,"]
[null," 9, 23, 25, 2, 6, 10,"]
[null," 9, 18, 23, 2, 8, 24,"]
[null," 9, 23, 25, 2, 6, 10,"]
[null," 23, 25, 26, 2, 6, 10,"]
[null," 5, 18, 20, 2, 8, 24,"]
[null," 15, 23, 25, 2, 5, 17,"]
[null," 15, 23, 26, 6, 10, 12,"]
[null," 15, 23, 25, 11, 12, 13,"]
[null," 20, 23, 25, 2, 6, 10,"]
[null," 0, 0, 0, 0, 0, 0,"]

{"sheet":"Sgm_Q5","index":15,"n_rows":63,"n_cols":2,"rows_kept":63,"cut":false,"hidden":false,"merged":[]}
[null,"\"Version 01.00\",\"Škola\",\"Psychológ\",\"Obdobie\",\"Dátum\",\"Trieda\""]
[null,28]
[1,"\"01_Oso m\""]
[2,"\"02_Oso m\""]
[3,"\"03_Oso m\""]
[4,"\"04_Oso m\""]
[5,"\"05_Oso m\""]
[6,"\"*06_Oso m\""]
[7,"\"07_Oso m\""]
[8,"\"08_Oso m\""]
[9,"\"09_Oso f\""]
[10,"\"**10_Oso m\""]
[11,"\"11_Oso m\""]
[12,"\"12_Oso m\""]
[13,"\"13_Oso m\""]
[14,"\"14_Oso m\""]
[15,"\"15_Oso f\""]
[16,"\"16_Oso f\""]
[17,"\"17_Oso f\""]
[18,"\"18_Oso f\""]
[19,"\"19_Oso f\""]
[20,"\"20_Oso f\""]
[21,"\"21_Oso f\""]
[22,"\"22_Oso f\""]
[23,"\"23_Oso f\""]
[24,"\"24_Oso f\""]
[25,"\"25_Oso f\""]
[26,"\"26_Oso f\""]
[27,"\"27_Oso f\""]
[28,"\"28_Oso f\""]
[null,"3 \"\",\"\""]
[null,"\"5. Komu z triedy by si zveril svoje tajomstvo?\""]
[null,"\"\""]
[null,"\"\""]
[null,"\"5. Komu z triedy by si nikdy nezveril svoje tajomstvo?\""]
[null," 5, 7, 11, 4, 12, 27,"]
[null," 7, 9, 23, 4, 6, 10,"]
[null," 7, 9, 28, 1, 4, 5,"]
[null," 11, 23, 28, 3, 19, 24,"]
[null," 1, 10, 28, 2, 4, 19,"]
[null," 11, 0, 0, 20, 23, 25,"]
[null," 8, 11, 14, 21, 23, 27,"]
[null," 9, 23, 26, 3, 6, 10,"]
[null," 3, 7, 28, 6, 10, 15,"]
[null," 1, 5, 6, 23, 25, 27,"]
[null," 7, 8, 28, 2, 4, 10,"]
[null," 13, 14, 20, 2, 5, 10,"]
[null," 4, 12, 14, 6, 10, 25,"]
[null," 8, 12, 13, 2, 5, 10,"]
[null," 22, 23, 25, 16, 24, 27,"]
[null," 23, 25, 27, 2, 6, 10,"]
[null," 21, 22, 27, 6, 10, 16,"]
[null," 19, 23, 27, 2, 6, 10,"]
[null," 18, 23, 27, 2, 6, 10,"]
[null," 18, 23, 25, 4, 6, 22,"]
[null," 18, 22, 24, 2, 6, 10,"]
[null," 23, 25, 27, 4, 5, 12,"]
[null," 18, 25, 27, 7, 10, 22,"]
[null," 19, 21, 26, 17, 20, 22,"]
[null," 20, 21, 23, 5, 6, 10,"]
[null," 19, 24, 25, 5, 6, 7,"]
[null," 18, 19, 23, 5, 6, 10,"]
[null," 0, 0, 0, 0, 0, 0,"]

{"sheet":"Sumy_All_Q","index":16,"n_rows":224,"n_cols":111,"rows_kept":224,"cut":false,"hidden":false,"merged":[]}
[null,null,null,1,2,3,4,5,6,7,8,9,10,11,12,13,14,15,16,17,18,19,20,21,22,23,24,25,26,27,28,29,30,31,32,33,34,35,36,37,38,39,40,null,null,null,null,null,null,null,null,null,null,null,null,null,null,null,null,null,null,1,2,3,4,5]
["Počet volieb",3,null,null,null,null,null,null,null,null,null,null,null,null,null,null,null,null,null,null,null,null,null,null,null,null,null,null,null,null,null,null,null,null,null,null,null,null,null,null,null,null,null,null,null,null,null,null,null,null,null,null,null,null,null,null,null,null,null,null,null,"Otázka 1","Otázka 2","Otázka 3","Otázka 4","Otázka 5"]
["Počet osôb",28,null,null,null,null,null,null,null,null,null,null,null,null,null,null,null,null,null,null,null,null,null,null,null,null,null,null,null,null,null,null,null,null,null,null,null,null,null,null,null,null,null,null,null,1,2,3,4,5,null,null,null,null,null,null,null,null,null,null,null,"Sedieť","Učiť sa","Pustý ostrov","Hájiť záujmy","Tajomstvo"]
[null,null,null,"\"01_Oso m\"","\"02_Oso m\"","\"03_Oso m\"","\"04_Oso m\"","\"05_Oso m\"","\"*06_Oso m\"","\"07_Oso m\"","\"08_Oso m\"","\"09_Oso f\"","\"**10_Oso m\"","\"11_Oso m\"","\"12_Oso m\"","\"13_Oso m\"","\"14_Oso m\"","\"15_Oso f\"","\"16_Oso f\"","\"17_Oso f\"","\"18_Oso f\"","\"19_Oso f\"","\"20_Oso f\"","\"21_Oso f\"","\"22_Oso f\"","\"23_Oso f\"","\"24_Oso f\"","\"25_Oso f\"","\"26_Oso f\"","\"27_Oso f\"","\"28_Oso f\"",null,null,null,null,null,null,null,null,null,null,null,null,"Total","              Len keď chceme","C Koherencia; Icc; KH = (M+*q)/( U+ *p)","IN Intensity; Nespokojnosť IN = (2*(P-2*M+))/(d*(N/2))","IK Kohézia; Co; KL = M+/ MAX M+","IG Integrácia Ig = 1 - (OPOp/(N-d)); OPO FILA","IZ Izolácia Iz = OPOp/(N - d); OPO FILA","POP","REJ","CON","AVE","OPO WALSH","IZO","POP %","REJ %","CON %","AVE %","OPO %","IZO %","C korig","IN korig","Významnosť koherencie C korig","Významnosť nespokojnosti  IN korig","Významnosť kohézia  IK korig","Významnosť disociácie ID korig","Významnosť integrácie IG","Významnosť izolácie IZ","Významnosť populárni POP %","Významnosť odmietaní REJ %","Významnosť kontroverzní CON %","Významnosť priemerní AVE %","Významnosť opomíjaní OPO %","NEG",null,"Kvantily z N = 58 tried; 1579 žiakov","C korig Koherencia 25%","C korig Koherencia 50%","C korig Koherencia 75%","IN korig Nespokojnosť 25%","IN korig Nespokojnosť 50%","IN korig Nespokojnosť 75%","IK Kohézia 25%","IK Kohézia 50%","IK  Kohézia 75%","ID Disociácia 25%","ID Disociácia 50%","ID Disociácia 75%","IG Integrácia 25%","IG Integrácia 50%","IG Integrácia 75%","IZ Izolácia 25%","IZ Izolácia 50%","IZ Izolácia 75%","Populárni POP % 25%","Populárni POP % 50%","Populárni POP % 75%","Odmietaní REJ % 25%","Odmietaní REJ % 50%","Odmietaní REJ % 75%","Kontroverzní CON % 25%","Kontroverzní CON % 50%","Kontroverzní CON % 75%","Priemerní AVE % 25%","Priemerní AVE % 50%","Priemerní AVE % 75%","Opomíjaní OPO % 25%","Opomíjaní OPO % 50%","Opomíjaní OPO % 75%"]
["Q_1_P","Sel_p_r",{"$f":"CONCATENATE($BJ$3, \" P\")","v":"Sedieť P"},2,0,1,1,4,0,4,4,6,2,3,3,1,2,0,2,0,4,1,2,2,5,10,3,3,2,8,6,null,null,null,null,null,null,null,null,null,null,null,null,{"$f":"SUM(D5:AQ5)","v":81},{"$f":"CONCATENATE($BJ$3, \" P\")","v":"Sedieť P"},{"$f":"IF(AR5<>0,IF($B$2<>0,IF($B$3<>\"\",IF(AR7<>0,(AR7/2*(1-$B$2/($B$3-1)))/((AR5-AR7/2)*($B$2/($B$3-1))),\"\"),\"\"),\"\"),\"\")","v":1.6716417910447761},{"$f":"IF(AR5<>0,IF($B$2<>0,IF($B$3<>\"\",2*(AR5-2*AR7/2)/($B$2*($B$3/2)),\"\"),\"\"),\"\")","v":2.5238095238095237},{"$f":"IF(AR5<>0,IF($B$3<>\"\",IF($B$2<>0,(AR7/2)/(($B$2*$B$3)/2),\"\"),\"\"),\"\")","v":0.33333333333333331},{"$f":"IF(AR5<>0,IF(AX5<>\"\",1-AX5,\"\"),\"\")","v":0.84},{"$f":"IF(AR5<>0,IF($B$2<>\"\",IF($B$3<>\"\",AR12/($B$3-$B$2),\"\"),\"\"),\"\")","v":0.16},{"$f":"Individualne!AR22","v":5},{"$f":"Individualne!AR23","v":4},{"$f":"Individualne!AR25","v":0},{"$f":"Individualne!AR26","v":19},{"$f":"Individualne!AR27","v":2},{"$f":"Individualne!AR28","v":0},{"$f":"(AY5/($B$3-$B$2))*100","v":20},16,0,76,8,0,{"$f":"IF(AT5<>\" \",IF(AT5<>\"\",AT5/(($B$3-4)*0.333333333333),\"\"),\"\")","v":0.20895522388080592},{"$f":"IF(AU5<>\" \",IF(AU5<>\"\",AU5/(($B$3-4)*0.333333333333),\"\"),\"\")","v":0.31547619047650588},{"$f":"IF(AR5<>0,IF(BK5<CA5,\"znížený\",IF(BK5>=CA5,IF(BK5<CB5,\"dolný priemer\",IF(BK5>=CB5,IF(BK5<CC5,\"horný priemer\",IF(BK5>=CC5,\"nadpriemer\",\"xxx\")))))),\"\")","v":"znížený"},{"$f":"IF(AR5<>0,IF(BL5<CD5,\"znížený\",IF(BL5>=CD5,IF(BL5<CE5,\"dolný priemer\",IF(BL5>=CE5,IF(BL5<CF5,\"horný priemer\",IF(BL5>=CF5,\"nadpriemer\",\"xxx\")))))),\"\")","v":"nadpriemer"},{"$f":"IF(AR5<>0,IF(AV5<CG5,\"znížený\",IF(AV5>=CG5,IF(AV5<CH5,\"dolný priemer\",IF(AV5>=CH5,IF(AV5<CI5,\"horný priemer\",IF(AV5>=CI5,\"nadpriemer\",\"xxx\")))))),\"\")","v":"znížený"},{"$f":"IF(AR8<>0,IF(AV10<CJ5,\"znížený\",IF(AV10>=CJ5,IF(AV10<CK5,\"dolný priemer\",IF(AV10>=CK5,IF(AV10<CL5,\"horný priemer\",IF(AV10>=CL5,\"nadpriemer\",\"xxx\")))))),\"\")","v":"horný priemer"},{"$f":"IF(AR5<>0,IF(AW5<CM5,\"znížený\",IF(AW5>=CM5,IF(AW5<CN5,\"dolný priemer\",IF(AW5>=CN5,IF(AW5<CO5,\"horný priemer\",IF(AW5>=CO5,\"nadpriemer\",\"xxx\")))))),\"\")","v":"znížený"},{"$f":"IF(AR5<>0,IF(AX5<CP5,\"znížený\",IF(AX5>=CP5,IF(AX5<CQ5,\"dolný priemer\",IF(AX5>=CQ5,IF(AX5<CR5,\"horný priemer\",IF(AX5>=CR5,\"nadpriemer\",\"xxx\")))))),\"\")","v":"nadpriemer"},{"$f":"IF(AR5<>0,IF(BE5<CS5,\"znížený\",IF(BE5>=CS5,IF(BE5<CT5,\"dolný priemer\",IF(BE5>=CT5,IF(BE5<CU5,\"horný priemer\",IF(BE5>=CU5,\"nadpriemer\",\"xxx\")))))),\"\")","v":"znížený"},{"$f":"IF(AR5<>0,IF(BF5<CV5,\"znížený\",IF(BF5>=CV5,IF(BF5<CW5,\"dolný priemer\",IF(BF5>=CW5,IF(BF5<CX5,\"horný priemer\",IF(BF5>=CX5,\"nadpriemer\",\"xxx\")))))),\"\")","v":"znížený"},{"$f":"IF(AR5<>0,IF(BG5<CY5,\"znížený\",IF(BG5>=CY5,IF(BG5<CZ5,\"dolný priemer\",IF(BG5>=CZ5,IF(BG5<DA5,\"horný priemer\",IF(BG5>=DA5,\"nadpriemer\",\"xxx\")))))),\"\")","v":"dolný priemer"},{"$f":"IF(AR5<>0,IF(BH5<DB5,\"znížený\",IF(BH5>=DB5,IF(BH5<DC5,\"dolný priemer\",IF(BH5>=DC5,IF(BH5<DD5,\"horný priemer\",IF(BH5>=DD5,\"nadpriemer\",\"xxx\")))))),\"\")","v":"nadpriemer"},{"$f":"IF(AR5<>0,IF(BI5<DE5,\"znížený\",IF(BI5>=DE5,IF(BI5<DF5,\"dolný priemer\",IF(BI5>=DF5,IF(BI5<DG5,\"horný priemer\",IF(BI5>=DG5,\"nadpriemer\",\"xxx\")))))),\"\")","v":"nadpriemer"},{"$f":"Individualne!AR24","v":0},null,"Sedieť",0.27900326797413522,0.32495285983690569,0.39072214251593351,0.19203038340988576,0.22458655599594862,0.26186471831659308,0.36510263929618769,0.42761904761904762,0.49596774193548387,8.7294850028296539E-2,0.1247086247086247,0.17289190718732317,0.87364130434782605,0.91240409207161122,0.95292207792207795,4.707792207792208E-2,8.7595907928388755E-2,0.12635869565217392,25,28.571428571428569,32.035714285714285,17.210144927536231,21.739130434782609,25.966183574879224,0,3.5714285714285712,5.6715063520871141,47.556390977443606,53.256302521008408,60.753105590062106,0,0,4.7619047619047619]
["Q_1_P","Sel_p_g",{"$f":"CONCATENATE($BJ$3, \" P\")","v":"Sedieť P"},3,3,3,3,3,3,3,3,3,3,3,3,3,3,3,3,3,3,3,3,3,3,3,3,3,3,3,0,null,null,null,null,null,null,null,null,null,null,null,null,{"$f":"SUM(D6:AQ6)","v":81},{"$f":"CONCATENATE($BK$3, \" P\")","v":"Učiť sa P"},{"$f":"IF($B$2<>0,IF($B$3<>\"\",IF(AR17<>0,(AR17/2*(1-$B$2/($B$3-1)))/((AR15-AR17/2)*($B$2/($B$3-1))),\" \"),\" \"),\" \")","v":1.3913043478260869},{"$f":"IF(AR15<>0,IF($B$2<>0,IF($B$3<>\"\",2*(AR15-2*AR17/2)/($B$2*($B$3/2)),\"\"),\"\"),\"\")","v":2.7142857142857144},{"$f":"IF(AR15<>0,IF($B$3<>\"\",IF($B$2<>0,(AR17/2)/(($B$2*$B$3)/2),\"\"),\"\"),\"\")","v":0.2857142857142857},{"$f":"IF(AR15<>0,IF(AX6<>\"\",1-AX6,\"\"),\"\")","v":0.72},{"$f":"IF(AR5<>0,IF($B$2<>\"\",IF($B$3<>\"\",AR22/($B$3-$B$2),\"\"),\"\"),\"\")","v":0.28000000000000003},{"$f":"Individualne!AR80","v":7},{"$f":"Individualne!AR81","v":5},{"$f":"Individualne!AR83","v":0},{"$f":"Individualne!AR84","v":16},{"$f":"Individualne!AR85","v":3},{"$f":"Individualne!AR86","v":0},28.000000000000004,20,0,64,12,0,{"$f":"IF(AT6<>\" \",IF(AT6<>\"\",AT6/(($B$3-4)*0.333333333333),\"\"),\"\")","v":0.17391304347843475},0.33928571428605353,{"$f":"IF(AR15<>0,IF(BK6<CA6,\"znížený\",IF(BK6>=CA6,IF(BK6<CB6,\"dolný priemer\",IF(BK6>=CB6,IF(BK6<CC6,\"horný priemer\",IF(BK6>=CC6,\"nadpriemer\",\"xxx\")))))),\"\")","v":"znížený"},{"$f":"IF(AR15<>0,IF(BL6<CD6,\"znížený\",IF(BL6>=CD6,IF(BL6<CE6,\"dolný priemer\",IF(BL6>=CE6,IF(BL6<CF6,\"horný priemer\",IF(BL6>=CF6,\"nadpriemer\",\"xxx\")))))),\"\")","v":"nadpriemer"},{"$f":"IF(AR15<>0,IF(AV6<CG6,\"znížený\",IF(AV6>=CG6,IF(AV6<CH6,\"dolný priemer\",IF(AV6>=CH6,IF(AV6<CI6,\"horný priemer\",IF(AV6>=CI6,\"nadpriemer\",\"xxx\")))))),\"\")","v":"dolný priemer"},{"$f":"IF(AR18<>0,IF(AV11<CJ6,\"znížený\",IF(AV11>=CJ6,IF(AV11<CK6,\"dolný priemer\",IF(AV11>=CK6,IF(AV11<CL6,\"horný priemer\",IF(AV11>=CL6,\"nadpriemer\",\"xxx\")))))),\"\")","v":"horný priemer"},{"$f":"IF(AR15<>0,IF(AW6<CM6,\"znížený\",IF(AW6>=CM6,IF(AW6<CN6,\"dolný priemer\",IF(AW6>=CN6,IF(AW6<CO6,\"horný priemer\",IF(AW6>=CO6,\"nadpriemer\",\"xxx\")))))),\"\")","v":"znížený"},{"$f":"IF(AR15<>0,IF(AX6<CP6,\"znížený\",IF(AX6>=CP6,IF(AX6<CQ6,\"dolný priemer\",IF(AX6>=CQ6,IF(AX6<CR6,\"horný priemer\",IF(AX6>=CR6,\"nadpriemer\",\"xxx\")))))),\"\")","v":"nadpriemer"},{"$f":"IF(AR15<>0,IF(BE6<CS6,\"znížený\",IF(BE6>=CS6,IF(BE6<CT6,\"dolný priemer\",IF(BE6>=CT6,IF(BE6<CU6,\"horný priemer\",IF(BE6>=CU6,\"nadpriemer\",\"xxx\")))))),\"\")","v":"horný priemer"},{"$f":"IF(AR15<>0,IF(BF6<CV6,\"znížený\",IF(BF6>=CV6,IF(BF6<CW6,\"dolný priemer\",IF(BF6>=CW6,IF(BF6<CX6,\"horný priemer\",IF(BF6>=CX6,\"nadpriemer\",\"xxx\")))))),\"\")","v":"dolný priemer"},{"$f":"IF(AR15<>0,IF(BG6<CY6,\"znížený\",IF(BG6>=CY6,IF(BG6<CZ6,\"dolný priemer\",IF(BG6>=CZ6,IF(BG6<DA6,\"horný priemer\",IF(BG6>=DA6,\"nadpriemer\",\"xxx\")))))),\"\")","v":"horný priemer"},{"$f":"IF(AR15<>0,IF(BH6<DB6,\"znížený\",IF(BH6>=DB6,IF(BH6<DC6,\"dolný priemer\",IF(BH6>=DC6,IF(BH6<DD6,\"horný priemer\",IF(BH6>=DD6,\"nadpriemer\",\"xxx\")))))),\"\")","v":"nadpriemer"},{"$f":"IF(AR15<>0,IF(BI6<DE6,\"znížený\",IF(BI6>=DE6,IF(BI6<DF6,\"dolný priemer\",IF(BI6>=DF6,IF(BI6<DG6,\"horný priemer\",IF(BI6>=DG6,\"nadpriemer\",\"xxx\")))))),\"\")","v":"nadpriemer"},{"$f":"Individualne!AR82","v":0},null,"Učiť sa",0.18361244019157116,0.23250978473604461,0.28745644599331877,0.22289169164191452,0.27464285714313175,0.32149100899133048,0.27696078431372551,0.31624999999999998,0.36013986013986016,8.2702020202020193E-2,0.11436950146627567,0.15705128205128205,0.77272727272727271,0.82683658170914542,0.89473684210526316,0.10526315789473684,0.17316341829085458,0.22727272727272727,22.690615835777123,27.27272727272727,32.035714285714285,17.857142857142858,22.401433691756271,28.571428571428569,0,0,4.8872180451127818,43.322981366459629,48.913043478260875,57.330827067669169,3.4195402298850572,5.1315789473684212,9.8896434634974533]
["Q_1_P","Rec_p",{"$f":"CONCATENATE($BJ$3, \" mutual P\")","v":"Sedieť mutual P"},2,0,1,0,2,0,2,0,2,1,0,0,1,1,0,1,0,3,0,1,1,1,2,2,2,1,2,0,null,null,null,null,null,null,null,null,null,null,null,null,{"$f":"SUM(D7:AQ7)","v":28},{"$f":"CONCATENATE($BL$3, \" P\")","v":"Pustý ostrov P"},{"$f":"IF(AR25<>0,IF($B$2<>0,IF($B$3<>\"\",IF(AR27<>0,(AR27/2*(1-$B$2/($B$3-1)))/((AR25-AR27/2)*($B$2/($B$3-1))),\"\"),\"\"),\"\"),\"\")","v":1.5294117647058825},{"$f":"IF(AR25<>0,IF($B$2<>0,IF($B$3<>\"\",2*(AR25-2*AR27/2)/($B$2*($B$3/2)),\"\"),\"\"),\"\")","v":2.6190476190476191},{"$f":"IF(AR25<>0,IF($B$3<>\"\",IF($B$2<>0,(AR27/2)/(($B$2*$B$3)/2),\"\"),\"\"),\"\")","v":0.30952380952380953},{"$f":"IF(AR25<>0,IF(AX7<>\"\",1-AX7,\"\"),\"\")","v":0.88},{"$f":"IF(AR5<>0,IF($B$2<>\"\",IF($B$3<>\"\",AR32/($B$3-$B$2),\"\"),\"\"),\"\")","v":0.12},{"$f":"Individualne!AR138","v":4},{"$f":"Individualne!AR139","v":3},{"$f":"Individualne!AR141","v":2},{"$f":"Individualne!AR142","v":19},{"$f":"Individualne!AR143","v":1},{"$f":"Individualne!AR144","v":0},16,12,8,76,4,0,0.19117647058842646,0.32738095238127973,{"$f":"IF(AR25<>0,IF(BK7<CA7,\"znížený\",IF(BK7>=CA7,IF(BK7<CB7,\"dolný priemer\",IF(BK7>=CB7,IF(BK7<CC7,\"horný priemer\",IF(BK7>=CC7,\"nadpriemer\",\"xxx\")))))),\"\")","v":"znížený"},{"$f":"IF(AR25<>0,IF(BL7<CD7,\"znížený\",IF(BL7>=CD7,IF(BL7<CE7,\"dolný priemer\",IF(BL7>=CE7,IF(BL7<CF7,\"horný priemer\",IF(BL7>=CF7,\"nadpriemer\",\"xxx\")))))),\"\")","v":"nadpriemer"},{"$f":"IF(AR25<>0,IF(AV7<CG7,\"znížený\",IF(AV7>=CG7,IF(AV7<CH7,\"dolný priemer\",IF(AV7>=CH7,IF(AV7<CI7,\"horný priemer\",IF(AV7>=CI7,\"nadpriemer\",\"xxx\")))))),\"\")","v":"znížený"},{"$f":"IF(AR28<>0,IF(AV12<CJ7,\"znížený\",IF(AV12>=CJ7,IF(AV12<CK7,\"dolný priemer\",IF(AV12>=CK7,IF(AV12<CL7,\"horný priemer\",IF(AV12>=CL7,\"nadpriemer\",\"xxx\")))))),\"\")","v":"nadpriemer"},{"$f":"IF(AR25<>0,IF(AW7<CM7,\"znížený\",IF(AW7>=CM7,IF(AW7<CN7,\"dolný priemer\",IF(AW7>=CN7,IF(AW7<CO7,\"horný priemer\",IF(AW7>=CO7,\"nadpriemer\",\"xxx\")))))),\"\")","v":"dolný priemer"},{"$f":"IF(AR25<>0,IF(AX7<CP7,\"znížený\",IF(AX7>=CP7,IF(AX7<CQ7,\"dolný priemer\",IF(AX7>=CQ7,IF(AX7<CR7,\"horný priemer\",IF(AX7>=CR7,\"nadpriemer\",\"xxx\")))))),\"\")","v":"horný priemer"},{"$f":"IF(AR25<>0,IF(BE7<CS7,\"znížený\",IF(BE7>=CS7,IF(BE7<CT7,\"dolný priemer\",IF(BE7>=CT7,IF(BE7<CU7,\"horný priemer\",IF(BE7>=CU7,\"nadpriemer\",\"xxx\")))))),\"\")","v":"znížený"},{"$f":"IF(AR25<>0,IF(BF7<CV7,\"znížený\",IF(BF7>=CV7,IF(BF7<CW7,\"dolný priemer\",IF(BF7>=CW7,IF(BF7<CX7,\"horný priemer\",IF(BF7>=CX7,\"nadpriemer\",\"xxx\")))))),\"\")","v":"znížený"},{"$f":"IF(AR25<>0,IF(BG7<CY7,\"znížený\",IF(BG7>=CY7,IF(BG7<CZ7,\"dolný priemer\",IF(BG7>=CZ7,IF(BG7<DA7,\"horný priemer\",IF(BG7>=DA7,\"nadpriemer\",\"xxx\")))))),\"\")","v":"horný priemer"},{"$f":"IF(AR25<>0,IF(BH7<DB7,\"znížený\",IF(BH7>=DB7,IF(BH7<DC7,\"dolný priemer\",IF(BH7>=DC7,IF(BH7<DD7,\"horný priemer\",IF(BH7>=DD7,\"nadpriemer\",\"xxx\")))))),\"\")","v":"nadpriemer"},{"$f":"IF(AR25<>0,IF(BI7<DE7,\"znížený\",IF(BI7>=DE7,IF(BI7<DF7,\"dolný priemer\",IF(BI7>=DF7,IF(BI7<DG7,\"horný priemer\",IF(BI7>=DG7,\"nadpriemer\",\"xxx\")))))),\"\")","v":"horný priemer"},{"$f":"Individualne!AR140","v":0},null,"Pustý ostrov",0.24314671814696129,0.28901098901127803,0.34010638297906348,0.1956424768926725,0.24738325281828277,0.29338118022357884,0.33333333333333331,0.37407407407407406,0.44623655913978494,6.0606060606060608E-2,0.122334455667789,0.1748792270531401,0.86363636363636365,0.89827586206896548,0.95059523809523805,4.940476190476191E-2,0.10172413793103449,0.13636363636363635,21.052631578947366,28.0625,32.44047619047619,17.210144927536231,22.401433691756271,26.086956521739129,3.6398467432950188,6.6964285714285712,10.813492063492063,43.322981366459629,50,56.677018633540371,0,3.1754032258064515,5.4179566563467487]
["Q_1_N","Sel_n_r",{"$f":"CONCATENATE($BJ$3, \" N\")","v":"Sedieť N"},0,12,0,6,2,19,0,1,0,20,0,3,0,0,1,2,2,1,0,1,2,2,2,2,1,0,1,0,null,null,null,null,null,null,null,null,null,null,null,null,{"$f":"SUM(D8:AQ8)","v":80},{"$f":"CONCATENATE($BM$3, \" P\")","v":"Hájiť záujmy P"},{"$f":"IF(AR35<>0,IF($B$2<>0,IF($B$3<>\"\",IF(AR37<>0,(AR37/2*(1-$B$2/($B$3-1)))/((AR35-AR37/2)*($B$2/($B$3-1))),\"\"),\"\"),\"\"),\"\")","v":0.64},{"$f":"IF(AR35<>0,IF($B$2<>0,IF($B$3<>\"\",2*(AR35-2*AR37/2)/($B$2*($B$3/2)),\"\"),\"\"),\"\")","v":3.2857142857142856},{"$f":"IF(AR35<>0,IF($B$3<>\"\",IF($B$2<>0,(AR37/2)/(($B$2*$B$3)/2),\"\"),\"\"),\"\")","v":0.14285714285714285},{"$f":"IF(AR35<>0,IF(AX8<>\"\",1-AX8,\"\"),\"\")","v":0.31999999999999995},{"$f":"IF(AR5<>0,IF($B$2<>\"\",IF($B$3<>\"\",AR42/($B$3-$B$2),\"\"),\"\"),\"\")","v":0.68},{"$f":"Individualne!AR196","v":6},{"$f":"Individualne!AR197","v":3},{"$f":"Individualne!AR199","v":0},{"$f":"Individualne!AR200","v":19},{"$f":"Individualne!AR201","v":14},{"$f":"Individualne!AR202","v":0},24,12,0,76,56.000000000000007,0,8.0000000000079993E-2,0.41071428571469637,{"$f":"IF(AR35<>0,IF(BK8<CA8,\"znížený\",IF(BK8>=CA8,IF(BK8<CB8,\"dolný priemer\",IF(BK8>=CB8,IF(BK8<CC8,\"horný priemer\",IF(BK8>=CC8,\"nadpriemer\",\"xxx\")))))),\"\")","v":"dolný priemer"},{"$f":"IF(AR35<>0,IF(BL8<CD8,\"znížený\",IF(BL8>=CD8,IF(BL8<CE8,\"dolný priemer\",IF(BL8>=CE8,IF(BL8<CF8,\"horný priemer\",IF(BL8>=CF8,\"nadpriemer\",\"xxx\")))))),\"\")","v":"horný priemer"},{"$f":"IF(AR35<>0,IF(AV8<CG8,\"znížený\",IF(AV8>=CG8,IF(AV8<CH8,\"dolný priemer\",IF(AV8>=CH8,IF(AV8<CI8,\"horný priemer\",IF(AV8>=CI8,\"nadpriemer\",\"xxx\")))))),\"\")","v":"horný priemer"},{"$f":"IF(AR38<>0,IF(AV13<CJ8,\"znížený\",IF(AV13>=CJ8,IF(AV13<CK8,\"dolný priemer\",IF(AV13>=CK8,IF(AV13<CL8,\"horný priemer\",IF(AV13>=CL8,\"nadpriemer\",\"xxx\")))))),\"\")","v":"nadpriemer"},{"$f":"IF(AR35<>0,IF(AW8<CM8,\"znížený\",IF(AW8>=CM8,IF(AW8<CN8,\"dolný priemer\",IF(AW8>=CN8,IF(AW8<CO8,\"horný priemer\",IF(AW8>=CO8,\"nadpriemer\",\"xxx\")))))),\"\")","v":"znížený"},{"$f":"IF(AR35<>0,IF(AX8<CP8,\"znížený\",IF(AX8>=CP8,IF(AX8<CQ8,\"dolný priemer\",IF(AX8>=CQ8,IF(AX8<CR8,\"horný priemer\",IF(AX8>=CR8,\"nadpriemer\",\"xxx\")))))),\"\")","v":"nadpriemer"},{"$f":"IF(AR35<>0,IF(BE8<CS8,\"znížený\",IF(BE8>=CS8,IF(BE8<CT8,\"dolný priemer\",IF(BE8>=CT8,IF(BE8<CU8,\"horný priemer\",IF(BE8>=CU8,\"nadpriemer\",\"xxx\")))))),\"\")","v":"nadpriemer"},{"$f":"IF(AR35<>0,IF(BF8<CV8,\"znížený\",IF(BF8>=CV8,IF(BF8<CW8,\"dolný priemer\",IF(BF8>=CW8,IF(BF8<CX8,\"horný priemer\",IF(BF8>=CX8,\"nadpriemer\",\"xxx\")))))),\"\")","v":"znížený"},{"$f":"IF(AR35<>0,IF(BG8<CY8,\"znížený\",IF(BG8>=CY8,IF(BG8<CZ8,\"dolný priemer\",IF(BG8>=CZ8,IF(BG8<DA8,\"horný priemer\",IF(BG8>=DA8,\"nadpriemer\",\"xxx\")))))),\"\")","v":"horný priemer"},{"$f":"IF(AR35<>0,IF(BH8<DB8,\"znížený\",IF(BH8>=DB8,IF(BH8<DC8,\"dolný priemer\",IF(BH8>=DC8,IF(BH8<DD8,\"horný priemer\",IF(BH8>=DD8,\"nadpriemer\",\"xxx\")))))),\"\")","v":"nadpriemer"},{"$f":"IF(AR35<>0,IF(BI8<DE8,\"znížený\",IF(BI8>=DE8,IF(BI8<DF8,\"dolný priemer\",IF(BI8>=DF8,IF(BI8<DG8,\"horný priemer\",IF(BI8>=DG8,\"nadpriemer\",\"xxx\")))))),\"\")","v":"nadpriemer"},{"$f":"Individualne!AR198","v":0},null,"Hájiť záujmy",7.5201612903300991E-2,8.8664421997843981E-2,0.12371575342478122,0.29858466009775064,0.35364396654754593,0.41273809523850791,0.11904761904761904,0.14087301587301587,0.1760233918128655,6.9872958257713252E-2,0.10666666666666667,0.1507820136852395,0.51071428571428568,0.60869565217391308,0.70424836601307184,0.29575163398692811,0.39130434782608697,0.48928571428571427,14.16256157635468,18.019480519480521,21.961805555555557,17.353823088455773,21.052631578947366,25,0,0,4.3478260869565215,28.428571428571427,38.75,48.611111111111107,14.953703703703702,24.5,33.695652173913039]
["Q_1_N","Sel_n_g",{"$f":"CONCATENATE($BJ$3, \" N\")","v":"Sedieť N"},3,3,3,3,3,3,3,3,3,3,3,3,2,3,3,3,3,3,3,3,3,3,3,3,3,3,3,0,null,null,null,null,null,null,null,null,null,null,null,null,{"$f":"SUM(D9:AQ9)","v":80},{"$f":"CONCATENATE($BN$3, \" P\")","v":"Tajomstvo P"},{"$f":"IF(AR45<>0,IF($B$2<>0,IF($B$3<>\"\",IF(AR47<>0,(AR47/2*(1-$B$2/($B$3-1)))/((AR45-AR47/2)*($B$2/($B$3-1))),\"\"),\"\"),\"\"),\"\")","v":2.0317460317460316},{"$f":"IF(AR45<>0,IF($B$2<>0,IF($B$3<>\"\",2*(AR45-2*AR47/2)/($B$2*($B$3/2)),\"\"),\"\"),\"\")","v":2.2380952380952381},{"$f":"IF(AR45<>0,IF($B$3<>\"\",IF($B$2<>0,(AR47/2)/(($B$2*$B$3)/2),\"\"),\"\"),\"\")","v":0.38095238095238093},{"$f":"IF(AR45<>0,IF(AX9<>\"\",1-AX9,\"\"),\"\")","v":0.84},{"$f":"IF(AR5<>0,IF($B$2<>\"\",IF($B$3<>\"\",AR52/($B$3-$B$2),\"\"),\"\"),\"\")","v":0.16},{"$f":"Individualne!AR254","v":4},{"$f":"Individualne!AR255","v":5},{"$f":"Individualne!AR257","v":3},{"$f":"Individualne!AR258","v":16},{"$f":"Individualne!AR259","v":3},{"$f":"Individualne!AR260","v":0},16,20,12,64,12,0,0.25396825396850786,0.27976190476218449,{"$f":"IF(AR45<>0,IF(BK9<CA9,\"znížený\",IF(BK9>=CA9,IF(BK9<CB9,\"dolný priemer\",IF(BK9>=CB9,IF(BK9<CC9,\"horný priemer\",IF(BK9>=CC9,\"nadpriemer\",\"xxx\")))))),\"\")","v":"dolný priemer"},{"$f":"IF(AR45<>0,IF(BL9<CD9,\"znížený\",IF(BL9>=CD9,IF(BL9<CE9,\"dolný priemer\",IF(BL9>=CE9,IF(BL9<CF9,\"horný priemer\",IF(BL9>=CF9,\"nadpriemer\",\"xxx\")))))),\"\")","v":"nadpriemer"},{"$f":"IF(AR45<>0,IF(AV9<CG9,\"znížený\",IF(AV9>=CG9,IF(AV9<CH9,\"dolný priemer\",IF(AV9>=CH9,IF(AV9<CI9,\"horný priemer\",IF(AV9>=CI9,\"nadpriemer\",\"xxx\")))))),\"\")","v":"horný priemer"},{"$f":"IF(AR48<>0,IF(AV14<CJ9,\"znížený\",IF(AV14>=CJ9,IF(AV14<CK9,\"dolný priemer\",IF(AV14>=CK9,IF(AV14<CL9,\"horný priemer\",IF(AV14>=CL9,\"nadpriemer\",\"xxx\")))))),\"\")","v":"horný priemer"},{"$f":"IF(AR45<>0,IF(AW9<CM9,\"znížený\",IF(AW9>=CM9,IF(AW9<CN9,\"dolný priemer\",IF(AW9>=CN9,IF(AW9<CO9,\"horný priemer\",IF(AW9>=CO9,\"nadpriemer\",\"xxx\")))))),\"\")","v":"znížený"},{"$f":"IF(AR45<>0,IF(AX9<CP9,\"znížený\",IF(AX9>=CP9,IF(AX9<CQ9,\"dolný priemer\",IF(AX9>=CQ9,IF(AX9<CR9,\"horný priemer\",IF(AX9>=CR9,\"nadpriemer\",\"xxx\")))))),\"\")","v":"nadpriemer"},{"$f":"IF(AR45<>0,IF(BE9<CS9,\"znížený\",IF(BE9>=CS9,IF(BE9<CT9,\"dolný priemer\",IF(BE9>=CT9,IF(BE9<CU9,\"horný priemer\",IF(BE9>=CU9,\"nadpriemer\",\"xxx\")))))),\"\")","v":"znížený"},{"$f":"IF(AR45<>0,IF(BF9<CV9,\"znížený\",IF(BF9>=CV9,IF(BF9<CW9,\"dolný priemer\",IF(BF9>=CW9,IF(BF9<CX9,\"horný priemer\",IF(BF9>=CX9,\"nadpriemer\",\"xxx\")))))),\"\")","v":"dolný priemer"},{"$f":"IF(AR45<>0,IF(BG9<CY9,\"znížený\",IF(BG9>=CY9,IF(BG9<CZ9,\"dolný priemer\",IF(BG9>=CZ9,IF(BG9<DA9,\"horný priemer\",IF(BG9>=DA9,\"nadpriemer\",\"xxx\")))))),\"\")","v":"nadpriemer"},{"$f":"IF(AR45<>0,IF(BH9<DB9,\"znížený\",IF(BH9>=DB9,IF(BH9<DC9,\"dolný priemer\",IF(BH9>=DC9,IF(BH9<DD9,\"horný priemer\",IF(BH9>=DD9,\"nadpriemer\",\"xxx\")))))),\"\")","v":"nadpriemer"},{"$f":"IF(AR45<>0,IF(BI9<DE9,\"znížený\",IF(BI9>=DE9,IF(BI9<DF9,\"dolný priemer\",IF(BI9>=DF9,IF(BI9<DG9,\"horný priemer\",IF(BI9>=DG9,\"nadpriemer\",\"xxx\")))))),\"\")","v":"nadpriemer"},{"$f":"Individualne!AR256","v":0},null,"Tajomstvo",0.25000000000025002,0.28055095277575692,0.32751937984528878,0.18275431662177627,0.22427536231906484,0.27619047619075232,0.27163742690058479,0.3680926916221034,0.41375291375291373,0.10026737967914438,0.13333333333333333,0.18006993006993008,0.85582010582010581,0.8928571428571429,0.93265086206896552,6.7349137931034475E-2,0.10714285714285714,0.14417989417989419,21.428571428571427,26.086956521739129,30.034722222222221,20,22.727272727272727,26.086956521739129,0,5,10.92032967032967,42.857142857142854,50,58.004385964912288,0,4.083333333333333,6.25]
["Q_1_N","Rec_n",{"$f":"CONCATENATE($BJ$3, \" mutual N\")","v":"Sedieť mutual N"},0,0,0,1,1,3,0,0,0,3,0,1,0,0,0,1,1,1,0,1,0,1,0,0,0,0,0,0,null,null,null,null,null,null,null,null,null,null,null,null,14,{"$f":"CONCATENATE($BJ$3, \" N\")","v":"Sedieť N"},{"$f":"IF(AR8<>0,IF($B$2<>0,IF($B$3<>\"\",IF(AR10<>0,(AR10/2*(1-$B$2/($B$3-1)))/((AR8-AR10/2)*($B$2/($B$3-1))),\"\"),\"\"),\"\"),\"\")","v":0.76712328767123283},{"$f":"IF(AR8<>0,IF($B$2<>0,IF($B$3<>\"\",2*(AR8-2*AR10/2)/($B$2*($B$3/2)),\"\"),\"\"),\"\")","v":3.1428571428571428},{"$f":"IF(AR8<>0,IF($B$3<>\"\",IF($B$2<>0,(AR10/2)/(($B$2*$B$3)/2),\"\"),\"\"),\"\")","v":0.16666666666666666},{"$f":"IF(AR8<>0,IF(AX10<>\"\",1-AX10,\"\"),\"\")","v":0.64},{"$f":"IF(AR14<>0,IF($B$2<>\"\",IF($B$3<>\"\",AR14/($B$3-$B$2),\"\"),\"\"),\"\")","v":0.36},null,null,null,null,null,null,null,{"$f":"BF5*(-1)","v":-16},null,null,null,null,{"$f":"IF(AT10<>\" \",IF(AT10<>\"\",AT10/(($B$3-4)*-0.333333333333),\"\"),\"\")","v":-9.5890410958999986E-2},-0.39285714285753565,null,null,null,null,null,null,null,null,null,null,null,null,null,null,null,null,null,null,null,null,null,null,null,null,null,null,null,null,null,null,null,null,null,null,null,{"$f":"CV5*(-1)","v":-17.210144927536231},{"$f":"CW5*(-1)","v":-21.739130434782609},{"$f":"CX5*(-1)","v":-25.966183574879224}]
["Q_1","IZO p",{"$f":"CONCATENATE($BJ$3, \" izolovaní P\")","v":"Sedieť izolovaní P"},{"$f":"IF(D5<>\"\",IF(D6>0,IF(D5 = 0,IF(D6 = 0,1,\"\"),\"\"),\"\"),\"\")","v":""},{"$f":"IF(E5<>\"\",IF(E6>0,IF(E5 = 0,IF(E6 = 0,1,\"\"),\"\"),\"\"),\"\")","v":""},"","","","","","","","","","","","","","","","","","","","","","","","","","","","","","","","","","","","","","",0,{"$f":"CONCATENATE($BK$3, \" N\")","v":"Učiť sa N"},{"$f":"IF(AR18<>0,IF($B$2<>0,IF($B$3<>\"\",IF(AR20<>0,(AR20/2*(1-$B$2/($B$3-1)))/((AR18-AR20/2)*($B$2/($B$3-1))),\"\"),\"\"),\"\"),\"\")","v":0.64},{"$f":"IF(AR18<>0,IF($B$2<>0,IF($B$3<>\"\",2*(AR18-2*AR20/2)/($B$2*($B$3/2)),\"\"),\"\"),\"\")","v":3.2857142857142856},{"$f":"IF(AR18<>0,IF($B$3<>\"\",IF($B$2<>0,(AR20/2)/(($B$2*$B$3)/2),\"\"),\"\"),\"\")","v":0.14285714285714285},{"$f":"IF(AR18<>0,IF(AX11<>\"\",1-AX11,\"\"),\"\")","v":0.52},{"$f":"IF(AR24<>0,IF($B$2<>\"\",IF($B$3<>\"\",AR24/($B$3-$B$2),\"\"),\"\"),\"\")","v":0.48},null,null,null,null,null,null,null,{"$f":"BF6*(-1)","v":-20},null,null,null,null,-8.0000000000079993E-2,-0.41071428571469637,null,null,null,null,null,null,null,null,null,null,null,null,null,null,null,null,null,null,null,null,null,null,null,null,null,null,null,null,null,null,null,null,null,null,null,{"$f":"CV6*(-1)","v":-17.857142857142858},-22.401433691756271,{"$f":"CX6*(-1)","v":-28.571428571428569}]
["Q_1","OPO p",{"$f":"CONCATENATE($BJ$3, \" opomenutí P\")","v":"Sedieť opomenutí P"},{"$f":"IF(D6>0,IF(D5<>\"\",IF(D5 = 0,IF(D6 > 0,1,\"\"),\"\"),\"\"),\"\")","v":""},{"$f":"IF(E6>0,IF(E5<>\"\",IF(E5 = 0,IF(E6 > 0,1,\"\"),\"\"),\"\"),\"\")","v":1},"","","",1,"","","","","","","","",1,"",1,"","","","","","","","","","","","","","","","","","","","","","","",4,{"$f":"CONCATENATE($BL$3, \" N\")","v":"Pustý ostrov N"},{"$f":"IF(AR28<>0,IF($B$2<>0,IF($B$3<>\"\",IF(AR30<>0,(AR30/2*(1-$B$2/($B$3-1)))/((AR28-AR30/2)*($B$2/($B$3-1))),\"\"),\"\"),\"\"),\"\")","v":0.87671232876712324},{"$f":"IF(AR28<>0,IF($B$2<>0,IF($B$3<>\"\",2*(AR28-2*AR30/2)/($B$2*($B$3/2)),\"\"),\"\"),\"\")","v":3.0952380952380953},{"$f":"IF(AR28<>0,IF($B$3<>\"\",IF($B$2<>0,(AR30/2)/(($B$2*$B$3)/2),\"\"),\"\"),\"\")","v":0.19047619047619047},{"$f":"IF(AR28<>0,IF(AX12<>\"\",1-AX12,\"\"),\"\")","v":0.8},{"$f":"IF(AR34<>0,IF($B$2<>\"\",IF($B$3<>\"\",AR34/($B$3-$B$2),\"\"),\"\"),\"\")","v":0.2},null,null,null,null,null,null,null,{"$f":"BF7*(-1)","v":-12},null,null,null,null,-0.10958904109599998,-0.38690476190514878,null,null,null,null,null,null,null,null,null,null,null,null,null,null,null,null,null,null,null,null,null,null,null,null,null,null,null,null,null,null,null,null,null,null,null,-17.210144927536231,-22.401433691756271,{"$f":"CX7*(-1)","v":-26.086956521739129}]
["Q_1","IZO n",{"$f":"CONCATENATE($BJ$3, \" izolovaní N\")","v":"Sedieť izolovaní N"},{"$f":"IF(D9>0,IF(D8<>\"\",IF(D8 = 0,IF(D9 = 0,1,\"\"),\"\"),\"\"),\"\")","v":""},{"$f":"IF(E9>0,IF(E8<>\"\",IF(E8 = 0,IF(E9 = 0,1,\"\"),\"\"),\"\"),\"\")","v":""},"","","","","","","","","","","","","","","","","","","","","","","","","","","","","","","","","","","","","","",0,{"$f":"CONCATENATE($BM$3, \" N\")","v":"Hájiť záujmy N"},{"$f":"IF(AR38<>0,IF($B$2<>0,IF($B$3<>\"\",IF(AR40<>0,(AR40/2*(1-$B$2/($B$3-1)))/((AR38-AR40/2)*($B$2/($B$3-1))),\"\"),\"\"),\"\"),\"\")","v":0.75675675675675669},{"$f":"IF(AR38<>0,IF($B$2<>0,IF($B$3<>\"\",2*(AR38-2*AR40/2)/($B$2*($B$3/2)),\"\"),\"\"),\"\")","v":3.1904761904761907},{"$f":"IF(AR38<>0,IF($B$3<>\"\",IF($B$2<>0,(AR40/2)/(($B$2*$B$3)/2),\"\"),\"\"),\"\")","v":0.16666666666666666},{"$f":"IF(AR38<>0,IF(AX13<>\"\",1-AX13,\"\"),\"\")","v":0.52},{"$f":"IF(AR44<>0,IF($B$2<>\"\",IF($B$3<>\"\",AR44/($B$3-$B$2),\"\"),\"\"),\"\")","v":0.48},null,null,null,null,null,null,null,{"$f":"BF8*(-1)","v":-12},null,null,null,null,-9.4594594594689163E-2,-0.39880952380992257,null,null,null,null,null,null,null,null,null,null,null,null,null,null,null,null,null,null,null,null,null,null,null,null,null,null,null,null,null,null,null,null,null,null,null,-17.353823088455773,-21.052631578947366,{"$f":"CX8*(-1)","v":-25}]
["Q_1","OPO n",{"$f":"CONCATENATE($BJ$3, \" opomenutí N\")","v":"Sedieť opomenutí N"},{"$f":"IF(D9>0,IF(D8<>\"\",IF(D8 = 0,IF(D9 > 0,1,\"\"),\"\"),\"\"),\"\")","v":1},{"$f":"IF(E9>0,IF(E8<>\"\",IF(E8 = 0,IF(E9 > 0,1,\"\"),\"\"),\"\"),\"\")","v":""},1,"","","",1,"",1,"",1,"",1,1,"","","","",1,"","","","","","",1,"","","","","","","","","","","","","","",9,{"$f":"CONCATENATE($BN$3, \" N\")","v":"Tajomstvo N"},{"$f":"IF(AR48<>0,IF($B$2<>0,IF($B$3<>\"\",IF(AR50<>0,(AR50/2*(1-$B$2/($B$3-1)))/((AR48-AR50/2)*($B$2/($B$3-1))),\"\"),\"\"),\"\"),\"\")","v":0.75675675675675669},{"$f":"IF(AR48<>0,IF($B$2<>0,IF($B$3<>\"\",2*(AR48-2*AR50/2)/($B$2*($B$3/2)),\"\"),\"\"),\"\")","v":3.1904761904761907},{"$f":"IF(AR48<>0,IF($B$3<>\"\",IF($B$2<>0,(AR50/2)/(($B$2*$B$3)/2),\"\"),\"\"),\"\")","v":0.16666666666666666},{"$f":"IF(AR48<>0,IF(AX14<>\"\",1-AX14,\"\"),\"\")","v":0.72},{"$f":"IF(AR54<>0,IF($B$2<>\"\",IF($B$3<>\"\",AR54/($B$3-$B$2),\"\"),\"\"),\"\")","v":0.28000000000000003},null,null,null,null,null,null,null,{"$f":"BF9*(-1)","v":-20},null,null,null,null,-9.4594594594689163E-2,-0.39880952380992257,null,null,null,null,null,null,null,null,null,null,null,null,null,null,null,null,null,"SE","UC","OS","HA","TAJ",null,null,null,null,null,null,null,null,null,null,null,null,null,-20,-22.727272727272727,{"$f":"CX9*(-1)","v":-26.086956521739129}]
["Q_2_P","Sel_p_r",{"$f":"CONCATENATE($BK$3, \" P\")","v":"Učiť sa P"},1,0,3,1,1,0,6,4,7,0,1,0,1,2,2,0,0,5,2,1,1,1,14,0,9,6,5,8,null,null,null,null,null,null,null,null,null,null,null,null,{"$f":"SUM(D15:AQ15)","v":81},null,"Koherencia","Nespokojnosť","Kohézia","Integrácia","Izolácia",null,"Hr_1","Hr_2",null,null,null,null,null,null,null,null,null,null,null,null,null,null,null,"Kódy významností",null,null,null,"Pre graf","Popisky","Dummy 1","DH","AM","HH","Dummy 2","Popisky vpravo",null,"OT_1","OT_2","OT_3","OT_4","OT_5",null,"Dummy 1","Dummy 2"]
["Q_2_P","Sel_p_g",{"$f":"CONCATENATE($BK$3, \" P\")","v":"Učiť sa P"},3,3,3,3,3,3,3,3,3,3,3,3,3,3,3,3,3,3,3,3,3,3,3,3,3,3,3,0,null,null,null,null,null,null,null,null,null,null,null,null,{"$f":"SUM(D16:AQ16)","v":81},"Menovky","Koher","Nesp ","Kohéz","Integ ","Izolá  ",null,null,null,null,null,null,null,null,null,null,null,null,null,null,null,null,null,null,"Koherencia C",{"$f":"IF(BM5 =\"znížený\",1,IF(BM5 =\"dolný priemer\",2,IF(BM5 =\"horný priemer\",3,IF(BM5 =\"nadpriemer\",4,\"\"))))","v":1},1,"Koherencia C suma",{"$f":"BR21","v":7},"Koherencia",5,10,13,16,20,"C korig",null,{"$f":"BR16","v":1},{"$f":"BR17","v":1},{"$f":"BR18","v":1},{"$f":"BR19","v":2},{"$f":"BR20","v":2},null,1,4]
["Q_2_P","Rec_p",{"$f":"CONCATENATE($BK$3, \" mutual P\")","v":"Učiť sa mutual P"},1,0,1,1,1,0,2,0,1,0,0,0,1,0,1,0,0,3,1,1,0,1,3,0,3,2,1,0,null,null,null,null,null,null,null,null,null,null,null,null,{"$f":"SUM(D17:AQ17)","v":24},null,null,null,null,null,null,null,null,null,null,null,null,null,null,null,null,null,null,null,null,null,null,null,null,null,{"$f":"IF(BM6 =\"znížený\",1,IF(BM6 =\"dolný priemer\",2,IF(BM6 =\"horný priemer\",3,IF(BM6 =\"nadpriemer\",4,\"\"))))","v":1},2,"Kohézia IK suma",{"$f":"BR27","v":10},"Kohézia",5,10,13,16,20,"IK",null,{"$f":"BR22","v":1},{"$f":"BR23","v":2},{"$f":"BR24","v":1},{"$f":"BR25","v":3},{"$f":"BR26","v":3},null,1,4]
["Q_2_N","Sel_n_r",{"$f":"CONCATENATE($BK$3, \" N\")","v":"Učiť sa N"},1,13,0,10,3,20,0,1,0,18,0,4,0,0,1,1,3,0,0,1,0,0,2,1,0,0,2,0,null,null,null,null,null,null,null,null,null,null,null,null,{"$f":"SUM(D18:AQ18)","v":81},null,null,null,null,null,null,null,null,null,null,null,null,null,null,null,null,null,null,null,null,null,null,null,null,null,{"$f":"IF(BM7 =\"znížený\",1,IF(BM7 =\"dolný priemer\",2,IF(BM7 =\"horný priemer\",3,IF(BM7 =\"nadpriemer\",4,\"\"))))","v":1},3,"Integrácia IG suma",{"$f":"BR33","v":6},"Integrácia",5,10,13,16,20,"IG",null,{"$f":"BR28","v":1},{"$f":"BR29","v":1},{"$f":"BR30","v":2},{"$f":"BR31","v":1},{"$f":"BR32","v":1},null,1,4]
["Q_2_N","Sel_n_g",{"$f":"CONCATENATE($BK$3, \" N\")","v":"Učiť sa N"},3,3,3,3,3,3,3,3,3,3,3,3,3,3,3,3,3,3,3,3,3,3,3,3,3,3,3,0,null,null,null,null,null,null,null,null,null,null,null,null,{"$f":"SUM(D19:AQ19)","v":81},null,null,null,null,null,null,null,null,null,null,null,null,null,null,null,null,null,null,null,null,null,null,null,null,null,{"$f":"IF(BM8 =\"znížený\",1,IF(BM8 =\"dolný priemer\",2,IF(BM8 =\"horný priemer\",3,IF(BM8 =\"nadpriemer\",4,\"\"))))","v":2},4,"Populárni POP % suma",{"$f":"BR39","v":10},"Populárni",5,10,13,16,20,"POP %",null,{"$f":"BR34","v":1},{"$f":"BR35","v":3},{"$f":"BR36","v":1},{"$f":"BR37","v":4},{"$f":"BR38","v":1},null,1,4]
["Q_2_N","Rec_n",{"$f":"CONCATENATE($BK$3, \" mutual N\")","v":"Učiť sa mutual N"},1,3,0,2,0,2,0,0,0,2,0,1,0,0,0,0,1,0,0,0,0,0,0,0,0,0,0,0,null,null,null,null,null,null,null,null,null,null,null,null,12,null,null,null,null,null,null,null,null,null,null,null,null,null,null,null,null,null,null,null,null,null,null,null,null,null,{"$f":"IF(BM9 =\"znížený\",1,IF(BM9 =\"dolný priemer\",2,IF(BM9 =\"horný priemer\",3,IF(BM9 =\"nadpriemer\",4,\"\"))))","v":2},5,"Nespokojnosť IN suma",{"$f":"BR45","v":19},"Nespokojnosť",5,10,13,16,20,"IN",null,{"$f":"BR40","v":4},{"$f":"BR41","v":4},{"$f":"BR42","v":4},{"$f":"BR43","v":3},{"$f":"BR44","v":4},null,1,4]
["Q_2","IZO p",{"$f":"CONCATENATE($BK$3, \" izolovaní P\")","v":"Učiť sa izolovaní P"},{"$f":"IF(D15<>\"\",IF(D16>0,IF(D15 = 0,IF(D16 = 0,1,\"\"),\"\"),\"\"),\"\")","v":""},{"$f":"IF(E15<>\"\",IF(E16>0,IF(E15 = 0,IF(E16 = 0,1,\"\"),\"\"),\"\"),\"\")","v":""},"","","","","","","","","","","","","","","","","","","","","","","","","","","","","","","","","","","","","","",0,{"$f":"CONCATENATE($BJ$3, \" N obrátené\")","v":"Sedieť N obrátené"},{"$f":"IF(AT10<>\"\",AT10*(-1),\" \")","v":-0.76712328767123283},{"$f":"IF(AU10<>\"\",AU10*(-1),\" \")","v":-3.1428571428571428},-0.16666666666666666,-0.64,-0.36,null,6,7,null,null,null,null,null,null,null,null,null,null,null,null,null,null,1,"Koherencia C suma",{"$f":"SUM(BR16:BR20)","v":7},6,"Disociácia ID suma",{"$f":"BR51","v":17},"Disociácia",5,10,13,16,20,"ID",null,{"$f":"BR46","v":3},{"$f":"BR47","v":3},{"$f":"BR48","v":4},{"$f":"BR49","v":4},{"$f":"BR50","v":3},null,1,4]
["Q_2","OPO p",{"$f":"CONCATENATE($BK$3, \" opomenutí P\")","v":"Učiť sa opomenutí P"},{"$f":"IF(D16>0,IF(D15<>\"\",IF(D15 = 0,IF(D16 > 0,1,\"\"),\"\"),\"\"),\"\")","v":""},{"$f":"IF(E16>0,IF(E15<>\"\",IF(E15 = 0,IF(E16 > 0,1,\"\"),\"\"),\"\"),\"\")","v":1},"","","",1,"","","",1,"",1,"","","",1,1,"","","","","","",1,"","","","","","","","","","","","","","","","",7,{"$f":"CONCATENATE($BK$3, \" N obrátené\")","v":"Učiť sa N obrátené"},{"$f":"IF(AT11<>\"\",AT11*(-1),\"\")","v":-0.64},{"$f":"IF(AU11<>\"\",AU11*(-1),\" \")","v":-3.2857142857142856},-0.14285714285714285,-0.52,-0.48,null,6,7,null,null,null,null,null,null,null,null,null,null,null,null,null,null,null,"Kohézia IK",{"$f":"IF(BO5 =\"znížený\",1,IF(BO5 =\"dolný priemer\",2,IF(BO5 =\"horný priemer\",3,IF(BO5 =\"nadpriemer\",4,\"\"))))","v":1},7,"Izolácia IZ suma",{"$f":"BR57","v":19},"Izolácia",5,10,13,16,20,"IZ",null,{"$f":"BR52","v":4},{"$f":"BR53","v":4},{"$f":"BR54","v":3},{"$f":"BR55","v":4},{"$f":"BR56","v":4},null,1,4]
["Q_2","IZO n",{"$f":"CONCATENATE($BK$3, \" izolovaní N\")","v":"Učiť sa izolovaní N"},{"$f":"IF(D19>0,IF(D18<>\"\",IF(D18 = 0,IF(D19 = 0,1,\"\"),\"\"),\"\"),\"\")","v":""},{"$f":"IF(E19>0,IF(E18<>\"\",IF(E18 = 0,IF(E19 = 0,1,\"\"),\"\"),\"\"),\"\")","v":""},"","","","","","","","","","","","","","","","","","","","","","","","","","","","","","","","","","","","","","",0,{"$f":"CONCATENATE($BL$3, \" N obrátené\")","v":"Pustý ostrov N obrátené"},{"$f":"IF(AT12<>\"\",AT12*(-1),\"\")","v":-0.87671232876712324},{"$f":"IF(AU12<>\"\",AU12*(-1),\" \")","v":-3.0952380952380953},{"$f":"IF(AV12<>\"\",AV12*(-1),\" \")","v":-0.19047619047619047},-0.8,-0.2,null,6,7,null,null,null,null,null,null,null,null,null,null,null,null,null,null,null,null,{"$f":"IF(BO6 =\"znížený\",1,IF(BO6 =\"dolný priemer\",2,IF(BO6 =\"horný priemer\",3,IF(BO6 =\"nadpriemer\",4,\"\"))))","v":2},8,"Odmietaní REJ % suma",{"$f":"BR63","v":7},"Odmietaní",5,10,13,16,20,"REJ %",null,{"$f":"BR58","v":1},{"$f":"BR59","v":2},{"$f":"BR60","v":1},{"$f":"BR61","v":1},{"$f":"BR62","v":2},null,1,4]
["Q_2","OPO n",{"$f":"CONCATENATE($BK$3, \" opomenutí N\")","v":"Učiť sa opomenutí N"},{"$f":"IF(D19>0,IF(D18<>\"\",IF(D18 = 0,IF(D19 > 0,1,\"\"),\"\"),\"\"),\"\")","v":""},{"$f":"IF(E19>0,IF(E18<>\"\",IF(E18 = 0,IF(E19 > 0,1,\"\"),\"\"),\"\"),\"\")","v":""},1,"","","",1,"",1,"",1,"",1,1,"","","",1,1,"",1,1,"","",1,1,"","","","","","","","","","","","","","",12,{"$f":"CONCATENATE($BM$3, \" N obrátené\")","v":"Hájiť záujmy N obrátené"},-0.75675675675675669,{"$f":"IF(AU13<>\"\",AU13*(-1),\" \")","v":-3.1904761904761907},-0.16666666666666666,-0.52,-0.48,null,6,7,null,null,null,null,null,null,null,null,null,null,null,null,null,null,null,null,{"$f":"IF(BO7 =\"znížený\",1,IF(BO7 =\"dolný priemer\",2,IF(BO7 =\"horný priemer\",3,IF(BO7 =\"nadpriemer\",4,\"\"))))","v":1},9,"Kontroverzní CON % suma",{"$f":"BR69","v":15},"Kontroverzní",5,10,13,16,20,"CON %",null,{"$f":"BR64","v":2},{"$f":"BR65","v":3},{"$f":"BR66","v":3},{"$f":"BR67","v":3},{"$f":"BR68","v":4},null,1,4]
["Q_3_P","Sel_p_r",{"$f":"CONCATENATE($BL$3, \" P\")","v":"Pustý ostrov P"},1,0,2,0,4,2,4,4,5,3,4,4,0,1,1,4,1,5,2,3,4,3,9,1,3,1,6,4,null,null,null,null,null,null,null,null,null,null,null,null,{"$f":"SUM(D25:AQ25)","v":81},{"$f":"CONCATENATE($BN$3, \" N obrátené\")","v":"Tajomstvo N obrátené"},{"$f":"IF(AT14<>0,IF(AT14<>\"\",AT14*(-1),\"\"),\"\")","v":-0.75675675675675669},{"$f":"IF(AU14<>\"\",AU14*(-1),\"\")","v":-3.1904761904761907},{"$f":"IF(AV14<>\"\",AV14*(-1),\"\")","v":-0.16666666666666666},{"$f":"IF(AW14<>\"\",AW14*(-1),\"\")","v":-0.72},{"$f":"IF(AX14<>\"\",AX14*(-1),\"\")","v":-0.28000000000000003},null,6,7,null,null,null,null,null,null,null,null,null,null,null,null,null,null,null,null,{"$f":"IF(BO8 =\"znížený\",1,IF(BO8 =\"dolný priemer\",2,IF(BO8 =\"horný priemer\",3,IF(BO8 =\"nadpriemer\",4,\"\"))))","v":3},10,"Opomíjaní OPO % suma",{"$f":"BR75","v":19},"Opomenutí",5,10,13,16,20,"OPO %",null,{"$f":"BR70","v":4},{"$f":"BR71","v":4},{"$f":"BR72","v":3},{"$f":"BR73","v":4},{"$f":"BR74","v":4},null,1,4]
["Q_3_P","Sel_p_g",{"$f":"CONCATENATE($BL$3, \" P\")","v":"Pustý ostrov P"},3,3,3,3,3,3,3,3,3,3,3,3,3,3,3,3,3,3,3,3,3,3,3,3,3,3,3,0,null,null,null,null,null,null,null,null,null,null,null,null,{"$f":"SUM(D26:AQ26)","v":81},null,null,null,null,null,null,null,null,null,null,null,null,null,null,null,null,null,null,null,null,null,null,null,null,null,{"$f":"IF(BO9 =\"znížený\",1,IF(BO9 =\"dolný priemer\",2,IF(BO9 =\"horný priemer\",3,IF(BO9 =\"nadpriemer\",4,\"\"))))","v":3},11,"Index Lásky",{"$f":"(BR21+BR27+BR33+BR39)/4","v":8.25},"Index Lásky",5,10,13,16,20,"Love",null,{"$f":"(CD16+CD17+CD18+CD19)/4","v":1},{"$f":"(CE16+CE17+CE18+CE19)/4","v":1.75},{"$f":"(CF16+CF17+CF18+CF19)/4","v":1.25},{"$f":"(CG16+CG17+CG18+CG19)/4","v":2.5},{"$f":"(CH16+CH17+CH18+CH19)/4","v":1.75},null,1,4]
["Q_3_P","Rec_p",{"$f":"CONCATENATE($BL$3, \" mutual P\")","v":"Pustý ostrov mutual P"},1,0,2,0,1,1,2,1,1,3,2,0,0,0,0,1,0,3,1,0,1,0,2,1,1,0,2,0,null,null,null,null,null,null,null,null,null,null,null,null,{"$f":"SUM(D27:AQ27)","v":26},null,null,null,null,null,null,null,null,null,null,null,null,null,null,null,null,null,null,null,null,null,null,null,2,"Kohézia IK suma",{"$f":"SUM(BR22:BR26)","v":10},12,"Index Nenávisti",{"$f":"(BR45+BR51+BR57+BR63+BR69+BR75)/6","v":16},"Index Nenávisti",5,10,13,16,20,"Hate",null,{"$f":"(CD20+CD21+CD22+CD23+CD24+CD25)/6","v":3},{"$f":"(CE20+CE21+CE22+CE23+CE24+CE25)/6","v":3.3333333333333335},{"$f":"(CF20+CF21+CF22+CF23+CF24+CF25)/6","v":3},{"$f":"(CG20+CG21+CG22+CG23+CG24+CG25)/6","v":3.1666666666666665},{"$f":"(CH20+CH21+CH22+CH23+CH24+CH25)/6","v":3.5},null,1,4]
["Q_3_N","Sel_n_r",{"$f":"CONCATENATE($BL$3, \" N\")","v":"Pustý ostrov N"},1,12,0,6,2,15,2,1,0,16,1,1,0,0,2,2,2,2,1,2,1,1,1,2,2,0,6,0,null,null,null,null,null,null,null,null,null,null,null,null,{"$f":"SUM(D28:AQ28)","v":81},null,null,null,null,null,null,null,null,null,null,null,null,null,null,null,null,null,null,null,null,null,null,null,null,"Integrácia IG",{"$f":"IF(BQ5 =\"znížený\",1,IF(BQ5 =\"dolný priemer\",2,IF(BQ5 =\"horný priemer\",3,IF(BQ5 =\"nadpriemer\",4,\"\"))))","v":1},null,null,"Platí pre 5 otázok"]
["Q_3_N","Sel_n_g",{"$f":"CONCATENATE($BL$3, \" N\")","v":"Pustý ostrov N"},3,3,3,3,3,3,3,3,3,3,3,3,3,3,3,3,3,3,3,3,3,3,3,3,3,3,3,0,null,null,null,null,null,null,null,null,null,null,null,null,{"$f":"SUM(D29:AQ29)","v":81},null,null,null,null,null,null,null,null,null,null,null,null,null,null,null,null,null,null,null,null,null,null,null,null,null,{"$f":"IF(BQ6 =\"znížený\",1,IF(BQ6 =\"dolný priemer\",2,IF(BQ6 =\"horný priemer\",3,IF(BQ6 =\"nadpriemer\",4,\"\"))))","v":1}]
["Q_3_N","Rec_n",{"$f":"CONCATENATE($BL$3, \" mutual N\")","v":"Pustý ostrov mutual N"},1,1,0,0,0,3,0,0,0,3,1,0,0,0,1,1,2,1,0,0,0,0,0,0,1,0,1,0,null,null,null,null,null,null,null,null,null,null,null,null,16,null,null,null,null,null,null,null,null,null,null,null,null,null,null,null,null,null,null,null,null,null,null,null,null,null,{"$f":"IF(BQ7 =\"znížený\",1,IF(BQ7 =\"dolný priemer\",2,IF(BQ7 =\"horný priemer\",3,IF(BQ7 =\"nadpriemer\",4,\"\"))))","v":2}]
["Q_3","IZO p",{"$f":"CONCATENATE($BL$3, \" izolovaní P\")","v":"Pustý ostrov izolovaní P"},{"$f":"IF(D25<>\"\",IF(D26>0,IF(D25 = 0,IF(D26 = 0,1,\"\"),\"\"),\"\"),\"\")","v":""},{"$f":"IF(E25<>\"\",IF(E26>0,IF(E25 = 0,IF(E26 = 0,1,\"\"),\"\"),\"\"),\"\")","v":""},"","","","","","","","","","","","","","","","","","","","","","","","","","","","","","","","","","","","","","",0,null,null,null,null,null,null,null,null,null,null,null,null,null,null,null,null,null,null,null,null,null,null,null,null,null,{"$f":"IF(BQ8 =\"znížený\",1,IF(BQ8 =\"dolný priemer\",2,IF(BQ8 =\"horný priemer\",3,IF(BQ8 =\"nadpriemer\",4,\"\"))))","v":1}]
["Q_3","OPO p",{"$f":"CONCATENATE($BL$3, \" opomenutí P\")","v":"Pustý ostrov opomenutí P"},{"$f":"IF(D26>0,IF(D25<>\"\",IF(D25 = 0,IF(D26 > 0,1,\"\"),\"\"),\"\"),\"\")","v":""},{"$f":"IF(E26>0,IF(E25<>\"\",IF(E25 = 0,IF(E26 > 0,1,\"\"),\"\"),\"\"),\"\")","v":1},"",1,"","","","","","","","",1,"","","","","","","","","","","","","","","","","","","","","","","","","","","",3,null,null,null,null,null,null,null,null,null,null,null,null,null,null,null,null,null,null,null,null,null,null,null,null,null,{"$f":"IF(BQ9 =\"znížený\",1,IF(BQ9 =\"dolný priemer\",2,IF(BQ9 =\"horný priemer\",3,IF(BQ9 =\"nadpriemer\",4,\"\"))))","v":1}]
["Q_3","IZO n",{"$f":"CONCATENATE($BL$3, \" izolovaní N\")","v":"Pustý ostrov izolovaní N"},{"$f":"IF(D29>0,IF(D28<>\"\",IF(D28 = 0,IF(D29 = 0,1,\"\"),\"\"),\"\"),\"\")","v":""},{"$f":"IF(E29>0,IF(E28<>\"\",IF(E28 = 0,IF(E29 = 0,1,\"\"),\"\"),\"\"),\"\")","v":""},"","","","","","","","","","","","","","","","","","","","","","","","","","","","","","","","","","","","","","",0,null,null,null,null,null,null,null,null,null,null,null,null,null,null,null,null,null,null,null,null,null,null,null,3,"Integrácia IG suma",{"$f":"SUM(BR28:BR32)","v":6}]
["Q_3","OPO n",{"$f":"CONCATENATE($BL$3, \" opomenutí N\")","v":"Pustý ostrov opomenutí N"},{"$f":"IF(D29>0,IF(D28<>\"\",IF(D28 = 0,IF(D29 > 0,1,\"\"),\"\"),\"\"),\"\")","v":""},{"$f":"IF(E29>0,IF(E28<>\"\",IF(E28 = 0,IF(E29 > 0,1,\"\"),\"\"),\"\"),\"\")","v":""},1,"","","","","",1,"","","",1,1,"","","","","","","","","","","",1,"","","","","","","","","","","","","","",5,null,null,null,null,null,null,null,null,null,null,null,null,null,null,null,null,null,null,null,null,null,null,null,null,"Populárni POP %",{"$f":"IF(BS5 =\"znížený\",1,IF(BS5 =\"dolný priemer\",2,IF(BS5 =\"horný priemer\",3,IF(BS5 =\"nadpriemer\",4,\"\"))))","v":1}]
["Q_4_P","Sel_p_r",{"$f":"CONCATENATE($BM$3, \" P\")","v":"Hájiť záujmy P"},0,0,0,0,2,0,2,1,10,0,0,0,0,0,8,0,0,2,0,3,0,0,25,0,12,8,0,8,null,null,null,null,null,null,null,null,null,null,null,null,{"$f":"SUM(D35:AQ35)","v":81},null,null,null,null,null,null,null,null,null,null,null,null,null,null,null,null,null,null,null,null,null,null,null,null,null,{"$f":"IF(BS6 =\"znížený\",1,IF(BS6 =\"dolný priemer\",2,IF(BS6 =\"horný priemer\",3,IF(BS6 =\"nadpriemer\",4,\"\"))))","v":3}]
["Q_4_P","Sel_p_g",{"$f":"CONCATENATE($BM$3, \" P\")","v":"Hájiť záujmy P"},3,3,3,3,3,3,3,3,3,3,3,3,3,3,3,3,3,3,3,3,3,3,3,3,3,3,3,0,null,null,null,null,null,null,null,null,null,null,null,null,{"$f":"SUM(D36:AQ36)","v":81},null,null,null,null,null,null,null,null,null,null,null,null,null,null,null,null,null,null,null,null,null,null,null,null,null,{"$f":"IF(BS7 =\"znížený\",1,IF(BS7 =\"dolný priemer\",2,IF(BS7 =\"horný priemer\",3,IF(BS7 =\"nadpriemer\",4,\"\"))))","v":1}]
["Q_4_P","Rec_p",{"$f":"CONCATENATE($BM$3, \" mutual P\")","v":"Hájiť záujmy mutual P"},0,0,0,0,1,0,0,0,0,0,0,0,0,0,1,0,0,2,0,2,0,0,3,0,2,1,0,0,null,null,null,null,null,null,null,null,null,null,null,null,{"$f":"SUM(D37:AQ37)","v":12},null,null,null,null,null,null,null,null,null,null,null,null,null,null,null,null,null,null,null,null,null,null,null,null,null,{"$f":"IF(BS8 =\"znížený\",1,IF(BS8 =\"dolný priemer\",2,IF(BS8 =\"horný priemer\",3,IF(BS8 =\"nadpriemer\",4,\"\"))))","v":4}]
["Q_4_N","Sel_n_r",{"$f":"CONCATENATE($BM$3, \" N\")","v":"Hájiť záujmy N"},0,20,0,5,1,18,0,3,0,20,1,2,1,0,0,1,1,1,0,0,0,0,0,4,1,0,2,0,null,null,null,null,null,null,null,null,null,null,null,null,{"$f":"SUM(D38:AQ38)","v":81},null,null,null,null,null,null,null,null,null,null,null,null,null,null,null,null,null,null,null,null,null,null,null,null,null,{"$f":"IF(BS9 =\"znížený\",1,IF(BS9 =\"dolný priemer\",2,IF(BS9 =\"horný priemer\",3,IF(BS9 =\"nadpriemer\",4,\"\"))))","v":1}]
["Q_4_N","Sel_n_g",{"$f":"CONCATENATE($BM$3, \" N\")","v":"Hájiť záujmy N"},3,3,3,3,3,3,3,3,3,3,3,3,3,3,3,3,3,3,3,3,3,3,3,3,3,3,3,0,null,null,null,null,null,null,null,null,null,null,null,null,{"$f":"SUM(D39:AQ39)","v":81},null,null,null,null,null,null,null,null,null,null,null,null,null,null,null,null,null,null,null,null,null,null,null,4,"Populárni POP % suma",{"$f":"SUM(BR34:BR38)","v":10}]
["Q_4_N","Rec_n",{"$f":"CONCATENATE($BM$3, \" mutual N\")","v":"Hájiť záujmy mutual N"},0,3,0,2,1,2,0,0,0,3,0,0,0,0,0,0,0,1,0,0,0,0,0,1,1,0,0,0,null,null,null,null,null,null,null,null,null,null,null,null,14,null,null,null,null,null,null,null,null,null,null,null,null,null,null,null,null,null,null,null,null,null,null,null,null,"Nespokojnosť IN",{"$f":"IF(BN5 =\"znížený\",1,IF(BN5 =\"dolný priemer\",2,IF(BN5 =\"horný priemer\",3,IF(BN5 =\"nadpriemer\",4,\"\"))))","v":4}]
["Q_4","IZO p",{"$f":"CONCATENATE($BM$3, \" izolovaní P\")","v":"Hájiť záujmy izolovaní P"},{"$f":"IF(D35<>\"\",IF(D36>0,IF(D35 = 0,IF(D36 = 0,1,\"\"),\"\"),\"\"),\"\")","v":""},{"$f":"IF(E35<>\"\",IF(E36>0,IF(E35 = 0,IF(E36 = 0,1,\"\"),\"\"),\"\"),\"\")","v":""},"","","","","","","","","","","","","","","","","","","","","","","","","","","","","","","","","","","","","","",0,null,null,null,null,null,null,null,null,null,null,null,null,null,null,null,null,null,null,null,null,null,null,null,null,null,{"$f":"IF(BN6 =\"znížený\",1,IF(BN6 =\"dolný priemer\",2,IF(BN6 =\"horný priemer\",3,IF(BN6 =\"nadpriemer\",4,\"\"))))","v":4}]
["Q_4","OPO p",{"$f":"CONCATENATE($BM$3, \" opomenutí P\")","v":"Hájiť záujmy opomenutí P"},{"$f":"IF(D36>0,IF(D35<>\"\",IF(D35 = 0,IF(D36 > 0,1,\"\"),\"\"),\"\"),\"\")","v":1},{"$f":"IF(E36>0,IF(E35<>\"\",IF(E35 = 0,IF(E36 > 0,1,\"\"),\"\"),\"\"),\"\")","v":1},1,1,"",1,"","","",1,1,1,1,1,"",1,1,"",1,"",1,1,"",1,"","",1,"","","","","","","","","","","","","",17,null,null,null,null,null,null,null,null,null,null,null,null,null,null,null,null,null,null,null,null,null,null,null,null,null,{"$f":"IF(BN7 =\"znížený\",1,IF(BN7 =\"dolný priemer\",2,IF(BN7 =\"horný priemer\",3,IF(BN7 =\"nadpriemer\",4,\"\"))))","v":4}]
["Q_4","IZO n",{"$f":"CONCATENATE($BM$3, \" izolovaní N\")","v":"Hájiť záujmy izolovaní N"},{"$f":"IF(D39>0,IF(D38<>\"\",IF(D38 = 0,IF(D39 = 0,1,\"\"),\"\"),\"\"),\"\")","v":""},{"$f":"IF(E39>0,IF(E38<>\"\",IF(E38 = 0,IF(E39 = 0,1,\"\"),\"\"),\"\"),\"\")","v":""},"","","","","","","","","","","","","","","","","","","","","","","","","","","","","","","","","","","","","","",0,null,null,null,null,null,null,null,null,null,null,null,null,null,null,null,null,null,null,null,null,null,null,null,null,null,{"$f":"IF(BN8 =\"znížený\",1,IF(BN8 =\"dolný priemer\",2,IF(BN8 =\"horný priemer\",3,IF(BN8 =\"nadpriemer\",4,\"\"))))","v":3}]
["Q_4","OPO n",{"$f":"CONCATENATE($BM$3, \" opomenutí N\")","v":"Hájiť záujmy opomenutí N"},{"$f":"IF(D39>0,IF(D38<>\"\",IF(D38 = 0,IF(D39 > 0,1,\"\"),\"\"),\"\"),\"\")","v":1},{"$f":"IF(E39>0,IF(E38<>\"\",IF(E38 = 0,IF(E39 > 0,1,\"\"),\"\"),\"\"),\"\")","v":""},1,"","","",1,"",1,"","","","",1,1,"","","",1,1,1,1,1,"","",1,"","","","","","","","","","","","","","",12,null,null,null,null,null,null,null,null,null,null,null,null,null,null,null,null,null,null,null,null,null,null,null,null,null,{"$f":"IF(BN9 =\"znížený\",1,IF(BN9 =\"dolný priemer\",2,IF(BN9 =\"horný priemer\",3,IF(BN9 =\"nadpriemer\",4,\"\"))))","v":4}]
["Q_5_P","Sel_p_r",{"$f":"CONCATENATE($BN$3, \" P\")","v":"Tajomstvo P"},2,0,1,1,2,1,5,3,3,1,4,2,2,3,0,0,0,5,4,2,3,3,11,2,6,2,6,5,null,null,null,null,null,null,null,null,null,null,null,null,79,null,null,null,null,null,null,null,null,null,null,null,null,null,null,null,null,null,null,null,null,null,null,null,5,"Nespokojnosť IN suma",{"$f":"SUM(BR40:BR44)","v":19}]
["Q_5_P","Sel_p_g",{"$f":"CONCATENATE($BN$3, \" P\")","v":"Tajomstvo P"},3,3,3,3,3,1,3,3,3,3,3,3,3,3,3,3,3,3,3,3,3,3,3,3,3,3,3,0,null,null,null,null,null,null,null,null,null,null,null,null,79,null,null,null,null,null,null,null,null,null,null,null,null,null,null,null,null,null,null,null,null,null,null,null,null,"Disociácia ID",{"$f":"IF(BP5 =\"znížený\",1,IF(BP5 =\"dolný priemer\",2,IF(BP5 =\"horný priemer\",3,IF(BP5 =\"nadpriemer\",4,\"\"))))","v":3}]
["Q_5_P","Rec_p",{"$f":"CONCATENATE($BN$3, \" mutual P\")","v":"Tajomstvo mutual P"},1,0,1,0,2,0,1,0,1,1,1,2,2,2,0,0,0,3,2,1,1,0,3,2,2,1,3,0,null,null,null,null,null,null,null,null,null,null,null,null,32,null,null,null,null,null,null,null,null,null,null,null,null,null,null,null,null,null,null,null,null,null,null,null,null,null,{"$f":"IF(BP6 =\"znížený\",1,IF(BP6 =\"dolný priemer\",2,IF(BP6 =\"horný priemer\",3,IF(BP6 =\"nadpriemer\",4,\"\"))))","v":3}]
["Q_5_N","Sel_n_r",{"$f":"CONCATENATE($BN$3, \" N\")","v":"Tajomstvo N"},1,8,2,7,7,13,2,0,0,15,0,2,0,0,1,2,1,0,2,2,1,3,3,2,3,0,4,0,null,null,null,null,null,null,null,null,null,null,null,null,81,null,null,null,null,null,null,null,null,null,null,null,null,null,null,null,null,null,null,null,null,null,null,null,null,null,{"$f":"IF(BP7 =\"znížený\",1,IF(BP7 =\"dolný priemer\",2,IF(BP7 =\"horný priemer\",3,IF(BP7 =\"nadpriemer\",4,\"\"))))","v":4}]
["Q_5_N","Sel_n_g",{"$f":"CONCATENATE($BN$3, \" N\")","v":"Tajomstvo N"},3,3,3,3,3,3,3,3,3,3,3,3,3,3,3,3,3,3,3,3,3,3,3,3,3,3,3,0,null,null,null,null,null,null,null,null,null,null,null,null,81,null,null,null,null,null,null,null,null,null,null,null,null,null,null,null,null,null,null,null,null,null,null,null,null,null,{"$f":"IF(BP8 =\"znížený\",1,IF(BP8 =\"dolný priemer\",2,IF(BP8 =\"horný priemer\",3,IF(BP8 =\"nadpriemer\",4,\"\"))))","v":4}]
["Q_5_N","Rec_n",{"$f":"CONCATENATE($BN$3, \" mutual N\")","v":"Tajomstvo mutual N"},0,0,1,1,0,2,1,0,0,3,0,0,0,0,0,0,0,0,0,1,0,0,2,0,2,0,1,0,null,null,null,null,null,null,null,null,null,null,null,null,14,null,null,null,null,null,null,null,null,null,null,null,null,null,null,null,null,null,null,null,null,null,null,null,null,null,{"$f":"IF(BP9 =\"znížený\",1,IF(BP9 =\"dolný priemer\",2,IF(BP9 =\"horný priemer\",3,IF(BP9 =\"nadpriemer\",4,\"\"))))","v":3}]
["Q_5","IZO p",{"$f":"CONCATENATE($BN$3, \" izolovaní P\")","v":"Tajomstvo izolovaní P"},{"$f":"IF(D45<>\"\",IF(D46>0,IF(D45 = 0,IF(D46 = 0,1,\"\"),\"\"),\"\"),\"\")","v":""},{"$f":"IF(E45<>\"\",IF(E46>0,IF(E45 = 0,IF(E46 = 0,1,\"\"),\"\"),\"\"),\"\")","v":""},"","","","","","","","","","","","","","","","","","","","","","","","","","","","","","","","","","","","","","",0,null,null,null,null,null,null,null,null,null,null,null,null,null,null,null,null,null,null,null,null,null,null,null,6,"Disociácia ID suma",{"$f":"SUM(BR46:BR50)","v":17}]
["Q_5","OPO p",{"$f":"CONCATENATE($BN$3, \" opomenutí P\")","v":"Tajomstvo opomenutí P"},{"$f":"IF(D46>0,IF(D45<>\"\",IF(D45 = 0,IF(D46 > 0,1,\"\"),\"\"),\"\"),\"\")","v":""},{"$f":"IF(E46>0,IF(E45<>\"\",IF(E45 = 0,IF(E46 > 0,1,\"\"),\"\"),\"\"),\"\")","v":1},"","","","","","","","","","","","",1,1,1,"","","","","","","","","","","","","","","","","","","","","","","",4,null,null,null,null,null,null,null,null,null,null,null,null,null,null,null,null,null,null,null,null,null,null,null,null,"Izolácia IZ",{"$f":"IF(BR5 =\"znížený\",1,IF(BR5 =\"dolný priemer\",2,IF(BR5 =\"horný priemer\",3,IF(BR5 =\"nadpriemer\",4,\"\"))))","v":4}]
["Q_5","IZO n",{"$f":"CONCATENATE($BN$3, \" izolovaní N\")","v":"Tajomstvo izolovaní N"},{"$f":"IF(D49>0,IF(D48<>\"\",IF(D48 = 0,IF(D49 = 0,1,\"\"),\"\"),\"\"),\"\")","v":""},{"$f":"IF(E49>0,IF(E48<>\"\",IF(E48 = 0,IF(E49 = 0,1,\"\"),\"\"),\"\"),\"\")","v":""},"","","","","","","","","","","","","","","","","","","","","","","","","","","","","","","","","","","","","","",0,null,null,null,null,null,null,null,null,null,null,null,null,null,null,null,null,null,null,null,null,null,null,null,null,null,{"$f":"IF(BR6 =\"znížený\",1,IF(BR6 =\"dolný priemer\",2,IF(BR6 =\"horný priemer\",3,IF(BR6 =\"nadpriemer\",4,\"\"))))","v":4}]
["Q_5","OPO n",{"$f":"CONCATENATE($BM$3, \" opomenutí N\")","v":"Hájiť záujmy opomenutí N"},{"$f":"IF(D49>0,IF(D48<>\"\",IF(D48 = 0,IF(D49 > 0,1,\"\"),\"\"),\"\"),\"\")","v":""},{"$f":"IF(E49>0,IF(E48<>\"\",IF(E48 = 0,IF(E49 > 0,1,\"\"),\"\"),\"\"),\"\")","v":""},"","","","","",1,1,"",1,"",1,1,"","","",1,"","","","","","","",1,"","","","","","","","","","","","","","",7,null,null,null,null,null,null,null,null,null,null,null,null,null,null,null,null,null,null,null,null,null,null,null,null,null,{"$f":"IF(BR7 =\"znížený\",1,IF(BR7 =\"dolný priemer\",2,IF(BR7 =\"horný priemer\",3,IF(BR7 =\"nadpriemer\",4,\"\"))))","v":3}]
[null,null,null,null,null,null,null,null,null,null,null,null,null,null,null,null,null,null,null,null,null,null,null,null,null,null,null,null,null,null,null,null,null,null,null,null,null,null,null,null,null,null,null,null,null,null,null,null,null,null,null,null,null,null,null,null,null,null,null,null,null,null,null,null,null,null,null,null,null,{"$f":"IF(BR8 =\"znížený\",1,IF(BR8 =\"dolný priemer\",2,IF(BR8 =\"horný priemer\",3,IF(BR8 =\"nadpriemer\",4,\"\"))))","v":4}]
[null,null,"Suma P 1 až 5",{"$f":"IF(D4<>\"\",D5+D15+D25+D35+D45,\"\")","v":6},{"$f":"IF(E4<>\"\",E5+E15+E25+E35+E45,\"\")","v":0},7,3,13,3,21,16,31,6,12,9,4,8,11,6,1,21,9,11,10,12,69,6,33,19,25,31,"","","","","","","","","","","","",403,null,null,null,null,null,null,null,null,null,null,null,null,null,null,null,null,null,null,null,null,null,null,null,null,null,{"$f":"IF(BR9 =\"znížený\",1,IF(BR9 =\"dolný priemer\",2,IF(BR9 =\"horný priemer\",3,IF(BR9 =\"nadpriemer\",4,\"\"))))","v":4}]
[null,null,"Suma N 1 až 5",{"$f":"IF(D4<>\"\",D8+D18+D28+D38+D48,\"\")","v":3},{"$f":"IF(E4<>\"\",E8+E18+E28+E38+E48,\"\")","v":65},2,34,15,85,4,6,0,89,2,12,1,0,5,8,9,4,3,6,4,6,8,11,7,0,15,0,"","","","","","","","","","","","",404,null,null,null,null,null,null,null,null,null,null,null,null,null,null,null,null,null,null,null,null,null,null,null,7,"Izolácia IZ suma",{"$f":"SUM(BR52:BR56)","v":19}]
[null,null,"Suma N 1 až 5 obrátená",{"$f":"IF(D4<>\"\",D57*(-1),\"\")","v":-3},-65,-2,-34,-15,-85,-4,-6,0,-89,-2,-12,-1,0,-5,-8,-9,-4,-3,-6,-4,-6,-8,-11,{"$f":"IF(AB4<>\"\",AB57*(-1),\"\")","v":-7},0,-15,0,"","","","","","","","","","","","",null,null,null,null,null,null,null,null,null,null,null,null,null,null,null,null,null,null,null,null,null,null,null,null,null,"Odmietaní REJ %",{"$f":"IF(BT5 =\"znížený\",1,IF(BT5 =\"dolný priemer\",2,IF(BT5 =\"horný priemer\",3,IF(BT5 =\"nadpriemer\",4,\"\"))))","v":1}]
[null,null,"Suma P1 až P5 mutual",{"$f":"IF(D4<>\"\",D7+D17+D27+D37+D47,\"\")","v":5},{"$f":"IF(E4<>\"\",E7+E17+E27+E37+E47,\"\")","v":0},5,1,7,1,7,1,5,5,3,2,4,3,2,2,0,14,4,5,3,2,13,5,10,5,8,0,"","","","","","","","","","","","",122,null,null,null,null,null,null,null,null,null,null,null,null,null,null,null,null,null,null,null,null,null,null,null,null,null,{"$f":"IF(BT6 =\"znížený\",1,IF(BT6 =\"dolný priemer\",2,IF(BT6 =\"horný priemer\",3,IF(BT6 =\"nadpriemer\",4,\"\"))))","v":2}]
[null,null,"Suma N1 až N5 Mutual",{"$f":"IF(D4<>\"\",D10+D20+D30+D40+D50,\"\")","v":2},{"$f":"IF(E4<>\"\",E10+E20+E30+E40+E50,\"\")","v":7},1,6,2,12,1,0,0,14,1,2,0,0,1,2,4,3,0,2,0,1,2,1,4,0,2,0,"","","","","","","","","","","","",70,null,null,null,null,null,null,null,null,null,null,null,null,null,null,null,null,null,null,null,null,null,null,null,null,null,{"$f":"IF(BT7 =\"znížený\",1,IF(BT7 =\"dolný priemer\",2,IF(BT7 =\"horný priemer\",3,IF(BT7 =\"nadpriemer\",4,\"\"))))","v":1}]
[null,null,"Suma N1 až N5 Mutual obrátená",{"$f":"IF(D4<>\"\",IF(D60<>\"\",D60*(-1),\"\"),\"\")","v":-2},-7,-1,-6,-2,-12,-1,0,0,-14,-1,-2,0,0,-1,-2,-4,-3,0,-2,0,-1,-2,-1,-4,0,-2,0,"","",{"$f":"IF(AH4<>\"\",IF(AH60<>\"\",AH60*(-1),\"\"),\"\")","v":""},{"$f":"IF(AI4<>\"\",IF(AI60<>\"\",AI60*(-1),\"\"),\"\")","v":""},"","","","","","","","",null,null,null,null,null,null,null,null,null,null,null,null,null,null,null,null,null,null,null,null,null,null,null,null,null,null,{"$f":"IF(BT8 =\"znížený\",1,IF(BT8 =\"dolný priemer\",2,IF(BT8 =\"horný priemer\",3,IF(BT8 =\"nadpriemer\",4,\"\"))))","v":1}]
[null,null,null,null,null,null,null,null,null,null,null,null,null,null,null,null,null,null,null,null,null,null,null,null,null,null,null,null,null,null,null,null,null,null,null,null,null,null,null,null,null,null,null,null,null,null,null,null,null,null,null,null,null,null,null,null,null,null,null,null,null,null,null,null,null,null,null,null,null,{"$f":"IF(BT9 =\"znížený\",1,IF(BT9 =\"dolný priemer\",2,IF(BT9 =\"horný priemer\",3,IF(BT9 =\"nadpriemer\",4,\"\"))))","v":2}]
[null,null,null,1,2,3,4,5,6,7,8,9,10,11,12,13,14,15,16,17,18,19,20,21,22,23,24,25,26,27,28,29,30,31,32,33,34,35,36,37,38,39,40,null,null,null,null,null,null,null,null,null,null,null,null,null,null,null,null,null,null,null,null,null,null,null,null,8,"Odmietaní REJ % suma",{"$f":"SUM(BR58:BR62)","v":7}]
[null,null,"Pre grafy",null,null,null,null,null,null,null,null,null,null,null,null,null,null,null,null,null,null,null,null,null,null,null,null,null,null,null,null,null,null,null,null,null,null,null,null,null,null,null,null,null,null,null,null,null,null,null,null,null,null,null,null,null,null,null,null,null,null,null,null,null,null,null,null,null,"Kontroverzní CON %",{"$f":"IF(BU5 =\"znížený\",1,IF(BU5 =\"dolný priemer\",2,IF(BU5 =\"horný priemer\",3,IF(BU5 =\"nadpriemer\",4,\"\"))))","v":2}]
[null,"Q_1",{"$f":"CONCATENATE($BJ$3, \" Suma N obrátená\")","v":"Sedieť Suma N obrátená"},{"$f":"IF(D8<>\"\",D8*(-1),\"\")","v":0},{"$f":"IF(E8<>\"\",E8*(-1),\"\")","v":-12},0,-6,-2,-19,0,-1,0,-20,0,-3,0,0,-1,-2,-2,-1,0,-1,-2,-2,-2,-2,{"$f":"IF(AB8<>\"\",AB8*(-1),\"\")","v":-1},0,-1,0,"","","","","","","","","","","","",null,null,null,null,null,null,null,null,null,null,null,null,null,null,null,null,null,null,null,null,null,null,null,null,null,null,{"$f":"IF(BU6 =\"znížený\",1,IF(BU6 =\"dolný priemer\",2,IF(BU6 =\"horný priemer\",3,IF(BU6 =\"nadpriemer\",4,\"\"))))","v":3}]
[null,"Q_2",{"$f":"CONCATENATE($BK$3, \" Suma N obrátená\")","v":"Učiť sa Suma N obrátená"},{"$f":"IF(D18<>\"\",D18*(-1),\"\")","v":-1},{"$f":"IF(E18<>\"\",E18*(-1),\"\")","v":-13},0,-10,-3,-20,0,-1,0,-18,0,-4,0,0,-1,-1,-3,0,0,-1,0,0,-2,-1,{"$f":"IF(AB18<>\"\",AB18*(-1),\"\")","v":0},0,-2,0,"","","","","","","","","","","","",null,null,null,null,null,null,null,null,null,null,null,null,null,null,null,null,null,null,null,null,null,null,null,null,null,null,{"$f":"IF(BU7 =\"znížený\",1,IF(BU7 =\"dolný priemer\",2,IF(BU7 =\"horný priemer\",3,IF(BU7 =\"nadpriemer\",4,\"\"))))","v":3}]
[null,"Q_3",{"$f":"CONCATENATE($BL$3, \" Suma N obrátená\")","v":"Pustý ostrov Suma N obrátená"},{"$f":"IF(D28<>\"\",D28*(-1),\"\")","v":-1},{"$f":"IF(E28<>\"\",E28*(-1),\"\")","v":-12},0,-6,-2,-15,-2,-1,0,-16,-1,-1,0,0,-2,-2,-2,-2,-1,-2,-1,-1,-1,-2,{"$f":"IF(AB28<>\"\",AB28*(-1),\"\")","v":-2},0,-6,0,"","","","","","","","","","","","",null,null,null,null,null,null,null,null,null,null,null,null,null,null,null,null,null,null,null,null,null,null,null,null,null,null,{"$f":"IF(BU8 =\"znížený\",1,IF(BU8 =\"dolný priemer\",2,IF(BU8 =\"horný priemer\",3,IF(BU8 =\"nadpriemer\",4,\"\"))))","v":3}]
[null,"Q_4",{"$f":"CONCATENATE($BM$3, \" Suma N obrátená\")","v":"Hájiť záujmy Suma N obrátená"},{"$f":"IF(D38<>\"\",D38*(-1),\"\")","v":0},{"$f":"IF(E38<>\"\",E38*(-1),\"\")","v":-20},0,-5,-1,-18,0,-3,0,-20,-1,-2,-1,0,0,-1,-1,-1,0,0,0,0,0,-4,{"$f":"IF(AB38<>\"\",AB38*(-1),\"\")","v":-1},0,-2,0,"","","","","","","","","","","","",null,null,null,null,null,null,null,null,null,null,null,null,null,null,null,null,null,null,null,null,null,null,null,null,null,null,{"$f":"IF(BU9 =\"znížený\",1,IF(BU9 =\"dolný priemer\",2,IF(BU9 =\"horný priemer\",3,IF(BU9 =\"nadpriemer\",4,\"\"))))","v":4}]
[null,"Q_5",{"$f":"CONCATENATE($BN$3, \" Suma N obrátená\")","v":"Tajomstvo Suma N obrátená"},{"$f":"IF(D48<>\"\",D48*(-1),\"\")","v":-1},{"$f":"IF(E48<>\"\",E48*(-1),\"\")","v":-8},-2,-7,-7,-13,-2,0,0,-15,0,-2,0,0,-1,-2,-1,0,-2,-2,-1,-3,-3,-2,{"$f":"IF(AB48<>\"\",AB48*(-1),\"\")","v":-3},0,-4,0,"","","","","","","","","","","","",null,null,null,null,null,null,null,null,null,null,null,null,null,null,null,null,null,null,null,null,null,null,null,null,9,"Kontroverzní CON %suma",{"$f":"SUM(BR64:BR68)","v":15}]
[null,null,null,null,null,null,null,null,null,null,null,null,null,null,null,null,null,null,null,null,null,null,null,null,null,null,null,null,null,null,null,null,null,null,null,null,null,null,null,null,null,null,null,null,null,null,null,null,null,null,null,null,null,null,null,null,null,null,null,null,null,null,null,null,null,null,null,null,"Opomíjaní OPO %",{"$f":"IF(BW5 =\"znížený\",1,IF(BW5 =\"dolný priemer\",2,IF(BW5 =\"horný priemer\",3,IF(BW5 =\"nadpriemer\",4,\"\"))))","v":4}]
[null,"Q_1",{"$f":"CONCATENATE($BJ$3, \" Suma N mutual obrátená\")","v":"Sedieť Suma N mutual obrátená"},{"$f":"IF(D10<>\"\",D10*(-1),\"\")","v":0},{"$f":"IF(E10<>\"\",E10*(-1),\"\")","v":0},0,-1,-1,-3,0,0,0,-3,0,-1,0,0,0,-1,-1,-1,0,-1,0,-1,0,0,0,0,0,0,"","","","","","","","","","","","",null,null,null,null,null,null,null,null,null,null,null,null,null,null,null,null,null,null,null,null,null,null,null,null,null,null,{"$f":"IF(BW6 =\"znížený\",1,IF(BW6 =\"dolný priemer\",2,IF(BW6 =\"horný priemer\",3,IF(BW6 =\"nadpriemer\",4,\"\"))))","v":4}]
[null,"Q_2",{"$f":"CONCATENATE($BK$3, \" Suma N mutual obrátená\")","v":"Učiť sa Suma N mutual obrátená"},{"$f":"IF(D20<>\"\",D20*(-1),\"\")","v":-1},{"$f":"IF(E20<>\"\",E20*(-1),\"\")","v":-3},0,-2,0,-2,0,0,0,-2,0,-1,0,0,0,0,-1,0,0,0,0,0,0,0,0,0,0,0,"","","","","","","","","","","","",null,null,null,null,null,null,null,null,null,null,null,null,null,null,null,null,null,null,null,null,null,null,null,null,null,null,{"$f":"IF(BW7 =\"znížený\",1,IF(BW7 =\"dolný priemer\",2,IF(BW7 =\"horný priemer\",3,IF(BW7 =\"nadpriemer\",4,\"\"))))","v":3}]
[null,"Q_3",{"$f":"CONCATENATE($BL$3, \" Suma N mutual obrátená\")","v":"Pustý ostrov Suma N mutual obrátená"},{"$f":"IF(D30<>\"\",D30*(-1),\"\")","v":-1},{"$f":"IF(E30<>\"\",E30*(-1),\"\")","v":-1},0,0,0,-3,0,0,0,-3,-1,0,0,0,-1,-1,-2,-1,0,0,0,0,0,0,-1,0,-1,0,"","","","","","","","","","","","",null,null,null,null,null,null,null,null,null,null,null,null,null,null,null,null,null,null,null,null,null,null,null,null,null,null,{"$f":"IF(BW8 =\"znížený\",1,IF(BW8 =\"dolný priemer\",2,IF(BW8 =\"horný priemer\",3,IF(BW8 =\"nadpriemer\",4,\"\"))))","v":4}]
[null,"Q_4",{"$f":"CONCATENATE($BM$3, \" Suma N mutual obrátená\")","v":"Hájiť záujmy Suma N mutual obrátená"},{"$f":"IF(D40<>\"\",D40*(-1),\"\")","v":0},{"$f":"IF(E40<>\"\",E40*(-1),\"\")","v":-3},0,-2,-1,-2,0,0,0,-3,0,0,0,0,0,0,0,-1,0,0,0,0,0,-1,-1,0,0,0,"","","","","","","","","","","","",null,null,null,null,null,null,null,null,null,null,null,null,null,null,null,null,null,null,null,null,null,null,null,null,null,null,{"$f":"IF(BW9 =\"znížený\",1,IF(BW9 =\"dolný priemer\",2,IF(BW9 =\"horný priemer\",3,IF(BW9 =\"nadpriemer\",4,\"\"))))","v":4}]
[null,"Q_5",{"$f":"CONCATENATE($BN$3, \" Suma N mutual obrátená\")","v":"Tajomstvo Suma N mutual obrátená"},{"$f":"IF(D50<>\"\",D50*(-1),\"\")","v":0},{"$f":"IF(E50<>\"\",E50*(-1),\"\")","v":0},-1,-1,0,-2,-1,0,0,-3,0,0,0,0,0,0,0,0,0,-1,0,0,-2,0,-2,0,-1,0,"","","","","","","","","","","","",null,null,null,null,null,null,null,null,null,null,null,null,null,null,null,null,null,null,null,null,null,null,null,null,null,"Opomíjaní OPO %suma",{"$f":"SUM(BR70:BR74)","v":19}]
[]
[]
[]
[]
[]
[]
[]
[]
[]
[]
[]
[]
[]
[]
[]
[]
[]
[]
[]
[]
[]
[]
[]
[]
[]
[]
["1 - 1, 2"]
[]
[]
[]
[]
[]
[]
[]
[]
[]
[]
[]
[]
[]
[]
[]
[]
[]
[]
[]
[]
[]
[]
[]
["2 - 3,4"]
[]
[]
[]
[]
[]
[]
[]
[]
[]
[]
[]
[]
[]
[]
[]
[]
[]
[]
[]
[]
[]
[]
[]
[]
["3 - 5,6"]
[]
[]
[]
[]
[]
[]
[]
[]
[]
[]
[]
[]
[]
[]
[]
[]
[]
[]
[]
[]
[]
[]
[]
["4 - 7,8"]
[]
[]
[]
[]
[]
[]
[]
[]
[]
[]
[]
[]
[]
[]
[]
[]
[]
[]
[]
[]
[]
[]
[]
[]
["5 - 17,18"]
[]
[]
[]
[]
[]
[]
[]
[]
[]
[]
[]
[]
[]
[]
[]
[]
[]
[]
[]
[]
[]
[]
[]
[null,null,"Grafy porovnanie otázok"]

{"sheet":"Individualne","index":17,"n_rows":455,"n_cols":98,"rows_kept":455,"cut":false,"hidden":false,"merged":[]}
[1,2,3,4,5,6,7,8,9,10,11,12,13,14,15,16,17,18,19,20,21,22,23,24,25,26,27,28,29,30,31,32,33,34,35,36,37,38,39,40,41,42,43,44,45,46,47,48,49,50,51,52,53,54,55,56,57,58,59,60,61,62,63,64,65,66,67,68,69,70,71,72,73,74,75,76,77,78,79,80,81,82,83,84,85,86,87,88,89,90,91,92,93,94,95]
["Počet volieb",3,null,1,2,3,4,5,6,7,8,9,10,11,12,13,14,15,16,17,18,19,20,21,22,23,24,25,26,27,28,29,30,31,32,33,34,35,36,37,38,39,40]
["Počet osôb",28,null,{"$f":"MID(D4,2,8)","v":"01_Oso m"},{"$f":"MID(E4,2,8)","v":"02_Oso m"},"03_Oso m","04_Oso m","05_Oso m","*06_Oso ","07_Oso m","08_Oso m","09_Oso f","**10_Oso","11_Oso m","12_Oso m","13_Oso m","14_Oso m","15_Oso f","16_Oso f","17_Oso f","18_Oso f","19_Oso f","20_Oso f","21_Oso f","22_Oso f","23_Oso f","24_Oso f","25_Oso f","26_Oso f","27_Oso f","28_Oso f","","","","","","","","","","","",""]
[null,null,null,"\"01_Oso m\"","\"02_Oso m\"","\"03_Oso m\"","\"04_Oso m\"","\"05_Oso m\"","\"*06_Oso m\"","\"07_Oso m\"","\"08_Oso m\"","\"09_Oso f\"","\"**10_Oso m\"","\"11_Oso m\"","\"12_Oso m\"","\"13_Oso m\"","\"14_Oso m\"","\"15_Oso f\"","\"16_Oso f\"","\"17_Oso f\"","\"18_Oso f\"","\"19_Oso f\"","\"20_Oso f\"","\"21_Oso f\"","\"22_Oso f\"","\"23_Oso f\"","\"24_Oso f\"","\"25_Oso f\"","\"26_Oso f\"","\"27_Oso f\"","\"28_Oso f\"",null,null,null,null,null,null,null,null,null,null,null,null,null,"AM","SD","MAX",null,1,2,3,4,5,6,7,8,9,10,11,12,13,14,15,16,17,18,19,20,21,22,23,24,25,26,27,28,29,30,31,32,33,34,35,36,37,38,39,40]
["Q_1_P","Sel_p_r",{"$f":"CONCATENATE($BJ$3, \" P\")","v":" P"},2,0,1,1,4,0,4,4,6,2,3,3,1,2,0,2,0,4,1,2,2,5,10,3,3,2,8,6,null,null,null,null,null,null,null,null,null,null,null,null,{"$f":"SUM(D5:AQ5)","v":81},{"$f":"IF(AR5>0,AVERAGE(D5:AQ5),\"\")","v":2.8928571428571428},{"$f":"IF(AR5>0,STDEV(D5:AQ5),\"\")","v":2.4242491883022517},{"$f":"MAX(D5:AQ5)","v":10}]
["Q_1_P","Sel_p_g",{"$f":"CONCATENATE($BJ$3, \" P\")","v":" P"},3,3,3,3,3,3,3,3,3,3,3,3,3,3,3,3,3,3,3,3,3,3,3,3,3,3,3,0,null,null,null,null,null,null,null,null,null,null,null,null,{"$f":"SUM(D6:AQ6)","v":81},{"$f":"IF(AR5>0,AVERAGE(D6:AQ6),\"\")","v":2.8928571428571428},{"$f":"IF(AR5>0,STDEV(D6:AQ6),\"\")","v":0.56694670951384041}]
["Q_1_P","Rec_p",{"$f":"CONCATENATE($BJ$3, \" mutual P\")","v":" mutual P"},2,0,1,0,2,0,2,0,2,1,0,0,1,1,0,1,0,3,0,1,1,1,2,2,2,1,2,0,null,null,null,null,null,null,null,null,null,null,null,null,28,{"$f":"IF(AR5>0,AVERAGE(D7:AQ7),\"\")","v":1},{"$f":"IF(AR5>0,STDEV(D7:AQ7),\"\")","v":0.90267093384843999}]
["Q_1_N","Sel_n_r",{"$f":"CONCATENATE($BJ$3, \" N\")","v":" N"},0,12,0,6,2,19,0,1,0,20,0,3,0,0,1,2,2,1,0,1,2,2,2,2,1,0,1,0,null,null,null,null,null,null,null,null,null,null,null,null,80,{"$f":"IF(AR5>0,AVERAGE(D8:AQ8),\"\")","v":2.8571428571428572},{"$f":"IF(AR5>0,STDEV(D8:AQ8),\"\")","v":5.2895024320663637},{"$f":"MAX(D8:AQ8)","v":20}]
["Q_1_N","Sel_n_g",{"$f":"CONCATENATE($BJ$3, \" N\")","v":" N"},3,3,3,3,3,3,3,3,3,3,3,3,2,3,3,3,3,3,3,3,3,3,3,3,3,3,3,0,null,null,null,null,null,null,null,null,null,null,null,null,80,{"$f":"IF(AR5>0,AVERAGE(D9:AQ9),\"\")","v":2.8571428571428572},{"$f":"IF(AR5>0,STDEV(D9:AQ9),\"\")","v":0.59093684028527849}]
["Q_1_N","Rec_n",{"$f":"CONCATENATE($BJ$3, \" mutual N\")","v":" mutual N"},0,0,0,1,1,3,0,0,0,3,0,1,0,0,0,1,1,1,0,1,0,1,0,0,0,0,0,0,null,null,null,null,null,null,null,null,null,null,null,null,14,{"$f":"IF(AR5>0,AVERAGE(D10:AQ10),\"\")","v":0.5},{"$f":"IF(AR5>0,STDEV(D10:AQ10),\"\")","v":0.83887049280786108}]
["Q_1","IZO p",{"$f":"CONCATENATE($BJ$3, \" izolovaní P\")","v":" izolovaní P"},{"$f":"IF(D5<>\"\",IF(D5 = 0,IF(D6 = 0,1,\" \"),\" \"),\" \")","v":" "},{"$f":"IF(E5<>\"\",IF(E5 = 0,IF(E6 = 0,1,\" \"),\" \"),\" \")","v":" "}," "," "," "," "," "," "," "," "," "," "," "," "," "," "," "," "," "," "," "," "," "," "," ",{"$f":"IF(AC5<>\"\",IF(AC5 = 0,IF(AC6 = 0,1,\" \"),\" \"),\" \")","v":" "},{"$f":"IF(AD5<>\"\",IF(AD5 = 0,IF(AD6 = 0,1,\" \"),\" \"),\" \")","v":" "},{"$f":"IF(AE5<>\"\",IF(AE5 = 0,IF(AE6 = 0,1,\" \"),\" \"),\" \")","v":" "},{"$f":"IF(AF5<>\"\",IF(AF5 = 0,IF(AF6 = 0,1,\" \"),\" \"),\" \")","v":" "},{"$f":"IF(AG5<>\"\",IF(AG5 = 0,IF(AG6 = 0,1,\" \"),\" \"),\" \")","v":" "},{"$f":"IF(AH5<>\"\",IF(AH5 = 0,IF(AH6 = 0,1,\" \"),\" \"),\" \")","v":" "}," "," "," "," "," "," "," "," "," ",0]
["Q_1","OPO p",{"$f":"CONCATENATE($BJ$3, \" opomenutí P\")","v":" opomenutí P"},{"$f":"IF(D5<>\"\",IF(D5 = 0,IF(D6 > 0,1,\" \"),\" \"),\" \")","v":" "},{"$f":"IF(E5<>\"\",IF(E5 = 0,IF(E6 > 0,1,\" \"),\" \"),\" \")","v":1}," "," "," ",1," "," "," "," "," "," "," "," ",1," ",1," "," "," "," "," "," "," "," ",{"$f":"IF(AC5<>\"\",IF(AC5 = 0,IF(AC6 > 0,1,\" \"),\" \"),\" \")","v":" "},{"$f":"IF(AD5<>\"\",IF(AD5 = 0,IF(AD6 > 0,1,\" \"),\" \"),\" \")","v":" "},{"$f":"IF(AE5<>\"\",IF(AE5 = 0,IF(AE6 > 0,1,\" \"),\" \"),\" \")","v":" "},{"$f":"IF(AF5<>\"\",IF(AF5 = 0,IF(AF6 > 0,1,\" \"),\" \"),\" \")","v":" "},{"$f":"IF(AG5<>\"\",IF(AG5 = 0,IF(AG6 > 0,1,\" \"),\" \"),\" \")","v":" "},{"$f":"IF(AH5<>\"\",IF(AH5 = 0,IF(AH6 > 0,1,\" \"),\" \"),\" \")","v":" "}," "," "," "," "," "," "," "," "," ",4]
["Q_1","IZO n",{"$f":"CONCATENATE($BJ$3, \" izolovaní N\")","v":" izolovaní N"},{"$f":"IF(D18<>\"\",IF(D8<>\"\",IF(D8 = 0,IF(D9 = 0,1,\" \"),\" \"),\" \"),\"\")","v":" "},{"$f":"IF(E18<>\"\",IF(E8<>\"\",IF(E8 = 0,IF(E9 = 0,1,\" \"),\" \"),\" \"),\"\")","v":" "}," "," "," "," "," "," "," "," "," "," "," "," "," "," "," "," "," "," "," "," "," "," "," "," "," ",1,"","","","","","","","","","","","",1]
["Q_1","OPO n",{"$f":"CONCATENATE($BJ$3, \" opomenutí N\")","v":" opomenutí N"},{"$f":"IF(D8<>\"\",IF(D8 = 0,IF(D9 > 0,1,\" \"),\" \"),\" \")","v":1}," ",1," "," "," ",1," ",1," ",1," ",1,1," "," "," "," ",1," "," "," "," "," "," ",{"$f":"IF(AC8<>\"\",IF(AC8 = 0,IF(AC9 > 0,1,\" \"),\" \"),\" \")","v":1},{"$f":"IF(AD8<>\"\",IF(AD8 = 0,IF(AD9 > 0,1,\" \"),\" \"),\" \")","v":" "},{"$f":"IF(AE8<>\"\",IF(AE8 = 0,IF(AE9 > 0,1,\" \"),\" \"),\" \")","v":" "},{"$f":"IF(AF8<>\"\",IF(AF8 = 0,IF(AF9 > 0,1,\" \"),\" \"),\" \")","v":" "},{"$f":"IF(AG8<>\"\",IF(AG8 = 0,IF(AG9 > 0,1,\" \"),\" \"),\" \")","v":" "},{"$f":"IF(AH8<>\"\",IF(AH8 = 0,IF(AH9 > 0,1,\" \"),\" \"),\" \")","v":" "}," "," "," "," "," "," "," "," "," ",9]
["Podľa Walsha","Social preference and social Impact"]
["Algoritmus 2 používa Group aj Walsh"]
["Q_1","zLM","z-skóre P",{"$f":"IF(D5<>\"\",(D5-$AS$5)/$AT$5,\"\")","v":-0.36830254380013955},-1.1933002419124521,-0.78080139285629591,-0.78080139285629591,0.45669515431217311,-1.1933002419124521,0.45669515431217311,0.45669515431217311,1.2816928524244857,-0.36830254380013955,4.4196305256016775E-2,4.4196305256016775E-2,-0.78080139285629591,-0.36830254380013955,-1.1933002419124521,-0.36830254380013955,-1.1933002419124521,0.45669515431217311,-0.78080139285629591,-0.36830254380013955,-0.36830254380013955,0.86919400336832942,2.9316882486491114,4.4196305256016775E-2,{"$f":"IF(AB5<>\"\",(AB5-$AS$5)/$AT$5,\"\")","v":4.4196305256016775E-2},-0.36830254380013955,2.1066905505367988,1.2816928524244857,"","","","","","","","","","","",""]
["Q_1","zLL","z-skóre N",{"$f":"IF($AT$8<>0,IF(D8<>\"\",(D8-$AS$8)/$AT$8,\"\"),\"\")","v":-0.54015342536229893},{"$f":"IF($AT$8<>0,IF(E8<>\"\",(E8-$AS$8)/$AT$8,\"\"),\"\")","v":1.7284909611593564},-0.54015342536229893,0.59416876789852879,-0.16204602760868969,3.0518668532969886,-0.54015342536229893,-0.35109972648549431,-0.54015342536229893,3.2409205521737934,-0.54015342536229893,2.7007671268114933E-2,-0.54015342536229893,-0.54015342536229893,-0.35109972648549431,-0.16204602760868969,-0.16204602760868969,-0.35109972648549431,-0.54015342536229893,-0.35109972648549431,-0.16204602760868969,-0.16204602760868969,-0.16204602760868969,-0.16204602760868969,{"$f":"IF($AT$8<>0,IF(AB8<>\"\",(AB8-$AS$8)/$AT$8,\"\"),\"\")","v":-0.35109972648549431},-0.54015342536229893,-0.35109972648549431,-0.54015342536229893,"","","","","","","","","","","",""]
["Q_1","SP","Social preference (zLM - zLL)",{"$f":"IF(D18<>\"\",IF(D17<>\"\",D17-D18,\"\"),\"\")","v":0.17185088156215939},{"$f":"IF(E18<>\"\",IF(E17<>\"\",E17-E18,\"\"),\"\")","v":-2.9217912030718085},-0.24064796749399697,-1.3749701607548248,0.6187411819208628,-4.2451670952094407,0.99684857967447205,0.80779488079766737,1.8218462777867845,-3.6092230959739329,0.58434973061831574,1.7188633987901842E-2,-0.24064796749399697,0.17185088156215939,-0.84220051542695784,-0.20625651619144986,-1.0312542143037624,0.80779488079766737,-0.24064796749399697,-1.7202817314645236E-2,-0.20625651619144986,1.0312400309770191,3.0937342762578011,0.20624233286470647,{"$f":"IF(AB18<>\"\",IF(AB17<>\"\",AB17-AB18,\"\"),\"\")","v":0.39529603174151107},0.17185088156215939,2.4577902770222932,1.8218462777867845,"","","","","","","","","","","","",null,null,null,null,null,null,null,null,null,null,null,null,null,null,null,null,null,null,null,null,"spočíta pozitívne v kategóriách pre z-skóre",null,null,null,null,null,null,null,null,null,null,null,null,null,null,null,null,null,null,null,null,null,null,null,null,null,"xi","všetky","všetky"]
["Q_1","SI","Social impact (zLM + zLL)",{"$f":"IF(D18<>\"\",IF(D17<>\"\",D17+D18,\"\"),\"\")","v":-0.90845596916243854},{"$f":"IF(E18<>\"\",IF(E17<>\"\",E17+E18,\"\"),\"\")","v":0.53519071924690431},-1.3209548182185948,-0.18663262495776711,0.29464912670348342,1.8585666113845365,-8.3458271050125821E-2,0.1055954278266788,0.74153942706218678,2.8726180083736539,-0.49595712010628218,7.1203976524131712E-2,-1.3209548182185948,-0.90845596916243854,-1.5443999683979464,-0.53034857140882918,-1.3553462695211418,0.1055954278266788,-1.3209548182185948,-0.71940227028563386,-0.53034857140882918,0.70714797575963972,2.7696422210404217,-0.11784972235267291,{"$f":"IF(AB18<>\"\",IF(AB17<>\"\",AB17+AB18,\"\"),\"\")","v":-0.30690342122947756},-0.90845596916243854,1.7555908240513045,0.74153942706218678,"","","","","","","","","","","","",null,null,null,null,null,1,2,3,4,5,6,7,8,9,10,11,12,13,14,15,16,17,18,19,20,21,22,23,24,25,26,27,28,29,30,31,32,33,34,35,36,37,38,39,40,"Suma","AM","AM all","SD all","z-skóre","kategória"]
[null,null,"OPOMENUTÍ FILA",{"$f":"IF(D18<>\"\",IF(D5<>\"\",IF(D5 = 0,IF(D6 > 0,\"OPO\",\" \"),\" \"),\" \"),\"\")","v":" "},{"$f":"IF(E18<>\"\",IF(E5<>\"\",IF(E5 = 0,IF(E6 > 0,\"OPO\",\" \"),\" \"),\" \"),\"\")","v":"OPO"}," "," "," ","OPO"," "," "," "," "," "," "," "," ","OPO"," ","OPO"," "," "," "," "," "," "," "," "," "," "," ","","","","","","","","","","","","",{"$f":"COUNTIF(D21:AQ21,\"OPO\")","v":4},null,null,null,null,{"$f":"IF(D21=\"OPO\",D5,\" \")","v":" "},{"$f":"IF(E21=\"OPO\",E5,\"\")","v":0},"","","",0,"","","","","","","","",0,"",0,"","","","","","","","","","","","","","","","","","","","","","","",{"$f":"SUM(AW21:CJ21)","v":0},{"$f":"IF(CK21>0,AVERAGE(AW21:CJ21),\"\")","v":""},{"$f":"AS5","v":2.8928571428571428},{"$f":"AT5","v":2.4242491883022517},{"$f":"IF(CK21>0,(CL21-CM21)/CN21,\"\")","v":""},"OPO Fila",1]
[null,"A","POPULAR",{"$f":"IF(D18<>\"\",IF(D19>1,IF(D17>0,IF(D18<0,\"POP\",\"\"),\"\"),\"\"),\"\")","v":""},{"$f":"IF(E18<>\"\",IF(E19>1,IF(E17>0,IF(E18<0,\"POP\",\"\"),\"\"),\"\"),\"\")","v":""},"","","","","","","POP","","","","","","","","","","","","","POP","POP","","","","POP","POP","","","","","","","","","","","","",{"$f":"COUNTIF(D22:AQ22,\"POP\")","v":5},null,null,null,null,{"$f":"IF(D22=\"POP\",D5,\"\")","v":""},{"$f":"IF(E22=\"POP\",E5,\"\")","v":""},"","","","","","",6,"","","","","","","","","","","","",5,10,"","","",8,6,"","","","","","","","","","","","",{"$f":"SUM(AW22:CJ22)","v":35},7,{"$f":"AS5","v":2.8928571428571428},{"$f":"AT5","v":2.4242491883022517},1.6941917014806422,"POP",2]
[null,"B","REJECTED",{"$f":"IF(D18<>\"\",IF(D19<-1,IF(D17<0,IF(D18>0,\"REJ\",\"\"),\"\"),\"\"),\"\")","v":""},{"$f":"IF(E18<>\"\",IF(E19<-1,IF(E17<0,IF(E18>0,\"REJ\",\"\"),\"\"),\"\"),\"\")","v":"REJ"},"","REJ","","REJ","","","","REJ","","","","","","","","","","","","","","","","","","","","","","","","","","","","","","",{"$f":"COUNTIF(D23:AQ23,\"REJ\")","v":4},null,null,null,null,{"$f":"IF(D23=\"REJ\",D5,\"\")","v":""},{"$f":"IF(E23=\"REJ\",E5,\"\")","v":0},"",1,"",0,"","","",2,"","","","","","","","","","","","","","","","","","","","","","","","","","","","","","",3,0.75,{"$f":"AS5","v":2.8928571428571428},{"$f":"AT5","v":2.4242491883022517},-0.88392610512033498,"REJ",3]
[null,"C","NEGLECTED",{"$f":"IF(D18<>\"\",IF(D20<-1,IF(D17=0,IF(D18=0,\"NEG\",\"\"),\"\"),\"\"),\"\")","v":""},{"$f":"IF(E18<>\"\",IF(E20<-1,IF(E17=0,IF(E18=0,\"NEG\",\"\"),\"\"),\"\"),\"\")","v":""},"","","","","","","","","","","","","","","","","","","","","","","","","","","","","","","","","","","","","","",{"$f":"COUNTIF(D24:AQ24,\"NEG\")","v":0},null,null,null,null,{"$f":"IF(D24=\"NEG\",D5,\"\")","v":""},{"$f":"IF(E24=\"NEG\",E5,\"\")","v":""},"","","","","","","","","","","","","","","","","","","","","","","","","","","","","","","","","","","","","","",0,"",{"$f":"AS5","v":2.8928571428571428},{"$f":"AT5","v":2.4242491883022517},"","NEG",4]
[null,"D","CONTROVERSIAL",{"$f":"IF(D18<>\"\",IF(D17<>\"\",IF(D20>1,IF(D17>0,IF(D18>0,\"CON\",\"\"),\"\"),\"\"),\"\"),\"\")","v":""},{"$f":"IF(E18<>\"\",IF(E17<>\"\",IF(E20>1,IF(E17>0,IF(E18>0,\"CON\",\"\"),\"\"),\"\"),\"\"),\"\")","v":""},"","","","","","","","","","","","","","","","","","","","","","","","","","","","","","","","","","","","","","",{"$f":"COUNTIF(D25:AQ25,\"CON\")","v":0},null,null,null,null,{"$f":"IF(D25=\"CON\",D5,\"\")","v":""},null,null,null,null,null,null,null,null,null,null,null,null,null,null,null,null,null,null,null,null,null,null,null,null,null,null,null,null,null,null,null,null,null,null,null,null,null,null,null,0,"",{"$f":"AS5","v":2.8928571428571428},{"$f":"AT5","v":2.4242491883022517},"","CON",5]
["*zmenený vzorec","E","AVERAGE STATUS",{"$f":"IF(D17<>\"\",IF(D22<>\"POP\",IF(D23<>\"REJ\",IF(D24<>\"NEG\",IF(D25<>\"CON\",\"AVE\",\"\"),\"\"),\"\"),\"\"),\"\")","v":"AVE"},{"$f":"IF(E17<>\"\",IF(E22<>\"POP\",IF(E23<>\"REJ\",IF(E24<>\"NEG\",IF(E25<>\"CON\",\"AVE\",\"\"),\"\"),\"\"),\"\"),\"\")","v":""},"AVE","","AVE","","AVE","AVE","","","AVE","AVE","AVE","AVE","AVE","AVE","AVE","AVE","AVE","AVE","AVE","","","AVE","AVE","AVE","","","","","","","","","","","","","","",{"$f":"COUNTIF(D26:AQ26,\"AVE\")","v":19},null,null,null,null,{"$f":"IF(D26=\"AVE\",D5,\"\")","v":2},{"$f":"IF(E26=\"AVE\",E5,\"\")","v":""},1,"",4,"",4,4,"","",3,3,1,2,0,2,0,4,1,2,2,"","",3,3,2,"","","","","","","","","","","","","","",43,2.263157894736842,{"$f":"AS5","v":2.8928571428571428},{"$f":"AT5","v":2.4242491883022517},-0.25975021510115109,"AVE",6]
[null,"F","OPOMENUTÍ WALSH",{"$f":"IF(D23<>\"REJ\",IF(D18<>\"\",IF(D5<>\"\",IF(D5 = 0,IF(D6 > 0,\"OPO\",\" \"),\" \"),\" \"),\"\"),\"\")","v":" "},{"$f":"IF(E23<>\"REJ\",IF(E18<>\"\",IF(E5<>\"\",IF(E5 = 0,IF(E6 > 0,\"OPO\",\" \"),\" \"),\" \"),\"\"),\"\")","v":""}," ",""," ",""," "," "," ",""," "," "," "," ","OPO"," ","OPO"," "," "," "," "," "," "," "," "," "," "," ","","","","","","","","","","","","",{"$f":"COUNTIF(D27:AQ27,\"OPO\")","v":2},null,null,null,null,{"$f":"IF(D27=\"OPO\",D5,\"\")","v":""},{"$f":"IF(E27=\"OPO\",E5,\"\")","v":""},"","","","","","","","","","","","",0,"",0,"","","","","","","","","","","","","","","","","","","","","","","",0,"",{"$f":"AS5","v":2.8928571428571428},{"$f":"AT5","v":2.4242491883022517},"","OPO Walsh",7]
[null,null,"IZOLOVANÍ",{"$f":"IF(D17<>\"\",IF(D18<>\"\",IF(D5<>\"\",IF(D5 = 0,IF(D6 = 0,\"IZO\",\"\"),\" \"),\" \"),\"\"),\"\")","v":" "},{"$f":"IF(E17<>\"\",IF(E18<>\"\",IF(E5<>\"\",IF(E5 = 0,IF(E6 = 0,\"IZO\",\"\"),\" \"),\" \"),\"\"),\"\")","v":""}," "," "," ",""," "," "," "," "," "," "," "," ",""," ",""," "," "," "," "," "," "," "," "," "," "," ","","","","","","","","","","","","",{"$f":"COUNTIF(D28:AQ28,\"IZO\")","v":0},null,null,null,null,null,null,null,null,null,null,null,null,null,null,null,null,null,null,null,"spočíta negatívne v kategóriách pre z-skóre",null,null,null,null,null,null,null,null,null,null,null,null,null,null,null,null,null,null,null,null,null,null,null,null,null,"xi","všetky","všetky"]
[null,null,"Menovky P",{"$f":"IF(D25=\"CON\",\"CON\",IF(D22=\"POP\",\"POP\",\"\"))","v":""},{"$f":"IF(E25=\"CON\",\"CON\",IF(E22=\"POP\",\"POP\",\"\"))","v":""},"","","","","","","POP","","","","","","","","","","","","","POP","POP","","",{"$f":"IF(AC22=\"POP\",\"POP\",\"\")","v":""},"POP","POP","","","","","","","","","","","","",null,null,null,null,null,1,2,3,4,5,6,7,8,9,10,11,12,13,14,15,16,17,18,19,20,21,22,23,24,25,26,27,28,29,30,31,32,33,34,35,36,37,38,39,40,"Suma","AM","AM all","SD all","z-skóre","kategória"]
[null,null,"Prekódované pre Target graf 2 Q_1",{"$f":"IF(D22=\"POP\",13,IF(D23=\"REJ\",33,IF(D24=\"NEG\",46,IF(D25=\"CON\",60,IF(D26=\"AVE\",74,IF(D21=\"OPO\",46,\"\"))))))","v":74},33,74,33,74,33,74,74,13,33,74,74,74,74,74,74,74,74,74,74,74,13,13,74,74,74,13,13,"","","","","","","","","","","","",null,null,null,null,null,{"$f":"IF(D21=\"OPO\",D8,\"\")","v":""},{"$f":"IF(E21=\"OPO\",E8,\"\")","v":12},"","","",19,"","","","","","","","",1,"",2,"","","","","","","","","","","","","","","","","","","","","","","",{"$f":"SUM(AW30:CJ30)","v":34},{"$f":"IF(CK30>0,AVERAGE(AW30:CJ30),\"\")","v":8.5},{"$f":"AS8","v":2.8571428571428572},{"$f":"AT8","v":5.2895024320663637},{"$f":"IF(CK30>0,(CL30-CM30)/CN30,\"\")","v":1.0668030150905403},"OPO Fila",1]
[null,null,"Menovky N",{"$f":"IF(D25=\"CON\",\"CON\",IF(D23=\"REJ\",\"REJ\",\"\"))","v":""},{"$f":"IF(E25=\"CON\",\"CON\",IF(E23=\"REJ\",\"REJ\",\"\"))","v":"REJ"},"","REJ","","REJ","","","","REJ","","","","","","","","","","","","","","","",{"$f":"IF(AC23=\"REJ\",\"REJ\",\"\")","v":""},"","","","","","","","","","","","","","",null,null,null,null,null,{"$f":"IF(D22=\"POP\",D8,\"\")","v":""},{"$f":"IF(E22=\"POP\",E8,\"\")","v":""},"","","","","","",0,"","","","","","","","","","","","",2,2,"","","",1,0,"","","","","","","","","","","","",5,1,{"$f":"AS8","v":2.8571428571428572},{"$f":"AT8","v":5.2895024320663637},-0.35109972648549431,"POP",2]
["Podľa Group Dynamnics",null,"Algoritmus 3 Target",null,null,null,null,null,null,null,null,null,null,null,null,null,null,null,null,null,null,null,null,null,null,null,null,null,null,null,null,null,null,null,null,null,null,null,null,null,null,null,null,null,null,null,null,null,{"$f":"IF(D23=\"NEG\",D8,\"\")","v":""},{"$f":"IF(E23=\"NEG\",E8,\"\")","v":""},"","","","","","","","","","","","","","","","","","","","","","","","","","","","","","","","","","","","","","",0,"",{"$f":"AS8","v":2.8571428571428572},{"$f":"AT8","v":5.2895024320663637},"","REJ",3]
["Recieved accteptance",null,"Kategórie Target 3",{"$f":"IF(D18<>\"\",IF(D5<>\"\",IF(D5>=TRUNC(0.75*$AU$5),\"A\",IF(D5>=TRUNC(0.5*$AU$5),\"B\",IF(D5>=TRUNC(0.25*$AU$5),\"C\",IF(D5<TRUNC(0.25*$AU$5),\"D\",\"\")))),\"\"),\"\")","v":"C"},{"$f":"IF(E18<>\"\",IF(E5<>\"\",IF(E5>=TRUNC(0.75*$AU$5),\"A\",IF(E5>=TRUNC(0.5*$AU$5),\"B\",IF(E5>=TRUNC(0.25*$AU$5),\"C\",IF(E5<TRUNC(0.25*$AU$5),\"D\",\"\")))),\"\"),\"\")","v":"D"},"D","D","C","D","C","C","B","C","C","C","D","C","D","C","D","C","D","C","C","B","A","C","C","C","A","B","","","","","","","","","","","","",null,null,null,null,null,{"$f":"IF(D24=\"CON\",D8,\"\")","v":""},{"$f":"IF(E24=\"CON\",E8,\"\")","v":""},"","","","","","","","","","","","","","","","","","","","","","","","","","","","","","","","","","","","","","",0,"",{"$f":"AS8","v":2.8571428571428572},{"$f":"AT8","v":5.2895024320663637},"","NEG",4]
[null,null,"Prekódované pre Target graf 3 Q_1",{"$f":"IF(D18<>\"\",IF(D5<>\"\",IF(D5>=TRUNC(0.75*$AU$5),15,IF(D5>=TRUNC(0.5*$AU$5),40,IF(D5>=TRUNC(0.25*$AU$5),56,IF(D5<TRUNC(0.25*$AU$5),73,\"\")))),\"\"),\"\")","v":56},{"$f":"IF(E18<>\"\",IF(E5<>\"\",IF(E5>=TRUNC(0.75*$AU$5),15,IF(E5>=TRUNC(0.5*$AU$5),40,IF(E5>=TRUNC(0.25*$AU$5),56,IF(E5<TRUNC(0.25*$AU$5),73,\"\")))),\"\"),\"\")","v":73},73,73,56,73,56,56,40,56,56,56,73,56,73,56,73,56,73,56,56,40,15,56,56,56,15,40,"","","","","","","","","","","","",null,null,null,null,null,{"$f":"IF(D25=\"NEG\",D8,\"\")","v":""},{"$f":"IF(E25=\"NEG\",E8,\"\")","v":""},"","","","","","","","","","","","","","","","","","","","","","","","","","","","","","","","","","","","","","",0,"",{"$f":"AS8","v":2.8571428571428572},{"$f":"AT8","v":5.2895024320663637},"","CON",5]
[null,null,null,null,null,null,null,null,null,null,null,null,null,null,null,null,null,null,null,null,null,null,null,null,null,null,null,null,null,null,null,null,null,null,null,null,null,null,null,null,null,null,null,null,null,null,null,null,{"$f":"IF(D26=\"AVE\",D8,\"\")","v":0},{"$f":"IF(E26=\"AVE\",E8,\"\")","v":""},0,"",2,"",0,1,"","",0,3,0,0,1,2,2,1,0,1,2,"","",2,1,0,"","","","","","","","","","","","","","",18,0.94736842105263153,{"$f":"AS8","v":2.8571428571428572},{"$f":"AT8","v":5.2895024320663637},-0.36104992116322088,"AVE",6]
["Podľa Group Dynamnics",null,"Algoritmus 4 Target",null,null,null,null,null,null,null,null,null,null,null,null,null,null,null,null,null,null,null,null,null,null,null,null,null,null,null,null,null,null,null,null,null,null,null,null,null,null,null,null,null,null,null,null,null,{"$f":"IF(D27=\"OPO\",D8,\"\")","v":""},{"$f":"IF(E27=\"OPO\",E8,\"\")","v":""},"","","","","","","","","","","","",1,"",2,"","","","","","","","","","","","","","","","","","","","","","","",3,1.5,{"$f":"AS8","v":2.8571428571428572},{"$f":"AT8","v":5.2895024320663637},-0.25657287704709197,"OPO Walsh",7]
["Recieved rejections",null,"Kategórie Target 4",{"$f":"IF(D18<>\"\",IF(D8<>\"\",IF(D8>=TRUNC(0.75*$AU$8),\"A\",IF(D8>=TRUNC(0.5*$AU$8),\"B\",IF(D8>=TRUNC(0.25*$AU$8),\"C\",IF(D8<TRUNC(0.25*$AU$8),\"D\",\"\")))),\"\"),\"\")","v":"D"},{"$f":"IF(E18<>\"\",IF(E8<>\"\",IF(E8>=TRUNC(0.75*$AU$8),\"A\",IF(E8>=TRUNC(0.5*$AU$8),\"B\",IF(E8>=TRUNC(0.25*$AU$8),\"C\",IF(E8<TRUNC(0.25*$AU$8),\"D\",\"\")))),\"\"),\"\")","v":"B"},"D","C","D","A","D","D","D","A","D","D","D","D","D","D","D","D","D","D","D","D","D","D","D","D","D","D","","","","","","","","","","","","",null,null,null,null,null,null,null,null,null,null,null,null,null,null,null,null,null,null,null,null,"spočíta mutuály pozitívne v kategóriách pre z-skóre",null,null,null,null,null,null,null,null,null,null,null,null,null,null,null,null,null,null,null,null,null,null,null,null,null,"xi"]
[null,null,"Prekódované pre Target graf 4 Q_1",{"$f":"IF(D18<>\"\",IF(D8<>\"\",IF(D8>=TRUNC(0.75*$AU$8),15,IF(D8>=TRUNC(0.5*$AU$8),40,IF(D8>=TRUNC(0.25*$AU$8),56,IF(D8<TRUNC(0.25*$AU$8),73,\"\")))),\"\"),\"\")","v":73},{"$f":"IF(E18<>\"\",IF(E8<>\"\",IF(E8>=TRUNC(0.75*$AU$8),15,IF(E8>=TRUNC(0.5*$AU$8),40,IF(E8>=TRUNC(0.25*$AU$8),56,IF(E8<TRUNC(0.25*$AU$8),73,\"\")))),\"\"),\"\")","v":40},73,56,73,15,73,73,73,15,73,73,73,73,73,73,73,73,73,73,73,73,73,73,73,73,73,73,"","","","","","","","","","","","",null,null,null,null,null,1,2,3,4,5,6,7,8,9,10,11,12,13,14,15,16,17,18,19,20,21,22,23,24,25,26,27,28,29,30,31,32,33,34,35,36,37,38,39,40,"Suma","AM","AM all","SD all","z-skóre","kategória"]
[null,null,null,null,null,null,null,null,null,null,null,null,null,null,null,null,null,null,null,null,null,null,null,null,null,null,null,null,null,null,null,null,null,null,null,null,null,null,null,null,null,null,null,null,null,null,null,null,{"$f":"IF(D21=\"OPO\",D7,\"\")","v":""},{"$f":"IF(E21=\"OPO\",E7,\"\")","v":0},"","","",0,"","","","","","","","",0,"",0,"","","","","","","","","","","","","","","","","","","","","","","",{"$f":"SUM(AW39:CJ39)","v":0},{"$f":"IF(CK39>0,AVERAGE(AW39:CJ39),\"\")","v":""},{"$f":"AS7","v":1},{"$f":"AT7","v":0.90267093384843999},{"$f":"IF(CK39>0,(CL39-CM39)/CN39,\"\")","v":""},"OPO Fila",1]
["Podľa Group Dynamnics",null,"Algoritmus 5 Target",null,null,null,null,null,null,null,null,null,null,null,null,null,null,null,null,null,null,null,null,null,null,null,null,null,null,null,null,null,null,null,null,null,null,null,null,null,null,null,null,null,null,null,null,null,{"$f":"IF(D22=\"POP\",D7,\"\")","v":""},{"$f":"IF(E22=\"POP\",E7,\"\")","v":""},"","","","","","",2,"","","","","","","","","","","","",1,2,"","","",2,0,"","","","","","","","","","","","",7,1.4,{"$f":"AS7","v":1},{"$f":"AT7","v":0.90267093384843999},0.44312936752559778,"POP",2]
["Mutual acceptance","Cs+","Index sociability P",{"$f":"IF($B$2<>0,IF(D18<>\"\",IF(D7<>\"\",D7/($B$2),\"\"),\"\"),\"\")","v":0.66666666666666663},{"$f":"IF($B$2<>0,IF(E18<>\"\",IF(E7<>\"\",E7/($B$2),\"\"),\"\"),\"\")","v":0},0.33333333333333331,0,0.66666666666666663,0,0.66666666666666663,0,0.66666666666666663,0.33333333333333331,0,0,0.33333333333333331,0.33333333333333331,0,0.33333333333333331,0,1,0,0.33333333333333331,0.33333333333333331,0.33333333333333331,0.66666666666666663,0.66666666666666663,0.66666666666666663,0.33333333333333331,0.66666666666666663,0,"","","","","","","","","","","","",null,null,null,null,null,{"$f":"IF(D23=\"REJ\",D7,\"\")","v":""},{"$f":"IF(E23=\"REJ\",E7,\"\")","v":0},"",0,"",0,"","","",1,"","","","","","","","","","","","","","","","","","","","","","","","","","","","","","",1,0.25,{"$f":"AS7","v":1},{"$f":"AT7","v":0.90267093384843999},-0.830867564110496,"REJ",3]
[null,null,"Index sociability P kategória Target 5",{"$f":"IF(D41<>\"\",(IF(D41>=0.75,\"A\",IF(D41>=0.5,\"B\",IF(D41>=0.25,\"C\",IF(D41<0.25,\"D\",\"x\"))))),\"\")","v":"B"},{"$f":"IF(E41<>\"\",(IF(E41>=0.75,\"A\",IF(E41>=0.5,\"B\",IF(E41>=0.25,\"C\",IF(E41<0.25,\"D\",\"x\"))))),\"\")","v":"D"},"C","D","B","D","B","D","B","C","D","D","C","C","D","C","D","A","D","C","C","C","B","B","B","C","B","D","","","","","","","","","","","","",null,null,null,null,null,{"$f":"IF(D24=\"NEG\",D7,\"\")","v":""},{"$f":"IF(E24=\"NEG\",E7,\"\")","v":""},"","","","","","","","","","","","","","","","","","","","","","","","","","","","","","","","","","","","","","",0,"",{"$f":"AS7","v":1},{"$f":"AT7","v":0.90267093384843999},"","NEG",4]
[null,null,"Prekódované pre Target graf 5 Q_1",{"$f":"IF(D41<>\"\",(IF(D41>=0.75,15,IF(D41>=0.5,40,IF(D41>=0.25,56,IF(D41<0.25,73,\"x\"))))),\"\")","v":40},73,56,73,40,73,40,73,40,56,73,73,56,56,73,56,73,15,73,56,56,56,40,40,40,56,40,73,"","","","","","","","","","","","",null,null,null,null,null,{"$f":"IF(D25=\"CON\",D7,\"\")","v":""},{"$f":"IF(E25=\"CON\",E7,\"\")","v":""},"","","","","","","","","","","","","","","","","","","","","","","","","","","","","","","","","","","","","","",0,"",{"$f":"AS7","v":1},{"$f":"AT7","v":0.90267093384843999},"","CON",5]
[null,null,null,null,null,null,null,null,null,null,null,null,null,null,null,null,null,null,null,null,null,null,null,null,null,null,null,null,null,null,null,null,null,null,null,null,null,null,null,null,null,null,null,null,null,null,null,null,{"$f":"IF(D26=\"AVE\",D7,\"\")","v":2},{"$f":"IF(E26=\"AVE\",E7,\"\")","v":""},1,"",2,"",2,0,"","",0,0,1,1,0,1,0,3,0,1,1,"","",2,2,1,"","","","","","","","","","","","","","",20,1.0526315789473684,{"$f":"AS7","v":1},{"$f":"AT7","v":0.90267093384843999},5.8306495727052286E-2,"AVE",6]
["Podľa Group Dynamnics",null,"Algoritmus 6 Target",null,null,null,null,null,null,null,null,null,null,null,null,null,null,null,null,null,null,null,null,null,null,null,null,null,null,null,null,null,null,null,null,null,null,null,null,null,null,null,null,null,null,null,null,null,{"$f":"IF(D27=\"OPO\",D7,\"\")","v":""},{"$f":"IF(E27=\"OPO\",E7,\"\")","v":""},"","","","","","","","","","","","",0,"",0,"","","","","","","","","","","","","","","","","","","","","","","",0,"",{"$f":"AS7","v":1},{"$f":"AT7","v":0.90267093384843999},"","OPO Walsh",7]
["Mutual rejection","Cs–","Index odmietania N",{"$f":"IF($B$2<>0,IF(D18<>\"\",IF(D10<>\"\",D10/$B$2,\"\"),\"\"),\"\")","v":0},{"$f":"IF($B$2<>0,IF(E18<>\"\",IF(E10<>\"\",E10/$B$2,\"\"),\"\"),\"\")","v":0},0,0.33333333333333331,0.33333333333333331,1,0,0,0,1,0,0.33333333333333331,0,0,0,0.33333333333333331,0.33333333333333331,0.33333333333333331,0,0.33333333333333331,0,0.33333333333333331,0,0,0,0,0,0,"","","","","","","","","","","","",null,null,null,null,null,null,null,null,null,null,null,null,null,null,null,null,null,null,null,null,"spočíta mutuály negatívne v kategóriách pre z-skóre",null,null,null,null,null,null,null,null,null,null,null,null,null,null,null,null,null,null,null,null,null,null,null,null,null,"xi"]
[null,null,"Index odmietania P kategória Target 6",{"$f":"IF(D46<>\"\",(IF(D46>=0.75,\"A\",IF(D46>=0.5,\"B\",IF(D46>=0.25,\"C\",IF(D46<0.25,\"D\",\"x\"))))),\"\")","v":"D"},{"$f":"IF(E46<>\"\",(IF(E46>=0.75,\"A\",IF(E46>=0.5,\"B\",IF(E46>=0.25,\"C\",IF(E46<0.25,\"D\",\"x\"))))),\"\")","v":"D"},"D","C","C","A","D","D","D","A","D","C","D","D","D","C","C","C","D","C","D","C","D","D","D","D","D","D","","","","","","","","","","","","",null,null,null,null,null,1,2,3,4,5,6,7,8,9,10,11,12,13,14,15,16,17,18,19,20,21,22,23,24,25,26,27,28,29,30,31,32,33,34,35,36,37,38,39,40,"Suma","AM","AM all","SD all","z-skóre","kategória"]
[null,null,"Prekódované pre Target graf 6 Q_1",{"$f":"IF(D46<>\"\",(IF(D46>=0.75,15,IF(D46>=0.5,40,IF(D46>=0.25,56,IF(D46<0.25,73,\"x\"))))),\"\")","v":73},73,73,56,56,15,73,73,73,15,73,56,73,73,73,56,56,56,73,56,73,56,73,73,73,73,73,73,"","","","","","","","","","","","",null,null,null,null,null,{"$f":"IF(D21=\"OPO\",D10,\"\")","v":""},{"$f":"IF(E21=\"OPO\",E10,\"\")","v":0},"","","",3,"","","","","","","","",0,"",1,"","","","","","","","","","","","","","","","","","","","","","","",{"$f":"SUM(AW48:CJ48)","v":4},{"$f":"IF(CK48>0,AVERAGE(AW48:CJ48),\"\")","v":1},{"$f":"AS10","v":0.5},{"$f":"AT10","v":0.83887049280786108},{"$f":"IF(CK48>0,(CL48-CM48)/CN48,\"\")","v":0.59603956067926966},"OPO Fila",1,1]
[null,null,null,null,null,null,null,null,null,null,null,null,null,null,null,null,null,null,null,null,null,null,null,null,null,null,null,null,null,null,null,null,null,null,null,null,null,null,null,null,null,null,null,null,null,null,null,null,{"$f":"IF(D22=\"POP\",D10,\"\")","v":""},{"$f":"IF(E22=\"POP\",E10,\"\")","v":""},"","","","","","",0,"","","","","","","","","","","","",1,0,"","","",0,0,"","","","","","","","","","","","",1,0.2,{"$f":"AS10","v":0.5},{"$f":"AT10","v":0.83887049280786108},-0.35762373640756179,"POP",2,2]
[null,null,null,null,null,null,null,null,null,null,null,null,null,null,null,null,null,null,null,null,null,null,null,null,null,null,null,null,null,null,null,null,null,null,null,null,null,null,null,null,null,null,null,null,null,null,null,null,{"$f":"IF(D23=\"REJ\",D10,\"\")","v":""},{"$f":"IF(E23=\"REJ\",E10,\"\")","v":0},"",1,"",3,"","","",3,"","","","","","","","","","","","","","","","","","","","","","","","","","","","","","",7,1.75,{"$f":"AS10","v":0.5},{"$f":"AT10","v":0.83887049280786108},1.4900989016981743,"REJ",3,3]
["Podľa Group Dynamnics",null,"Algoritmus 1 Target",null,null,null,null,null,null,null,null,null,null,null,null,null,null,null,null,null,null,null,null,null,null,null,null,null,null,null,null,null,null,null,null,null,null,null,null,null,null,null,null,null,null,null,null,null,{"$f":"IF(D24=\"NEG\",D10,\"\")","v":""},{"$f":"IF(E24=\"NEG\",E10,\"\")","v":""},"","","","","","","","","","","","","","","","","","","","","","","","","","","","","","","","","","","","","","",0,"",{"$f":"AS10","v":0.5},{"$f":"AT10","v":0.83887049280786108},"","NEG",4,4]
[null,null,"Frequenties of positive questions",null,null,null,null,null,null,null,null,null,null,null,null,null,null,null,null,null,null,null,null,null,null,null,null,null,null,null,null,null,null,null,null,null,null,null,null,null,null,null,null,null,null,null,null,null,{"$f":"IF(D25=\"CON\",D10,\"\")","v":""},{"$f":"IF(E25=\"CON\",E10,\"\")","v":""},"","","","","","","","","","","","","","","","","","","","","","","","","","","","","","","","","","","","","","",0,"",{"$f":"AS10","v":0.5},{"$f":"AT10","v":0.83887049280786108},"","CON",5,5]
[null,null,null,null,null,null,null,null,null,null,null,null,null,null,null,null,null,null,null,null,null,null,null,null,null,null,null,null,null,null,null,null,null,null,null,null,null,null,null,null,null,null,null,null,null,null,null,null,{"$f":"IF(D26=\"AVE\",D10,\"\")","v":0},{"$f":"IF(E26=\"AVE\",E10,\"\")","v":""},0,"",1,"",0,0,"","",0,1,0,0,0,1,1,1,0,1,0,"","",0,0,0,"","","","","","","","","","","","","","",6,0.31578947368421051,{"$f":"AS10","v":0.5},{"$f":"AT10","v":0.83887049280786108},-0.21959352235552043,"AVE",6,6]
[null,"A","Popular \"A\"",{"$f":"IF(D18<>\"\",IF(D5<>\"\",IF(D5>3,IF(D8<=1,\"A\",\"\"),\"\"),\"\"),\"\")","v":""},{"$f":"IF(E18<>\"\",IF(E5<>\"\",IF(E5>3,IF(E8<=1,\"A\",\"\"),\"\"),\"\"),\"\")","v":""},"","","","","A","A","A","","","","","","","","","A","","","","","","","","","A","A","","","","","","","","","","","","",null,null,null,null,null,{"$f":"IF(D27=\"OPO\",D10,\"\")","v":""},{"$f":"IF(E27=\"OPO\",E10,\"\")","v":""},"","","","","","","","","","","","",0,"",1,"","","","","","","","","","","","","","","","","","","","","","","",1,0.5,{"$f":"AS10","v":0.5},{"$f":"AT10","v":0.83887049280786108},0,"OPO Walsh",7,7]
[null,"B","Liked more than disliked \"B\"",{"$f":"IF(D18<>\"\",IF(D5<>\"\",IF(D5>D8,IF(D54<>\"A\",\"B\",\"\"),\"\"),\"\"),\"\")","v":"B"},"","B","","B","","","","","","B","","B","B","","","","","B","B","","B","B","B","B","B","","","","","","","","","","","","","","",null,null,null,null,null,null,null,null,null,null,null,null,null,null,null,null,null,null,null,null,null,null,null,null,null,null,null,null,null,null,null,null,null,null,null,null,null,null,null,null,null,null,null,null,null,null,null,null,null,null,null,null,8]
[null,"C","Disliked more than liked \"C\"",{"$f":"IF(D18<>\"\",IF(D5<>\"\",IF(D5<D8,IF(D54<>\"A\",IF(D58<>\"E\",\"C\",\"\"),\"\"),\"\"),\"\"),\"\")","v":""},"","","","","","","","","C","","","","","C","","C","","","","","","","","","","","","","","","","","","","","","","","",null,null,null,null,null,null,null,null,null,null,null,null,null,null,null,null,null,null,null,null,null,null,null,null,null,null,null,null,null,null,null,null,null,null,null,null,null,null,null,null,null,null,null,null,null,null,null,null,null,null,null,null,9]
[null,"D","Controversial \"D\"",{"$f":"IF(D18<>\"\",IF(D5<>\"\",IF(D5>0,IF(D5>0,IF(D5=D8,IF(D54<>\"A\",\"D\",\"\"),\"\"),\"\"),\"\"),\"\"),\"\")","v":""},"","","","","","","","","","","D","","","","D","","","","","D","","","","","","","","","","","","","","","","","","","",null,null,null,null,null,null,null,null,null,null,null,null,null,null,null,null,null,null,null,null,null,null,null,null,null,null,null,null,null,null,null,null,null,null,null,null,null,null,null,null,null,null,null,null,null,null,null,null,null,null,null,null,10]
[null,"E","Rejected \"E\"",{"$f":"IF(D18<>\"\",IF(D5<>\"\",IF(D5<=1,IF(D8>3,\"E\",\"\"),\"\"),\"\"),\"\")","v":""},{"$f":"IF(E18<>\"\",IF(E5<>\"\",IF(E5<=1,IF(E8>3,\"E\",\"\"),\"\"),\"\"),\"\")","v":"E"},"","E","","E","","","","","","","","","","","","","","","","","","","","","","","","","","","","","","","","","","",null,null,null,null,null,null,null,null,null,null,null,null,null,null,null,null,null,null,null,null,null,null,null,null,null,null,null,null,null,null,null,null,null,null,null,null,null,null,null,null,null,null,null,null,null,null,null,null,null,null,null,null,11]
[null,"F","Neglected \"F\"",{"$f":"IF(D18<>\"\",IF(D5<>\"\",IF(D5=0,IF(D8=0,\"F\",\"\"),\"\"),\"\"),\"\")","v":""},{"$f":"IF(E18<>\"\",IF(E5<>\"\",IF(E5=0,IF(E8=0,\"F\",\"\"),\"\"),\"\"),\"\")","v":""},"","","","","","","","","","","","","","","","","","","","","","","","","","","","","","","","","","","","","","",null,null,null,null,null,null,null,null,null,null,null,null,null,null,null,null,null,null,null,null,null,null,null,null,null,null,null,null,null,null,null,null,null,null,null,null,null,null,null,null,null,null,null,null,null,null,null,null,null,null,null,null,12]
[null,null,"Pomo B",{"$f":"IF(D17=0,IF(D18=0,\"B\",\"\"),IF(D55=\"B\",\"B\",\"\"))","v":"B"},"","B","","B","","","","","","B","","B","B","","","","","B","B","","B","B","B","B","B","","","","","","","","","","","","","","",null,null,null,null,null,null,null,null,null,null,null,null,null,null,null,null,null,null,null,null,null,null,null,null,null,null,null,null,null,null,null,null,null,null,null,null,null,null,null,null,null,null,null,null,null,null,null,null,null,null,null,null,13]
[null,null,"Prekódované pre Target graf 1 Q_1",{"$f":"IF(D59=\"F\",87,IF(D57=\"D\",60,IF(D58=\"E\",74,IF(D56=\"C\",46,IF(D54=\"A\",13,IF(D55=\"B\",33,IF(D60=\"B\",33,\"\")))))))","v":33},74,33,74,33,74,13,13,13,46,33,60,33,33,46,60,46,13,33,33,60,33,33,33,33,33,13,13,"","",{"$f":"IF(AH59=\"F\",87,IF(AH57=\"D\",60,IF(AH58=\"E\",74,IF(AH56=\"C\",46,IF(AH54=\"A\",13,IF(AH55=\"B\",33,IF(AH60=\"B\",33,\"\")))))))","v":""},"","","","","","","","","",null,null,null,null,null,null,null,null,null,null,null,null,null,null,null,null,null,null,null,null,null,null,null,null,null,null,null,null,null,null,null,null,null,null,null,null,null,null,null,null,null,null,null,null,null,null,null,null,null,null,null,null,14]
["Otázka č.2",null,null,null,null,null,null,null,null,null,null,null,null,null,null,null,null,null,null,null,null,null,null,null,null,null,null,null,null,null,null,null,null,null,null,null,null,null,null,null,null,null,null,null,"AM","SD","MAX",null,null,null,null,null,null,null,null,null,null,null,null,null,null,null,null,null,null,null,null,null,null,null,null,null,null,null,null,null,null,null,null,null,null,null,null,null,null,null,null,null,null,null,null,null,null,null,null,15]
["Q_2_P","Sel_p_r",{"$f":"CONCATENATE($BJ$3, \" P\")","v":" P"},1,0,3,1,1,0,6,4,7,0,1,0,1,2,2,0,0,5,2,1,1,1,14,0,9,6,5,8,null,null,null,null,null,null,null,null,null,null,null,null,{"$f":"SUM(D63:AQ63)","v":81},{"$f":"IF(AR63>0,AVERAGE(D63:AQ63),\"\")","v":2.8928571428571428},{"$f":"IF(AR63>0,STDEV(D63:AQ63),\"\")","v":3.4570302574692922},{"$f":"MAX(D63:AQ63)","v":14},null,null,null,null,null,null,null,null,null,null,null,null,null,null,null,null,null,null,null,null,null,null,null,null,null,null,null,null,null,null,null,null,null,null,null,null,null,null,null,null,null,null,null,null,null,null,null,null,16]
["Q_2_P","Sel_p_g",{"$f":"CONCATENATE($BJ$3, \" P\")","v":" P"},3,3,3,3,3,3,3,3,3,3,3,3,3,3,3,3,3,3,3,3,3,3,3,3,3,3,3,0,null,null,null,null,null,null,null,null,null,null,null,null,{"$f":"SUM(D64:AQ64)","v":81},{"$f":"IF(AR63>0,AVERAGE(D64:AQ64),\"\")","v":2.8928571428571428},{"$f":"IF(AR63>0,STDEV(D64:AQ64),\"\")","v":0.56694670951384041},null,null,null,null,null,null,null,null,null,null,null,null,null,null,null,null,null,null,null,null,null,null,null,null,null,null,null,null,null,null,null,null,null,null,null,null,null,null,null,null,null,null,null,null,null,null,null,null,null,17]
["Q_2_P","Rec_p",{"$f":"CONCATENATE($BJ$3, \" mutual P\")","v":" mutual P"},1,0,1,1,1,0,2,0,1,0,0,0,1,0,1,0,0,3,1,1,0,1,3,0,3,2,1,0,null,null,null,null,null,null,null,null,null,null,null,null,24,{"$f":"IF(AR63>0,AVERAGE(D65:AQ65),\"\")","v":0.8571428571428571},{"$f":"IF(AR63>0,STDEV(D65:AQ65),\"\")","v":0.97046326143700146},null,null,null,null,null,null,null,null,null,null,null,null,null,null,null,null,null,null,null,null,null,null,null,null,null,null,null,null,null,null,null,null,null,null,null,null,null,null,null,null,null,null,null,null,null,null,null,null,null,18]
["Q_2_N","Sel_n_r",{"$f":"CONCATENATE($BJ$3, \" N\")","v":" N"},1,13,0,10,3,20,0,1,0,18,0,4,0,0,1,1,3,0,0,1,0,0,2,1,0,0,2,0,null,null,null,null,null,null,null,null,null,null,null,null,81,{"$f":"IF(AR63>0,AVERAGE(D66:AQ66),\"\")","v":2.8928571428571428},{"$f":"IF(AR63>0,STDEV(D66:AQ66),\"\")","v":5.4659842779671557},{"$f":"MAX(D66:AQ66)","v":20},null,null,null,null,null,null,null,null,null,null,null,null,null,null,null,null,null,null,null,null,null,null,null,null,null,null,null,null,null,null,null,null,null,null,null,null,null,null,null,null,null,null,null,null,null,null,null,null,19]
["Q_2_N","Sel_n_g",{"$f":"CONCATENATE($BJ$3, \" N\")","v":" N"},3,3,3,3,3,3,3,3,3,3,3,3,3,3,3,3,3,3,3,3,3,3,3,3,3,3,3,0,null,null,null,null,null,null,null,null,null,null,null,null,81,{"$f":"IF(AR63>0,AVERAGE(D67:AQ67),\"\")","v":2.8928571428571428},{"$f":"IF(AR63>0,STDEV(D67:AQ67),\"\")","v":0.56694670951384041},null,null,null,null,null,null,null,null,null,null,null,null,null,null,null,null,null,null,null,null,null,null,null,null,null,null,null,null,null,null,null,null,null,null,null,null,null,null,null,null,null,null,null,null,null,null,null,null,null,20]
["Q_2_N","Rec_n",{"$f":"CONCATENATE($BJ$3, \" mutual N\")","v":" mutual N"},1,3,0,2,0,2,0,0,0,2,0,1,0,0,0,0,1,0,0,0,0,0,0,0,0,0,0,0,null,null,null,null,null,null,null,null,null,null,null,null,12,{"$f":"IF(AR63>0,AVERAGE(D68:AQ68),\"\")","v":0.42857142857142855},{"$f":"IF(AR63>0,STDEV(D68:AQ68),\"\")","v":0.835710894037345},null,null,null,null,null,null,null,null,null,null,null,null,null,null,null,null,null,null,null,null,null,null,null,null,null,null,null,null,null,null,null,null,null,null,null,null,null,null,null,null,null,null,null,null,null,null,null,null,null,21]
["Q_2","IZO p",{"$f":"CONCATENATE($BJ$3, \" izolovaní P\")","v":" izolovaní P"},{"$f":"IF(D75<>\"\",IF(D63<>\"\",IF(D63 = 0,IF(D64 = 0,1,\"\"),\"\"),\"\"),\"\")","v":""},{"$f":"IF(E75<>\"\",IF(E63<>\"\",IF(E63 = 0,IF(E64 = 0,1,\"\"),\"\"),\"\"),\"\")","v":""},"","","","","","","","","","","","","","","","","","","","","","","","","","","","","","","","","","","","","","",0,null,null,null,null,null,null,null,null,null,null,null,null,null,null,null,null,null,null,null,null,null,null,null,null,null,null,null,null,null,null,null,null,null,null,null,null,null,null,null,null,null,null,null,null,null,null,null,null,null,null,null,22]
["Q_2","OPO p",{"$f":"CONCATENATE($BJ$3, \" opomenutí P\")","v":" opomenutí P"},{"$f":"IF(D63<>\"\",IF(D63 = 0,IF(D64 > 0,1,\"\"),\"\"),\"\")","v":""},{"$f":"IF(E63<>\"\",IF(E63 = 0,IF(E64 > 0,1,\"\"),\"\"),\"\")","v":1},"","","",1,"","","",1,"",1,"","","",1,1,"","","","","","",1,"","","","","","","","","","","","","","","","",7,null,null,null,null,null,null,null,null,null,null,null,null,null,null,null,null,null,null,null,null,null,null,null,null,null,null,null,null,null,null,null,null,null,null,null,null,null,null,null,null,null,null,null,null,null,null,null,null,null,null,null,23]
["Q_2","IZO n",{"$f":"CONCATENATE($BJ$3, \" izolovaní N\")","v":" izolovaní N"},{"$f":"IF(D76<>\"\",IF(D66<>\"\",IF(D66 = 0,IF(D67 = 0,1,\" \"),\" \"),\" \"),\"\")","v":" "},{"$f":"IF(E76<>\"\",IF(E66<>\"\",IF(E66 = 0,IF(E67 = 0,1,\" \"),\" \"),\" \"),\"\")","v":" "}," "," "," "," "," "," "," "," "," "," "," "," "," "," "," "," "," "," "," "," "," "," "," "," "," ",1,"","","","","","","","","","","","",1,null,null,null,null,null,null,null,null,null,null,null,null,null,null,null,null,null,null,null,null,null,null,null,null,null,null,null,null,null,null,null,null,null,null,null,null,null,null,null,null,null,null,null,null,null,null,null,null,null,null,null,24]
["Q_2","OPO n",{"$f":"CONCATENATE($BJ$3, \" opomenutí N\")","v":" opomenutí N"},{"$f":"IF(D66<>\"\",IF(D66 = 0,IF(D67 > 0,1,\" \"),\" \"),\" \")","v":" "}," ",1," "," "," ",1," ",1," ",1," ",1,1," "," "," ",1,1," ",1,1," "," ",1,1," "," "," "," "," "," "," "," "," "," "," "," "," "," ",12,null,null,null,null,null,null,null,null,null,null,null,null,null,null,null,null,null,null,null,null,null,null,null,null,null,null,null,null,null,null,null,null,null,null,null,null,null,null,null,null,null,null,null,null,null,null,null,null,null,null,null,25]
["Podľa Walsha","Social preference and social Impact",null,null,null,null,null,null,null,null,null,null,null,null,null,null,null,null,null,null,null,null,null,null,null,null,null,null,null,null,null,null,null,null,null,null,null,null,null,null,null,null,null,null,null,null,null,null,null,null,null,null,null,null,null,null,null,null,null,null,null,null,null,null,null,null,null,null,null,null,null,null,null,null,null,null,null,null,null,null,null,null,null,null,null,null,null,null,null,null,null,null,null,null,null,26]
["Algoritmus 2 používa Group aj Walsh",null,null,null,null,null,null,null,null,null,null,null,null,null,null,null,null,null,null,null,null,null,null,null,null,null,null,null,null,null,null,null,null,null,null,null,null,null,null,null,null,null,null,null,null,null,null,null,null,null,null,null,null,null,null,null,null,null,null,null,null,null,null,null,null,null,null,null,null,null,null,null,null,null,null,null,null,null,null,null,null,null,null,null,null,null,null,null,null,null,null,null,null,null,null,27]
["Q_2","zLM","z-skóre P",{"$f":"IF($AT$63<>\"\",IF(D63<>\"\",(D63-$AS$63)/$AT$63,\"\"),\"\")","v":-0.54753849456984582},{"$f":"IF($AT$63<>\"\",IF(E63<>\"\",(E63-$AS$63)/$AT$63,\"\"),\"\")","v":-0.83680411434259461},3.099274497565167E-2,-0.54753849456984582,-0.54753849456984582,-0.83680411434259461,0.89878960429389798,0.32025836474840041,1.1880552240666469,-0.83680411434259461,-0.54753849456984582,-0.83680411434259461,-0.54753849456984582,-0.2582728747970971,-0.2582728747970971,-0.83680411434259461,-0.83680411434259461,0.6095239845211492,-0.2582728747970971,-0.54753849456984582,-0.54753849456984582,-0.54753849456984582,3.2129145624758881,-0.83680411434259461,1.7665864636121444,0.89878960429389798,0.6095239845211492,1.4773208438393957,"","","","","","","","","","","","",null,null,null,null,null,null,null,null,null,null,null,null,null,null,null,null,null,null,null,null,null,null,null,null,null,null,null,null,null,null,null,null,null,null,null,null,null,null,null,null,null,null,null,null,null,null,null,null,null,null,null,null,28]
["Q_2","zLL","z-skóre N",{"$f":"IF($AT$66<>\"\",IF($AT$66<>0,IF(D66<>\"\",(D66-$AS$66)/$AT$66,\"\"),\"\"),\"\")","v":-0.34629758275871075},{"$f":"IF($AT$66<>\"\",IF($AT$66<>0,IF(E66<>\"\",(E66-$AS$66)/$AT$66,\"\"),\"\"),\"\")","v":1.849098413598399},-0.52924724912180321,1.3002494145091215,1.9601749967474203E-2,3.1297460781400464,-0.52924724912180321,-0.34629758275871075,-0.52924724912180321,2.7638467454138613,-0.52924724912180321,0.20255141633056667,-0.52924724912180321,-0.52924724912180321,-0.34629758275871075,-0.34629758275871075,1.9601749967474203E-2,-0.52924724912180321,-0.52924724912180321,-0.34629758275871075,-0.52924724912180321,-0.52924724912180321,-0.16334791639561827,-0.34629758275871075,-0.52924724912180321,-0.52924724912180321,-0.16334791639561827,-0.52924724912180321,"","","","","","","","","","","","",null,null,null,null,null,null,null,null,null,null,null,null,null,null,null,null,null,null,null,null,null,null,null,null,null,null,null,null,null,null,null,null,null,null,null,null,null,null,null,null,null,null,null,null,null,null,null,null,null,null,null,null,29]
["Q_2","SP","Social preference (zLM - zLL)",{"$f":"IF(D76<>\"\",IF(D75<>\"\",D75-D76,\"\"),\"\")","v":-0.20124091181113507},{"$f":"IF(E76<>\"\",IF(E75<>\"\",E75-E76,\"\"),\"\")","v":-2.6859025279409936},0.56023999409745484,-1.8477879090789673,-0.56714024453732004,-3.9665501924826412,1.4280368534157013,0.66655594750711122,1.7173024731884501,-3.6006508597564562,-1.8291245448042615E-2,-1.0393555306731612,-1.8291245448042615E-2,0.27097437432470611,8.8024707961613657E-2,-0.49050653158388385,-0.85640586431006882,1.1387712336429523,0.27097437432470611,-0.20124091181113507,-1.8291245448042615E-2,-1.8291245448042615E-2,3.3762624788715065,-0.49050653158388385,2.2958337127339474,1.4280368534157013,0.7728719009167675,2.0065680929611989,"","","","","","","","","","","","",null,null,null,null,null,null,null,null,null,null,null,null,null,null,null,null,null,null,null,null,"spočíta pozitívne v kategóriách pre z-skóre",null,null,null,null,null,null,null,null,null,null,null,null,null,null,null,null,null,null,null,null,null,null,null,null,null,"xi","všetky","všetky",null,null,null,30]
["Q_2","SI","Social impact (zLM + zLL)",{"$f":"IF(D76<>\"\",IF(D75<>\"\",D75+D76,\"\"),\"\")","v":-0.89383607732855652},{"$f":"IF(E76<>\"\",IF(E75<>\"\",E75+E76,\"\"),\"\")","v":1.0122942992558044},-0.49825450414615152,0.75271091993927564,-0.52793674460237161,2.2929419637974515,0.36954235517209477,-2.6039218010310339E-2,0.65880797494484367,1.9270426310712667,-1.076785743691649,-0.63425269801202799,-1.076785743691649,-0.78752012391890025,-0.60457045755580785,-1.1831016971013053,-0.81720236437512039,8.0276735399345989E-2,-0.78752012391890025,-0.89383607732855652,-1.076785743691649,-1.076785743691649,3.0495666460802697,-1.1831016971013053,1.2373392144903412,0.36954235517209477,0.4461760681255309,0.94807359471759245,"","","","","","","","","","","","",null,null,null,null,null,1,2,3,4,5,6,7,8,9,10,11,12,13,14,15,16,17,18,19,20,21,22,23,24,25,26,27,28,29,30,31,32,33,34,35,36,37,38,39,40,"Suma","AM","AM all","SD all","z-skóre","kategória",null,31]
[null,null,"OPOMENUTÍ FILA",{"$f":"IF(D76<>\"\",IF(D63<>\"\",IF(D63 = 0,IF(D64 > 0,\"OPO\",\" \"),\" \"),\" \"),\"\")","v":" "},{"$f":"IF(E76<>\"\",IF(E63<>\"\",IF(E63 = 0,IF(E64 > 0,\"OPO\",\" \"),\" \"),\" \"),\"\")","v":"OPO"}," "," "," ","OPO"," "," "," ","OPO"," ","OPO"," "," "," ","OPO","OPO"," "," "," "," "," "," ","OPO"," "," "," "," ","","","","","","","","","","","","",{"$f":"COUNTIF(D79:AQ79,\"OPO\")","v":7},null,null,null,null,{"$f":"IF(D79=\"OPO\",D63,\" \")","v":" "},{"$f":"IF(E79=\"OPO\",E63,\"\")","v":0},"","","",0,"","","",0,"",0,"","","",0,0,"","","","","","",0,"","","","","","","","","","","","","","","","",{"$f":"SUM(AW79:CJ79)","v":0},{"$f":"IF(CK79>0,AVERAGE(AW79:CJ79),\"\")","v":""},{"$f":"AS63","v":2.8928571428571428},{"$f":"AT63","v":3.4570302574692922},{"$f":"IF(CK79>0,(CL79-CM79)/CN79,\"\")","v":""},"OPO Fila",1]
[null,null,"POPULAR",{"$f":"IF(D76<>\"\",IF(D77>1,IF(D75>0,IF(D76<0,\"POP\",\"\"),\"\"),\"\"),\"\")","v":""},{"$f":"IF(E76<>\"\",IF(E77>1,IF(E75>0,IF(E76<0,\"POP\",\"\"),\"\"),\"\"),\"\")","v":""},"","","","","POP","","POP","","","","","","","","","POP","","","","","POP","","POP","POP","","POP","","","","","","","","","","","","",{"$f":"COUNTIF(D80:AQ80,\"POP\")","v":7},null,null,null,null,{"$f":"IF(D80=\"POP\",D63,\"\")","v":""},"","","","","",6,"",7,"","","","","","","","",5,"","","","",14,"",9,6,"",8,"","","","","","","","","","","","",{"$f":"SUM(AW80:CJ80)","v":55},7.8571428571428568,{"$f":"AS63","v":2.8928571428571428},{"$f":"AT63","v":3.4570302574692922},1.4359971838718597,"POP",2]
[null,null,"REJECTED",{"$f":"IF(D76<>\"\",IF(D77<-1,IF(D75<0,IF(D76>0,\"REJ\",\"\"),\"\"),\"\"),\"\")","v":""},{"$f":"IF(E76<>\"\",IF(E77<-1,IF(E75<0,IF(E76>0,\"REJ\",\"\"),\"\"),\"\"),\"\")","v":"REJ"},"","REJ","","REJ","","","","REJ","","REJ","","","","","","","","","","","","","","","","","","","","","","","","","","","","",{"$f":"COUNTIF(D81:AQ81,\"REJ\")","v":5},null,null,null,null,{"$f":"IF(D81=\"REJ\",D63,\"\")","v":""},0,"",1,"",0,"","","",0,"",0,"","","","","","","","","","","","","","","","","","","","","","","","","","","","",1,0.2,{"$f":"AS63","v":2.8928571428571428},{"$f":"AT63","v":3.4570302574692922},-0.77895099038804483,"REJ",3]
[null,null,"NEGLECTED",{"$f":"IF(D76<>\"\",IF(D78<-1,IF(D75=0,IF(D76=0,\"NEG\",\"\"),\"\"),\"\"),\"\")","v":""},{"$f":"IF(E76<>\"\",IF(E78<-1,IF(E75=0,IF(E76=0,\"NEG\",\"\"),\"\"),\"\"),\"\")","v":""},"","","","","","","","","","","","","","","","","","","","","","","","","","","","","","","","","","","","","","",{"$f":"COUNTIF(D82:AQ82,\"NEG\")","v":0},null,null,null,null,{"$f":"IF(D82=\"NEG\",D63,\"\")","v":""},"","","","","","","","","","","","","","","","","","","","","","","","","","","","","","","","","","","","","","","",0,"",{"$f":"AS63","v":2.8928571428571428},{"$f":"AT63","v":3.4570302574692922},"","NEG",4]
[null,null,"CONTROVERSIAL",{"$f":"IF(D76<>\"\",IF(D75<>\"\",IF(D78>1,IF(D75>0,IF(D76>0,\"CON\",\"\"),\"\"),\"\"),\"\"),\"\")","v":""},{"$f":"IF(E76<>\"\",IF(E75<>\"\",IF(E78>1,IF(E75>0,IF(E76>0,\"CON\",\"\"),\"\"),\"\"),\"\"),\"\")","v":""},"","","","","","","","","","","","","","","","","","","","","","","","","","","","","","","","","","","","","","",{"$f":"COUNTIF(D83:AQ83,\"CON\")","v":0},null,null,null,null,{"$f":"IF(D83=\"CON\",D63,\"\")","v":""},null,null,null,null,null,null,null,null,null,null,null,null,null,null,null,null,null,null,null,null,null,null,null,null,null,null,null,null,null,null,null,null,null,null,null,null,null,null,null,0,"",{"$f":"AS63","v":2.8928571428571428},{"$f":"AT63","v":3.4570302574692922},"","CON",5]
["*zmenený vzorec",null,"AVERAGE STATUS",{"$f":"IF(D75<>\"\",IF(D80<>\"POP\",IF(D81<>\"REJ\",IF(D82<>\"NEG\",IF(D83<>\"CON\",\"AVE\",\"\"),\"\"),\"\"),\"\"),\"\")","v":"AVE"},"","AVE","","AVE","","","AVE","","","AVE","","AVE","AVE","AVE","AVE","AVE","","AVE","AVE","AVE","AVE","","AVE","","","AVE","","","","","","","","","","","","","",{"$f":"COUNTIF(D84:AQ84,\"AVE\")","v":16},null,null,null,null,{"$f":"IF(D84=\"AVE\",D63,\"\")","v":1},"",3,"",1,"","",4,"","",1,"",1,2,2,0,0,"",2,1,1,1,"",0,"","",5,"","","","","","","","","","","","","",25,1.5625,{"$f":"AS63","v":2.8928571428571428},{"$f":"AT63","v":3.4570302574692922},-0.38482658344767467,"AVE",6]
[null,null,"OPOMENUTÍ WALSH",{"$f":"IF(D81<>\"REJ\",IF(D76<>\"\",IF(D63<>\"\",IF(D63 = 0,IF(D64 > 0,\"OPO\",\" \"),\" \"),\" \"),\"\"),\"\")","v":" "},{"$f":"IF(E81<>\"REJ\",IF(E76<>\"\",IF(E63<>\"\",IF(E63 = 0,IF(E64 > 0,\"OPO\",\" \"),\" \"),\" \"),\"\"),\"\")","v":""}," ",""," ",""," "," "," ",""," ",""," "," "," ","OPO","OPO"," "," "," "," "," "," ","OPO"," "," "," "," ","","","","","","","","","","","","",{"$f":"COUNTIF(D85:AQ85,\"OPO\")","v":3},null,null,null,null,{"$f":"IF(D85=\"OPO\",D63,\"\")","v":""},"","","","","","","","","","","","","","",0,0,"","","","","","",0,"","","","","","","","","","","","","","","","",0,"",{"$f":"AS63","v":2.8928571428571428},{"$f":"AT63","v":3.4570302574692922},"","OPO Walsh",7]
[null,null,"IZOLOVANÍ",{"$f":"IF(D75<>\"\",IF(D76<>\"\",IF(D63<>\"\",IF(D63 = 0,IF(D64 = 0,\"IZO\",\"\"),\" \"),\" \"),\"\"),\"\")","v":" "},{"$f":"IF(E75<>\"\",IF(E76<>\"\",IF(E63<>\"\",IF(E63 = 0,IF(E64 = 0,\"IZO\",\"\"),\" \"),\" \"),\"\"),\"\")","v":""}," "," "," ",""," "," "," ",""," ",""," "," "," ","",""," "," "," "," "," "," ",""," "," "," "," ","","","","","","","","","","","","",{"$f":"COUNTIF(D86:AQ86,\"IZO\")","v":0},null,null,null,null,null,null,null,null,null,null,null,null,null,null,null,null,null,null,null,"spočíta negatívne v kategóriách pre z-skóre",null,null,null,null,null,null,null,null,null,null,null,null,null,null,null,null,null,null,null,null,null,null,null,null,null,"xi","všetky","všetky"]
[null,null,null,{"$f":"IF(D83=\"CON\",\"CON\",IF(D80=\"POP\",\"POP\",\"\"))","v":""},{"$f":"IF(E83=\"CON\",\"CON\",IF(E80=\"POP\",\"POP\",\"\"))","v":""},"","","","","POP","","POP","","","","","","","","","POP","","","","","POP","","POP",{"$f":"IF(AC80=\"POP\",\"POP\",\"\")","v":"POP"},"","POP","","","","","","","","","","","","",null,null,null,null,null,1,2,3,4,5,6,7,8,9,10,11,12,13,14,15,16,17,18,19,20,21,22,23,24,25,26,27,28,29,30,31,32,33,34,35,36,37,38,39,40,"Suma","AM","AM all","SD all","z-skóre","kategória"]
[null,null,"Prekódované pre Target graf 2 Q_2",{"$f":"IF(D80=\"POP\",13,IF(D81=\"REJ\",33,IF(D82=\"NEG\",46,IF(D83=\"CON\",60,IF(D84=\"AVE\",74,IF(D79=\"OPO\",46,\"\"))))))","v":74},33,74,33,74,33,13,74,13,33,74,33,74,74,74,{"$f":"IF(S80=\"POP\",13,IF(S81=\"REJ\",33,IF(S82=\"NEG\",46,IF(S83=\"CON\",60,IF(S84=\"AVE\",74,IF(S79=\"OPO\",46,\"\"))))))","v":74},{"$f":"IF(T80=\"POP\",13,IF(T81=\"REJ\",33,IF(T82=\"NEG\",46,IF(T83=\"CON\",60,IF(T84=\"AVE\",74,IF(T79=\"OPO\",46,\"\"))))))","v":74},13,74,74,74,74,13,74,13,13,74,13,"","","","","","","","","","","","",null,null,null,null,null,{"$f":"IF(D79=\"OPO\",D66,\"\")","v":""},13,"","","",20,"","","",18,"",4,"","","",1,3,"","","","","","",1,"","","","","","","","","","","","","","","","",{"$f":"SUM(AW88:CJ88)","v":60},{"$f":"IF(CK88>0,AVERAGE(AW88:CJ88),\"\")","v":8.5714285714285712},{"$f":"AS66","v":2.8928571428571428},{"$f":"AT66","v":5.4659842779671557},{"$f":"IF(CK88>0,(CL88-CM88)/CN88,\"\")","v":1.0388927482761323},"OPO Fila",1]
[null,null,null,{"$f":"IF(D83=\"CON\",\"CON\",IF(D81=\"REJ\",\"REJ\",\"\"))","v":""},{"$f":"IF(E83=\"CON\",\"CON\",IF(E81=\"REJ\",\"REJ\",\"\"))","v":"REJ"},"","REJ","","REJ","","","","REJ","","REJ","","","","","","","","","","","","","",{"$f":"IF(AC81=\"REJ\",\"REJ\",\"\")","v":""},"","","","","","","","","","","","","","",null,null,null,null,null,{"$f":"IF(D80=\"POP\",D66,\"\")","v":""},"","","","","",0,"",0,"","","","","","","","",0,"","","","",2,"",0,0,"",0,"","","","","","","","","","","","",2,0.2857142857142857,{"$f":"AS66","v":2.8928571428571428},{"$f":"AT66","v":5.4659842779671557},-0.47697591587520538,"POP",2]
["Podľa Group Dynamnics",null,"Algoritmus 3 Target",null,null,null,null,null,null,null,null,null,null,null,null,null,null,null,null,null,null,null,null,null,null,null,null,null,null,null,null,null,null,null,null,null,null,null,null,null,null,null,null,null,null,null,null,null,{"$f":"IF(D81=\"NEG\",D66,\"\")","v":""},"","","","","","","","","","","","","","","","","","","","","","","","","","","","","","","","","","","","","","","",0,"",{"$f":"AS66","v":2.8928571428571428},{"$f":"AT66","v":5.4659842779671557},"","REJ",3]
["Recieved accteptance",null,"Kategórie",{"$f":"IF(D76<>\"\",IF(D63<>\"\",IF(D63>=TRUNC(0.75*$AU$5),\"A\",IF(D63>=TRUNC(0.5*$AU$5),\"B\",IF(D63>=TRUNC(0.25*$AU$5),\"C\",IF(D63<TRUNC(0.25*$AU$5),\"D\",\"\")))),\"\"),\"\")","v":"D"},{"$f":"IF(E76<>\"\",IF(E63<>\"\",IF(E63>=TRUNC(0.75*$AU$5),\"A\",IF(E63>=TRUNC(0.5*$AU$5),\"B\",IF(E63>=TRUNC(0.25*$AU$5),\"C\",IF(E63<TRUNC(0.25*$AU$5),\"D\",\"\")))),\"\"),\"\")","v":"D"},"C","D","D","D","B","C","A","D","D","D","D","C","C","D","D","B","C","D","D","D","A","D","A","B","B","A","","","","","","","","","","","","",null,null,null,null,null,{"$f":"IF(D82=\"CON\",D66,\"\")","v":""},"","","","","","","","","","","","","","","","","","","","","","","","","","","","","","","","","","","","","","","",0,"",{"$f":"AS66","v":2.8928571428571428},{"$f":"AT66","v":5.4659842779671557},"","NEG",4]
[null,null,"Prekódované pre Target graf 3 Q_2",{"$f":"IF(D76<>\"\",IF(D63<>\"\",IF(D63>=TRUNC(0.75*$AU$5),15,IF(D63>=TRUNC(0.5*$AU$5),40,IF(D63>=TRUNC(0.25*$AU$5),56,IF(D63<TRUNC(0.25*$AU$5),73,\"\")))),\"\"),\"\")","v":73},{"$f":"IF(E76<>\"\",IF(E63<>\"\",IF(E63>=TRUNC(0.75*$AU$5),15,IF(E63>=TRUNC(0.5*$AU$5),40,IF(E63>=TRUNC(0.25*$AU$5),56,IF(E63<TRUNC(0.25*$AU$5),73,\"\")))),\"\"),\"\")","v":73},56,73,73,73,40,56,15,73,73,73,73,56,56,73,73,40,56,73,73,73,15,73,15,40,40,15,"","","","","","","","","","","","",null,null,null,null,null,{"$f":"IF(D83=\"NEG\",D66,\"\")","v":""},"","","","","","","","","","","","","","","","","","","","","","","","","","","","","","","","","","","","","","","",0,"",{"$f":"AS66","v":2.8928571428571428},{"$f":"AT66","v":5.4659842779671557},"","CON",5]
[null,null,null,null,null,null,null,null,null,null,null,null,null,null,null,null,null,null,null,null,null,null,null,null,null,null,null,null,null,null,null,null,null,null,null,null,null,null,null,null,null,null,null,null,null,null,null,null,{"$f":"IF(D84=\"AVE\",D66,\"\")","v":1},"",0,"",3,"","",1,"","",0,"",0,0,1,1,3,"",0,1,0,0,"",1,"","",2,"","","","","","","","","","","","","",14,0.875,{"$f":"AS66","v":2.8928571428571428},{"$f":"AT66","v":5.4659842779671557},-0.36916629105409726,"AVE",6]
["Podľa Group Dynamnics",null,"Algoritmus 4 Target",null,null,null,null,null,null,null,null,null,null,null,null,null,null,null,null,null,null,null,null,null,null,null,null,null,null,null,null,null,null,null,null,null,null,null,null,null,null,null,null,null,null,null,null,null,{"$f":"IF(D85=\"OPO\",D66,\"\")","v":""},"","","","","","","","","","","","","","",1,3,"","","","","","",1,"","","","","","","","","","","","","","","","",5,1.6666666666666667,{"$f":"AS66","v":2.8928571428571428},{"$f":"AT66","v":5.4659842779671557},-0.22433113851664907,"OPO Walsh",7]
["Recieved rejections",null,"Kategórie",{"$f":"IF(D76<>\"\",IF(D66<>\"\",IF(D66>=TRUNC(0.75*$AU$8),\"A\",IF(D66>=TRUNC(0.5*$AU$8),\"B\",IF(D66>=TRUNC(0.25*$AU$8),\"C\",IF(D66<TRUNC(0.25*$AU$8),\"D\",\"\")))),\"\"),\"\")","v":"D"},{"$f":"IF(E76<>\"\",IF(E66<>\"\",IF(E66>=TRUNC(0.75*$AU$8),\"A\",IF(E66>=TRUNC(0.5*$AU$8),\"B\",IF(E66>=TRUNC(0.25*$AU$8),\"C\",IF(E66<TRUNC(0.25*$AU$8),\"D\",\"\")))),\"\"),\"\")","v":"B"},"D","B","D","A","D","D","D","A","D","D","D","D","D","D","D","D","D","D","D","D","D","D","D","D","D","D","","","","","","","","","","","","",null,null,null,null,null,null,null,null,null,null,null,null,null,null,null,null,null,null,null,null,"spočíta mutuály pozitívne v kategóriách pre z-skóre",null,null,null,null,null,null,null,null,null,null,null,null,null,null,null,null,null,null,null,null,null,null,null,null,null,"xi"]
[null,null,"Prekódované pre Target graf 4 Q_2",{"$f":"IF(D76<>\"\",IF(D66<>\"\",IF(D66>=TRUNC(0.75*$AU$8),15,IF(D66>=TRUNC(0.5*$AU$8),40,IF(D66>=TRUNC(0.25*$AU$8),56,IF(D66<TRUNC(0.25*$AU$8),73,\"\")))),\"\"),\"\")","v":73},{"$f":"IF(E76<>\"\",IF(E66<>\"\",IF(E66>=TRUNC(0.75*$AU$8),15,IF(E66>=TRUNC(0.5*$AU$8),40,IF(E66>=TRUNC(0.25*$AU$8),56,IF(E66<TRUNC(0.25*$AU$8),73,\"\")))),\"\"),\"\")","v":40},73,40,73,15,73,73,73,15,73,73,73,73,73,73,73,73,73,73,73,73,73,73,73,73,73,73,"","","","","","","","","","","","",null,null,null,null,null,1,2,3,4,5,6,7,8,9,10,11,12,13,14,15,16,17,18,19,20,21,22,23,24,25,26,27,28,29,30,31,32,33,34,35,36,37,38,39,40,"Suma","AM","AM all","SD all","z-skóre","kategória"]
[null,null,null,null,null,null,null,null,null,null,null,null,null,null,null,null,null,null,null,null,null,null,null,null,null,null,null,null,null,null,null,null,null,null,null,null,null,null,null,null,null,null,null,null,null,null,null,null,{"$f":"IF(D79=\"OPO\",D65,\"\")","v":""},0,"","","",0,"","","",0,"",0,"","","",0,0,"","","","","","",0,"","","","","","","","","","","","","","","","",{"$f":"SUM(AW97:CJ97)","v":0},{"$f":"IF(CK97>0,AVERAGE(AW97:CJ97),\"\")","v":""},{"$f":"AS65","v":0.8571428571428571},{"$f":"AT65","v":0.97046326143700146},{"$f":"IF(CK97>0,(CL97-CM97)/CN97,\"\")","v":""},"OPO Fila",1]
["Podľa Group Dynamnics",null,"Algoritmus 5 Target",null,null,null,null,null,null,null,null,null,null,null,null,null,null,null,null,null,null,null,null,null,null,null,null,null,null,null,null,null,null,null,null,null,null,null,null,null,null,null,null,null,null,null,null,null,{"$f":"IF(D80=\"POP\",D65,\"\")","v":""},"","","","","",2,"",1,"","","","","","","","",3,"","","","",3,"",3,2,"",0,"","","","","","","","","","","","",14,2,{"$f":"AS65","v":0.8571428571428571},{"$f":"AT65","v":0.97046326143700146},1.1776408116314174,"POP",2]
["Mutual acceptance","Cs+","Index sociability P",{"$f":"IF($B$2<>0,IF(D76<>\"\",IF(D65<>\"\",D65/($B$2),\"\"),\"\"),\"\")","v":0.33333333333333331},{"$f":"IF($B$2<>0,IF(E76<>\"\",IF(E65<>\"\",E65/($B$2),\"\"),\"\"),\"\")","v":0},0.33333333333333331,0.33333333333333331,0.33333333333333331,0,0.66666666666666663,0,0.33333333333333331,0,0,0,0.33333333333333331,0,0.33333333333333331,0,0,1,0.33333333333333331,0.33333333333333331,0,0.33333333333333331,1,0,1,0.66666666666666663,0.33333333333333331,0,"","","","","","","","","","","","",null,null,null,null,null,{"$f":"IF(D81=\"REJ\",D65,\"\")","v":""},0,"",1,"",0,"","","",0,"",0,"","","","","","","","","","","","","","","","","","","","","","","","","","","","",1,0.2,{"$f":"AS65","v":0.8571428571428571},{"$f":"AT65","v":0.97046326143700146},-0.67714346668806491,"REJ",3]
[null,null,"Index sociability P kategória",{"$f":"IF(D99<>\"\",(IF(D99>=0.75,\"A\",IF(D99>=0.5,\"B\",IF(D99>=0.25,\"C\",IF(D99<0.25,\"D\",\"x\"))))),\"\")","v":"C"},"D","C","C","C","D","B","D","C","D","D","D","C","D","C","D","D","A","C","C","D","C","A","D","A","B","C","D","","","","","","","","","","","","",null,null,null,null,null,{"$f":"IF(D82=\"NEG\",D65,\"\")","v":""},"","","","","","","","","","","","","","","","","","","","","","","","","","","","","","","","","","","","","","","",0,"",{"$f":"AS65","v":0.8571428571428571},{"$f":"AT65","v":0.97046326143700146},"","NEG",4]
[null,null,"Prekódované pre Target graf 5 Q_2",{"$f":"IF(D99<>\"\",(IF(D99>=0.75,15,IF(D99>=0.5,40,IF(D99>=0.25,56,IF(D99<0.25,73,\"x\"))))),\"\")","v":56},73,56,56,56,73,40,73,56,73,73,73,56,73,56,73,73,15,56,56,73,56,15,73,15,40,56,73,"","","","","","","","","","","","",null,null,null,null,null,{"$f":"IF(D83=\"CON\",D65,\"\")","v":""},"","","","","","","","","","","","","","","","","","","","","","","","","","","","","","","","","","","","","","","",0,"",{"$f":"AS65","v":0.8571428571428571},{"$f":"AT65","v":0.97046326143700146},"","CON",5]
[null,null,null,null,null,null,null,null,null,null,null,null,null,null,null,null,null,null,null,null,null,null,null,null,null,null,null,null,null,null,null,null,null,null,null,null,null,null,null,null,null,null,null,null,null,null,null,null,{"$f":"IF(D84=\"AVE\",D65,\"\")","v":1},"",1,"",1,"","",0,"","",0,"",1,0,1,0,0,"",1,1,0,1,"",0,"","",1,"","","","","","","","","","","","","",9,0.5625,{"$f":"AS65","v":0.8571428571428571},{"$f":"AT65","v":0.97046326143700146},-0.30361052174872477,"AVE",6]
["Podľa Group Dynamnics",null,"Algoritmus 6 Target",null,null,null,null,null,null,null,null,null,null,null,null,null,null,null,null,null,null,null,null,null,null,null,null,null,null,null,null,null,null,null,null,null,null,null,null,null,null,null,null,null,null,null,null,null,{"$f":"IF(D85=\"OPO\",D65,\"\")","v":""},"","","","","","","","","","","","","","",0,0,"","","","","","",0,"","","","","","","","","","","","","","","","",0,"",{"$f":"AS65","v":0.8571428571428571},{"$f":"AT65","v":0.97046326143700146},"","OPO Walsh",7]
["Mutual rejection","Cs–","Index odmietania N",{"$f":"IF($B$2<>0,IF(D76<>\"\",IF(D68<>\"\",D68/$B$2,\"\"),\"\"),\"\")","v":0.33333333333333331},{"$f":"IF($B$2<>0,IF(E76<>\"\",IF(E68<>\"\",E68/$B$2,\"\"),\"\"),\"\")","v":1},0,0.66666666666666663,0,0.66666666666666663,0,0,0,0.66666666666666663,0,0.33333333333333331,0,0,0,0,0.33333333333333331,0,0,0,0,0,0,0,0,0,0,0,"","","","","","","","","","","","",null,null,null,null,null,null,null,null,null,null,null,null,null,null,null,null,null,null,null,null,"spočíta mutuály negatívne v kategóriách pre z-skóre",null,null,null,null,null,null,null,null,null,null,null,null,null,null,null,null,null,null,null,null,null,null,null,null,null,"xi"]
[null,null,"Index odmietania P kategória",{"$f":"IF(D104<>\"\",(IF(D104>=0.75,\"A\",IF(D104>=0.5,\"B\",IF(D104>=0.25,\"C\",IF(D104<0.25,\"D\",\"x\"))))),\"\")","v":"C"},{"$f":"IF(E104<>\"\",(IF(E104>=0.75,\"A\",IF(E104>=0.5,\"B\",IF(E104>=0.25,\"C\",IF(E104<0.25,\"D\",\"x\"))))),\"\")","v":"A"},"D","B","D","B","D","D","D","B","D","C","D","D","D","D","C","D","D","D","D","D","D","D","D","D","D","D","","","","","","","","","","","","",null,null,null,null,null,1,2,3,4,5,6,7,8,9,10,11,12,13,14,15,16,17,18,19,20,21,22,23,24,25,26,27,28,29,30,31,32,33,34,35,36,37,38,39,40,"Suma","AM","AM all","SD all","z-skóre","kategória"]
[null,null,"Prekódované pre Target graf 6 Q_2",{"$f":"IF(D104<>\"\",(IF(D104>=0.75,15,IF(D104>=0.5,40,IF(D104>=0.25,56,IF(D104<0.25,73,\"x\"))))),\"\")","v":56},15,73,40,73,40,73,73,73,40,73,56,73,73,73,73,56,73,73,73,73,73,73,73,73,73,73,73,"","","","","","","","","","","","",null,null,null,null,null,{"$f":"IF(D79=\"OPO\",D68,\"\")","v":""},3,"","","",2,"","","",2,"",1,"","","",0,1,"","","","","","",0,"","","","","","","","","","","","","","","","",{"$f":"SUM(AW106:CJ106)","v":9},{"$f":"IF(CK106>0,AVERAGE(AW106:CJ106),\"\")","v":1.2857142857142858},{"$f":"AS68","v":0.42857142857142855},{"$f":"AT68","v":0.835710894037345},{"$f":"IF(CK106>0,(CL106-CM106)/CN106,\"\")","v":1.0256451881367417},"OPO Fila",1]
[1,2,null,null,null,null,null,null,null,null,null,null,null,null,null,null,null,null,null,null,null,null,null,null,null,null,null,null,null,null,null,null,null,null,null,null,null,null,null,null,null,null,null,null,null,null,null,null,{"$f":"IF(D80=\"POP\",D68,\"\")","v":""},"","","","","",0,"",0,"","","","","","","","",0,"","","","",0,"",0,0,"",0,"","","","","","","","","","","","",0,"",{"$f":"AS68","v":0.42857142857142855},{"$f":"AT68","v":0.835710894037345},"","POP",2]
[null,null,null,null,null,null,null,null,null,null,null,null,null,null,null,null,null,null,null,null,null,null,null,null,null,null,null,null,null,null,null,null,null,null,null,null,null,null,null,null,null,null,null,null,null,null,null,null,{"$f":"IF(D81=\"REJ\",D68,\"\")","v":""},3,"",2,"",2,"","","",2,"",1,"","","","","","","","","","","","","","","","","","","","","","","","","","","","",10,2,{"$f":"AS68","v":0.42857142857142855},{"$f":"AT68","v":0.835710894037345},1.8803495115840261,"REJ",3]
["Podľa Group Dynamnics",null,"Algoritmus 1 Target",null,null,null,null,null,null,null,null,null,null,null,null,null,null,null,null,null,null,null,null,null,null,null,null,null,null,null,null,null,null,null,null,null,null,null,null,null,null,null,null,null,null,null,null,null,{"$f":"IF(D82=\"NEG\",D68,\"\")","v":""},"","","","","","","","","","","","","","","","","","","","","","","","","","","","","","","","","","","","","","","",0,"",{"$f":"AS68","v":0.42857142857142855},{"$f":"AT68","v":0.835710894037345},"","NEG",4]
[null,null,"Frequenties of positive questions",null,null,null,null,null,null,null,null,null,null,null,null,null,null,null,null,null,null,null,null,null,null,null,null,null,null,null,null,null,null,null,null,null,null,null,null,null,null,null,null,null,null,null,null,null,{"$f":"IF(D83=\"CON\",D68,\"\")","v":""},"","","","","","","","","","","","","","","","","","","","","","","","","","","","","","","","","","","","","","","",0,"",{"$f":"AS68","v":0.42857142857142855},{"$f":"AT68","v":0.835710894037345},"","CON",5]
[null,null,null,null,null,null,null,null,null,null,null,null,null,null,null,null,null,null,null,null,null,null,null,null,null,null,null,null,null,null,null,null,null,null,null,null,null,null,null,null,null,null,null,null,null,null,null,null,{"$f":"IF(D84=\"AVE\",D68,\"\")","v":1},"",0,"",0,"","",0,"","",0,"",0,0,0,0,1,"",0,0,0,0,"",0,"","",0,"","","","","","","","","","","","","",2,0.125,{"$f":"AS68","v":0.42857142857142855},{"$f":"AT68","v":0.835710894037345},-0.36324933746509591,"AVE",6]
[null,"A","Popular \"A\"",{"$f":"IF(D76<>\"\",IF(D63<>\"\",IF(D63>3,IF(D66<=1,\"A\",\"\"),\"\"),\"\"),\"\")","v":""},{"$f":"IF(E76<>\"\",IF(E63<>\"\",IF(E63>3,IF(E66<=1,\"A\",\"\"),\"\"),\"\"),\"\")","v":""},"","","","","A","A","A","","","","","","","","","A","","","","","","","A","A","","A","","","","","","","","","","","","",null,null,null,null,null,{"$f":"IF(D85=\"OPO\",D68,\"\")","v":""},"","","","","","","","","","","","","","",0,1,"","","","","","",0,"","","","","","","","","","","","","","","","",1,0.33333333333333331,{"$f":"AS68","v":0.42857142857142855},{"$f":"AT68","v":0.835710894037345},-0.11396057645963793,"OPO Walsh",7]
[null,"B","Liked more than disliked \"B\"",{"$f":"IF(D76<>\"\",IF(D63<>\"\",IF(D63>D66,IF(D112<>\"A\",\"B\",\"\"),\"\"),\"\"),\"\")","v":""},{"$f":"IF(E76<>\"\",IF(E63<>\"\",IF(E63>E66,IF(E112<>\"A\",\"B\",\"\"),\"\"),\"\"),\"\")","v":""},"B","","","","","","","","B","","B","B","B","","","","B","","B","B","B","","","","B","","","","","","","","","","","","",""]
[null,"C","Disliked more than liked \"C\"",{"$f":"IF(D76<>\"\",IF(D63<>\"\",IF(D63<D66,IF(D112<>\"A\",IF(D116<>\"E\",\"C\",\"\"),\"\"),\"\"),\"\"),\"\")","v":""},{"$f":"IF(E76<>\"\",IF(E63<>\"\",IF(E63<E66,IF(E112<>\"A\",IF(E116<>\"E\",\"C\",\"\"),\"\"),\"\"),\"\"),\"\")","v":""},"","","C","","","","","","","","","","","C","C","","","","","","","C","","","","","","","","","","","","","","","",""]
[null,"D","Controversial \"D\"",{"$f":"IF(D76<>\"\",IF(D63<>\"\",IF(D63>0,IF(D63>0,IF(D63=D66,IF(D112<>\"A\",\"D\",\"\"),\"\"),\"\"),\"\"),\"\"),\"\")","v":"D"},{"$f":"IF(E76<>\"\",IF(E63<>\"\",IF(E63>0,IF(E63>0,IF(E63=E66,IF(E112<>\"A\",\"D\",\"\"),\"\"),\"\"),\"\"),\"\"),\"\")","v":""},"","","","","","","","","","","","","","","","","","D","","","","","","","","","","","","","","","","","","","",""]
[null,"E","Rejected \"E\"",{"$f":"IF(D76<>\"\",IF(D63<>\"\",IF(D63<=1,IF(D66>3,\"E\",\"\"),\"\"),\"\"),\"\")","v":""},{"$f":"IF(E76<>\"\",IF(E63<>\"\",IF(E63<=1,IF(E66>3,\"E\",\"\"),\"\"),\"\"),\"\")","v":"E"},"","E","","E","","","","E","","E","","","","","","","","","","","","","","","","","","","","","","","","","","","",""]
[null,"F","Neglected \"F\"",{"$f":"IF(D76<>\"\",IF(D63<>\"\",IF(D63=0,IF(D66=0,\"F\",\"\"),\"\"),\"\"),\"\")","v":""},{"$f":"IF(E76<>\"\",IF(E63<>\"\",IF(E63=0,IF(E66=0,\"F\",\"\"),\"\"),\"\"),\"\")","v":""},"","","","","","","","","","","","","","","","","","","","","","","","","","","","","","","","","","","","","",""]
[null,null,"Pomo B",{"$f":"IF(D75=0,IF(D76=0,\"B\",\"\"),IF(D113=\"B\",\"B\",\"\"))","v":""},{"$f":"IF(E75=0,IF(E76=0,\"B\",\"\"),IF(E113=\"B\",\"B\",\"\"))","v":""},"B","","","","","","","","B","","B","B","B","","","","B","","B","B","B","","","","B","","","","","","","","","","","","",""]
[null,null,"Prekódované pre Target graf 1 Q_2",{"$f":"IF(D117=\"F\",87,IF(D115=\"D\",60,IF(D116=\"E\",74,IF(D114=\"C\",46,IF(D112=\"A\",13,IF(D113=\"B\",33,IF(D118=\"B\",33,\"\")))))))","v":60},74,33,74,46,74,13,13,13,74,33,74,33,33,33,46,46,13,33,60,33,33,33,46,13,13,33,13,"","","","","","","","","","","",""]
["Otázka č.3",null,null,null,null,null,null,null,null,null,null,null,null,null,null,null,null,null,null,null,null,null,null,null,null,null,null,null,null,null,null,null,null,null,null,null,null,null,null,null,null,null,null,null,"AM","SD","MAX"]
["Q_3_P","Sel_p_r",{"$f":"CONCATENATE($BJ$3, \" P\")","v":" P"},1,0,2,0,4,2,4,4,5,3,4,4,0,1,1,4,1,5,2,3,4,3,9,1,3,1,6,4,null,null,null,null,null,null,null,null,null,null,null,null,{"$f":"SUM(D121:AQ121)","v":81},{"$f":"IF(AR121>0,AVERAGE(D121:AQ121),\"\")","v":2.8928571428571428},{"$f":"IF(AR121>0,STDEV(D121:AQ121),\"\")","v":2.0609110842912406},{"$f":"MAX(D121:AQ121)","v":9}]
["Q_3_P","Sel_p_g",{"$f":"CONCATENATE($BJ$3, \" P\")","v":" P"},3,3,3,3,3,3,3,3,3,3,3,3,3,3,3,3,3,3,3,3,3,3,3,3,3,3,3,0,null,null,null,null,null,null,null,null,null,null,null,null,{"$f":"SUM(D122:AQ122)","v":81},{"$f":"IF(AR121>0,AVERAGE(D122:AQ122),\"\")","v":2.8928571428571428},{"$f":"IF(AR121>0,STDEV(D122:AQ122),\"\")","v":0.56694670951384041}]
["Q_3_P","Rec_p",{"$f":"CONCATENATE($BJ$3, \" mutual P\")","v":" mutual P"},1,0,2,0,1,1,2,1,1,3,2,0,0,0,0,1,0,3,1,0,1,0,2,1,1,0,2,0,null,null,null,null,null,null,null,null,null,null,null,null,26,{"$f":"IF(AR121>0,AVERAGE(D123:AQ123),\"\")","v":0.9285714285714286},{"$f":"IF(AR121>0,STDEV(D123:AQ123),\"\")","v":0.93999887425351936}]
["Q_3_N","Sel_n_r",{"$f":"CONCATENATE($BJ$3, \" N\")","v":" N"},1,12,0,6,2,15,2,1,0,16,1,1,0,0,2,2,2,2,1,2,1,1,1,2,2,0,6,0,null,null,null,null,null,null,null,null,null,null,null,null,81,{"$f":"IF(AR121>0,AVERAGE(D124:AQ124),\"\")","v":2.8928571428571428},{"$f":"IF(AR121>0,STDEV(D124:AQ124),\"\")","v":4.3319594891772724},{"$f":"MAX(D124:AQ124)","v":16}]
["Q_3_N","Sel_n_g",{"$f":"CONCATENATE($BJ$3, \" N\")","v":" N"},3,3,3,3,3,3,3,3,3,3,3,3,3,3,3,3,3,3,3,3,3,3,3,3,3,3,3,0,null,null,null,null,null,null,null,null,null,null,null,null,81,{"$f":"IF(AR121>0,AVERAGE(D125:AQ125),\"\")","v":2.8928571428571428},{"$f":"IF(AR121>0,STDEV(D125:AQ125),\"\")","v":0.56694670951384041}]
["Q_3_N","Rec_n",{"$f":"CONCATENATE($BJ$3, \" mutual N\")","v":" mutual N"},1,1,0,0,0,3,0,0,0,3,1,0,0,0,1,1,2,1,0,0,0,0,0,0,1,0,1,0,null,null,null,null,null,null,null,null,null,null,null,null,16,{"$f":"IF(AR121>0,AVERAGE(D126:AQ126),\"\")","v":0.5714285714285714},{"$f":"IF(AR121>0,STDEV(D126:AQ126),\"\")","v":0.87891226666077005}]
["Q_3","IZO p",{"$f":"CONCATENATE($BJ$3, \" izolovaní P\")","v":" izolovaní P"},{"$f":"IF(D133<>\"\",IF(D121<>\"\",IF(D121 = 0,IF(D122 = 0,1,\"\"),\"\"),\"\"),\"\")","v":""},{"$f":"IF(E133<>\"\",IF(E121<>\"\",IF(E121 = 0,IF(E122 = 0,1,\"\"),\"\"),\"\"),\"\")","v":""},"","","","","","","","","","","","","","","","","","","","","","","","","","","","","","","","","","","","","","",0]
["Q_3","OPO p",{"$f":"CONCATENATE($BJ$3, \" opomenutí P\")","v":" opomenutí P"},{"$f":"IF(D121<>\"\",IF(D121 = 0,IF(D122 > 0,1,\"\"),\"\"),\"\")","v":""},{"$f":"IF(E121<>\"\",IF(E121 = 0,IF(E122 > 0,1,\"\"),\"\"),\"\")","v":1},"",1,"","","","","","","","",1,"","","","","","","","","","","","","","","","","","","","","","","","","","","",3]
["Q_3","IZO n",{"$f":"CONCATENATE($BJ$3, \" izolovaní N\")","v":" izolovaní N"},{"$f":"IF(D134<>\"\",IF(D124<>\"\",IF(D124 = 0,IF(D125 = 0,1,\" \"),\" \"),\" \"),\"\")","v":" "},{"$f":"IF(E134<>\"\",IF(E124<>\"\",IF(E124 = 0,IF(E125 = 0,1,\" \"),\" \"),\" \"),\"\")","v":" "}," "," "," "," "," "," "," "," "," "," "," "," "," "," "," "," "," "," "," "," "," "," "," "," "," ",1,"","","","","","","","","","","","",1]
["Q_3","OPO n",{"$f":"CONCATENATE($BJ$3, \" opomenutí N\")","v":" opomenutí N"},{"$f":"IF(D124<>\"\",IF(D124 = 0,IF(D125 > 0,1,\" \"),\" \"),\" \")","v":" "}," ",1," "," "," "," "," ",1," "," "," ",1,1," "," "," "," "," "," "," "," "," "," "," ",1," "," "," "," "," "," "," "," "," "," "," "," "," "," ",5]
["Podľa Walsha","Social preference and social Impact"]
["Algoritmus 2 používa Group aj Walsh"]
["Q_3","zLM","z-skóre P",{"$f":"IF($AT$121<>\"\",IF(D121<>\"\",(D121-$AS$121)/$AT$121,\"\"),\"\")","v":-0.91845648135184221},{"$f":"IF($AT$121<>\"\",IF(E121<>\"\",(E121-$AS$121)/$AT$121,\"\"),\"\")","v":-1.4036787733867777},-0.43323418931690671,-1.4036787733867777,0.53721039475296439,-0.43323418931690671,0.53721039475296439,0.53721039475296439,1.0224326867878999,5.1988102718028839E-2,0.53721039475296439,0.53721039475296439,-1.4036787733867777,-0.91845648135184221,-0.91845648135184221,0.53721039475296439,-0.91845648135184221,1.0224326867878999,-0.43323418931690671,5.1988102718028839E-2,0.53721039475296439,5.1988102718028839E-2,2.9633218549276421,-0.91845648135184221,5.1988102718028839E-2,-0.91845648135184221,1.5076549788228355,0.53721039475296439,"","","","","","","","","","","",""]
["Q_3","zLL","z-skóre N",{"$f":"IF($AT$124<>\"\",IF($AT$124<>0,IF(D124<>\"\",(D124-$AS$124)/$AT$124,\"\"),\"\"),\"\")","v":-0.43695171840506641},{"$f":"IF($AT$124<>\"\",IF($AT$124<>0,IF(E124<>\"\",(E124-$AS$124)/$AT$124,\"\"),\"\"),\"\")","v":2.1023148715715463},-0.66779413567566748,0.71726036794793924,-0.20610930113446527,2.7948421233833494,-0.20610930113446527,-0.43695171840506641,-0.66779413567566748,3.0256845406539505,-0.43695171840506641,-0.43695171840506641,-0.66779413567566748,-0.66779413567566748,-0.20610930113446527,-0.20610930113446527,-0.20610930113446527,-0.20610930113446527,-0.43695171840506641,-0.20610930113446527,-0.43695171840506641,-0.43695171840506641,-0.43695171840506641,-0.20610930113446527,-0.20610930113446527,-0.66779413567566748,0.71726036794793924,-0.66779413567566748,"","","","","","","","","","","",""]
["Q_3","SP","Social preference (zLM - zLL)",{"$f":"IF(D134<>\"\",IF(D133<>\"\",D133-D134,\"\"),\"\")","v":-0.4815047629467758},{"$f":"IF(E134<>\"\",IF(E133<>\"\",E133-E134,\"\"),\"\")","v":-3.5059936449583242},0.23455994635876076,-2.1209391413347172,0.74331969588742963,-3.2280763127002561,0.74331969588742963,0.97416211315803081,1.6902268224635675,-2.9736964379359216,0.97416211315803081,0.97416211315803081,-0.73588463771111023,-0.25066234567617474,-0.71234718021737697,0.74331969588742963,-0.71234718021737697,1.2285419879223651,3.717529088159699E-3,0.25809740385249413,0.97416211315803081,0.48893982112309525,3.4002735733327087,-0.71234718021737697,0.25809740385249413,-0.25066234567617474,0.79039461087489626,1.2050045304286319,"","","","","","","","","","","","",null,null,null,null,null,null,null,null,null,null,null,null,null,null,null,null,null,null,null,null,"spočíta pozitívne v kategóriách pre z-skóre",null,null,null,null,null,null,null,null,null,null,null,null,null,null,null,null,null,null,null,null,null,null,null,null,null,"xi","všetky","všetky"]
["Q_3","SI","Social impact (zLM + zLL)",{"$f":"IF(D134<>\"\",IF(D133<>\"\",D133+D134,\"\"),\"\")","v":-1.3554081997569085},{"$f":"IF(E134<>\"\",IF(E133<>\"\",E133+E134,\"\"),\"\")","v":0.69863609818476857},-1.1010283249925741,-0.68641840543883847,0.33110109361849915,2.3616079340664426,0.33110109361849915,0.10025867634789798,0.35463855111223241,3.0776726433719794,0.10025867634789798,0.10025867634789798,-2.0714729090624453,-1.5862506170275097,-1.1245657824863076,0.33110109361849915,-1.1245657824863076,0.81632338565343465,-0.87018590772197313,-0.15412119841643643,0.10025867634789798,-0.38496361568703757,2.5263701365225755,-1.1245657824863076,-0.15412119841643643,-1.5862506170275097,2.224915346770775,-0.13058374092270308,"","","","","","","","","","","","",null,null,null,null,null,1,2,3,4,5,6,7,8,9,10,11,12,13,14,15,16,17,18,19,20,21,22,23,24,25,26,27,28,29,30,31,32,33,34,35,36,37,38,39,40,"Suma","AM","AM all","SD all","z-skóre","kategória"]
[null,null,"OPOMENUTÍ FILA",{"$f":"IF(D134<>\"\",IF(D121<>\"\",IF(D121 = 0,IF(D122 > 0,\"OPO\",\" \"),\" \"),\" \"),\"\")","v":" "},{"$f":"IF(E134<>\"\",IF(E121<>\"\",IF(E121 = 0,IF(E122 > 0,\"OPO\",\" \"),\" \"),\" \"),\"\")","v":"OPO"}," ","OPO"," "," "," "," "," "," "," "," ","OPO"," "," "," "," "," "," "," "," "," "," "," "," "," "," "," ","","","","","","","","","","","","",{"$f":"COUNTIF(D137:AQ137,\"OPO\")","v":3},null,null,null,null,{"$f":"IF(D137=\"OPO\",D121,\" \")","v":" "},{"$f":"IF(E137=\"OPO\",E121,\"\")","v":0},"",0,"","","","","","","","",0,"","","","","","","","","","","","","","","","","","","","","","","","","","","",{"$f":"SUM(AW137:CJ137)","v":0},{"$f":"IF(CK137>0,AVERAGE(AW137:CJ137),\"\")","v":""},{"$f":"AS121","v":2.8928571428571428},{"$f":"AT121","v":2.0609110842912406},{"$f":"IF(CK137>0,(CL137-CM137)/CN137,\"\")","v":""},"OPO Fila",1]
[null,null,"POPULAR",{"$f":"IF(D134<>\"\",IF(D135>1,IF(D133>0,IF(D134<0,\"POP\",\"\"),\"\"),\"\"),\"\")","v":""},{"$f":"IF(E134<>\"\",IF(E135>1,IF(E133>0,IF(E134<0,\"POP\",\"\"),\"\"),\"\"),\"\")","v":""},"","","","","","","POP","","","","","","","","","POP","","","","","POP","","","","","POP","","","","","","","","","","","","",{"$f":"COUNTIF(D138:AQ138,\"POP\")","v":4},null,null,null,null,{"$f":"IF(D138=\"POP\",D121,\"\")","v":""},"","","","","","","",5,"","","","","","","","",5,"","","","",9,"","","","",4,"","","","","","","","","","","","",{"$f":"SUM(AW138:CJ138)","v":23},5.75,{"$f":"AS121","v":2.8928571428571428},{"$f":"AT121","v":2.0609110842912406},1.3863494058141015,"POP",2]
[null,null,"REJECTED",{"$f":"IF(D134<>\"\",IF(D135<-1,IF(D133<0,IF(D134>0,\"REJ\",\"\"),\"\"),\"\"),\"\")","v":""},{"$f":"IF(E134<>\"\",IF(E135<-1,IF(E133<0,IF(E134>0,\"REJ\",\"\"),\"\"),\"\"),\"\")","v":"REJ"},"","REJ","","REJ","","","","","","","","","","","","","","","","","","","","","","","","","","","","","","","","","","",{"$f":"COUNTIF(D139:AQ139,\"REJ\")","v":3},null,null,null,null,{"$f":"IF(D139=\"REJ\",D121,\"\")","v":""},0,"",0,"",2,"","","","","","","","","","","","","","","","","","","","","","","","","","","","","","","","","","",2,0.66666666666666663,{"$f":"AS121","v":2.8928571428571428},{"$f":"AT121","v":2.0609110842912406},-1.0801972453634876,"REJ",3]
[null,null,"NEGLECTED",{"$f":"IF(D134<>\"\",IF(D136<-1,IF(D133=0,IF(D134=0,\"NEG\",\"\"),\"\"),\"\"),\"\")","v":""},{"$f":"IF(E134<>\"\",IF(E136<-1,IF(E133=0,IF(E134=0,\"NEG\",\"\"),\"\"),\"\"),\"\")","v":""},"","","","","","","","","","","","","","","","","","","","","","","","","","","","","","","","","","","","","","",{"$f":"COUNTIF(D140:AQ140,\"NEG\")","v":0},null,null,null,null,{"$f":"IF(D140=\"NEG\",D121,\"\")","v":""},"","","","","","","","","","","","","","","","","","","","","","","","","","","","","","","","","","","","","","","",0,"",{"$f":"AS121","v":2.8928571428571428},{"$f":"AT121","v":2.0609110842912406},"","NEG",4]
[null,null,"CONTROVERSIAL",{"$f":"IF(D134<>\"\",IF(D133<>\"\",IF(D136>1,IF(D133>0,IF(D134>0,\"CON\",\"\"),\"\"),\"\"),\"\"),\"\")","v":""},{"$f":"IF(E134<>\"\",IF(E133<>\"\",IF(E136>1,IF(E133>0,IF(E134>0,\"CON\",\"\"),\"\"),\"\"),\"\"),\"\")","v":""},"","","","","","","","CON","","","","","","","","","","","","","","","","","CON","","","","","","","","","","","","","",{"$f":"COUNTIF(D141:AQ141,\"CON\")","v":2},null,null,null,null,{"$f":"IF(D141=\"CON\",D121,\"\")","v":""},null,null,null,null,null,null,null,null,null,null,null,null,null,null,null,null,null,null,null,null,null,null,null,null,null,null,null,null,null,null,null,null,null,null,null,null,null,null,null,0,"",{"$f":"AS121","v":2.8928571428571428},{"$f":"AT121","v":2.0609110842912406},"","CON",5]
["*zmenený vzorec",null,"AVERAGE STATUS",{"$f":"IF(D133<>\"\",IF(D138<>\"POP\",IF(D139<>\"REJ\",IF(D140<>\"NEG\",IF(D141<>\"CON\",\"AVE\",\"\"),\"\"),\"\"),\"\"),\"\")","v":"AVE"},"","AVE","","AVE","","AVE","AVE","","","AVE","AVE","AVE","AVE","AVE","AVE","AVE","","AVE","AVE","AVE","AVE","","AVE","AVE","AVE","","","","","","","","","","","","","","",{"$f":"COUNTIF(D142:AQ142,\"AVE\")","v":19},null,null,null,null,{"$f":"IF(D142=\"AVE\",D121,\"\")","v":1},"",2,"",4,"",4,4,"","",4,4,0,1,1,4,1,"",2,3,4,3,"",1,3,1,"","","","","","","","","","","","","","",47,2.4736842105263159,{"$f":"AS121","v":2.8928571428571428},{"$f":"AT121","v":2.0609110842912406},-0.20339205098456875,"AVE",6]
[null,null,"OPOMENUTÍ WALSH",{"$f":"IF(D139<>\"REJ\",IF(D134<>\"\",IF(D121<>\"\",IF(D121 = 0,IF(D122 > 0,\"OPO\",\" \"),\" \"),\" \"),\"\"),\"\")","v":" "},{"$f":"IF(E139<>\"REJ\",IF(E134<>\"\",IF(E121<>\"\",IF(E121 = 0,IF(E122 > 0,\"OPO\",\" \"),\" \"),\" \"),\"\"),\"\")","v":""}," ",""," ",""," "," "," "," "," "," ","OPO"," "," "," "," "," "," "," "," "," "," "," "," "," "," "," ","","","","","","","","","","","","",{"$f":"COUNTIF(D143:AQ143,\"OPO\")","v":1},null,null,null,null,{"$f":"IF(D143=\"OPO\",D121,\"\")","v":""},"","","","","","","","","","","",0,"","","","","","","","","","","","","","","","","","","","","","","","","","","",0,"",{"$f":"AS121","v":2.8928571428571428},{"$f":"AT121","v":2.0609110842912406},"","OPO Walsh",7]
[null,null,"IZOLOVANÍ",{"$f":"IF(D133<>\"\",IF(D134<>\"\",IF(D121<>\"\",IF(D121 = 0,IF(D122 = 0,\"IZO\",\"\"),\" \"),\" \"),\"\"),\"\")","v":" "},{"$f":"IF(E133<>\"\",IF(E134<>\"\",IF(E121<>\"\",IF(E121 = 0,IF(E122 = 0,\"IZO\",\"\"),\" \"),\" \"),\"\"),\"\")","v":""}," ",""," "," "," "," "," "," "," "," ",""," "," "," "," "," "," "," "," "," "," "," "," "," "," "," ","","","","","","","","","","","","",{"$f":"COUNTIF(D144:AQ144,\"IZO\")","v":0},null,null,null,null,null,null,null,null,null,null,null,null,null,null,null,null,null,null,null,"spočíta negatívne v kategóriách pre z-skóre",null,null,null,null,null,null,null,null,null,null,null,null,null,null,null,null,null,null,null,null,null,null,null,null,null,"xi","všetky","všetky"]
[null,null,null,{"$f":"IF(D141=\"CON\",\"CON\",IF(D138=\"POP\",\"POP\",\"\"))","v":""},{"$f":"IF(E141=\"CON\",\"CON\",IF(E138=\"POP\",\"POP\",\"\"))","v":""},"","","","","","","POP","CON","","","","","","","","POP","","","","","POP","","",{"$f":"IF(AC138=\"POP\",\"POP\",\"\")","v":""},"","POP","","","","","","","","","","","","",null,null,null,null,null,1,2,3,4,5,6,7,8,9,10,11,12,13,14,15,16,17,18,19,20,21,22,23,24,25,26,27,28,29,30,31,32,33,34,35,36,37,38,39,40,"Suma","AM","AM all","SD all","z-skóre","kategória"]
[null,null,"Prekódované pre Target graf 2 Q_3",{"$f":"IF(D138=\"POP\",13,IF(D139=\"REJ\",33,IF(D140=\"NEG\",46,IF(D141=\"CON\",60,IF(D142=\"AVE\",74,IF(D137=\"OPO\",46,\"\"))))))","v":74},33,74,33,74,33,74,74,13,60,74,74,74,74,74,{"$f":"IF(S138=\"POP\",13,IF(S139=\"REJ\",33,IF(S140=\"NEG\",46,IF(S141=\"CON\",60,IF(S142=\"AVE\",74,IF(S137=\"OPO\",46,\"\"))))))","v":74},{"$f":"IF(T138=\"POP\",13,IF(T139=\"REJ\",33,IF(T140=\"NEG\",46,IF(T141=\"CON\",60,IF(T142=\"AVE\",74,IF(T137=\"OPO\",46,\"\"))))))","v":74},13,74,74,74,74,13,74,74,74,60,13,"","","","","","","","","","","","",null,null,null,null,null,{"$f":"IF(D137=\"OPO\",D124,\"\")","v":""},12,"",6,"","","","","","","","",0,"","","","","","","","","","","","","","","","","","","","","","","","","","","",{"$f":"SUM(AW146:CJ146)","v":18},{"$f":"IF(CK146>0,AVERAGE(AW146:CJ146),\"\")","v":6},{"$f":"AS124","v":2.8928571428571428},{"$f":"AT124","v":4.3319594891772724},{"$f":"IF(CK146>0,(CL146-CM146)/CN146,\"\")","v":0.71726036794793924},"OPO Fila",1]
[null,null,null,{"$f":"IF(D141=\"CON\",\"CON\",IF(D139=\"REJ\",\"REJ\",\"\"))","v":""},{"$f":"IF(E141=\"CON\",\"CON\",IF(E139=\"REJ\",\"REJ\",\"\"))","v":"REJ"},"","REJ","","REJ","","","","CON","","","","","","","","","","","","","","","",null,null,null,null,null,null,null,null,null,null,null,null,null,null,null,null,null,null,null,null,{"$f":"IF(D138=\"POP\",D124,\"\")","v":""},"","","","","","","",0,"","","","","","","","",2,"","","","",1,"","","","",0,"","","","","","","","","","","","",3,0.75,{"$f":"AS124","v":2.8928571428571428},{"$f":"AT124","v":4.3319594891772724},-0.49466232272271665,"POP",2]
["Podľa Group Dynamnics",null,"Algoritmus 3 Target",null,null,null,null,null,null,null,null,null,null,null,null,null,null,null,null,null,null,null,null,null,null,null,null,null,null,null,null,null,null,null,null,null,null,null,null,null,null,null,null,null,null,null,null,null,{"$f":"IF(D139=\"NEG\",D124,\"\")","v":""},"","","","","","","","","","","","","","","","","","","","","","","","","","","","","","","","","","","","","","","",0,"",{"$f":"AS124","v":2.8928571428571428},{"$f":"AT124","v":4.3319594891772724},"","REJ",3]
["Recieved accteptance",null,"Kategórie",{"$f":"IF(D134<>\"\",IF(D121<>\"\",IF(D121>=TRUNC(0.75*$AU$5),\"A\",IF(D121>=TRUNC(0.5*$AU$5),\"B\",IF(D121>=TRUNC(0.25*$AU$5),\"C\",IF(D121<TRUNC(0.25*$AU$5),\"D\",\"\")))),\"\"),\"\")","v":"D"},{"$f":"IF(E134<>\"\",IF(E121<>\"\",IF(E121>=TRUNC(0.75*$AU$5),\"A\",IF(E121>=TRUNC(0.5*$AU$5),\"B\",IF(E121>=TRUNC(0.25*$AU$5),\"C\",IF(E121<TRUNC(0.25*$AU$5),\"D\",\"\")))),\"\"),\"\")","v":"D"},"C","D","C","C","C","C","B","C","C","C","D","D","D","C","D","B","C","C","C","C","A","D","C","D","B","C","","","","","","","","","","","","",null,null,null,null,null,{"$f":"IF(D140=\"CON\",D124,\"\")","v":""},"","","","","","","","","","","","","","","","","","","","","","","","","","","","","","","","","","","","","","","",0,"",{"$f":"AS124","v":2.8928571428571428},{"$f":"AT124","v":4.3319594891772724},"","NEG",4]
[null,null,"Prekódované pre Target graf 3 Q_3",{"$f":"IF(D134<>\"\",IF(D121<>\"\",IF(D121>=TRUNC(0.75*$AU$5),15,IF(D121>=TRUNC(0.5*$AU$5),40,IF(D121>=TRUNC(0.25*$AU$5),56,IF(D121<TRUNC(0.25*$AU$5),73,\"\")))),\"\"),\"\")","v":73},{"$f":"IF(E134<>\"\",IF(E121<>\"\",IF(E121>=TRUNC(0.75*$AU$5),15,IF(E121>=TRUNC(0.5*$AU$5),40,IF(E121>=TRUNC(0.25*$AU$5),56,IF(E121<TRUNC(0.25*$AU$5),73,\"\")))),\"\"),\"\")","v":73},56,73,56,56,56,56,40,56,56,56,73,73,73,56,73,40,56,56,56,56,15,73,56,73,40,56,"","","","","","","","","","","","",null,null,null,null,null,{"$f":"IF(D141=\"NEG\",D124,\"\")","v":""},"","","","","","","","","","","","","","","","","","","","","","","","","","","","","","","","","","","","","","","",0,"",{"$f":"AS124","v":2.8928571428571428},{"$f":"AT124","v":4.3319594891772724},"","CON",5]
[null,null,null,null,null,null,null,null,null,null,null,null,null,null,null,null,null,null,null,null,null,null,null,null,null,null,null,null,null,null,null,null,null,null,null,null,null,null,null,null,null,null,null,null,null,null,null,null,{"$f":"IF(D142=\"AVE\",D124,\"\")","v":1},"",0,"",2,"",2,1,"","",1,1,0,0,2,2,2,"",1,2,1,1,"",2,2,0,"","","","","","","","","","","","","","",23,1.2105263157894737,{"$f":"AS124","v":2.8928571428571428},{"$f":"AT124","v":4.3319594891772724},-0.38835331476915036,"AVE",6]
["Podľa Group Dynamnics",null,"Algoritmus 4 Target",null,null,null,null,null,null,null,null,null,null,null,null,null,null,null,null,null,null,null,null,null,null,null,null,null,null,null,null,null,null,null,null,null,null,null,null,null,null,null,null,null,null,null,null,null,{"$f":"IF(D143=\"OPO\",D124,\"\")","v":""},"","","","","","","","","","","",0,"","","","","","","","","","","","","","","","","","","","","","","","","","","",0,"",{"$f":"AS124","v":2.8928571428571428},{"$f":"AT124","v":4.3319594891772724},"","OPO Walsh",7]
["Recieved rejections",null,"Kategórie",{"$f":"IF(D134<>\"\",IF(D124<>\"\",IF(D124>=TRUNC(0.75*$AU$8),\"A\",IF(D124>=TRUNC(0.5*$AU$8),\"B\",IF(D124>=TRUNC(0.25*$AU$8),\"C\",IF(D124<TRUNC(0.25*$AU$8),\"D\",\"\")))),\"\"),\"\")","v":"D"},{"$f":"IF(E134<>\"\",IF(E124<>\"\",IF(E124>=TRUNC(0.75*$AU$8),\"A\",IF(E124>=TRUNC(0.5*$AU$8),\"B\",IF(E124>=TRUNC(0.25*$AU$8),\"C\",IF(E124<TRUNC(0.25*$AU$8),\"D\",\"\")))),\"\"),\"\")","v":"B"},"D","C","D","A","D","D","D","A","D","D","D","D","D","D","D","D","D","D","D","D","D","D","D","D","C","D","","","","","","","","","","","","",null,null,null,null,null,null,null,null,null,null,null,null,null,null,null,null,null,null,null,null,"spočíta mutuály pozitívne v kategóriách pre z-skóre",null,null,null,null,null,null,null,null,null,null,null,null,null,null,null,null,null,null,null,null,null,null,null,null,null,"xi"]
[null,null,"Prekódované pre Target graf 4 Q_3",{"$f":"IF(D134<>\"\",IF(D124<>\"\",IF(D124>=TRUNC(0.75*$AU$8),15,IF(D124>=TRUNC(0.5*$AU$8),40,IF(D124>=TRUNC(0.25*$AU$8),56,IF(D124<TRUNC(0.25*$AU$8),73,\"\")))),\"\"),\"\")","v":73},{"$f":"IF(E134<>\"\",IF(E124<>\"\",IF(E124>=TRUNC(0.75*$AU$8),15,IF(E124>=TRUNC(0.5*$AU$8),40,IF(E124>=TRUNC(0.25*$AU$8),56,IF(E124<TRUNC(0.25*$AU$8),73,\"\")))),\"\"),\"\")","v":40},73,56,73,15,73,73,73,15,73,73,73,73,73,73,73,73,73,73,73,73,73,73,73,73,56,73,"","","","","","","","","","","","",null,null,null,null,null,1,2,3,4,5,6,7,8,9,10,11,12,13,14,15,16,17,18,19,20,21,22,23,24,25,26,27,28,29,30,31,32,33,34,35,36,37,38,39,40,"Suma","AM","AM all","SD all","z-skóre","kategória"]
[null,null,null,null,null,null,null,null,null,null,null,null,null,null,null,null,null,null,null,null,null,null,null,null,null,null,null,null,null,null,null,null,null,null,null,null,null,null,null,null,null,null,null,null,null,null,null,null,{"$f":"IF(D137=\"OPO\",D123,\"\")","v":""},0,"",0,"","","","","","","","",0,"","","","","","","","","","","","","","","","","","","","","","","","","","","",{"$f":"SUM(AW155:CJ155)","v":0},{"$f":"IF(CK155>0,AVERAGE(AW155:CJ155),\"\")","v":""},{"$f":"AS123","v":0.9285714285714286},{"$f":"AT123","v":0.93999887425351936},{"$f":"IF(CK155>0,(CL155-CM155)/CN155,\"\")","v":""},"OPO Fila",1]
["Podľa Group Dynamnics",null,"Algoritmus 5 Target",null,null,null,null,null,null,null,null,null,null,null,null,null,null,null,null,null,null,null,null,null,null,null,null,null,null,null,null,null,null,null,null,null,null,null,null,null,null,null,null,null,null,null,null,null,{"$f":"IF(D138=\"POP\",D123,\"\")","v":""},"","","","","","","",1,"","","","","","","","",3,"","","","",2,"","","","",0,"","","","","","","","","","","","",6,1.5,{"$f":"AS123","v":0.9285714285714286},{"$f":"AT123","v":0.93999887425351936},0.60790346358910219,"POP",2]
["Mutual acceptance","Cs+","Index sociability P",{"$f":"IF($B$2<>0,IF(D134<>\"\",IF(D123<>\"\",D123/($B$2),\"\"),\"\"),\"\")","v":0.33333333333333331},{"$f":"IF($B$2<>0,IF(E134<>\"\",IF(E123<>\"\",E123/($B$2),\"\"),\"\"),\"\")","v":0},0.66666666666666663,0,0.33333333333333331,0.33333333333333331,0.66666666666666663,0.33333333333333331,0.33333333333333331,1,0.66666666666666663,0,0,0,0,0.33333333333333331,0,1,0.33333333333333331,0,0.33333333333333331,0,0.66666666666666663,0.33333333333333331,0.33333333333333331,0,0.66666666666666663,0,"","","","","","","","","","","","",null,null,null,null,null,{"$f":"IF(D139=\"REJ\",D123,\"\")","v":""},0,"",0,"",1,"","","","","","","","","","","","","","","","","","","","","","","","","","","","","","","","","","",1,0.33333333333333331,{"$f":"AS123","v":0.9285714285714286},{"$f":"AT123","v":0.93999887425351936},-0.63323277457198168,"REJ",3]
[null,null,"Index sociability P kategória",{"$f":"IF(D157<>\"\",(IF(D157>=0.75,\"A\",IF(D157>=0.5,\"B\",IF(D157>=0.25,\"C\",IF(D157<0.25,\"D\",\"x\"))))),\"\")","v":"C"},"D","B","D","C","C","B","C","C","A","B","D","D","D","D","C","D","A","C","D","C","D","B","C","C","D","B","D","","","","","","","","","","","","",null,null,null,null,null,{"$f":"IF(D140=\"NEG\",D123,\"\")","v":""},"","","","","","","","","","","","","","","","","","","","","","","","","","","","","","","","","","","","","","","",0,"",{"$f":"AS123","v":0.9285714285714286},{"$f":"AT123","v":0.93999887425351936},"","NEG",4]
[null,null,"Prekódované pre Target graf 5 Q_3",{"$f":"IF(D157<>\"\",(IF(D157>=0.75,15,IF(D157>=0.5,40,IF(D157>=0.25,56,IF(D157<0.25,73,\"x\"))))),\"\")","v":56},73,40,73,56,56,40,56,56,15,40,73,73,73,73,56,73,15,56,73,56,73,40,56,56,73,40,73,"","","","","","","","","","","","",null,null,null,null,null,{"$f":"IF(D141=\"CON\",D123,\"\")","v":""},"","","","","","","","",3,"","","","","","","","","","","","","","","","",2,"","","","","","","","","","","","","",5,2.5,{"$f":"AS123","v":0.9285714285714286},{"$f":"AT123","v":0.93999887425351936},1.6717345248700313,"CON",5]
[null,null,null,null,null,null,null,null,null,null,null,null,null,null,null,null,null,null,null,null,null,null,null,null,null,null,null,null,null,null,null,null,null,null,null,null,null,null,null,null,null,null,null,null,null,null,null,null,{"$f":"IF(D142=\"AVE\",D123,\"\")","v":1},"",2,"",1,"",2,1,"","",2,0,0,0,0,1,0,"",1,0,1,0,"",1,1,0,"","","","","","","","","","","","","","",14,0.73684210526315785,{"$f":"AS123","v":0.9285714285714286},{"$f":"AT123","v":0.93999887425351936},-0.20396760949371201,"AVE",6]
["Podľa Group Dynamnics",null,"Algoritmus 6 Target",null,null,null,null,null,null,null,null,null,null,null,null,null,null,null,null,null,null,null,null,null,null,null,null,null,null,null,null,null,null,null,null,null,null,null,null,null,null,null,null,null,null,null,null,null,{"$f":"IF(D143=\"OPO\",D123,\"\")","v":""},"","","","","","","","","","","",0,"","","","","","","","","","","","","","","","","","","","","","","","","","","",0,"",{"$f":"AS123","v":0.9285714285714286},{"$f":"AT123","v":0.93999887425351936},"","OPO Walsh",7]
["Mutual rejection","Cs–","Index odmietania N",{"$f":"IF($B$2<>0,IF(D134<>\"\",IF(D126<>\"\",D126/$B$2,\"\"),\"\"),\"\")","v":0.33333333333333331},{"$f":"IF($B$2<>0,IF(E134<>\"\",IF(E126<>\"\",E126/$B$2,\"\"),\"\"),\"\")","v":0.33333333333333331},0,0,0,1,0,0,0,1,0.33333333333333331,0,0,0,0.33333333333333331,0.33333333333333331,0.66666666666666663,0.33333333333333331,0,0,0,0,0,0,0.33333333333333331,0,0.33333333333333331,0,"","","","","","","","","","","","",null,null,null,null,null,null,null,null,null,null,null,null,null,null,null,null,null,null,null,null,"spočíta mutuály negatívne v kategóriách pre z-skóre",null,null,null,null,null,null,null,null,null,null,null,null,null,null,null,null,null,null,null,null,null,null,null,null,null,"xi"]
[null,null,"Index odmietania P kategória",{"$f":"IF(D162<>\"\",(IF(D162>=0.75,\"A\",IF(D162>=0.5,\"B\",IF(D162>=0.25,\"C\",IF(D162<0.25,\"D\",\"x\"))))),\"\")","v":"C"},{"$f":"IF(E162<>\"\",(IF(E162>=0.75,\"A\",IF(E162>=0.5,\"B\",IF(E162>=0.25,\"C\",IF(E162<0.25,\"D\",\"x\"))))),\"\")","v":"C"},"D","D","D","A","D","D","D","A","C","D","D","D","C","C","B","C","D","D","D","D","D","D","C","D","C","D","","","","","","","","","","","","",null,null,null,null,null,1,2,3,4,5,6,7,8,9,10,11,12,13,14,15,16,17,18,19,20,21,22,23,24,25,26,27,28,29,30,31,32,33,34,35,36,37,38,39,40,"Suma","AM","AM all","SD all","z-skóre","kategória"]
[null,null,"Prekódované pre Target graf 6 Q_3",{"$f":"IF(D162<>\"\",(IF(D162>=0.75,15,IF(D162>=0.5,40,IF(D162>=0.25,56,IF(D162<0.25,73,\"x\"))))),\"\")","v":56},56,73,73,73,15,73,73,73,15,56,73,73,73,56,56,40,56,73,73,73,73,73,73,56,73,56,73,"","","","","","","","","","","","",null,null,null,null,null,{"$f":"IF(D137=\"OPO\",D126,\"\")","v":""},1,"",0,"","","","","","","","",0,"","","","","","","","","","","","","","","","","","","","","","","","","","","",{"$f":"SUM(AW164:CJ164)","v":1},{"$f":"IF(CK164>0,AVERAGE(AW164:CJ164),\"\")","v":0.33333333333333331},{"$f":"AS126","v":0.5714285714285714},{"$f":"AT126","v":0.87891226666077005},{"$f":"IF(CK164>0,(CL164-CM164)/CN164,\"\")","v":-0.27089761643653865},"OPO Fila",1]
[null,null,null,null,null,null,null,null,null,null,null,null,null,null,null,null,null,null,null,null,null,null,null,null,null,null,null,null,null,null,null,null,null,null,null,null,null,null,null,null,null,null,null,null,null,null,null,null,{"$f":"IF(D138=\"POP\",D126,\"\")","v":""},"","","","","","","",0,"","","","","","","","",1,"","","","",0,"","","","",0,"","","","","","","","","","","","",1,0.25,{"$f":"AS126","v":0.5714285714285714},{"$f":"AT126","v":0.87891226666077005},-0.36571178218932721,"POP",2]
[null,null,null,null,null,null,null,null,null,null,null,null,null,null,null,null,null,null,null,null,null,null,null,null,null,null,null,null,null,null,null,null,null,null,null,null,null,null,null,null,null,null,null,null,null,null,null,null,{"$f":"IF(D139=\"REJ\",D126,\"\")","v":""},1,"",0,"",3,"","","","","","","","","","","","","","","","","","","","","","","","","","","","","","","","","","",4,1.3333333333333333,{"$f":"AS126","v":0.5714285714285714},{"$f":"AT126","v":0.87891226666077005},0.86687237259692373,"REJ",3]
["Podľa Group Dynamnics",null,"Algoritmus 1 Target",null,null,null,null,null,null,null,null,null,null,null,null,null,null,null,null,null,null,null,null,null,null,null,null,null,null,null,null,null,null,null,null,null,null,null,null,null,null,null,null,null,null,null,null,null,{"$f":"IF(D140=\"NEG\",D126,\"\")","v":""},"","","","","","","","","","","","","","","","","","","","","","","","","","","","","","","","","","","","","","","",0,"",{"$f":"AS126","v":0.5714285714285714},{"$f":"AT126","v":0.87891226666077005},"","NEG",4]
[null,null,"Frequenties of positive questions",null,null,null,null,null,null,null,null,null,null,null,null,null,null,null,null,null,null,null,null,null,null,null,null,null,null,null,null,null,null,null,null,null,null,null,null,null,null,null,null,null,null,null,null,null,{"$f":"IF(D141=\"CON\",D126,\"\")","v":""},"","","","","","","","",3,"","","","","","","","","","","","","","","","",1,"","","","","","","","","","","","","",4,2,{"$f":"AS126","v":0.5714285714285714},{"$f":"AT126","v":0.87891226666077005},1.6253856986192321,"CON",5]
[null,null,null,null,null,null,null,null,null,null,null,null,null,null,null,null,null,null,null,null,null,null,null,null,null,null,null,null,null,null,null,null,null,null,null,null,null,null,null,null,null,null,null,null,null,null,null,null,{"$f":"IF(D142=\"AVE\",D126,\"\")","v":1},"",0,"",0,"",0,0,"","",1,0,0,0,1,1,2,"",0,0,0,0,"",0,1,0,"","","","","","","","","","","","","","",7,0.36842105263157893,{"$f":"AS126","v":0.5714285714285714},{"$f":"AT126","v":0.87891226666077005},-0.23097586243536455,"AVE",6]
[null,"A","Popular \"A\"",{"$f":"IF(D134<>\"\",IF(D121<>\"\",IF(D121>3,IF(D124<=1,\"A\",\"\"),\"\"),\"\"),\"\")","v":""},{"$f":"IF(E134<>\"\",IF(E121<>\"\",IF(E121>3,IF(E124<=1,\"A\",\"\"),\"\"),\"\"),\"\")","v":""},"","","","","","A","A","","A","A","","","","","","","","","A","","A","","","","","A","","","","","","","","","","","","",null,null,null,null,null,{"$f":"IF(D143=\"OPO\",D126,\"\")","v":""},"","","","","","","","","","","",0,"","","","","","","","","","","","","","","","","","","","","","","","","","","",0,"",{"$f":"AS126","v":0.5714285714285714},{"$f":"AT126","v":0.87891226666077005},"","OPO Walsh",7]
[null,"B","Liked more than disliked \"B\"",{"$f":"IF(D134<>\"\",IF(D121<>\"\",IF(D121>D124,IF(D170<>\"A\",\"B\",\"\"),\"\"),\"\"),\"\")","v":""},{"$f":"IF(E134<>\"\",IF(E121<>\"\",IF(E121>E124,IF(E170<>\"A\",\"B\",\"\"),\"\"),\"\"),\"\")","v":""},"B","","B","","B","","","","","","","B","","B","","B","B","B","","B","","","B","B","","","","","","","","","","","","","",""]
[null,"C","Disliked more than liked \"C\"",{"$f":"IF(D134<>\"\",IF(D121<>\"\",IF(D121<D124,IF(D170<>\"A\",IF(D174<>\"E\",\"C\",\"\"),\"\"),\"\"),\"\"),\"\")","v":""},{"$f":"IF(E134<>\"\",IF(E121<>\"\",IF(E121<E124,IF(E170<>\"A\",IF(E174<>\"E\",\"C\",\"\"),\"\"),\"\"),\"\"),\"\")","v":""},"","","","C","","","","C","","","","","C","","C","","","","","","","C","","","","","","","","","","","","","","","",""]
[null,"D","Controversial \"D\"",{"$f":"IF(D134<>\"\",IF(D121<>\"\",IF(D121>0,IF(D121>0,IF(D121=D124,IF(D170<>\"A\",\"D\",\"\"),\"\"),\"\"),\"\"),\"\"),\"\")","v":"D"},{"$f":"IF(E134<>\"\",IF(E121<>\"\",IF(E121>0,IF(E121>0,IF(E121=E124,IF(E170<>\"A\",\"D\",\"\"),\"\"),\"\"),\"\"),\"\"),\"\")","v":""},"","","","","","","","","","","","","","","","","","","","","","","","","D","","","","","","","","","","","","",""]
[null,"E","Rejected \"E\"",{"$f":"IF(D134<>\"\",IF(D121<>\"\",IF(D121<=1,IF(D124>3,\"E\",\"\"),\"\"),\"\"),\"\")","v":""},{"$f":"IF(E134<>\"\",IF(E121<>\"\",IF(E121<=1,IF(E124>3,\"E\",\"\"),\"\"),\"\"),\"\")","v":"E"},"","E","","","","","","","","","","","","","","","","","","","","","","","","","","","","","","","","","","","",""]
[null,"F","Neglected \"F\"",{"$f":"IF(D134<>\"\",IF(D121<>\"\",IF(D121=0,IF(D124=0,\"F\",\"\"),\"\"),\"\"),\"\")","v":""},{"$f":"IF(E134<>\"\",IF(E121<>\"\",IF(E121=0,IF(E124=0,\"F\",\"\"),\"\"),\"\"),\"\")","v":""},"","","","","","","","","","","F","","","","","","","","","","","","","","","","","","","","","","","","","","",""]
[null,null,"Pomo B",{"$f":"IF(D133=0,IF(D134=0,\"B\",\"\"),IF(D171=\"B\",\"B\",\"\"))","v":""},{"$f":"IF(E133=0,IF(E134=0,\"B\",\"\"),IF(E171=\"B\",\"B\",\"\"))","v":""},"B","","B","","B","","","","","","","B","","B","","B","B","B","","B","","","B","B","","","","","","","","","","","","","",""]
[null,null,"Prekódované pre Target graf 1 Q_3",{"$f":"IF(D175=\"F\",87,IF(D173=\"D\",60,IF(D174=\"E\",74,IF(D172=\"C\",46,IF(D170=\"A\",13,IF(D171=\"B\",33,IF(D176=\"B\",33,\"\")))))))","v":60},74,33,74,33,46,33,13,13,46,13,13,87,33,46,33,46,33,33,33,13,33,13,46,33,33,60,13,"","","","","","","","","","","",""]
["Otázka č.4",null,null,null,null,null,null,null,null,null,null,null,null,null,null,null,null,null,null,null,null,null,null,null,null,null,null,null,null,null,null,null,null,null,null,null,null,null,null,null,null,null,null,null,"AM","SD","MAX"]
["Q_4_P","Sel_p_r",{"$f":"CONCATENATE($BJ$3, \" P\")","v":" P"},0,0,0,0,2,0,2,1,10,0,0,0,0,0,8,0,0,2,0,3,0,0,25,0,12,8,0,8,null,null,null,null,null,null,null,null,null,null,null,null,{"$f":"SUM(D179:AQ179)","v":81},{"$f":"IF(AR179>0,AVERAGE(D179:AQ179),\"\")","v":2.8928571428571428},{"$f":"IF(AR179>0,STDEV(D179:AQ179),\"\")","v":5.6064730163035374},{"$f":"MAX(D179:AQ179)","v":25}]
["Q_4_P","Sel_p_g",{"$f":"CONCATENATE($BJ$3, \" P\")","v":" P"},3,3,3,3,3,3,3,3,3,3,3,3,3,3,3,3,3,3,3,3,3,3,3,3,3,3,3,0,null,null,null,null,null,null,null,null,null,null,null,null,{"$f":"SUM(D180:AQ180)","v":81},{"$f":"IF(AR179>0,AVERAGE(D180:AQ180),\"\")","v":2.8928571428571428},{"$f":"IF(AR179>0,STDEV(D180:AQ180),\"\")","v":0.56694670951384041}]
["Q_4_P","Rec_p",{"$f":"CONCATENATE($BJ$3, \" mutual P\")","v":" mutual P"},0,0,0,0,1,0,0,0,0,0,0,0,0,0,1,0,0,2,0,2,0,0,3,0,2,1,0,0,null,null,null,null,null,null,null,null,null,null,null,null,12,{"$f":"IF(AR179>0,AVERAGE(D181:AQ181),\"\")","v":0.42857142857142855},{"$f":"IF(AR179>0,STDEV(D181:AQ181),\"\")","v":0.835710894037345}]
["Q_4_N","Sel_n_r",{"$f":"CONCATENATE($BJ$3, \" N\")","v":" N"},0,20,0,5,1,18,0,3,0,20,1,2,1,0,0,1,1,1,0,0,0,0,0,4,1,0,2,0,null,null,null,null,null,null,null,null,null,null,null,null,81,{"$f":"IF(AR179>0,AVERAGE(D182:AQ182),\"\")","v":2.8928571428571428},{"$f":"IF(AR179>0,STDEV(D182:AQ182),\"\")","v":5.9462984795976741},{"$f":"MAX(D182:AQ182)","v":20}]
["Q_4_N","Sel_n_g",{"$f":"CONCATENATE($BJ$3, \" N\")","v":" N"},3,3,3,3,3,3,3,3,3,3,3,3,3,3,3,3,3,3,3,3,3,3,3,3,3,3,3,0,null,null,null,null,null,null,null,null,null,null,null,null,81,{"$f":"IF(AR179>0,AVERAGE(D183:AQ183),\"\")","v":2.8928571428571428},{"$f":"IF(AR179>0,STDEV(D183:AQ183),\"\")","v":0.56694670951384041}]
["Q_4_N","Rec_n",{"$f":"CONCATENATE($BJ$3, \" mutual N\")","v":" mutual N"},0,3,0,2,1,2,0,0,0,3,0,0,0,0,0,0,0,1,0,0,0,0,0,1,1,0,0,0,null,null,null,null,null,null,null,null,null,null,null,null,14,{"$f":"IF(AR179>0,AVERAGE(D184:AQ184),\"\")","v":0.5},{"$f":"IF(AR179>0,STDEV(D184:AQ184),\"\")","v":0.92295820699089726}]
["Q_4","IZO p",{"$f":"CONCATENATE($BJ$3, \" izolovaní P\")","v":" izolovaní P"},{"$f":"IF(D191<>\"\",IF(D179<>\"\",IF(D179 = 0,IF(D180 = 0,1,\"\"),\"\"),\"\"),\"\")","v":""},{"$f":"IF(E191<>\"\",IF(E179<>\"\",IF(E179 = 0,IF(E180 = 0,1,\"\"),\"\"),\"\"),\"\")","v":""},"","","","","","","","","","","","","","","","","","","","","","","","","","","","","","","","","","","","","","",0]
["Q_4","OPO p",{"$f":"CONCATENATE($BJ$3, \" opomenutí P\")","v":" opomenutí P"},{"$f":"IF(D179<>\"\",IF(D179 = 0,IF(D180 > 0,1,\"\"),\"\"),\"\")","v":1},{"$f":"IF(E179<>\"\",IF(E179 = 0,IF(E180 > 0,1,\"\"),\"\"),\"\")","v":1},1,1,"",1,"","","",1,1,1,1,1,"",1,1,"",1,"",1,1,"",1,"","",1,"","","","","","","","","","","","","",17]
["Q_4","IZO n",{"$f":"CONCATENATE($BJ$3, \" izolovaní N\")","v":" izolovaní N"},{"$f":"IF(D192<>\"\",IF(D182<>\"\",IF(D182 = 0,IF(D183 = 0,1,\" \"),\" \"),\" \"),\"\")","v":" "},{"$f":"IF(E192<>\"\",IF(E182<>\"\",IF(E182 = 0,IF(E183 = 0,1,\" \"),\" \"),\" \"),\"\")","v":" "}," "," "," "," "," "," "," "," "," "," "," "," "," "," "," "," "," "," "," "," "," "," "," "," "," ",1,"","","","","","","","","","","","",1]
["Q_4","OPO n",{"$f":"CONCATENATE($BJ$3, \" opomenutí N\")","v":" opomenutí N"},{"$f":"IF(D182<>\"\",IF(D182 = 0,IF(D183 > 0,1,\" \"),\" \"),\" \")","v":1}," ",1," "," "," ",1," ",1," "," "," "," ",1,1," "," "," ",1,1,1,1,1," "," ",1," "," "," "," "," "," "," "," "," "," "," "," "," "," ",12]
["Podľa Walsha","Social preference and social Impact"]
["Algoritmus 2 používa Group aj Walsh"]
["Q_4","zLM","z-skóre P",{"$f":"IF($AT$179<>\"\",IF(D179<>\"\",(D179-$AS$179)/$AT$179,\"\"),\"\")","v":-0.5159852075350686},{"$f":"IF($AT$179<>\"\",IF(E179<>\"\",(E179-$AS$179)/$AT$179,\"\"),\"\")","v":-0.5159852075350686},-0.5159852075350686,-0.5159852075350686,-0.15925469368366313,-0.5159852075350686,-0.15925469368366313,-0.33761995060936589,1.2676673617219587,-0.5159852075350686,-0.5159852075350686,-0.5159852075350686,-0.5159852075350686,-0.5159852075350686,0.91093684787055329,-0.5159852075350686,-0.5159852075350686,-0.15925469368366313,-0.5159852075350686,1.911056324203959E-2,-0.5159852075350686,-0.5159852075350686,3.9431462156074999,-0.5159852075350686,1.6243978755733641,0.91093684787055329,-0.5159852075350686,0.91093684787055329,"","","","","","","","","","","",""]
["Q_4","zLL","z-skóre N",{"$f":"IF($AT$182<>\"\",IF($AT$182<>0,IF(D182<>\"\",(D182-$AS$182)/$AT$182,\"\"),\"\"),\"\")","v":-0.48649712973252451},{"$f":"IF($AT$182<>\"\",IF($AT$182<>0,IF(E182<>\"\",(E182-$AS$182)/$AT$182,\"\"),\"\"),\"\")","v":2.8769398165664106},-0.48649712973252451,0.3543621068422092,-0.31832528241757774,2.5405961219365167,-0.48649712973252451,1.8018412212315732E-2,-0.48649712973252451,2.8769398165664106,-0.31832528241757774,-0.15015343510263102,-0.31832528241757774,-0.48649712973252451,-0.48649712973252451,-0.31832528241757774,-0.31832528241757774,-0.31832528241757774,-0.48649712973252451,-0.48649712973252451,-0.48649712973252451,-0.48649712973252451,-0.48649712973252451,0.18619025952726248,-0.31832528241757774,-0.48649712973252451,-0.15015343510263102,-0.48649712973252451,"","","","","","","","","","","",""]
["Q_4","SP","Social preference (zLM - zLL)",{"$f":"IF(D192<>\"\",IF(D191<>\"\",D191-D192,\"\"),\"\")","v":-2.9488077802544088E-2},{"$f":"IF(E192<>\"\",IF(E191<>\"\",E191-E192,\"\"),\"\")","v":-3.392925024101479},-2.9488077802544088E-2,-0.87034731437727775,0.15907058873391461,-3.0565813294715856,0.32724243604886138,-0.3556383628216816,1.7541644914544832,-3.392925024101479,-0.19765992511749086,-0.36583177243243759,-0.19765992511749086,-2.9488077802544088E-2,1.3974339776030777,-0.19765992511749086,-0.19765992511749086,0.15907058873391461,-2.9488077802544088E-2,0.50560769297456409,-2.9488077802544088E-2,-2.9488077802544088E-2,4.4296433453400246,-0.70217546706233103,1.9427231579909419,1.3974339776030777,-0.36583177243243759,1.3974339776030777,"","","","","","","","","","","","",null,null,null,null,null,null,null,null,null,null,null,null,null,null,null,null,null,null,null,null,"spočíta pozitívne v kategóriách pre z-skóre",null,null,null,null,null,null,null,null,null,null,null,null,null,null,null,null,null,null,null,null,null,null,null,null,null,"xi","všetky","všetky"]
["Q_4","SI","Social impact (zLM + zLL)",{"$f":"IF(D192<>\"\",IF(D191<>\"\",D191+D192,\"\"),\"\")","v":-1.0024823372675931},{"$f":"IF(E192<>\"\",IF(E191<>\"\",E191+E192,\"\"),\"\")","v":2.3609546090313422},-1.0024823372675931,-0.1616231006928594,-0.47757997610124087,2.0246109144014479,-0.64575182341618764,-0.31960153839705019,0.78117023198943425,2.3609546090313422,-0.83431048995264634,-0.66613864263769962,-0.83431048995264634,-1.0024823372675931,0.42443971813802878,-0.83431048995264634,-0.83431048995264634,-0.47757997610124087,-1.0024823372675931,-0.46738656649048493,-1.0024823372675931,-1.0024823372675931,3.4566490858749752,-0.32979494800780612,1.3060725931557864,0.42443971813802878,-0.66613864263769962,0.42443971813802878,"","","","","","","","","","","","",null,null,null,null,null,1,2,3,4,5,6,7,8,9,10,11,12,13,14,15,16,17,18,19,20,21,22,23,24,25,26,27,28,29,30,31,32,33,34,35,36,37,38,39,40,"Suma","AM","AM all","SD all","z-skóre","kategória"]
[null,null,"OPOMENUTÍ FILA",{"$f":"IF(D192<>\"\",IF(D179<>\"\",IF(D179 = 0,IF(D180 > 0,\"OPO\",\" \"),\" \"),\" \"),\"\")","v":"OPO"},{"$f":"IF(E192<>\"\",IF(E179<>\"\",IF(E179 = 0,IF(E180 > 0,\"OPO\",\" \"),\" \"),\" \"),\"\")","v":"OPO"},"OPO","OPO"," ","OPO"," "," "," ","OPO","OPO","OPO","OPO","OPO"," ","OPO","OPO"," ","OPO"," ","OPO","OPO"," ","OPO"," "," ","OPO"," ","","","","","","","","","","","","",{"$f":"COUNTIF(D195:AQ195,\"OPO\")","v":17},null,null,null,null,{"$f":"IF(D195=\"OPO\",D179,\" \")","v":0},{"$f":"IF(E195=\"OPO\",E179,\"\")","v":0},0,0,"",0,"","","",0,0,0,0,0,"",0,0,"",0,"",0,0,"",0,"","",0,"","","","","","","","","","","","","",{"$f":"SUM(AW195:CJ195)","v":0},{"$f":"IF(CK195>0,AVERAGE(AW195:CJ195),\"\")","v":""},{"$f":"AS179","v":2.8928571428571428},{"$f":"AT179","v":5.6064730163035374},{"$f":"IF(CK195>0,(CL195-CM195)/CN195,\"\")","v":""},"OPO Fila",1]
[null,null,"POPULAR",{"$f":"IF(D192<>\"\",IF(D193>1,IF(D191>0,IF(D192<0,\"POP\",\"\"),\"\"),\"\"),\"\")","v":""},{"$f":"IF(E192<>\"\",IF(E193>1,IF(E191>0,IF(E192<0,\"POP\",\"\"),\"\"),\"\"),\"\")","v":""},"","","","","","","POP","","","","","","POP","","","","","","","","POP","","POP","POP","","POP","","","","","","","","","","","","",{"$f":"COUNTIF(D196:AQ196,\"POP\")","v":6},null,null,null,null,{"$f":"IF(D196=\"POP\",D179,\"\")","v":""},"","","","","","","",10,"","","","","",8,"","","","","","","",25,"",12,8,"",8,"","","","","","","","","","","","",{"$f":"SUM(AW196:CJ196)","v":71},11.833333333333334,{"$f":"AS179","v":2.8928571428571428},{"$f":"AT179","v":5.6064730163035374},1.5946703327524139,"POP",2]
[null,null,"REJECTED",{"$f":"IF(D192<>\"\",IF(D193<-1,IF(D191<0,IF(D192>0,\"REJ\",\"\"),\"\"),\"\"),\"\")","v":""},{"$f":"IF(E192<>\"\",IF(E193<-1,IF(E191<0,IF(E192>0,\"REJ\",\"\"),\"\"),\"\"),\"\")","v":"REJ"},"","","","REJ","","","","REJ","","","","","","","","","","","","","","","","","","","","","","","","","","","","","","",{"$f":"COUNTIF(D197:AQ197,\"REJ\")","v":3},null,null,null,null,{"$f":"IF(D197=\"REJ\",D179,\"\")","v":""},0,"","","",0,"","","",0,"","","","","","","","","","","","","","","","","","","","","","","","","","","","","","",0,"",{"$f":"AS179","v":2.8928571428571428},{"$f":"AT179","v":5.6064730163035374},"","REJ",3]
[null,null,"NEGLECTED",{"$f":"IF(D192<>\"\",IF(D194<-1,IF(D191=0,IF(D192=0,\"NEG\",\"\"),\"\"),\"\"),\"\")","v":""},{"$f":"IF(E192<>\"\",IF(E194<-1,IF(E191=0,IF(E192=0,\"NEG\",\"\"),\"\"),\"\"),\"\")","v":""},"","","","","","","","","","","","","","","","","","","","","","","","","","","","","","","","","","","","","","",{"$f":"COUNTIF(D198:AQ198,\"NEG\")","v":0},null,null,null,null,{"$f":"IF(D198=\"NEG\",D179,\"\")","v":""},"","","","","","","","","","","","","","","","","","","","","","","","","","","","","","","","","","","","","","","",0,"",{"$f":"AS179","v":2.8928571428571428},{"$f":"AT179","v":5.6064730163035374},"","NEG",4]
[null,null,"CONTROVERSIAL",{"$f":"IF(D192<>\"\",IF(D191<>\"\",IF(D194>1,IF(D191>0,IF(D192>0,\"CON\",\"\"),\"\"),\"\"),\"\"),\"\")","v":""},{"$f":"IF(E192<>\"\",IF(E191<>\"\",IF(E194>1,IF(E191>0,IF(E192>0,\"CON\",\"\"),\"\"),\"\"),\"\"),\"\")","v":""},"","","","","","","","","","","","","","","","","","","","","","","","","","","","","","","","","","","","","","",{"$f":"COUNTIF(D199:AQ199,\"CON\")","v":0},null,null,null,null,{"$f":"IF(D199=\"CON\",D179,\"\")","v":""},null,null,null,null,null,null,null,null,null,null,null,null,null,null,null,null,null,null,null,null,null,null,null,null,null,null,null,null,null,null,null,null,null,null,null,null,null,null,null,0,"",{"$f":"AS179","v":2.8928571428571428},{"$f":"AT179","v":5.6064730163035374},"","CON",5]
["*zmenený vzorec",null,"AVERAGE STATUS",{"$f":"IF(D191<>\"\",IF(D196<>\"POP\",IF(D197<>\"REJ\",IF(D198<>\"NEG\",IF(D199<>\"CON\",\"AVE\",\"\"),\"\"),\"\"),\"\"),\"\")","v":"AVE"},{"$f":"IF(E191<>\"\",IF(E196<>\"POP\",IF(E197<>\"REJ\",IF(E198<>\"NEG\",IF(E199<>\"CON\",\"AVE\",\"\"),\"\"),\"\"),\"\"),\"\")","v":""},"AVE","AVE","AVE","","AVE","AVE","","","AVE","AVE","AVE","AVE","","AVE","AVE","AVE","AVE","AVE","AVE","AVE","","AVE","","","AVE","","","","","","","","","","","","","",{"$f":"COUNTIF(D200:AQ200,\"AVE\")","v":19},null,null,null,null,{"$f":"IF(D200=\"AVE\",D179,\"\")","v":0},"",0,0,2,"",2,1,"","",0,0,0,0,"",0,0,2,0,3,0,0,"",0,"","",0,"","","","","","","","","","","","","",10,0.52631578947368418,{"$f":"AS179","v":2.8928571428571428},{"$f":"AT179","v":5.6064730163035374},-0.4221087565215409,"AVE",6]
[null,null,"OPOMENUTÍ WALSH",{"$f":"IF(D197<>\"REJ\",IF(D192<>\"\",IF(D179<>\"\",IF(D179 = 0,IF(D180 > 0,\"OPO\",\" \"),\" \"),\" \"),\"\"),\"\")","v":"OPO"},{"$f":"IF(E197<>\"REJ\",IF(E192<>\"\",IF(E179<>\"\",IF(E179 = 0,IF(E180 > 0,\"OPO\",\" \"),\" \"),\" \"),\"\"),\"\")","v":""},"OPO","OPO"," ",""," "," "," ","","OPO","OPO","OPO","OPO"," ","OPO","OPO"," ","OPO"," ","OPO","OPO"," ","OPO"," "," ","OPO"," ","","","","","","","","","","","","",{"$f":"COUNTIF(D201:AQ201,\"OPO\")","v":14},null,null,null,null,{"$f":"IF(D201=\"OPO\",D179,\"\")","v":0},"",0,0,"","","","","","",0,0,0,0,"",0,0,"",0,"",0,0,"",0,"","",0,"","","","","","","","","","","","","",0,"",{"$f":"AS179","v":2.8928571428571428},{"$f":"AT179","v":5.6064730163035374},"","OPO Walsh",7]
[null,null,"IZOLOVANÍ",{"$f":"IF(D191<>\"\",IF(D192<>\"\",IF(D179<>\"\",IF(D179 = 0,IF(D180 = 0,\"IZO\",\"\"),\" \"),\" \"),\"\"),\"\")","v":""},{"$f":"IF(E191<>\"\",IF(E192<>\"\",IF(E179<>\"\",IF(E179 = 0,IF(E180 = 0,\"IZO\",\"\"),\" \"),\" \"),\"\"),\"\")","v":""},"",""," ",""," "," "," ","","","","",""," ","",""," ",""," ","",""," ",""," "," ",""," ","","","","","","","","","","","","",{"$f":"COUNTIF(D202:AQ202,\"IZO\")","v":0},null,null,null,null,null,null,null,null,null,null,null,null,null,null,null,null,null,null,null,"spočíta negatívne v kategóriách pre z-skóre",null,null,null,null,null,null,null,null,null,null,null,null,null,null,null,null,null,null,null,null,null,null,null,null,null,"xi","všetky","všetky"]
[null,null,null,{"$f":"IF(D199=\"CON\",\"CON\",IF(D196=\"POP\",\"POP\",\"\"))","v":""},{"$f":"IF(E199=\"CON\",\"CON\",IF(E196=\"POP\",\"POP\",\"\"))","v":""},"","","","","","","POP","","","","","","POP","","","","","","","","POP","","POP",{"$f":"IF(AC196=\"POP\",\"POP\",\"\")","v":"POP"},"","POP","","","","","","","","","","","","",null,null,null,null,null,1,2,3,4,5,6,7,8,9,10,11,12,13,14,15,16,17,18,19,20,21,22,23,24,25,26,27,28,29,30,31,32,33,34,35,36,37,38,39,40,"Suma","AM","AM all","SD all","z-skóre","kategória"]
[null,null,"Prekódované pre Target graf 2 Q_4",{"$f":"IF(D196=\"POP\",13,IF(D197=\"REJ\",33,IF(D198=\"NEG\",46,IF(D199=\"CON\",60,IF(D200=\"AVE\",74,IF(D195=\"OPO\",46,\"\"))))))","v":74},33,74,74,74,33,74,74,13,33,74,74,74,74,13,{"$f":"IF(S196=\"POP\",13,IF(S197=\"REJ\",33,IF(S198=\"NEG\",46,IF(S199=\"CON\",60,IF(S200=\"AVE\",74,IF(S195=\"OPO\",46,\"\"))))))","v":74},{"$f":"IF(T196=\"POP\",13,IF(T197=\"REJ\",33,IF(T198=\"NEG\",46,IF(T199=\"CON\",60,IF(T200=\"AVE\",74,IF(T195=\"OPO\",46,\"\"))))))","v":74},74,74,74,74,74,13,74,13,13,74,13,"","","","","","","","","","","","",null,null,null,null,null,{"$f":"IF(D195=\"OPO\",D182,\"\")","v":0},20,0,5,"",18,"","","",20,1,2,1,0,"",1,1,"",0,"",0,0,"",4,"","",2,"","","","","","","","","","","","","",{"$f":"SUM(AW204:CJ204)","v":75},{"$f":"IF(CK204>0,AVERAGE(AW204:CJ204),\"\")","v":4.4117647058823533},{"$f":"AS182","v":2.8928571428571428},{"$f":"AT182","v":5.9462984795976741},{"$f":"IF(CK204>0,(CL204-CM204)/CN204,\"\")","v":0.25543749077459355},"OPO Fila",1]
[null,null,null,{"$f":"IF(D199=\"CON\",\"CON\",IF(D197=\"REJ\",\"REJ\",\"\"))","v":""},{"$f":"IF(E199=\"CON\",\"CON\",IF(E197=\"REJ\",\"REJ\",\"\"))","v":"REJ"},"","","","REJ","","","","REJ","","","","","","","","","","","","","","","",null,null,null,null,null,null,null,null,null,null,null,null,null,null,null,null,null,null,null,null,{"$f":"IF(D196=\"POP\",D182,\"\")","v":""},"","","","","","","",0,"","","","","",0,"","","","","","","",0,"",1,0,"",0,"","","","","","","","","","","","",1,0.16666666666666666,{"$f":"AS182","v":2.8928571428571428},{"$f":"AT182","v":5.9462984795976741},-0.45846848851336675,"POP",2]
["Podľa Group Dynamnics",null,"Algoritmus 3 Target",null,null,null,null,null,null,null,null,null,null,null,null,null,null,null,null,null,null,null,null,null,null,null,null,null,null,null,null,null,null,null,null,null,null,null,null,null,null,null,null,null,null,null,null,null,{"$f":"IF(D197=\"NEG\",D182,\"\")","v":""},"","","","","","","","","","","","","","","","","","","","","","","","","","","","","","","","","","","","","","","",0,"",{"$f":"AS182","v":2.8928571428571428},{"$f":"AT182","v":5.9462984795976741},"","REJ",3]
["Recieved accteptance",null,"Kategórie",{"$f":"IF(D192<>\"\",IF(D179<>\"\",IF(D179>=TRUNC(0.75*$AU$5),\"A\",IF(D179>=TRUNC(0.5*$AU$5),\"B\",IF(D179>=TRUNC(0.25*$AU$5),\"C\",IF(D179<TRUNC(0.25*$AU$5),\"D\",\"\")))),\"\"),\"\")","v":"D"},{"$f":"IF(E192<>\"\",IF(E179<>\"\",IF(E179>=TRUNC(0.75*$AU$5),\"A\",IF(E179>=TRUNC(0.5*$AU$5),\"B\",IF(E179>=TRUNC(0.25*$AU$5),\"C\",IF(E179<TRUNC(0.25*$AU$5),\"D\",\"\")))),\"\"),\"\")","v":"D"},"D","D","C","D","C","D","A","D","D","D","D","D","A","D","D","C","D","C","D","D","A","D","A","A","D","A","","","","","","","","","","","","",null,null,null,null,null,{"$f":"IF(D198=\"CON\",D182,\"\")","v":""},"","","","","","","","","","","","","","","","","","","","","","","","","","","","","","","","","","","","","","","",0,"",{"$f":"AS182","v":2.8928571428571428},{"$f":"AT182","v":5.9462984795976741},"","NEG",4]
[null,null,"Prekódované pre Target graf 3 Q_4",{"$f":"IF(D192<>\"\",IF(D179<>\"\",IF(D179>=TRUNC(0.75*$AU$5),15,IF(D179>=TRUNC(0.5*$AU$5),40,IF(D179>=TRUNC(0.25*$AU$5),56,IF(D179<TRUNC(0.25*$AU$5),73,\"\")))),\"\"),\"\")","v":73},{"$f":"IF(E192<>\"\",IF(E179<>\"\",IF(E179>=TRUNC(0.75*$AU$5),15,IF(E179>=TRUNC(0.5*$AU$5),40,IF(E179>=TRUNC(0.25*$AU$5),56,IF(E179<TRUNC(0.25*$AU$5),73,\"\")))),\"\"),\"\")","v":73},73,73,56,73,56,73,15,73,73,73,73,73,15,73,73,56,73,56,73,73,15,73,15,15,73,15,"","","","","","","","","","","","",null,null,null,null,null,{"$f":"IF(D199=\"NEG\",D182,\"\")","v":""},"","","","","","","","","","","","","","","","","","","","","","","","","","","","","","","","","","","","","","","",0,"",{"$f":"AS182","v":2.8928571428571428},{"$f":"AT182","v":5.9462984795976741},"","CON",5]
[null,null,null,null,null,null,null,null,null,null,null,null,null,null,null,null,null,null,null,null,null,null,null,null,null,null,null,null,null,null,null,null,null,null,null,null,null,null,null,null,null,null,null,null,null,null,null,null,{"$f":"IF(D200=\"AVE\",D182,\"\")","v":0},"",0,5,1,"",0,3,"","",1,2,1,0,"",1,1,1,0,0,0,0,"",4,"","",2,"","","","","","","","","","","","","",22,1.1578947368421053,{"$f":"AS182","v":2.8928571428571428},{"$f":"AT182","v":5.9462984795976741},-0.29177183284153352,"AVE",6]
["Podľa Group Dynamnics",null,"Algoritmus 4 Target",null,null,null,null,null,null,null,null,null,null,null,null,null,null,null,null,null,null,null,null,null,null,null,null,null,null,null,null,null,null,null,null,null,null,null,null,null,null,null,null,null,null,null,null,null,{"$f":"IF(D201=\"OPO\",D182,\"\")","v":0},"",0,5,"","","","","","",1,2,1,0,"",1,1,"",0,"",0,0,"",4,"","",2,"","","","","","","","","","","","","",17,1.2142857142857142,{"$f":"AS182","v":2.8928571428571428},{"$f":"AT182","v":5.9462984795976741},-0.28228845799294633,"OPO Walsh",7]
["Recieved rejections",null,"Kategórie",{"$f":"IF(D192<>\"\",IF(D182<>\"\",IF(D182>=TRUNC(0.75*$AU$8),\"A\",IF(D182>=TRUNC(0.5*$AU$8),\"B\",IF(D182>=TRUNC(0.25*$AU$8),\"C\",IF(D182<TRUNC(0.25*$AU$8),\"D\",\"\")))),\"\"),\"\")","v":"D"},{"$f":"IF(E192<>\"\",IF(E182<>\"\",IF(E182>=TRUNC(0.75*$AU$8),\"A\",IF(E182>=TRUNC(0.5*$AU$8),\"B\",IF(E182>=TRUNC(0.25*$AU$8),\"C\",IF(E182<TRUNC(0.25*$AU$8),\"D\",\"\")))),\"\"),\"\")","v":"A"},"D","C","D","A","D","D","D","A","D","D","D","D","D","D","D","D","D","D","D","D","D","D","D","D","D","D","","","","","","","","","","","","",null,null,null,null,null,null,null,null,null,null,null,null,null,null,null,null,null,null,null,null,"spočíta mutuály pozitívne v kategóriách pre z-skóre",null,null,null,null,null,null,null,null,null,null,null,null,null,null,null,null,null,null,null,null,null,null,null,null,null,"xi"]
[null,null,"Prekódované pre Target graf 4 Q_4",{"$f":"IF(D192<>\"\",IF(D182<>\"\",IF(D182>=TRUNC(0.75*$AU$8),15,IF(D182>=TRUNC(0.5*$AU$8),40,IF(D182>=TRUNC(0.25*$AU$8),56,IF(D182<TRUNC(0.25*$AU$8),73,\"\")))),\"\"),\"\")","v":73},{"$f":"IF(E192<>\"\",IF(E182<>\"\",IF(E182>=TRUNC(0.75*$AU$8),15,IF(E182>=TRUNC(0.5*$AU$8),40,IF(E182>=TRUNC(0.25*$AU$8),56,IF(E182<TRUNC(0.25*$AU$8),73,\"\")))),\"\"),\"\")","v":15},73,56,73,15,73,73,73,15,73,73,73,73,73,73,73,73,73,73,73,73,73,73,73,73,73,73,"","","","","","","","","","","","",null,null,null,null,null,1,2,3,4,5,6,7,8,9,10,11,12,13,14,15,16,17,18,19,20,21,22,23,24,25,26,27,28,29,30,31,32,33,34,35,36,37,38,39,40,"Suma","AM","AM all","SD all","z-skóre","kategória"]
[null,null,null,null,null,null,null,null,null,null,null,null,null,null,null,null,null,null,null,null,null,null,null,null,null,null,null,null,null,null,null,null,null,null,null,null,null,null,null,null,null,null,null,null,null,null,null,null,{"$f":"IF(D195=\"OPO\",D181,\"\")","v":0},0,0,0,"",0,"","","",0,0,0,0,0,"",0,0,"",0,"",0,0,"",0,"","",0,"","","","","","","","","","","","","",{"$f":"SUM(AW213:CJ213)","v":0},{"$f":"IF(CK213>0,AVERAGE(AW213:CJ213),\"\")","v":""},{"$f":"AS181","v":0.42857142857142855},{"$f":"AT181","v":0.835710894037345},{"$f":"IF(CK213>0,(CL213-CM213)/CN213,\"\")","v":""},"OPO Fila",1]
[null,null,"Algoritmus 5 Target",null,null,null,null,null,null,null,null,null,null,null,null,null,null,null,null,null,null,null,null,null,null,null,null,null,null,null,null,null,null,null,null,null,null,null,null,null,null,null,null,null,null,null,null,null,{"$f":"IF(D196=\"POP\",D181,\"\")","v":""},"","","","","","","",0,"","","","","",1,"","","","","","","",3,"",2,1,"",0,"","","","","","","","","","","","",7,1.1666666666666667,{"$f":"AS181","v":0.42857142857142855},{"$f":"AT181","v":0.835710894037345},0.88319446756219411,"POP",2]
["Mutual acceptance","Cs+","Index sociability P",{"$f":"IF($B$2<>0,IF(D192<>\"\",IF(D181<>\"\",D181/($B$2),\"\"),\"\"),\"\")","v":0},{"$f":"IF($B$2<>0,IF(E192<>\"\",IF(E181<>\"\",E181/($B$2),\"\"),\"\"),\"\")","v":0},0,0,0.33333333333333331,0,0,0,0,0,0,0,0,0,0.33333333333333331,0,0,0.66666666666666663,0,0.66666666666666663,0,0,1,0,0.66666666666666663,0.33333333333333331,0,0,"","","","","","","","","","","","",null,null,null,null,null,{"$f":"IF(D197=\"REJ\",D181,\"\")","v":""},0,"","","",0,"","","",0,"","","","","","","","","","","","","","","","","","","","","","","","","","","","","","",0,"",{"$f":"AS181","v":0.42857142857142855},{"$f":"AT181","v":0.835710894037345},"","REJ",3]
[null,null,"Index sociability P kategória",{"$f":"IF(D215<>\"\",(IF(D215>=0.75,\"A\",IF(D215>=0.5,\"B\",IF(D215>=0.25,\"C\",IF(D215<0.25,\"D\",\"x\"))))),\"\")","v":"D"},"D","D","D","C","D","D","D","D","D","D","D","D","D","C","D","D","B","D","B","D","D","A","D","B","C","D","D","","","","","","","","","","","","",null,null,null,null,null,{"$f":"IF(D198=\"NEG\",D181,\"\")","v":""},"","","","","","","","","","","","","","","","","","","","","","","","","","","","","","","","","","","","","","","",0,"",{"$f":"AS181","v":0.42857142857142855},{"$f":"AT181","v":0.835710894037345},"","NEG",4]
[null,null,"Prekódované pre Target graf 5 Q_4",{"$f":"IF(D215<>\"\",(IF(D215>=0.75,15,IF(D215>=0.5,40,IF(D215>=0.25,56,IF(D215<0.25,73,\"x\"))))),\"\")","v":73},73,73,73,56,73,73,73,73,73,73,73,73,73,56,73,73,40,73,40,73,73,15,73,40,56,73,73,"","","","","","","","","","","","",null,null,null,null,null,{"$f":"IF(D199=\"CON\",D181,\"\")","v":""},"","","","","","","","","","","","","","","","","","","","","","","","","","","","","","","","","","","","","","","",0,"",{"$f":"AS181","v":0.42857142857142855},{"$f":"AT181","v":0.835710894037345},"","CON",5]
[null,null,null,null,null,null,null,null,null,null,null,null,null,null,null,null,null,null,null,null,null,null,null,null,null,null,null,null,null,null,null,null,null,null,null,null,null,null,null,null,null,null,null,null,null,null,null,null,{"$f":"IF(D200=\"AVE\",D181,\"\")","v":0},"",0,0,1,"",0,0,"","",0,0,0,0,"",0,0,2,0,2,0,0,"",0,"","",0,"","","","","","","","","","","","","",5,0.26315789473684209,{"$f":"AS181","v":0.42857142857142855},{"$f":"AT181","v":0.835710894037345},-0.19793152753516063,"AVE",6]
["Podľa Group Dynamnics",null,"Algoritmus 5 Target",null,null,null,null,null,null,null,null,null,null,null,null,null,null,null,null,null,null,null,null,null,null,null,null,null,null,null,null,null,null,null,null,null,null,null,null,null,null,null,null,null,null,null,null,null,{"$f":"IF(D201=\"OPO\",D181,\"\")","v":0},"",0,0,"","","","","","",0,0,0,0,"",0,0,"",0,"",0,0,"",0,"","",0,"","","","","","","","","","","","","",0,"",{"$f":"AS181","v":0.42857142857142855},{"$f":"AT181","v":0.835710894037345},"","OPO Walsh",7]
["Mutual rejection","Cs–","Index odmietania N",{"$f":"IF($B$2<>0,IF(D192<>\"\",IF(D184<>\"\",D184/$B$2,\"\"),\"\"),\"\")","v":0},{"$f":"IF($B$2<>0,IF(E192<>\"\",IF(E184<>\"\",E184/$B$2,\"\"),\"\"),\"\")","v":1},0,0.66666666666666663,0.33333333333333331,0.66666666666666663,0,0,0,1,0,0,0,0,0,0,0,0.33333333333333331,0,0,0,0,0,0.33333333333333331,0.33333333333333331,0,0,0,"","","","","","","","","","","","",null,null,null,null,null,null,null,null,null,null,null,null,null,null,null,null,null,null,null,null,"spočíta mutuály negatívne v kategóriách pre z-skóre",null,null,null,null,null,null,null,null,null,null,null,null,null,null,null,null,null,null,null,null,null,null,null,null,null,"xi"]
[null,null,"Index odmietania P kategória",{"$f":"IF(D220<>\"\",(IF(D220>=0.75,\"A\",IF(D220>=0.5,\"B\",IF(D220>=0.25,\"C\",IF(D220<0.25,\"D\",\"x\"))))),\"\")","v":"D"},{"$f":"IF(E220<>\"\",(IF(E220>=0.75,\"A\",IF(E220>=0.5,\"B\",IF(E220>=0.25,\"C\",IF(E220<0.25,\"D\",\"x\"))))),\"\")","v":"A"},"D","B","C","B","D","D","D","A","D","D","D","D","D","D","D","C","D","D","D","D","D","C","C","D","D","D","","","","","","","","","","","","",null,null,null,null,null,1,2,3,4,5,6,7,8,9,10,11,12,13,14,15,16,17,18,19,20,21,22,23,24,25,26,27,28,29,30,31,32,33,34,35,36,37,38,39,40,"Suma","AM","AM all","SD all","z-skóre","kategória"]
[null,null,"Prekódované pre Target graf 6 Q_4",{"$f":"IF(D220<>\"\",(IF(D220>=0.75,15,IF(D220>=0.5,40,IF(D220>=0.25,56,IF(D220<0.25,73,\"x\"))))),\"\")","v":73},15,73,40,56,40,73,73,73,15,73,73,73,73,73,73,73,56,73,73,73,73,73,56,56,73,73,73,"","","","","","","","","","","","",null,null,null,null,null,{"$f":"IF(D195=\"OPO\",D184,\"\")","v":0},3,0,2,"",2,"","","",3,0,0,0,0,"",0,0,"",0,"",0,0,"",1,"","",0,"","","","","","","","","","","","","",{"$f":"SUM(AW222:CJ222)","v":11},{"$f":"IF(CK222>0,AVERAGE(AW222:CJ222),\"\")","v":0.6470588235294118},{"$f":"AS184","v":0.5},{"$f":"AT184","v":0.92295820699089726},{"$f":"IF(CK222>0,(CL222-CM222)/CN222,\"\")","v":0.15933421731940045},"OPO Fila",1]
[null,null,null,null,null,null,null,null,null,null,null,null,null,null,null,null,null,null,null,null,null,null,null,null,null,null,null,null,null,null,null,null,null,null,null,null,null,null,null,null,null,null,null,null,null,null,null,null,{"$f":"IF(D196=\"POP\",D184,\"\")","v":""},"","","","","","","",0,"","","","","",0,"","","","","","","",0,"",1,0,"",0,"","","","","","","","","","","","",1,0.16666666666666666,{"$f":"AS184","v":0.5},{"$f":"AT184","v":0.92295820699089726},-0.36115755925730764,"POP",2]
[null,null,null,null,null,null,null,null,null,null,null,null,null,null,null,null,null,null,null,null,null,null,null,null,null,null,null,null,null,null,null,null,null,null,null,null,null,null,null,null,null,null,null,null,null,null,null,null,{"$f":"IF(D197=\"REJ\",D184,\"\")","v":""},3,"","","",2,"","","",3,"","","","","","","","","","","","","","","","","","","","","","","","","","","","","","",8,2.6666666666666665,{"$f":"AS184","v":0.5},{"$f":"AT184","v":0.92295820699089726},2.3475241351724989,"REJ",3]
["Podľa Group Dynamnics",null,"Algoritmus 1 Target",null,null,null,null,null,null,null,null,null,null,null,null,null,null,null,null,null,null,null,null,null,null,null,null,null,null,null,null,null,null,null,null,null,null,null,null,null,null,null,null,null,null,null,null,null,{"$f":"IF(D198=\"NEG\",D184,\"\")","v":""},"","","","","","","","","","","","","","","","","","","","","","","","","","","","","","","","","","","","","","","",0,"",{"$f":"AS184","v":0.5},{"$f":"AT184","v":0.92295820699089726},"","NEG",4]
[null,null,"Frequenties of positive questions",null,null,null,null,null,null,null,null,null,null,null,null,null,null,null,null,null,null,null,null,null,null,null,null,null,null,null,null,null,null,null,null,null,null,null,null,null,null,null,null,null,null,null,null,null,{"$f":"IF(D199=\"CON\",D184,\"\")","v":""},"","","","","","","","","","","","","","","","","","","","","","","","","","","","","","","","","","","","","","","",0,"",{"$f":"AS184","v":0.5},{"$f":"AT184","v":0.92295820699089726},"","CON",5]
[null,null,null,null,null,null,null,null,null,null,null,null,null,null,null,null,null,null,null,null,null,null,null,null,null,null,null,null,null,null,null,null,null,null,null,null,null,null,null,null,null,null,null,null,null,null,null,null,{"$f":"IF(D200=\"AVE\",D184,\"\")","v":0},"",0,2,1,"",0,0,"","",0,0,0,0,"",0,0,1,0,0,0,0,"",1,"","",0,"","","","","","","","","","","","","",5,0.26315789473684209,{"$f":"AS184","v":0.5},{"$f":"AT184","v":0.92295820699089726},-0.25661194999861331,"AVE",6]
[null,"A","Popular \"A\"",{"$f":"IF(D192<>\"\",IF(D179<>\"\",IF(D179>3,IF(D182<=1,\"A\",\"\"),\"\"),\"\"),\"\")","v":""},{"$f":"IF(E192<>\"\",IF(E179<>\"\",IF(E179>3,IF(E182<=1,\"A\",\"\"),\"\"),\"\"),\"\")","v":""},"","","","","","","A","","","","","","A","","","","","","","","A","","A","A","","A","","","","","","","","","","","","",null,null,null,null,null,{"$f":"IF(D201=\"OPO\",D184,\"\")","v":0},"",0,2,"","","","","","",0,0,0,0,"",0,0,"",0,"",0,0,"",1,"","",0,"","","","","","","","","","","","","",3,0.21428571428571427,{"$f":"AS184","v":0.5},{"$f":"AT184","v":0.92295820699089726},-0.30956362222054934,"OPO Walsh",7]
[null,"B","Liked more than disliked \"B\"",{"$f":"IF(D192<>\"\",IF(D179<>\"\",IF(D179>D182,IF(D228<>\"A\",\"B\",\"\"),\"\"),\"\"),\"\")","v":""},{"$f":"IF(E192<>\"\",IF(E179<>\"\",IF(E179>E182,IF(E228<>\"A\",\"B\",\"\"),\"\"),\"\"),\"\")","v":""},"","","B","","B","","","","","","","","","","","B","","B","","","","","","","","","","","","","","","","","","","",""]
[null,"C","Disliked more than liked \"C\"",{"$f":"IF(D192<>\"\",IF(D179<>\"\",IF(D179<D182,IF(D228<>\"A\",IF(D232<>\"E\",\"C\",\"\"),\"\"),\"\"),\"\"),\"\")","v":""},{"$f":"IF(E192<>\"\",IF(E179<>\"\",IF(E179<E182,IF(E228<>\"A\",IF(E232<>\"E\",\"C\",\"\"),\"\"),\"\"),\"\"),\"\")","v":""},"","","","","","C","","","C","C","C","","","C","C","","","","","","","","","","C","","","","","","","","","","","","",""]
[null,"D","Controversial \"D\"",{"$f":"IF(D192<>\"\",IF(D179<>\"\",IF(D179>0,IF(D179>0,IF(D179=D182,IF(D228<>\"A\",\"D\",\"\"),\"\"),\"\"),\"\"),\"\"),\"\")","v":""},{"$f":"IF(E192<>\"\",IF(E179<>\"\",IF(E179>0,IF(E179>0,IF(E179=E182,IF(E228<>\"A\",\"D\",\"\"),\"\"),\"\"),\"\"),\"\"),\"\")","v":""},"","","","","","","","","","","","","","","","","","","","","","","","","","","","","","","","","","","","","",""]
[null,"E","Rejected \"E\"",{"$f":"IF(D192<>\"\",IF(D179<>\"\",IF(D179<=1,IF(D182>3,\"E\",\"\"),\"\"),\"\"),\"\")","v":""},{"$f":"IF(E192<>\"\",IF(E179<>\"\",IF(E179<=1,IF(E182>3,\"E\",\"\"),\"\"),\"\"),\"\")","v":"E"},"","E","","E","","","","E","","","","","","","","","","","","","","E","","","","","","","","","","","","","","","",""]
[null,"F","Neglected \"F\"",{"$f":"IF(D192<>\"\",IF(D179<>\"\",IF(D179=0,IF(D182=0,\"F\",\"\"),\"\"),\"\"),\"\")","v":"F"},{"$f":"IF(E192<>\"\",IF(E179<>\"\",IF(E179=0,IF(E182=0,\"F\",\"\"),\"\"),\"\"),\"\")","v":""},"F","","","","","","","","","","","F","","","","","F","","F","F","","","","","","","","","","","","","","","","","",""]
[null,null,"Pomo B",{"$f":"IF(D191=0,IF(D192=0,\"B\",\"\"),IF(D229=\"B\",\"B\",\"\"))","v":""},{"$f":"IF(E191=0,IF(E192=0,\"B\",\"\"),IF(E229=\"B\",\"B\",\"\"))","v":""},"","","B","","B","","","","","","","","","","","B","","B","","","","","","","","","","","","","","","","","","","",""]
[null,null,"Prekódované pre Target graf 1 Q_4",{"$f":"IF(D233=\"F\",87,IF(D231=\"D\",60,IF(D232=\"E\",74,IF(D230=\"C\",46,IF(D228=\"A\",13,IF(D229=\"B\",33,IF(D234=\"B\",33,\"\")))))))","v":87},74,87,74,33,74,33,46,13,74,46,46,46,87,13,46,46,33,87,33,87,87,13,74,13,13,46,13,"","","","","","","","","","","",""]
["Otázka č.5",null,null,null,null,null,null,null,null,null,null,null,null,null,null,null,null,null,null,null,null,null,null,null,null,null,null,null,null,null,null,null,null,null,null,null,null,null,null,null,null,null,null,null,"AM","SD","MAX"]
["Q_5_P","Sel_p_r",{"$f":"CONCATENATE($BJ$3, \" P\")","v":" P"},2,0,1,1,2,1,5,3,3,1,4,2,2,3,0,0,0,5,4,2,3,3,11,2,6,2,6,5,null,null,null,null,null,null,null,null,null,null,null,null,{"$f":"SUM(D237:AQ237)","v":79},{"$f":"IF(AR237>0,AVERAGE(D237:AQ237),\"\")","v":2.8214285714285716},{"$f":"IF(AR237>0,STDEV(D237:AQ237),\"\")","v":2.3890734517113446},{"$f":"MAX(D237:AQ237)","v":11}]
["Q_5_P","Sel_p_g",{"$f":"CONCATENATE($BJ$3, \" P\")","v":" P"},3,3,3,3,3,1,3,3,3,3,3,3,3,3,3,3,3,3,3,3,3,3,3,3,3,3,3,0,null,null,null,null,null,null,null,null,null,null,null,null,{"$f":"SUM(D238:AQ238)","v":79},{"$f":"IF(AR237>0,AVERAGE(D238:AQ238),\"\")","v":2.8214285714285716},{"$f":"IF(AR237>0,STDEV(D238:AQ238),\"\")","v":0.66963624335358263}]
["Q_5_P","Rec_p",{"$f":"CONCATENATE($BJ$3, \" mutual P\")","v":" mutual P"},1,0,1,0,2,0,1,0,1,1,1,2,2,2,0,0,0,3,2,1,1,0,3,2,2,1,3,0,null,null,null,null,null,null,null,null,null,null,null,null,32,{"$f":"IF(AR237>0,AVERAGE(D239:AQ239),\"\")","v":1.1428571428571428},{"$f":"IF(AR237>0,STDEV(D239:AQ239),\"\")","v":1.0079052613579393}]
["Q_5_N","Sel_n_r",{"$f":"CONCATENATE($BJ$3, \" N\")","v":" N"},1,8,2,7,7,13,2,0,0,15,0,2,0,0,1,2,1,0,2,2,1,3,3,2,3,0,4,0,null,null,null,null,null,null,null,null,null,null,null,null,81,{"$f":"IF(AR237>0,AVERAGE(D240:AQ240),\"\")","v":2.8928571428571428},{"$f":"IF(AR237>0,STDEV(D240:AQ240),\"\")","v":3.8329882522385774},{"$f":"MAX(D240:AQ240)","v":15}]
["Q_5_N","Sel_n_g",{"$f":"CONCATENATE($BJ$3, \" N\")","v":" N"},3,3,3,3,3,3,3,3,3,3,3,3,3,3,3,3,3,3,3,3,3,3,3,3,3,3,3,0,null,null,null,null,null,null,null,null,null,null,null,null,81,{"$f":"IF(AR237>0,AVERAGE(D241:AQ241),\"\")","v":2.8928571428571428},{"$f":"IF(AR237>0,STDEV(D241:AQ241),\"\")","v":0.56694670951384041}]
["Q_5_N","Rec_n",{"$f":"CONCATENATE($BJ$3, \" mutual N\")","v":" mutual N"},0,0,1,1,0,2,1,0,0,3,0,0,0,0,0,0,0,0,0,1,0,0,2,0,2,0,1,0,null,null,null,null,null,null,null,null,null,null,null,null,14,{"$f":"IF(AR237>0,AVERAGE(D242:AQ242),\"\")","v":0.5},{"$f":"IF(AR237>0,STDEV(D242:AQ242),\"\")","v":0.83887049280786108}]
["Q_5","IZO p",{"$f":"CONCATENATE($BJ$3, \" izolovaní P\")","v":" izolovaní P"},{"$f":"IF(D249<>\"\",IF(D237<>\"\",IF(D237 = 0,IF(D238 = 0,1,\"\"),\"\"),\"\"),\"\")","v":""},{"$f":"IF(E249<>\"\",IF(E237<>\"\",IF(E237 = 0,IF(E238 = 0,1,\"\"),\"\"),\"\"),\"\")","v":""},"","","","","","","","","","","","","","","","","","","","","","","","","","","","","","","","","","","","","","",0]
["Q_5","OPO p",{"$f":"CONCATENATE($BJ$3, \" opomenutí P\")","v":" opomenutí P"},{"$f":"IF(D237<>\"\",IF(D237 = 0,IF(D238 > 0,1,\"\"),\"\"),\"\")","v":""},{"$f":"IF(E237<>\"\",IF(E237 = 0,IF(E238 > 0,1,\"\"),\"\"),\"\")","v":1},"","","","","","","","","","","","",1,1,1,"","","","","","","","","","","","","","","","","","","","","","","",4]
["Q_5","IZO n",{"$f":"CONCATENATE($BJ$3, \" izolovaní N\")","v":" izolovaní N"},{"$f":"IF(D250<>\"\",IF(D240<>\"\",IF(D240 = 0,IF(D241 = 0,1,\" \"),\" \"),\" \"),\"\")","v":" "},{"$f":"IF(E250<>\"\",IF(E240<>\"\",IF(E240 = 0,IF(E241 = 0,1,\" \"),\" \"),\" \"),\"\")","v":" "}," "," "," "," "," "," "," "," "," "," "," "," "," "," "," "," "," "," "," "," "," "," "," "," "," ",1,"","","","","","","","","","","","",1]
["Q_5","OPO n",{"$f":"CONCATENATE($BJ$3, \" opomenutí N\")","v":" opomenutí N"},{"$f":"IF(D240<>\"\",IF(D240 = 0,IF(D241 > 0,1,\" \"),\" \"),\" \")","v":" "}," "," "," "," "," "," ",1,1," ",1," ",1,1," "," "," ",1," "," "," "," "," "," "," ",1," "," "," "," "," "," "," "," "," "," "," "," "," "," ",7]
["Podľa Walsha","Social preference and social Impact"]
["Algoritmus 2 používa Group aj Walsh"]
["Q_5","zLM","z-skóre P",{"$f":"IF($AT$237<>\"\",IF(D237<>\"\",(D237-$AS$237)/$AT$237,\"\"),\"\")","v":-0.34382725689750759},{"$f":"IF($AT$237<>\"\",IF(E237<>\"\",(E237-$AS$237)/$AT$237,\"\"),\"\")","v":-1.1809718823870909},-0.76239956964229927,-0.76239956964229927,-0.34382725689750759,-0.76239956964229927,0.91188968133686765,7.4745055847284164E-2,7.4745055847284164E-2,-0.76239956964229927,0.49331736859207587,-0.34382725689750759,-0.34382725689750759,7.4745055847284164E-2,-1.1809718823870909,-1.1809718823870909,-1.1809718823870909,0.91188968133686765,0.49331736859207587,-0.34382725689750759,7.4745055847284164E-2,7.4745055847284164E-2,3.423323557805618,-0.34382725689750759,1.3304619940816593,-0.34382725689750759,1.3304619940816593,0.91188968133686765,"","","","","","","","","","","",""]
["Q_5","zLL","z-skóre N",{"$f":"IF($AT$240<>\"\",IF($AT$240<>0,IF(D240<>\"\",(D240-$AS$240)/$AT$240,\"\"),\"\"),\"\")","v":-0.49383327531767385},{"$f":"IF($AT$240<>\"\",IF($AT$240<>0,IF(E240<>\"\",(E240-$AS$240)/$AT$240,\"\"),\"\"),\"\")","v":1.3324180824608938},-0.23294022420644991,1.0715250313496698,1.0715250313496698,2.6368833380170131,-0.23294022420644991,-0.7547263264288977,-0.7547263264288977,3.1586694402394611,-0.7547263264288977,-0.23294022420644991,-0.7547263264288977,-0.7547263264288977,-0.49383327531767385,-0.23294022420644991,-0.49383327531767385,-0.7547263264288977,-0.23294022420644991,-0.23294022420644991,-0.49383327531767385,2.7952826904774006E-2,2.7952826904774006E-2,-0.23294022420644991,2.7952826904774006E-2,-0.7547263264288977,0.28884587801599793,-0.7547263264288977,"","","","","","","","","","","",""]
["Q_5","SP","Social preference (zLM - zLL)",{"$f":"IF(D250<>\"\",IF(D249<>\"\",D249-D250,\"\"),\"\")","v":0.15000601842016625},{"$f":"IF(E250<>\"\",IF(E249<>\"\",E249-E250,\"\"),\"\")","v":-2.5133899648479847},-0.52945934543584938,-1.8339246009919692,-1.4153522882471774,-3.3992829076593125,1.1448299055433175,0.82947138227618189,0.82947138227618189,-3.9210690098817604,1.2480436950209737,-0.11088703269105768,0.4108990695313901,0.82947138227618189,-0.6871386070694171,-0.94803165818064106,-0.6871386070694171,1.6666160077657652,0.72625759279852575,-0.11088703269105768,0.56857833116495804,4.6792228942510158E-2,3.3953707309008441,-0.11088703269105768,1.3025091671768854,0.4108990695313901,1.0416161160656614,1.6666160077657652,"","","","","","","","","","","","",null,null,null,null,null,null,null,null,null,null,null,null,null,null,null,null,null,null,null,null,"spočíta pozitívne v kategóriách pre z-skóre",null,null,null,null,null,null,null,null,null,null,null,null,null,null,null,null,null,null,null,null,null,null,null,null,null,"xi","všetky","všetky"]
["Q_5","SI","Social impact (zLM + zLL)",{"$f":"IF(D250<>\"\",IF(D249<>\"\",D249+D250,\"\"),\"\")","v":-0.83766053221518144},{"$f":"IF(E250<>\"\",IF(E249<>\"\",E249+E250,\"\"),\"\")","v":0.15144620007380283},-0.99533979384874915,0.30912546170737054,0.72769777445216222,1.8744837683747138,0.67894945713041777,-0.67998127058161351,-0.67998127058161351,2.3962698705971617,-0.26140895783682183,-0.57676748110395748,-1.0985535833264053,-0.67998127058161351,-1.6748051577047649,-1.4139121065935409,-1.6748051577047649,0.15716335490796995,0.26037714438562598,-0.57676748110395748,-0.41908821947038966,0.10269788275205817,3.451276384710392,-0.57676748110395748,1.3584148209864333,-1.0985535833264053,1.6193078720976573,0.15716335490796995,"","","","","","","","","","","","",null,null,null,null,null,1,2,3,4,5,6,7,8,9,10,11,12,13,14,15,16,17,18,19,20,21,22,23,24,25,26,27,28,29,30,31,32,33,34,35,36,37,38,39,40,"Suma","AM","AM all","SD all","z-skóre","kategória"]
[null,null,"OPOMENUTÍ FILA",{"$f":"IF(D250<>\"\",IF(D237<>\"\",IF(D237 = 0,IF(D238 > 0,\"OPO\",\" \"),\" \"),\" \"),\"\")","v":" "},{"$f":"IF(E250<>\"\",IF(E237<>\"\",IF(E237 = 0,IF(E238 > 0,\"OPO\",\" \"),\" \"),\" \"),\"\")","v":"OPO"}," "," "," "," "," "," "," "," "," "," "," "," ","OPO","OPO","OPO"," "," "," "," "," "," "," "," "," "," "," ","","","","","","","","","","","","",{"$f":"COUNTIF(D253:AQ253,\"OPO\")","v":4},null,null,null,null,{"$f":"IF(D253=\"OPO\",D237,\" \")","v":" "},{"$f":"IF(E253=\"OPO\",E237,\"\")","v":0},"","","","","","","","","","","","",0,0,0,"","","","","","","","","","","","","","","","","","","","","","","",{"$f":"SUM(AW253:CJ253)","v":0},{"$f":"IF(CK253>0,AVERAGE(AW253:CJ253),\"\")","v":""},{"$f":"AS237","v":2.8214285714285716},{"$f":"AT237","v":2.3890734517113446},{"$f":"IF(CK253>0,(CL253-CM253)/CN253,\"\")","v":""},"OPO Fila",1]
[null,null,"POPULAR",{"$f":"IF(D250<>\"\",IF(D251>1,IF(D249>0,IF(D250<0,\"POP\",\"\"),\"\"),\"\"),\"\")","v":""},{"$f":"IF(E250<>\"\",IF(E251>1,IF(E249>0,IF(E250<0,\"POP\",\"\"),\"\"),\"\"),\"\")","v":""},"","","","","POP","","","","POP","","","","","","","POP","","","","","","","","","","POP","","","","","","","","","","","","",{"$f":"COUNTIF(D254:AQ254,\"POP\")","v":4},null,null,null,null,{"$f":"IF(D254=\"POP\",D237,\"\")","v":""},"","","","","",5,"","","",4,"","","","","","",5,"","","","","","","","","",5,"","","","","","","","","","","","",{"$f":"SUM(AW254:CJ254)","v":19},4.75,{"$f":"AS237","v":2.8214285714285716},{"$f":"AT237","v":2.3890734517113446},0.80724660315066965,"POP",2]
[null,null,"REJECTED",{"$f":"IF(D250<>\"\",IF(D251<-1,IF(D249<0,IF(D250>0,\"REJ\",\"\"),\"\"),\"\"),\"\")","v":""},{"$f":"IF(E250<>\"\",IF(E251<-1,IF(E249<0,IF(E250>0,\"REJ\",\"\"),\"\"),\"\"),\"\")","v":"REJ"},"","REJ","REJ","REJ","","","","REJ","","","","","","","","","","","","","","","","","","","","","","","","","","","","","","",{"$f":"COUNTIF(D255:AQ255,\"REJ\")","v":5},null,null,null,null,{"$f":"IF(D255=\"REJ\",D237,\"\")","v":""},0,"",1,2,1,"","","",1,"","","","","","","","","","","","","","","","","","","","","","","","","","","","","","",5,1,{"$f":"AS237","v":2.8214285714285716},{"$f":"AT237","v":2.3890734517113446},-0.76239956964229927,"REJ",3]
[null,null,"NEGLECTED",{"$f":"IF(D250<>\"\",IF(D252<-1,IF(D249=0,IF(D250=0,\"NEG\",\"\"),\"\"),\"\"),\"\")","v":""},{"$f":"IF(E250<>\"\",IF(E252<-1,IF(E249=0,IF(E250=0,\"NEG\",\"\"),\"\"),\"\"),\"\")","v":""},"","","","","","","","","","","","","","","","","","","","","","","","","","","","","","","","","","","","","","",{"$f":"COUNTIF(D256:AQ256,\"NEG\")","v":0},null,null,null,null,{"$f":"IF(D256=\"NEG\",D237,\"\")","v":""},"","","","","","","","","","","","","","","","","","","","","","","","","","","","","","","","","","","","","","","",0,"",{"$f":"AS237","v":2.8214285714285716},{"$f":"AT237","v":2.3890734517113446},"","NEG",4]
[null,null,"CONTROVERSIAL",{"$f":"IF(D250<>\"\",IF(D249<>\"\",IF(D252>1,IF(D249>0,IF(D250>0,\"CON\",\"\"),\"\"),\"\"),\"\"),\"\")","v":""},{"$f":"IF(E250<>\"\",IF(E249<>\"\",IF(E252>1,IF(E249>0,IF(E250>0,\"CON\",\"\"),\"\"),\"\"),\"\"),\"\")","v":""},"","","","","","","","","","","","","","","","","","","","","CON","","CON","","CON","","","","","","","","","","","","","",{"$f":"COUNTIF(D257:AQ257,\"CON\")","v":3},null,null,null,null,{"$f":"IF(D257=\"CON\",D237,\"\")","v":""},null,null,null,null,null,null,null,null,null,null,null,null,null,null,null,null,null,null,null,null,null,null,null,null,null,null,null,null,null,null,null,null,null,null,null,null,null,null,null,0,"",{"$f":"AS237","v":2.8214285714285716},{"$f":"AT237","v":2.3890734517113446},"","CON",5]
["*zmenený vzorec",null,"AVERAGE STATUS",{"$f":"IF(D249<>\"\",IF(D254<>\"POP\",IF(D255<>\"REJ\",IF(D256<>\"NEG\",IF(D257<>\"CON\",\"AVE\",\"\"),\"\"),\"\"),\"\"),\"\")","v":"AVE"},"","AVE","","","","","AVE","AVE","","","AVE","AVE","AVE","AVE","AVE","AVE","","AVE","AVE","AVE","AVE","","AVE","","AVE","","","","","","","","","","","","","","",{"$f":"COUNTIF(D258:AQ258,\"AVE\")","v":16},null,null,null,null,{"$f":"IF(D258=\"AVE\",D237,\"\")","v":2},"",1,"","","","",3,3,"","",2,2,3,0,0,0,"",4,2,3,3,"",2,"",2,"","","","","","","","","","","","","","",32,2,{"$f":"AS237","v":2.8214285714285716},{"$f":"AT237","v":2.3890734517113446},-0.34382725689750759,"AVE",6]
[null,null,"OPOMENUTÍ WALSH",{"$f":"IF(D255<>\"REJ\",IF(D250<>\"\",IF(D237<>\"\",IF(D237 = 0,IF(D238 > 0,\"OPO\",\" \"),\" \"),\" \"),\"\"),\"\")","v":" "},{"$f":"IF(E255<>\"REJ\",IF(E250<>\"\",IF(E237<>\"\",IF(E237 = 0,IF(E238 > 0,\"OPO\",\" \"),\" \"),\" \"),\"\"),\"\")","v":""}," ","","",""," "," "," ",""," "," "," "," ","OPO","OPO","OPO"," "," "," "," "," "," "," "," "," "," "," ","","","","","","","","","","","","",{"$f":"COUNTIF(D259:AQ259,\"OPO\")","v":3},null,null,null,null,{"$f":"IF(D259=\"OPO\",D237,\"\")","v":""},"","","","","","","","","","","","","",0,0,0,"","","","","","","","","","","","","","","","","","","","","","","",0,"",{"$f":"AS237","v":2.8214285714285716},{"$f":"AT237","v":2.3890734517113446},"","OPO Walsh",7]
[null,null,"IZOLOVANÍ",{"$f":"IF(D249<>\"\",IF(D250<>\"\",IF(D237<>\"\",IF(D237 = 0,IF(D238 = 0,\"IZO\",\"\"),\" \"),\" \"),\"\"),\"\")","v":" "},{"$f":"IF(E249<>\"\",IF(E250<>\"\",IF(E237<>\"\",IF(E237 = 0,IF(E238 = 0,\"IZO\",\"\"),\" \"),\" \"),\"\"),\"\")","v":""}," "," "," "," "," "," "," "," "," "," "," "," ","","",""," "," "," "," "," "," "," "," "," "," "," ","","","","","","","","","","","","",{"$f":"COUNTIF(D260:AQ260,\"IZO\")","v":0},null,null,null,null,null,null,null,null,null,null,null,null,null,null,null,null,null,null,null,"spočíta negatívne v kategóriách pre z-skóre",null,null,null,null,null,null,null,null,null,null,null,null,null,null,null,null,null,null,null,null,null,null,null,null,null,"xi","všetky","všetky"]
[null,null,null,{"$f":"IF(D257=\"CON\",\"CON\",IF(D254=\"POP\",\"POP\",\"\"))","v":""},{"$f":"IF(E257=\"CON\",\"CON\",IF(E254=\"POP\",\"POP\",\"\"))","v":""},"","","","","POP","","","","POP","","","","","","","POP","","","","","CON","","CON",{"$f":"IF(AC254=\"POP\",\"POP\",\"\")","v":""},"","POP","","","","","","","","","","","","",null,null,null,null,null,1,2,3,4,5,6,7,8,9,10,11,12,13,14,15,16,17,18,19,20,21,22,23,24,25,26,27,28,29,30,31,32,33,34,35,36,37,38,39,40,"Suma","AM","AM all","SD all","z-skóre","kategória"]
[null,null,"Prekódované pre Target graf 2 Q_5",{"$f":"IF(D254=\"POP\",13,IF(D255=\"REJ\",33,IF(D256=\"NEG\",46,IF(D257=\"CON\",60,IF(D258=\"AVE\",74,IF(D253=\"OPO\",46,\"\"))))))","v":74},33,74,33,33,33,13,74,74,33,13,74,74,74,74,{"$f":"IF(S254=\"POP\",13,IF(S255=\"REJ\",33,IF(S256=\"NEG\",46,IF(S257=\"CON\",60,IF(S258=\"AVE\",74,IF(S253=\"OPO\",46,\"\"))))))","v":74},{"$f":"IF(T254=\"POP\",13,IF(T255=\"REJ\",33,IF(T256=\"NEG\",46,IF(T257=\"CON\",60,IF(T258=\"AVE\",74,IF(T253=\"OPO\",46,\"\"))))))","v":74},13,74,74,74,74,60,74,60,74,60,13,"","","","","","","","","","","","",null,null,null,null,null,{"$f":"IF(D253=\"OPO\",D240,\"\")","v":""},8,"","","","","","","","","","","","",1,2,1,"","","","","","","","","","","","","","","","","","","","","","","",{"$f":"SUM(AW262:CJ262)","v":12},{"$f":"IF(CK262>0,AVERAGE(AW262:CJ262),\"\")","v":3},{"$f":"AS240","v":2.8928571428571428},{"$f":"AT240","v":3.8329882522385774},{"$f":"IF(CK262>0,(CL262-CM262)/CN262,\"\")","v":2.7952826904774006E-2},"OPO Fila",1]
[null,null,null,{"$f":"IF(D257=\"CON\",\"CON\",IF(D255=\"REJ\",\"REJ\",\"\"))","v":""},{"$f":"IF(E257=\"CON\",\"CON\",IF(E255=\"REJ\",\"REJ\",\"\"))","v":"REJ"},"","REJ","REJ","REJ","","","","REJ","","","","","","","","","","","","","CON","","CON",null,null,null,null,null,null,null,null,null,null,null,null,null,null,null,null,null,null,null,null,{"$f":"IF(D254=\"POP\",D240,\"\")","v":""},"","","","","",2,"","","",0,"","","","","","",0,"","","","","","","","","",0,"","","","","","","","","","","","",2,0.5,{"$f":"AS240","v":2.8928571428571428},{"$f":"AT240","v":3.8329882522385774},-0.62427980087328583,"POP",2]
["Podľa Group Dynamnics",null,"Algoritmus 3 Target",null,null,null,null,null,null,null,null,null,null,null,null,null,null,null,null,null,null,null,null,null,null,null,null,null,null,null,null,null,null,null,null,null,null,null,null,null,null,null,null,null,null,null,null,null,{"$f":"IF(D255=\"NEG\",D240,\"\")","v":""},"","","","","","","","","","","","","","","","","","","","","","","","","","","","","","","","","","","","","","","",0,"",{"$f":"AS240","v":2.8928571428571428},{"$f":"AT240","v":3.8329882522385774},"","REJ",3]
["Recieved accteptance",null,"Kategórie",{"$f":"IF(D250<>\"\",IF(D237<>\"\",IF(D237>=TRUNC(0.75*$AU$5),\"A\",IF(D237>=TRUNC(0.5*$AU$5),\"B\",IF(D237>=TRUNC(0.25*$AU$5),\"C\",IF(D237<TRUNC(0.25*$AU$5),\"D\",\"\")))),\"\"),\"\")","v":"C"},{"$f":"IF(E250<>\"\",IF(E237<>\"\",IF(E237>=TRUNC(0.75*$AU$5),\"A\",IF(E237>=TRUNC(0.5*$AU$5),\"B\",IF(E237>=TRUNC(0.25*$AU$5),\"C\",IF(E237<TRUNC(0.25*$AU$5),\"D\",\"\")))),\"\"),\"\")","v":"D"},"D","D","C","D","B","C","C","D","C","C","C","C","D","D","D","B","C","C","C","C","A","C","B","C","B","B","","","","","","","","","","","","",null,null,null,null,null,{"$f":"IF(D256=\"CON\",D240,\"\")","v":""},"","","","","","","","","","","","","","","","","","","","","","","","","","","","","","","","","","","","","","","",0,"",{"$f":"AS240","v":2.8928571428571428},{"$f":"AT240","v":3.8329882522385774},"","NEG",4]
[null,null,"Prekódované pre Target graf 3 Q_5",{"$f":"IF(D250<>\"\",IF(D237<>\"\",IF(D237>=TRUNC(0.75*$AU$5),15,IF(D237>=TRUNC(0.5*$AU$5),40,IF(D237>=TRUNC(0.25*$AU$5),56,IF(D237<TRUNC(0.25*$AU$5),73,\"\")))),\"\"),\"\")","v":56},{"$f":"IF(E250<>\"\",IF(E237<>\"\",IF(E237>=TRUNC(0.75*$AU$5),15,IF(E237>=TRUNC(0.5*$AU$5),40,IF(E237>=TRUNC(0.25*$AU$5),56,IF(E237<TRUNC(0.25*$AU$5),73,\"\")))),\"\"),\"\")","v":73},73,73,56,73,40,56,56,73,56,56,56,56,73,73,73,40,56,56,56,56,15,56,40,56,40,40,"","","","","","","","","","","","",null,null,null,null,null,{"$f":"IF(D257=\"NEG\",D240,\"\")","v":""},"","","","","","","","","","","","","","","","","","","","","","","","","","","","","","","","","","","","","","","",0,"",{"$f":"AS240","v":2.8928571428571428},{"$f":"AT240","v":3.8329882522385774},"","CON",5]
[null,null,null,null,null,null,null,null,null,null,null,null,null,null,null,null,null,null,null,null,null,null,null,null,null,null,null,null,null,null,null,null,null,null,null,null,null,null,null,null,null,null,null,null,null,null,null,null,{"$f":"IF(D258=\"AVE\",D240,\"\")","v":1},"",2,"","","","",0,0,"","",2,0,0,1,2,1,"",2,2,1,3,"",2,"",0,"","","","","","","","","","","","","","",19,1.1875,{"$f":"AS240","v":2.8928571428571428},{"$f":"AT240","v":3.8329882522385774},-0.44491582823431935,"AVE",6]
["Podľa Group Dynamnics",null,"Algoritmus 4 Target",null,null,null,null,null,null,null,null,null,null,null,null,null,null,null,null,null,null,null,null,null,null,null,null,null,null,null,null,null,null,null,null,null,null,null,null,null,null,null,null,null,null,null,null,null,{"$f":"IF(D259=\"OPO\",D240,\"\")","v":""},"","","","","","","","","","","","","",1,2,1,"","","","","","","","","","","","","","","","","","","","","","","",4,1.3333333333333333,{"$f":"AS240","v":2.8928571428571428},{"$f":"AT240","v":3.8329882522385774},-0.40686892494726584,"OPO Walsh",7]
["Recieved rejections",null,"Kategórie",{"$f":"IF(D250<>\"\",IF(D240<>\"\",IF(D240>=TRUNC(0.75*$AU$8),\"A\",IF(D240>=TRUNC(0.5*$AU$8),\"B\",IF(D240>=TRUNC(0.25*$AU$8),\"C\",IF(D240<TRUNC(0.25*$AU$8),\"D\",\"\")))),\"\"),\"\")","v":"D"},{"$f":"IF(E250<>\"\",IF(E240<>\"\",IF(E240>=TRUNC(0.75*$AU$8),\"A\",IF(E240>=TRUNC(0.5*$AU$8),\"B\",IF(E240>=TRUNC(0.25*$AU$8),\"C\",IF(E240<TRUNC(0.25*$AU$8),\"D\",\"\")))),\"\"),\"\")","v":"C"},"D","C","C","B","D","D","D","A","D","D","D","D","D","D","D","D","D","D","D","D","D","D","D","D","D","D","","","","","","","","","","","","",null,null,null,null,null,null,null,null,null,null,null,null,null,null,null,null,null,null,null,null,"spočíta mutuály pozitívne v kategóriách pre z-skóre",null,null,null,null,null,null,null,null,null,null,null,null,null,null,null,null,null,null,null,null,null,null,null,null,null,"xi"]
[null,null,"Prekódované pre Target graf 4 Q_5",{"$f":"IF(D250<>\"\",IF(D240<>\"\",IF(D240>=TRUNC(0.75*$AU$8),15,IF(D240>=TRUNC(0.5*$AU$8),40,IF(D240>=TRUNC(0.25*$AU$8),56,IF(D240<TRUNC(0.25*$AU$8),73,\"\")))),\"\"),\"\")","v":73},{"$f":"IF(E250<>\"\",IF(E240<>\"\",IF(E240>=TRUNC(0.75*$AU$8),15,IF(E240>=TRUNC(0.5*$AU$8),40,IF(E240>=TRUNC(0.25*$AU$8),56,IF(E240<TRUNC(0.25*$AU$8),73,\"\")))),\"\"),\"\")","v":56},73,56,56,40,73,73,73,15,73,73,73,73,73,73,73,73,73,73,73,73,73,73,73,73,73,73,"","","","","","","","","","","","",null,null,null,null,null,1,2,3,4,5,6,7,8,9,10,11,12,13,14,15,16,17,18,19,20,21,22,23,24,25,26,27,28,29,30,31,32,33,34,35,36,37,38,39,40,"Suma","AM","AM all","SD all","z-skóre","kategória"]
[null,null,null,null,null,null,null,null,null,null,null,null,null,null,null,null,null,null,null,null,null,null,null,null,null,null,null,null,null,null,null,null,null,null,null,null,null,null,null,null,null,null,null,null,null,null,null,null,{"$f":"IF(D253=\"OPO\",D239,\"\")","v":""},0,"","","","","","","","","","","","",0,0,0,"","","","","","","","","","","","","","","","","","","","","","","",{"$f":"SUM(AW271:CJ271)","v":0},{"$f":"IF(CK271>0,AVERAGE(AW271:CJ271),\"\")","v":""},{"$f":"AS239","v":1.1428571428571428},{"$f":"AT239","v":1.0079052613579393},{"$f":"IF(CK271>0,(CL271-CM271)/CN271,\"\")","v":""},"OPO Fila",1]
[";",null,"Algoritmus 5 Target",null,null,null,null,null,null,null,null,null,null,null,null,null,null,null,null,null,null,null,null,null,null,null,null,null,null,null,null,null,null,null,null,null,null,null,null,null,null,null,null,null,null,null,null,null,{"$f":"IF(D254=\"POP\",D239,\"\")","v":""},"","","","","",1,"","","",1,"","","","","","",3,"","","","","","","","","",0,"","","","","","","","","","","","",5,1.25,{"$f":"AS239","v":1.1428571428571428},{"$f":"AT239","v":1.0079052613579393},0.10630250803384521,"POP",2]
["Mutual acceptance","Cs+","Index sociability P",{"$f":"IF($B$2<>0,IF(D250<>\"\",IF(D239<>\"\",D239/($B$2),\"\"),\"\"),\"\")","v":0.33333333333333331},{"$f":"IF($B$2<>0,IF(E250<>\"\",IF(E239<>\"\",E239/($B$2),\"\"),\"\"),\"\")","v":0},0.33333333333333331,0,0.66666666666666663,0,0.33333333333333331,0,0.33333333333333331,0.33333333333333331,0.33333333333333331,0.66666666666666663,0.66666666666666663,0.66666666666666663,0,0,0,1,0.66666666666666663,0.33333333333333331,0.33333333333333331,0,1,0.66666666666666663,0.66666666666666663,0.33333333333333331,1,0,"","","","","","","","","","","","",null,null,null,null,null,{"$f":"IF(D255=\"REJ\",D239,\"\")","v":""},0,"",0,2,0,"","","",1,"","","","","","","","","","","","","","","","","","","","","","","","","","","","","","",3,0.6,{"$f":"AS239","v":1.1428571428571428},{"$f":"AT239","v":1.0079052613579393},-0.53859937403814873,"REJ",3]
[null,null,"Index sociability P kategória",{"$f":"IF(D273<>\"\",(IF(D273>=0.75,\"A\",IF(D273>=0.5,\"B\",IF(D273>=0.25,\"C\",IF(D273<0.25,\"D\",\"x\"))))),\"\")","v":"C"},"D","C","D","B","D","C","D","C","C","C","B","B","B","D","D","D","A","B","C","C","D","A","B","B","C","A","D","","","","","","","","","","","","",null,null,null,null,null,{"$f":"IF(D256=\"NEG\",D239,\"\")","v":""},"","","","","","","","","","","","","","","","","","","","","","","","","","","","","","","","","","","","","","","",0,"",{"$f":"AS239","v":1.1428571428571428},{"$f":"AT239","v":1.0079052613579393},"","NEG",4]
[null,null,"Prekódované pre Target graf 5 Q_5",{"$f":"IF(D273<>\"\",(IF(D273>=0.75,15,IF(D273>=0.5,40,IF(D273>=0.25,56,IF(D273<0.25,73,\"x\"))))),\"\")","v":56},73,56,73,40,73,56,73,56,56,56,40,40,40,73,73,73,15,40,56,56,73,15,40,40,56,15,73,"","","","","","","","","","","","",null,null,null,null,null,{"$f":"IF(D257=\"CON\",D239,\"\")","v":""},"","","","","","","","","","","","","","","","","","","","","",3,"",2,"",3,"","","","","","","","","","","","","",8,2.6666666666666665,{"$f":"AS239","v":1.1428571428571428},{"$f":"AT239","v":1.0079052613579393},1.5118578920369088,"CON",5]
[null,null,null,null,null,null,null,null,null,null,null,null,null,null,null,null,null,null,null,null,null,null,null,null,null,null,null,null,null,null,null,null,null,null,null,null,null,null,null,null,null,null,null,null,null,null,null,null,{"$f":"IF(D258=\"AVE\",D239,\"\")","v":1},"",1,"","","","",0,1,"","",2,2,2,0,0,0,"",2,1,1,0,"",2,"",1,"","","","","","","","","","","","","","",16,1,{"$f":"AS239","v":1.1428571428571428},{"$f":"AT239","v":1.0079052613579393},-0.14173667737846013,"AVE",6]
["Podľa Group Dynamnics",null,"Algoritmus 6 Target",null,null,null,null,null,null,null,null,null,null,null,null,null,null,null,null,null,null,null,null,null,null,null,null,null,null,null,null,null,null,null,null,null,null,null,null,null,null,null,null,null,null,null,null,null,{"$f":"IF(D259=\"OPO\",D239,\"\")","v":""},"","","","","","","","","","","","","",0,0,0,"","","","","","","","","","","","","","","","","","","","","","","",0,"",{"$f":"AS239","v":1.1428571428571428},{"$f":"AT239","v":1.0079052613579393},"","OPO Walsh",7]
["Mutual rejection","Cs–","Index odmietania N",{"$f":"IF($B$2<>0,IF(D250<>\"\",IF(D242<>\"\",D242/$B$2,\"\"),\"\"),\"\")","v":0},{"$f":"IF($B$2<>0,IF(E250<>\"\",IF(E242<>\"\",E242/$B$2,\"\"),\"\"),\"\")","v":0},0.33333333333333331,0.33333333333333331,0,0.66666666666666663,0.33333333333333331,0,0,1,0,0,0,0,0,0,0,0,0,0.33333333333333331,0,0,0.66666666666666663,0,0.66666666666666663,0,0.33333333333333331,0,"","","","","","","","","","","","",null,null,null,null,null,null,null,null,null,null,null,null,null,null,null,null,null,null,null,null,"spočíta mutuály negatívne v kategóriách pre z-skóre",null,null,null,null,null,null,null,null,null,null,null,null,null,null,null,null,null,null,null,null,null,null,null,null,null,"xi"]
[null,null,"Index odmietania P kategória",{"$f":"IF(D278<>\"\",(IF(D278>=0.75,\"A\",IF(D278>=0.5,\"B\",IF(D278>=0.25,\"C\",IF(D278<0.25,\"D\",\"x\"))))),\"\")","v":"D"},{"$f":"IF(E278<>\"\",(IF(E278>=0.75,\"A\",IF(E278>=0.5,\"B\",IF(E278>=0.25,\"C\",IF(E278<0.25,\"D\",\"x\"))))),\"\")","v":"D"},"C","C","D","B","C","D","D","A","D","D","D","D","D","D","D","D","D","C","D","D","B","D","B","D","C","D","","","","","","","","","","","","",null,null,null,null,null,1,2,3,4,5,6,7,8,9,10,11,12,13,14,15,16,17,18,19,20,21,22,23,24,25,26,27,28,29,30,31,32,33,34,35,36,37,38,39,40,"Suma","AM","AM all","SD all","z-skóre","kategória"]
[null,null,"Prekódované pre Target graf 6 Q_5",{"$f":"IF(D278<>\"\",(IF(D278>=0.75,15,IF(D278>=0.5,40,IF(D278>=0.25,56,IF(D278<0.25,73,\"x\"))))),\"\")","v":73},73,56,56,73,40,56,73,73,15,73,73,73,73,73,73,73,73,73,56,73,73,40,73,40,73,56,73,"","","","","","","","","","","","",null,null,null,null,null,{"$f":"IF(D253=\"OPO\",D242,\"\")","v":""},0,"","","","","","","","","","","","",0,0,0,"","","","","","","","","","","","","","","","","","","","","","","",{"$f":"SUM(AW280:CJ280)","v":0},{"$f":"IF(CK280>0,AVERAGE(AW280:CJ280),\"\")","v":""},{"$f":"AS242","v":0.5},{"$f":"AT242","v":0.83887049280786108},{"$f":"IF(CK280>0,(CL280-CM280)/CN280,\"\")","v":""},"OPO Fila",1]
[null,null,null,null,null,null,null,null,null,null,null,null,null,null,null,null,null,null,null,null,null,null,null,null,null,null,null,null,null,null,null,null,null,null,null,null,null,null,null,null,null,null,null,null,null,null,null,null,{"$f":"IF(D254=\"POP\",D242,\"\")","v":""},"","","","","",1,"","","",0,"","","","","","",0,"","","","","","","","","",0,"","","","","","","","","","","","",1,0.25,{"$f":"AS242","v":0.5},{"$f":"AT242","v":0.83887049280786108},-0.29801978033963483,"POP",2]
[null,null,null,null,null,null,null,null,null,null,null,null,null,null,null,null,null,null,null,null,null,null,null,null,null,null,null,null,null,null,null,null,null,null,null,null,null,null,null,null,null,null,null,null,null,null,null,null,{"$f":"IF(D255=\"REJ\",D242,\"\")","v":""},0,"",1,0,2,"","","",3,"","","","","","","","","","","","","","","","","","","","","","","","","","","","","","",6,1.2,{"$f":"AS242","v":0.5},{"$f":"AT242","v":0.83887049280786108},0.8344553849509776,"REJ",3]
["Podľa Group Dynamnics",null,"Algoritmus 1 Target",null,null,null,null,null,null,null,null,null,null,null,null,null,null,null,null,null,null,null,null,null,null,null,null,null,null,null,null,null,null,null,null,null,null,null,null,null,null,null,null,null,null,null,null,null,{"$f":"IF(D256=\"NEG\",D242,\"\")","v":""},"","","","","","","","","","","","","","","","","","","","","","","","","","","","","","","","","","","","","","","",0,"",{"$f":"AS242","v":0.5},{"$f":"AT242","v":0.83887049280786108},"","NEG",4]
[null,null,"Frequenties of positive questions",null,null,null,null,null,null,null,null,null,null,null,null,null,null,null,null,null,null,null,null,null,null,null,null,null,null,null,null,null,null,null,null,null,null,null,null,null,null,null,null,null,null,null,null,null,{"$f":"IF(D257=\"CON\",D242,\"\")","v":""},"","","","","","","","","","","","","","","","","","","","","",2,"",2,"",1,"","","","","","","","","","","","","",5,1.6666666666666667,{"$f":"AS242","v":0.5},{"$f":"AT242","v":0.83887049280786108},1.390758974918296,"CON",5]
[null,null,null,null,null,null,null,null,null,null,null,null,null,null,null,null,null,null,null,null,null,null,null,null,null,null,null,null,null,null,null,null,null,null,null,null,null,null,null,null,null,null,null,null,null,null,null,null,{"$f":"IF(D258=\"AVE\",D242,\"\")","v":0},"",1,"","","","",0,0,"","",0,0,0,0,0,0,"",0,1,0,0,"",0,"",0,"","","","","","","","","","","","","","",2,0.125,{"$f":"AS242","v":0.5},{"$f":"AT242","v":0.83887049280786108},-0.4470296705094523,"AVE",6]
[null,"A","Popular \"A\"",{"$f":"IF(D250<>\"\",IF(D237<>\"\",IF(D237>3,IF(D240<=1,\"A\",\"\"),\"\"),\"\"),\"\")","v":""},{"$f":"IF(E250<>\"\",IF(E237<>\"\",IF(E237>3,IF(E240<=1,\"A\",\"\"),\"\"),\"\"),\"\")","v":""},"","","","","","","","","A","","","","","","","A","","","","","","","","","","A","","","","","","","","","","","","",null,null,null,null,null,{"$f":"IF(D259=\"OPO\",D242,\"\")","v":""},"","","","","","","","","","","","","",0,0,0,"","","","","","","","","","","","","","","","","","","","","","","",0,"",{"$f":"AS242","v":0.5},{"$f":"AT242","v":0.83887049280786108},"","OPO Walsh",7]
[null,"B","Liked more than disliked \"B\"",{"$f":"IF(D250<>\"\",IF(D237<>\"\",IF(D237>D240,IF(D286<>\"A\",\"B\",\"\"),\"\"),\"\"),\"\")","v":"B"},{"$f":"IF(E250<>\"\",IF(E237<>\"\",IF(E237>E240,IF(E286<>\"A\",\"B\",\"\"),\"\"),\"\"),\"\")","v":""},"","","","","B","B","B","","","","B","B","","","","","B","","B","","B","","B","B","B","","","","","","","","","","","","",""]
[null,"C","Disliked more than liked \"C\"",{"$f":"IF(D250<>\"\",IF(D237<>\"\",IF(D237<D240,IF(D286<>\"A\",IF(D290<>\"E\",\"C\",\"\"),\"\"),\"\"),\"\"),\"\")","v":""},{"$f":"IF(E250<>\"\",IF(E237<>\"\",IF(E237<E240,IF(E286<>\"A\",IF(E290<>\"E\",\"C\",\"\"),\"\"),\"\"),\"\"),\"\")","v":""},"C","","C","","","","","","","","","","C","C","C","","","","","","","","","","","","","","","","","","","","","","",""]
[null,"D","Controversial \"D\"",{"$f":"IF(D250<>\"\",IF(D237<>\"\",IF(D237>0,IF(D237>0,IF(D237=D240,IF(D286<>\"A\",\"D\",\"\"),\"\"),\"\"),\"\"),\"\"),\"\")","v":""},{"$f":"IF(E250<>\"\",IF(E237<>\"\",IF(E237>0,IF(E237>0,IF(E237=E240,IF(E286<>\"A\",\"D\",\"\"),\"\"),\"\"),\"\"),\"\"),\"\")","v":""},"","","","","","","","","","D","","","","","","","","D","","D","","D","","","","","","","","","","","","","","","",""]
[null,"E","Rejected \"E\"",{"$f":"IF(D250<>\"\",IF(D237<>\"\",IF(D237<=1,IF(D240>3,\"E\",\"\"),\"\"),\"\"),\"\")","v":""},{"$f":"IF(E250<>\"\",IF(E237<>\"\",IF(E237<=1,IF(E240>3,\"E\",\"\"),\"\"),\"\"),\"\")","v":"E"},"","E","","E","","","","E","","","","","","","","","","","","","","","","","","","","","","","","","","","","","",""]
[null,"F","Neglected \"F\"",{"$f":"IF(D250<>\"\",IF(D237<>\"\",IF(D237=0,IF(D240=0,\"F\",\"\"),\"\"),\"\"),\"\")","v":""},{"$f":"IF(E250<>\"\",IF(E237<>\"\",IF(E237=0,IF(E240=0,\"F\",\"\"),\"\"),\"\"),\"\")","v":""},"","","","","","","","","","","","","","","","","","","","","","","","","","","","","","","","","","","","","",""]
[null,null,"Pomo B",{"$f":"IF(D249=0,IF(D250=0,\"B\",\"\"),IF(D287=\"B\",\"B\",\"\"))","v":"B"},{"$f":"IF(E249=0,IF(E250=0,\"B\",\"\"),IF(E287=\"B\",\"B\",\"\"))","v":""},"","","","","B","B","B","","","","B","B","","","","","B","","B","","B","","B","B","B","","","","","","","","","","","","",""]
[null,null,"Prekódované pre Target graf 1 Q_5",{"$f":"IF(D291=\"F\",87,IF(D289=\"D\",60,IF(D290=\"E\",74,IF(D288=\"C\",46,IF(D286=\"A\",13,IF(D287=\"B\",33,IF(D292=\"B\",33,\"\")))))))","v":33},74,46,74,46,74,33,33,33,74,13,60,33,33,46,46,46,13,33,60,33,60,33,60,33,33,33,13,"","","","","","","","","","","",""]
["Koniec údajov",null,null,1,2,3,4,5,6,7,8,9,10,11,12,13,14,15,16,17,18,19,20,21,22,23,24,25,26,27,28,29,30,31,32,33,34,35,36,37,38,39,40,"AM all","SD all",null,null,null,1,2,3,4,5,6,7,8,9,10,11,12,13,14,15,16,17,18,19,20,21,22,23,24,25,26,27,28,29,30,31,32,33,34,35,36,37,38,39,40,"Suma","Pozitívne 5 otázok spolu",null,null,"z-skóre suma","kategória",null,"AM z","Počet <> 0","Dummy"]
[null,null,"P all ",{"$f":"IF(D5<>\"\",(D5+D63+D121+D179+D237),\"\")","v":6},{"$f":"IF(E5<>\"\",(E5+E63+E121+E179+E237),\"\")","v":0},7,3,13,3,21,16,31,6,{"$f":"IF(N5<>\"\",(N5+N63+N121+N179+N237),\"\")","v":12},9,4,8,11,6,1,21,9,11,10,12,69,6,33,19,25,31,"","","","","","","","","","","","",{"$f":"AVERAGE(D295:AQ295)","v":14.392857142857142},{"$f":"STDEV(D295:AQ295)","v":14.074771982139048},null,null,null,null,null,null,null,null,null,null,null,null,null,null,null,null,null,null,null,null,null,null,null,null,null,null,null,null,null,null,null,null,null,null,null,null,null,null,null,null,null,null,null,0,null,null,null,0,"OPO Fila",1,{"$f":"IF(CS295>0,CO295/CS295,-5)","v":-5},0,-3]
[null,null,"N all",{"$f":"IF(D8<>\"\",(D8+D66+D124+D182+D240),\"\")","v":3},{"$f":"IF(E8<>\"\",(E8+E66+E124+E182+E240),\"\")","v":65},2,34,15,85,4,6,0,89,2,12,1,0,5,8,9,4,3,6,4,6,8,11,7,0,15,0,"","","","","","","","","","","","",{"$f":"AVERAGE(D296:AQ296)","v":14.428571428571429},{"$f":"STDEV(D296:AQ296)","v":24.250893181609211},null,null,null,null,null,null,null,null,null,null,null,null,null,null,null,null,null,null,null,null,null,null,null,null,null,null,null,null,null,null,null,null,null,null,null,null,null,null,null,null,null,null,null,203,null,null,null,6.9184552270696873,"POP",2,{"$f":"IF(CS296>0,CO296/CS296,-5)","v":1.3836910454139375},5,-3]
[null,null,"mutual P all",{"$f":"IF(D5<>\"\",(D7+D65+D123+D181+D239),\"\")","v":5},{"$f":"IF(E5<>\"\",(E7+E65+E123+E181+E239),\"\")","v":0},5,1,7,1,7,1,5,5,3,2,4,3,2,2,0,14,4,5,3,2,13,5,10,5,8,0,"","","","","","","","","","","","",{"$f":"AVERAGE(D297:AQ297)","v":4.3571428571428568},{"$f":"STDEV(D297:AQ297)","v":3.5923198500080566},null,null,null,null,null,null,null,null,null,null,null,null,null,null,null,null,null,null,null,null,null,null,null,null,null,null,null,null,null,null,null,null,null,null,null,null,null,null,null,null,null,null,null,11,null,null,null,-3.505473910514167,"REJ",3,-0.87636847762854175,4,-3]
[null,null,"mutual N all",{"$f":"IF(D10<>\"\",(D10+D68+D126+D184+D242),\"\")","v":2},{"$f":"IF(E10<>\"\",(E10+E68+E126+E184+E242),\"\")","v":7},1,6,2,12,1,0,0,14,1,2,0,0,1,2,4,3,0,2,0,1,2,1,4,0,2,0,"","","","","","","","","","","","",{"$f":"AVERAGE(D298:AQ298)","v":2.5},{"$f":"STDEV(D298:AQ298)","v":3.4694433324435545},null,null,null,null,null,null,null,null,null,null,null,null,null,null,null,null,null,null,null,null,null,null,null,null,null,null,null,null,null,null,null,null,null,null,null,null,null,null,null,null,null,null,null,0,null,null,null,0,"NEG",4,-5,0,-3]
[null,null,"P all z-skóre",{"$f":"IF($AS$295<>0,IF(D295<>\"\",(D295-$AR$295)/$AS$295,\"\"),\"\")","v":-0.59630501677097991},{"$f":"IF($AS$295<>0,IF(E295<>\"\",(E295-$AR$295)/$AS$295,\"\"),\"\")","v":-1.0225996670583186},{"$f":"IF($AS$295<>0,IF(F295<>\"\",(F295-$AR$295)/$AS$295,\"\"),\"\")","v":-0.52525590838975678},-0.80945234191464932,-9.8961258102417904E-2,-0.80945234191464932,0.46943160894736718,0.1141860670412515,1.1799226927595985,-0.59630501677097991,-0.17001036648364104,-0.38315769162731045,-0.73840323353342618,-0.45420680000853358,-0.24105947486486418,-0.59630501677097991,-0.95155055867709559,0.46943160894736718,-0.38315769162731045,-0.24105947486486418,-0.31210858324608731,-0.17001036648364104,3.8797888112460779,-0.59630501677097991,1.3220209095220448,0.32733339218492091,0.75362804247225978,1.1799226927595985,"","","","","","","","","","","","",null,null,null,null,null,null,null,null,null,null,null,null,null,null,null,null,null,null,null,null,null,null,null,null,null,null,null,null,null,null,null,null,null,null,null,null,null,null,null,null,null,null,null,null,null,0,null,null,null,0,"CON",5,-5,0,-3]
[null,null,"N all z-skóre",{"$f":"IF($AS$296<>0,IF(D296<>\"\",(D296-$AR$296)/$AS$296,\"\"),\"\")","v":-0.47126393832118085},{"$f":"IF($AS$296<>0,IF(E296<>\"\",(E296-$AR$296)/$AS$296,\"\"),\"\")","v":2.0853429270712254},-0.51249953292428418,0.80703949437502209,2.3563196916059032E-2,2.9100548191332916,-0.43002834371807752,-0.34755715451187091,-0.59497072213049085,3.0749971975457049,-0.51249953292428418,-0.10014358689325094,-0.55373512752738752,-0.59497072213049085,-0.38879274911497425,-0.26508596530566425,-0.22385037070256092,-0.43002834371807752,-0.47126393832118085,-0.34755715451187091,-0.43002834371807752,-0.34755715451187091,-0.26508596530566425,-0.14137918149635426,-0.30632155990876758,-0.59497072213049085,2.3563196916059032E-2,-0.59497072213049085,"","","","","","","","","","","","",null,null,null,null,null,null,null,null,null,null,null,null,null,null,null,null,null,null,null,null,null,null,null,null,null,null,null,null,null,null,null,null,null,null,null,null,null,null,null,null,null,null,null,null,null,157,null,null,null,-1.6139048629524431,"AVE",6,-0.3227809725904886,5,-3]
[null,null,"mutual P all z-skóre",{"$f":"IF($AS$297<>0,IF(D297<>\"\",(D297-$AR$297)/$AS$297,\"\"),\"\")","v":0.17895320286018002},{"$f":"IF($AS$297<>0,IF(E297<>\"\",(E297-$AR$297)/$AS$297,\"\"),\"\")","v":-1.2129050416078859},0.17895320286018002,-0.93453339271427283,0.73569650064740644,-0.93453339271427283,0.73569650064740644,-0.93453339271427283,0.17895320286018002,0.17895320286018002,-0.3777900949270464,-0.65616174382065962,-9.941844603343318E-2,-0.3777900949270464,-0.65616174382065962,-0.65616174382065962,-1.2129050416078859,2.6842980429026988,-9.941844603343318E-2,0.17895320286018002,-0.3777900949270464,-0.65616174382065962,2.4059263940090854,0.17895320286018002,1.570811447328246,0.17895320286018002,1.0140681495410195,-1.2129050416078859,"","","","","","","","","","","","",null,null,null,null,null,null,null,null,null,null,null,null,null,null,null,null,null,null,null,null,null,null,null,null,null,null,null,null,null,null,null,null,null,null,null,null,null,null,null,null,null,null,null,null,null,0,null,null,null,0,"OPO Walsh",7,-5,0,-3]
[null,null,"mutual N all z-skóre",{"$f":"IF($AS$298<>0,IF(D298<>\"\",(D298-$AR$298)/$AS$298,\"\"),\"\")","v":-0.14411533842457841},{"$f":"IF($AS$298<>0,IF(E298<>\"\",(E298-$AR$298)/$AS$298,\"\"),\"\")","v":1.2970380458212059},-0.43234601527373528,1.0088073689720489,-0.14411533842457841,2.7381914300669901,-0.43234601527373528,-0.7205766921228921,-0.7205766921228921,3.3146527837653039,-0.43234601527373528,-0.14411533842457841,-0.7205766921228921,-0.7205766921228921,-0.43234601527373528,-0.14411533842457841,0.43234601527373528,0.14411533842457841,-0.7205766921228921,-0.14411533842457841,-0.7205766921228921,-0.43234601527373528,-0.14411533842457841,-0.43234601527373528,0.43234601527373528,-0.7205766921228921,-0.14411533842457841,-0.7205766921228921,"","","","","","","","","","","","",null,null,null,null,null,null,null,null,null,null,null,null,null,null,null,null,null,null,null,null,null,null,null,null,null,null,null,null,null,null,null,null,null,null,null,null,null,null,null,null,null,null,null,null,null,null,"Negatívne 5 otázok spolu",null,null,"z-skóre","kategória",null,"AM","Počet <> 0"]
[null,null,"N all z-skóre obrátené",{"$f":"IF(D300<>\"\",D300*(-1),\"\")","v":0.47126393832118085},-2.0853429270712254,0.51249953292428418,-0.80703949437502209,-2.3563196916059032E-2,-2.9100548191332916,0.43002834371807752,0.34755715451187091,0.59497072213049085,-3.0749971975457049,0.51249953292428418,0.10014358689325094,0.55373512752738752,0.59497072213049085,0.38879274911497425,0.26508596530566425,0.22385037070256092,0.43002834371807752,0.47126393832118085,{"$f":"IF(W300<>\"\",W300*(-1),\"\")","v":0.34755715451187091},{"$f":"IF(X300<>\"\",X300*(-1),\"\")","v":0.43002834371807752},0.34755715451187091,0.26508596530566425,0.14137918149635426,0.30632155990876758,0.59497072213049085,-2.3563196916059032E-2,0.59497072213049085,"","","","","","","","","","","","",null,null,null,null,null,null,null,null,null,null,null,null,null,null,null,null,null,null,null,null,null,null,null,null,null,null,null,null,null,null,null,null,null,null,null,null,null,null,null,null,null,null,null,null,null,199,null,null,null,3.1063464489939796,"OPO Fila",1,0.62126928979879592,5]
[null,null,"mutual N all z-skóre obrátené",{"$f":"IF(D302<>\"\",D302*(-1),\"\")","v":0.14411533842457841},-1.2970380458212059,0.43234601527373528,-1.0088073689720489,0.14411533842457841,-2.7381914300669901,0.43234601527373528,0.7205766921228921,0.7205766921228921,-3.3146527837653039,0.43234601527373528,0.14411533842457841,0.7205766921228921,0.7205766921228921,0.43234601527373528,0.14411533842457841,-0.43234601527373528,-0.14411533842457841,0.7205766921228921,{"$f":"IF(W302<>\"\",W302*(-1),\"\")","v":0.14411533842457841},{"$f":"IF(X302<>\"\",X302*(-1),\"\")","v":0.7205766921228921},0.43234601527373528,0.14411533842457841,0.43234601527373528,-0.43234601527373528,0.7205766921228921,0.14411533842457841,0.7205766921228921,"","","","","","","","","","","","",null,null,null,null,null,null,null,null,null,null,null,null,null,null,null,null,null,null,null,null,null,null,null,null,null,null,null,null,null,null,null,null,null,null,null,null,null,null,null,null,null,null,null,null,null,13,null,null,null,-2.4054862544700688,"POP",2,-0.48109725089401378,5]
[null,null,"Trieda ako norma.",null,null,null,null,null,null,null,null,null,null,null,null,null,null,null,null,null,null,null,null,null,null,null,null,null,null,null,null,null,null,null,null,null,null,null,null,null,null,null,null,null,null,null,null,null,null,null,null,null,null,null,null,null,null,null,null,null,null,null,null,null,null,null,null,null,null,null,null,null,null,null,null,null,null,null,null,null,null,null,null,null,null,null,null,null,0,null,null,null,0,"REJ",3,-5,0]
[null,null,"(z_P - z_N)",{"$f":"IF(D302<>\"\",(D299-D300),\"\")","v":-0.12504107844979906},{"$f":"IF(E302<>\"\",(E299-E300),\"\")","v":-3.1079425941295442},-1.2756375465472591E-2,-1.6164918362896714,-0.12252445501847693,-3.7195071610479409,0.89945995266544476,0.46174322155312242,1.7748934148900894,-3.6713022143166847,0.34248916644064314,-0.28301410473405952,-0.18466810600603867,0.14076392212195726,0.14773327425011007,-0.33121905146531566,-0.72770018797453462,0.89945995266544476,8.8106246693870405E-2,0.10649767964700674,0.11791976047199021,0.17754678802822987,4.1448747765517417,-0.45492583527462566,1.6283424694308124,0.92230411431541182,0.73006484555620077,1.7748934148900894,"","","","","","","","","","","","",null,null,null,null,null,null,null,null,null,null,null,null,null,null,null,null,null,null,null,null,null,null,null,null,null,null,null,null,null,null,null,null,null,null,null,null,null,null,null,null,null,null,null,null,null,0,null,null,null,0,"NEG",4,-5,0]
[null,null,"(z_P_M - z_N_M)",{"$f":"IF(D302<>\"\",(D301-D302),\"\")","v":0.32306854128475843},{"$f":"IF(E302<>\"\",(E301-E302),\"\")","v":-2.5099430874290918},0.6112992181339153,-1.9433407616863216,0.8798118390719849,-3.6727248227812628,1.1680425159211416,-0.21395670059138072,0.89952989498307212,-3.1356995809051238,5.455592034668888E-2,-0.51204640539608115,0.62115824608945891,0.3427865971958457,-0.22381572854692433,-0.51204640539608115,-1.6452510568816212,2.5401827044781204,0.62115824608945891,0.32306854128475843,0.3427865971958457,-0.22381572854692433,2.5500417324336637,0.6112992181339153,1.1384654320545107,0.89952989498307212,1.1581834879655979,-0.49232834948499382,"","","","","","","","","","","","",null,null,null,null,null,null,null,null,null,null,null,null,null,null,null,null,null,null,null,null,null,null,null,null,null,null,null,null,null,null,null,null,null,null,null,null,null,null,null,null,null,null,null,null,null,0,null,null,null,0,"CON",5,-5,0]
[null,null,null,null,null,null,null,null,null,null,null,null,null,null,null,null,null,null,null,null,null,null,null,null,null,null,null,null,null,null,null,null,null,null,null,null,null,null,null,null,null,null,null,null,null,null,null,null,null,null,null,null,null,null,null,null,null,null,null,null,null,null,null,null,null,null,null,null,null,null,null,null,null,null,null,null,null,null,null,null,null,null,null,null,null,null,null,null,96,null,null,null,-1.8552571880623214,"AVE",6,-0.37105143761246429,5]
[null,null,null,null,null,null,null,null,null,null,null,null,null,null,null,null,null,null,null,null,null,null,null,null,null,null,null,null,null,null,null,null,null,null,null,null,null,null,null,null,null,null,null,null,null,null,null,null,null,null,null,null,null,null,null,null,null,null,null,null,null,null,null,null,null,null,null,null,null,null,null,null,null,null,null,null,null,null,null,null,null,null,null,null,null,null,null,null,29,null,null,null,-1.1700613985039532,"OPO Walsh",7,-0.2925153496259883,4]
[null,null,null,null,null,null,null,null,null,null,null,null,null,null,null,null,null,null,null,null,null,null,null,null,null,null,null,null,null,null,null,null,null,null,null,null,null,null,null,null,null,null,null,null,null,null,null,null,null,null,null,null,null,null,null,null,null,null,null,null,null,null,null,null,null,null,null,null,null,null,null,null,null,null,null,null,null,null,null,null,null,null,null,null,null,null,null,null,null,"Pozitívne Mutual 5 otázok spolu",null,null,"z-skóre","kategória",null,"AM","Počet <> 0"]
[null,null,null,null,null,null,null,null,null,null,null,null,null,null,null,null,null,null,null,null,null,null,null,null,null,null,null,null,null,null,null,null,null,null,null,null,null,null,null,null,null,null,null,null,null,null,null,null,null,null,null,null,null,null,null,null,null,null,null,null,null,null,null,null,null,null,null,null,null,null,null,null,null,null,null,null,null,null,null,null,null,null,null,null,null,null,null,null,0,null,null,null,0,"OPO Fila",1,{"$f":"IF(CS311>0,CO311/CS311,-5)","v":-5},0]
[null,null,null,null,null,null,null,null,null,null,null,null,null,null,null,null,null,null,null,null,null,null,null,null,null,null,null,null,null,null,null,null,null,null,null,null,null,null,null,null,null,null,null,null,null,null,null,null,null,null,null,null,null,null,null,null,null,null,null,null,null,null,null,null,null,null,null,null,null,null,null,null,null,null,null,null,null,null,null,null,null,null,null,null,null,null,null,null,39,null,null,null,3.2181706183421563,"POP",2,0.64363412366843131,5]
[null,null,null,null,null,null,null,null,null,null,null,null,null,null,null,null,null,null,null,null,null,null,null,null,null,null,null,null,null,null,null,null,null,null,null,null,null,null,null,null,null,null,null,null,null,null,null,null,null,null,null,null,null,null,null,null,null,null,null,null,null,null,null,null,null,null,null,null,null,null,null,null,null,null,null,null,null,null,null,null,null,null,null,null,null,null,null,null,6,null,null,null,-2.6798431794086914,"REJ",3,-0.66996079485217286,4]
[null,null,null,null,null,null,null,null,null,null,null,null,null,null,null,null,null,null,null,null,null,null,null,null,null,null,null,null,null,null,null,null,null,null,null,null,null,null,null,null,null,null,null,null,null,null,null,null,null,null,null,null,null,null,null,null,null,null,null,null,null,null,null,null,null,null,null,null,null,null,null,null,null,null,null,null,null,null,null,null,null,null,null,null,null,null,null,null,0,null,null,null,0,"NEG",4,-5,0]
[null,null,null,null,null,null,null,null,null,null,null,null,null,null,null,null,null,null,null,null,null,null,null,null,null,null,null,null,null,null,null,null,null,null,null,null,null,null,null,null,null,null,null,null,null,null,null,null,null,null,null,null,null,null,null,null,null,null,null,null,null,null,null,null,null,null,null,null,null,null,null,null,null,null,null,null,null,null,null,null,null,null,null,null,null,null,null,null,13,null,null,null,3.1835924169069401,"CON",5,1.59179620845347,2]
[null,null,null,null,null,null,null,null,null,null,null,null,null,null,null,null,null,null,null,null,null,null,null,null,null,null,null,null,null,null,null,null,null,null,null,null,null,null,null,null,null,null,null,null,null,null,null,null,null,null,null,null,null,null,null,null,null,null,null,null,null,null,null,null,null,null,null,null,null,null,null,null,null,null,null,null,null,null,null,null,null,null,null,null,null,null,null,null,64,null,null,null,-0.78893984042900533,"AVE",6,-0.15778796808580106,5]
[null,null,null,null,null,null,null,null,null,null,null,null,null,null,null,null,null,null,null,null,null,null,null,null,null,null,null,null,null,null,null,null,null,null,null,null,null,null,null,null,null,null,null,null,null,null,null,null,null,null,null,null,null,null,null,null,null,null,null,null,null,null,null,null,null,null,null,null,null,null,null,null,null,null,null,null,null,null,null,null,null,null,null,null,null,null,null,null,0,null,null,null,0,"OPO Walsh",7,-5,0]
[null,null,null,null,null,null,null,null,null,null,null,null,null,null,null,null,null,null,null,null,null,null,null,null,null,null,null,null,null,null,null,null,null,null,null,null,null,null,null,null,null,null,null,null,null,null,null,null,null,null,null,null,null,null,null,null,null,null,null,null,null,null,null,null,null,null,null,null,null,null,null,null,null,null,null,null,null,null,null,null,null,null,null,null,null,null,null,null,null,"Negatívne Mutual 5 otázok spolu",null,null,"z-skóre","kategória",null,"AM","Počet <> 0"]
[null,null,null,null,null,null,null,null,null,null,null,null,null,null,null,null,null,null,null,null,null,null,null,null,null,null,null,null,null,null,null,null,null,null,null,null,null,null,null,null,null,null,null,null,null,null,null,null,null,null,null,null,null,null,null,null,null,null,null,null,null,null,null,null,null,null,null,null,null,null,null,null,null,null,null,null,null,null,null,null,null,null,null,null,null,null,null,null,25,null,null,null,1.5101213496988732,"OPO Fila",1,{"$f":"IF(CS319>0,CO319/CS319,-5)","v":0.37753033742471831},4]
[null,null,null,null,null,null,null,null,null,null,null,null,null,null,null,null,null,null,null,null,null,null,null,null,null,null,null,null,null,null,null,null,null,null,null,null,null,null,null,null,null,null,null,null,null,null,null,null,null,null,null,null,null,null,null,null,null,null,null,null,null,null,null,null,null,null,null,null,null,null,null,null,null,null,null,null,null,null,null,null,null,null,null,null,null,null,null,null,4,null,null,null,-1.3825128581938313,"POP",2,-0.34562821454845782,4]
[null,null,null,null,null,null,null,null,null,null,null,null,null,null,null,null,null,null,null,null,null,null,null,null,null,null,null,null,null,null,null,null,null,null,null,null,null,null,null,null,null,null,null,null,null,null,null,null,null,null,null,null,null,null,null,null,null,null,null,null,null,null,null,null,null,null,null,null,null,null,null,null,null,null,null,null,null,null,null,null,null,null,null,null,null,null,null,null,35,null,null,null,7.4193003060026008,"REJ",3,1.4838600612005202,5]
[null,null,null,null,null,null,null,null,null,null,null,null,null,null,null,null,null,null,null,null,null,null,null,null,null,null,null,null,null,null,null,null,null,null,null,null,null,null,null,null,null,null,null,null,null,null,null,null,null,null,null,null,null,null,null,null,null,null,null,null,null,null,null,null,null,null,null,null,null,null,null,null,null,null,null,null,null,null,null,null,null,null,null,null,null,null,null,null,0,null,null,null,0,"NEG",4,-5,0]
[null,null,null,null,null,null,null,null,null,null,null,null,null,null,null,null,null,null,null,null,null,null,null,null,null,null,null,null,null,null,null,null,null,null,null,null,null,null,null,null,null,null,null,null,null,null,null,null,null,null,null,null,null,null,null,null,null,null,null,null,null,null,null,null,null,null,null,null,null,null,null,null,null,null,null,null,null,null,null,null,null,null,null,null,null,null,null,null,9,null,null,null,3.0161446735375281,"CON",5,1.5080723367687641,2]
[null,null,null,null,null,null,null,null,null,null,null,null,null,null,null,null,null,null,null,null,null,null,null,null,null,null,null,null,null,null,null,null,null,null,null,null,null,null,null,null,null,null,null,null,null,null,null,null,null,null,null,null,null,null,null,null,null,null,null,null,null,null,null,null,null,null,null,null,null,null,null,null,null,null,null,null,null,null,null,null,null,null,null,null,null,null,null,null,22,null,null,null,-1.5174603427640465,"AVE",6,-0.3034920685528093,5]
[null,null,null,null,null,null,null,null,null,null,null,null,null,null,null,null,null,null,null,null,null,null,null,null,null,null,null,null,null,null,null,null,null,null,null,null,null,null,null,null,null,null,null,null,null,null,null,null,null,null,null,null,null,null,null,null,null,null,null,null,null,null,null,null,null,null,null,null,null,null,null,null,null,null,null,null,null,null,null,null,null,null,null,null,null,null,null,null,5,null,null,null,-0.42352419868018726,"OPO Walsh",7,-0.14117473289339574,3]
[]
[]
[]
[]
[]
[]
[]
[]
[]
[]
[]
[]
[]
[]
[]
[]
[]
[]
[]
[]
[]
[]
[]
[]
[]
[]
[]
[]
[]
[]
[]
[]
[]
[]
[]
[]
[]
[]
[]
[]
[]
[]
[]
[]
["Odkladací priestor"]
[]
[null,"Q_1","Pomo_Q_1_Target_1_písmeno",{"$f":"CONCATENATE(D54,D55,D56,D57,D58,D59,)","v":"B"},{"$f":"CONCATENATE(E54,E55,E56,E57,E58,E59,)","v":"E"},"B","E","B","E","A","A","A","C","B","D","B","B","C","D","C","A","B","B","D","B","B","B","B","B","A","A","","","","","","","","","","","",""]
[null,null,"Pomo_Q_1_Target_1_skratka",{"$f":"IF(D372<>\" \",IF(D372=\"A\",\"POP\",IF(D372=\"B\",\"OBL\",IF(D372=\"C\",\"NEO\",IF(D372=\"D\",\"KON\",IF(D372=\"E\",\"REJ\",IF(D372=\"F\",\"OPO\",\"\")))))))","v":"OBL"},"REJ","OBL","REJ","OBL","REJ","POP","POP","POP","NEO","OBL","KON","OBL","OBL","NEO","KON","NEO","POP","OBL",{"$f":"IF(W372<>\" \",IF(W372=\"A\",\"POP\",IF(W372=\"B\",\"OBL\",IF(W372=\"C\",\"NEO\",IF(W372=\"D\",\"KON\",IF(W372=\"E\",\"REJ\",IF(W372=\"F\",\"OPO\",\"\")))))))","v":"OBL"},"KON","OBL","OBL","OBL","OBL","OBL","POP","POP","","","","","","","","","","","",""]
["* opravené 15.4.",null,"Pomo_Q_1_Target_2_písmeno",{"$f":"IF(D375<>\" \",IF(D375=\"POP\",\"A\",IF(D375=\"REJ\",\"B\",IF(D375=\"OPO\",\"C\",IF(D375=\"CON\",\"D\",IF(D375=\"AVE\",\"E\",\"\"))))))","v":"E"},{"$f":"IF(E375<>\" \",IF(E375=\"POP\",\"A\",IF(E375=\"REJ\",\"B\",IF(E375=\"OPO\",\"C\",IF(E375=\"CON\",\"D\",IF(E375=\"AVE\",\"E\",\"\"))))))","v":"B"},"E","B","E","B","E","E","A","B","E","E","E","E","E","E","E","E","E","E","E","A","A","E","E","E","A","A","","","","","","","","","","","",""]
[null,null,"Pomo_Q_1_Target_2_skratka",{"$f":"CONCATENATE(D22,D23,D24,D25,D26)","v":"AVE"},{"$f":"CONCATENATE(E22,E23,E24,E25,E26)","v":"REJ"},"AVE","REJ","AVE","REJ","AVE","AVE","POP","REJ","AVE","AVE","AVE","AVE","AVE","AVE","AVE","AVE","AVE","AVE","AVE","POP","POP","AVE","AVE","AVE","POP","POP","","","","","","","","","","","",""]
[null,null,"Pomo_Q_1_Target_3_písmeno",{"$f":"D33","v":"C"},{"$f":"E33","v":"D"},"D","D","C","D","C","C","B","C","C","C","D","C","D","C","D","C","D","C","C","B","A","C","C","C","A","B","","","","","","","","","","","",""]
[null,null,"Pomo_Q_1_Target_3_skratka",{"$f":"IF(D376<>\" \",IF(D376=\"A\",\"VYS\",IF(D376=\"B\",\"MIE\",IF(D376=\"C\",\"SLA\",IF(D376=\"D\",\"NIZ\",\"\")))))","v":"SLA"},{"$f":"IF(E376<>\" \",IF(E376=\"A\",\"VYS\",IF(E376=\"B\",\"MIE\",IF(E376=\"C\",\"SLA\",IF(E376=\"D\",\"NIZ\",\"\")))))","v":"NIZ"},"NIZ","NIZ","SLA","NIZ","SLA","SLA","MIE","SLA","SLA","SLA","NIZ","SLA","NIZ","SLA","NIZ","SLA","NIZ","SLA","SLA","MIE","VYS","SLA","SLA","SLA","VYS","MIE","","","","","","","","","","","",""]
[null,null,"Pomo_Q_1_Target_4_písmeno",{"$f":"D37","v":"D"},{"$f":"E37","v":"B"},"D","C","D","A","D","D","D","A","D","D","D","D","D","D","D","D","D","D","D","D","D","D","D","D","D","D","","","","","","","","","","","",""]
[null,null,"Pomo_Q_1_Target_4_skratka",{"$f":"IF(D378<>\" \",IF(D378=\"A\",\"VYS\",IF(D378=\"B\",\"MIE\",IF(D378=\"C\",\"SLA\",IF(D378=\"D\",\"NIZ\",\"\")))))","v":"NIZ"},{"$f":"IF(E378<>\" \",IF(E378=\"A\",\"VYS\",IF(E378=\"B\",\"MIE\",IF(E378=\"C\",\"SLA\",IF(E378=\"D\",\"NIZ\",\"\")))))","v":"MIE"},"NIZ","SLA","NIZ","VYS","NIZ","NIZ","NIZ","VYS","NIZ","NIZ","NIZ","NIZ","NIZ","NIZ","NIZ","NIZ","NIZ","NIZ","NIZ","NIZ","NIZ","NIZ","NIZ","NIZ","NIZ","NIZ","","","","","","","","","","","",""]
[null,null,"Pomo_Q_1_Target_5_písmeno",{"$f":"D42","v":"B"},{"$f":"E42","v":"D"},"C","D","B","D","B","D","B","C","D","D","C","C","D","C","D","A","D","C","C","C","B","B","B","C","B","D","","","","","","","","","","","",""]
[null,null,"Pomo_Q_1_Target_5_skratka",{"$f":"IF(D380<>\" \",IF(D380=\"A\",\"VYS\",IF(D380=\"B\",\"MIE\",IF(D380=\"C\",\"SLA\",IF(D380=\"D\",\"NIZ\",\"\")))))","v":"MIE"},{"$f":"IF(E380<>\" \",IF(E380=\"A\",\"VYS\",IF(E380=\"B\",\"MIE\",IF(E380=\"C\",\"SLA\",IF(E380=\"D\",\"NIZ\",\"\")))))","v":"NIZ"},"SLA","NIZ","MIE","NIZ","MIE","NIZ","MIE","SLA","NIZ","NIZ","SLA","SLA","NIZ","SLA","NIZ","VYS","NIZ","SLA","SLA","SLA","MIE","MIE","MIE","SLA","MIE","NIZ","","","","","","","","","","","",""]
[null,null,"Pomo_Q_1_Target_6_písmeno",{"$f":"D47","v":"D"},{"$f":"E47","v":"D"},"D","C","C","A","D","D","D","A","D","C","D","D","D","C","C","C","D","C","D","C","D","D","D","D","D","D","","","","","","","","","","","",""]
[null,null,"Pomo_Q_1_Target_6_skratka",{"$f":"IF(D382<>\" \",IF(D382=\"A\",\"VYS\",IF(D382=\"B\",\"MIE\",IF(D382=\"C\",\"SLA\",IF(D382=\"D\",\"NIZ\",\"\")))))","v":"NIZ"},{"$f":"IF(E382<>\" \",IF(E382=\"A\",\"VYS\",IF(E382=\"B\",\"MIE\",IF(E382=\"C\",\"SLA\",IF(E382=\"D\",\"NIZ\",\"\")))))","v":"NIZ"},"NIZ","SLA","SLA","VYS","NIZ","NIZ","NIZ","VYS","NIZ","SLA","NIZ","NIZ","NIZ","SLA","SLA","SLA","NIZ","SLA","NIZ","SLA","NIZ","NIZ","NIZ","NIZ","NIZ","NIZ","","","","","","","","","","","",""]
[null,"Q_2","Pomo_Q_2_Target_1_písmeno",{"$f":"CONCATENATE(D112,D113,D114,D115,D116,D117,)","v":"D"},{"$f":"CONCATENATE(E112,E113,E114,E115,E116,E117,)","v":"E"},"B","E","C","E","A","A","A","E","B","E","B","B","B","C","C","A","B","D","B","B","B","C","A","A","B","A","","","","","","","","","","","",""]
[null,null,"Pomo_Q_2_Target_1_skratka",{"$f":"IF(D384<>\" \",IF(D384=\"A\",\"POP\",IF(D384=\"B\",\"OBL\",IF(D384=\"C\",\"NEO\",IF(D384=\"D\",\"KON\",IF(D384=\"E\",\"REJ\",IF(D384=\"F\",\"OPO\",\"\")))))))","v":"KON"},"REJ","OBL","REJ","NEO","REJ","POP","POP","POP","REJ","OBL","REJ","OBL","OBL","OBL","NEO","NEO","POP","OBL","KON","OBL","OBL","OBL","NEO","POP","POP","OBL","POP","","","","","","","","","","","",""]
["* opravené 15.4.",null,"Pomo_Q_2_Target_2_písmeno",{"$f":"IF(D387<>\" \",IF(D387=\"POP\",\"A\",IF(D387=\"REJ\",\"B\",IF(D387=\"OPO\",\"C\",IF(D387=\"CON\",\"D\",IF(D387=\"AVE\",\"E\",\"\"))))))","v":"E"},{"$f":"IF(E387<>\" \",IF(E387=\"POP\",\"A\",IF(E387=\"REJ\",\"B\",IF(E387=\"OPO\",\"C\",IF(E387=\"CON\",\"D\",IF(E387=\"AVE\",\"E\",\"\"))))))","v":"B"},"E","B","E","B","A","E","A","B","E","B","E","E","E","E","E","A","E","E","E","E","A","E","A","A","E","A","","","","","","","","","","","",""]
[null,null,"Pomo_Q_2_Target_2_skratka",{"$f":"CONCATENATE(D80,D81,D82,D83,D84)","v":"AVE"},{"$f":"CONCATENATE(E80,E81,E82,E83,E84)","v":"REJ"},"AVE","REJ","AVE","REJ","POP","AVE","POP","REJ","AVE","REJ","AVE","AVE","AVE","AVE","AVE","POP","AVE","AVE","AVE","AVE","POP","AVE","POP","POP","AVE","POP","","","","","","","","","","","",""]
[null,null,"Pomo_Q_2_Target_3_písmeno",{"$f":"D91","v":"D"},{"$f":"E91","v":"D"},"C","D","D","D","B","C","A","D","D","D","D","C","C","D","D","B","C","D","D","D","A","D","A","B","B","A","","","","","","","","","","","",""]
[null,null,"Pomo_Q_2_Target_3_skratka",{"$f":"IF(D388<>\" \",IF(D388=\"A\",\"VYS\",IF(D388=\"B\",\"MIE\",IF(D388=\"C\",\"SLA\",IF(D388=\"D\",\"NIZ\",\"\")))))","v":"NIZ"},{"$f":"IF(E388<>\" \",IF(E388=\"A\",\"VYS\",IF(E388=\"B\",\"MIE\",IF(E388=\"C\",\"SLA\",IF(E388=\"D\",\"NIZ\",\"\")))))","v":"NIZ"},"SLA","NIZ","NIZ","NIZ","MIE","SLA","VYS","NIZ","NIZ","NIZ","NIZ","SLA","SLA","NIZ","NIZ","MIE","SLA","NIZ","NIZ","NIZ","VYS","NIZ","VYS","MIE","MIE","VYS","","","","","","","","","","","",""]
[null,null,"Pomo_Q_2_Target_4_písmeno",{"$f":"D95","v":"D"},{"$f":"E95","v":"B"},"D","B","D","A","D","D","D","A","D","D","D","D","D","D","D","D","D","D","D","D","D","D","D","D","D","D","","","","","","","","","","","",""]
[null,null,"Pomo_Q_2_Target_4_skratka",{"$f":"IF(D390<>\" \",IF(D390=\"A\",\"VYS\",IF(D390=\"B\",\"MIE\",IF(D390=\"C\",\"SLA\",IF(D390=\"D\",\"NIZ\",\"\")))))","v":"NIZ"},{"$f":"IF(E390<>\" \",IF(E390=\"A\",\"VYS\",IF(E390=\"B\",\"MIE\",IF(E390=\"C\",\"SLA\",IF(E390=\"D\",\"NIZ\",\"\")))))","v":"MIE"},"NIZ","MIE","NIZ","VYS","NIZ","NIZ","NIZ","VYS","NIZ","NIZ","NIZ","NIZ","NIZ","NIZ","NIZ","NIZ","NIZ","NIZ","NIZ","NIZ","NIZ","NIZ","NIZ","NIZ","NIZ","NIZ","","","","","","","","","","","",""]
[null,null,"Pomo_Q_2_Target_5_písmeno",{"$f":"D100","v":"C"},{"$f":"E100","v":"D"},"C","C","C","D","B","D","C","D","D","D","C","D","C","D","D","A","C","C","D","C","A","D","A","B","C","D","","","","","","","","","","","",""]
[null,null,"Pomo_Q_2_Target_5_skratka",{"$f":"IF(D392<>\" \",IF(D392=\"A\",\"VYS\",IF(D392=\"B\",\"MIE\",IF(D392=\"C\",\"SLA\",IF(D392=\"D\",\"NIZ\",\"\")))))","v":"SLA"},{"$f":"IF(E392<>\" \",IF(E392=\"A\",\"VYS\",IF(E392=\"B\",\"MIE\",IF(E392=\"C\",\"SLA\",IF(E392=\"D\",\"NIZ\",\"\")))))","v":"NIZ"},"SLA","SLA","SLA","NIZ","MIE","NIZ","SLA","NIZ","NIZ","NIZ","SLA","NIZ","SLA","NIZ","NIZ","VYS","SLA","SLA","NIZ","SLA","VYS","NIZ","VYS","MIE","SLA","NIZ","","","","","","","","","","","",""]
[null,null,"Pomo_Q_2_Target_6_písmeno",{"$f":"D105","v":"C"},{"$f":"E105","v":"A"},"D","B","D","B","D","D","D","B","D","C","D","D","D","D","C","D","D","D","D","D","D","D","D","D","D","D","","","","","","","","","","","",""]
[null,null,"Pomo_Q_2_Target_6_skratka",{"$f":"IF(D394<>\" \",IF(D394=\"A\",\"VYS\",IF(D394=\"B\",\"MIE\",IF(D394=\"C\",\"SLA\",IF(D394=\"D\",\"NIZ\",\"\")))))","v":"SLA"},{"$f":"IF(E394<>\" \",IF(E394=\"A\",\"VYS\",IF(E394=\"B\",\"MIE\",IF(E394=\"C\",\"SLA\",IF(E394=\"D\",\"NIZ\",\"\")))))","v":"VYS"},"NIZ","MIE","NIZ","MIE","NIZ","NIZ","NIZ","MIE","NIZ","SLA","NIZ","NIZ","NIZ","NIZ","SLA","NIZ","NIZ","NIZ","NIZ","NIZ","NIZ","NIZ","NIZ","NIZ","NIZ","NIZ","","","","","","","","","","","",""]
[null,"Q_3","Pomo_Q_3_Target_1_písmeno",{"$f":"CONCATENATE(D170,D171,D172,D173,D174,D175,)","v":"D"},{"$f":"CONCATENATE(E170,E171,E172,E173,E174,E175,)","v":"E"},"B","E","B","C","B","A","A","C","A","A","F","B","C","B","C","B","B","B","A","B","A","C","B","B","D","A","","","","","","","","","","","",""]
[null,null,"Pomo_Q_3_Target_1_skratka",{"$f":"IF(D396<>\" \",IF(D396=\"A\",\"POP\",IF(D396=\"B\",\"OBL\",IF(D396=\"C\",\"NEO\",IF(D396=\"D\",\"KON\",IF(D396=\"E\",\"REJ\",IF(D396=\"F\",\"OPO\",\"\")))))))","v":"KON"},"REJ","OBL","REJ","OBL","NEO","OBL","POP","POP","NEO","POP","POP","OPO","OBL","NEO","OBL","NEO","OBL","OBL","OBL","POP","OBL","POP","NEO","OBL","OBL","KON","POP","","","","","","","","","","","",""]
["* opravené 15.4.",null,"Pomo_Q_3_Target_2_písmeno",{"$f":"IF(D399<>\" \",IF(D399=\"POP\",\"A\",IF(D399=\"REJ\",\"B\",IF(D399=\"OPO\",\"C\",IF(D399=\"CON\",\"D\",IF(D399=\"AVE\",\"E\",\"\"))))))","v":"E"},{"$f":"IF(E399<>\" \",IF(E399=\"POP\",\"A\",IF(E399=\"REJ\",\"B\",IF(E399=\"OPO\",\"C\",IF(E399=\"CON\",\"D\",IF(E399=\"AVE\",\"E\",\"\"))))))","v":"B"},"E","B","E","B","E","E","A","D","E","E","E","E","E","E","E","A","E","E","E","E","A","E","E","E","D","A","","","","","","","","","","","",""]
[null,null,"Pomo_Q_3_Target_2_skratka",{"$f":"CONCATENATE(D138,D139,D140,D141,D142)","v":"AVE"},{"$f":"CONCATENATE(E138,E139,E140,E141,E142)","v":"REJ"},"AVE","REJ","AVE","REJ","AVE","AVE","POP","CON","AVE","AVE","AVE","AVE","AVE","AVE","AVE","POP","AVE","AVE","AVE","AVE","POP","AVE","AVE","AVE","CON","POP","","","","","","","","","","","",""]
[null,null,"Pomo_Q_3_Target_3_písmeno",{"$f":"D149","v":"D"},{"$f":"E149","v":"D"},"C","D","C","C","C","C","B","C","C","C","D","D","D","C","D","B","C","C","C","C","A","D","C","D","B","C","","","","","","","","","","","",""]
[null,null,"Pomo_Q_3_Target_3_skratka",{"$f":"IF(D400<>\" \",IF(D400=\"A\",\"VYS\",IF(D400=\"B\",\"MIE\",IF(D400=\"C\",\"SLA\",IF(D400=\"D\",\"NIZ\",\"\")))))","v":"NIZ"},{"$f":"IF(E400<>\" \",IF(E400=\"A\",\"VYS\",IF(E400=\"B\",\"MIE\",IF(E400=\"C\",\"SLA\",IF(E400=\"D\",\"NIZ\",\"\")))))","v":"NIZ"},"SLA","NIZ","SLA","SLA","SLA","SLA","MIE","SLA","SLA","SLA","NIZ","NIZ","NIZ","SLA","NIZ","MIE","SLA","SLA","SLA","SLA","VYS","NIZ","SLA","NIZ","MIE","SLA","","","","","","","","","","","",""]
[null,null,"Pomo_Q_3_Target_4_písmeno",{"$f":"D153","v":"D"},{"$f":"E153","v":"B"},"D","C","D","A","D","D","D","A","D","D","D","D","D","D","D","D","D","D","D","D","D","D","D","D","C","D","","","","","","","","","","","",""]
[null,null,"Pomo_Q_3_Target_4_skratka",{"$f":"IF(D402<>\" \",IF(D402=\"A\",\"VYS\",IF(D402=\"B\",\"MIE\",IF(D402=\"C\",\"SLA\",IF(D402=\"D\",\"NIZ\",\"\")))))","v":"NIZ"},{"$f":"IF(E402<>\" \",IF(E402=\"A\",\"VYS\",IF(E402=\"B\",\"MIE\",IF(E402=\"C\",\"SLA\",IF(E402=\"D\",\"NIZ\",\"\")))))","v":"MIE"},"NIZ","SLA","NIZ","VYS","NIZ","NIZ","NIZ","VYS","NIZ","NIZ","NIZ","NIZ","NIZ","NIZ","NIZ","NIZ","NIZ","NIZ","NIZ","NIZ","NIZ","NIZ","NIZ","NIZ","SLA","NIZ","","","","","","","","","","","",""]
[null,null,"Pomo_Q_3_Target_5_písmeno",{"$f":"D158","v":"C"},{"$f":"E158","v":"D"},"B","D","C","C","B","C","C","A","B","D","D","D","D","C","D","A","C","D","C","D","B","C","C","D","B","D","","","","","","","","","","","",""]
[null,null,"Pomo_Q_3_Target_5_skratka",{"$f":"IF(D404<>\" \",IF(D404=\"A\",\"VYS\",IF(D404=\"B\",\"MIE\",IF(D404=\"C\",\"SLA\",IF(D404=\"D\",\"NIZ\",\"\")))))","v":"SLA"},{"$f":"IF(E404<>\" \",IF(E404=\"A\",\"VYS\",IF(E404=\"B\",\"MIE\",IF(E404=\"C\",\"SLA\",IF(E404=\"D\",\"NIZ\",\"\")))))","v":"NIZ"},"MIE","NIZ","SLA","SLA","MIE","SLA","SLA","VYS","MIE","NIZ","NIZ","NIZ","NIZ","SLA","NIZ","VYS","SLA","NIZ","SLA","NIZ","MIE","SLA","SLA","NIZ","MIE","NIZ","","","","","","","","","","","",""]
[null,null,"Pomo_Q_3_Target_6_písmeno",{"$f":"D163","v":"C"},{"$f":"E163","v":"C"},"D","D","D","A","D","D","D","A","C","D","D","D","C","C","B","C","D","D","D","D","D","D","C","D","C","D","","","","","","","","","","","",""]
[null,null,"Pomo_Q_3_Target_6_skratka",{"$f":"IF(D406<>\" \",IF(D406=\"A\",\"VYS\",IF(D406=\"B\",\"MIE\",IF(D406=\"C\",\"SLA\",IF(D406=\"D\",\"NIZ\",\"\")))))","v":"SLA"},{"$f":"IF(E406<>\" \",IF(E406=\"A\",\"VYS\",IF(E406=\"B\",\"MIE\",IF(E406=\"C\",\"SLA\",IF(E406=\"D\",\"NIZ\",\"\")))))","v":"SLA"},"NIZ","NIZ","NIZ","VYS","NIZ","NIZ","NIZ","VYS","SLA","NIZ","NIZ","NIZ","SLA","SLA","MIE","SLA","NIZ","NIZ","NIZ","NIZ","NIZ","NIZ","SLA","NIZ","SLA","NIZ","","","","","","","","","","","",""]
[null,"Q_4","Pomo_Q_4_Target_1_písmeno",{"$f":"CONCATENATE(D228,D229,D230,D231,D232,D233,)","v":"F"},{"$f":"CONCATENATE(E228,E229,E230,E231,E232,E233,)","v":"E"},"F","E","B","E","B","C","A","E","C","C","C","F","A","C","C","B","F","B","F","F","A","E","A","A","C","A","","","","","","","","","","","",""]
[null,null,"Pomo_Q_4_Target_1_skratka",{"$f":"IF(D408<>\" \",IF(D408=\"A\",\"POP\",IF(D408=\"B\",\"OBL\",IF(D408=\"C\",\"NEO\",IF(D408=\"D\",\"KON\",IF(D408=\"E\",\"REJ\",IF(D408=\"F\",\"OPO\",\"\")))))))","v":"OPO"},"REJ","OPO","REJ","OBL","REJ","OBL","NEO","POP","REJ","NEO","NEO","NEO","OPO","POP","NEO","NEO","OBL","OPO","OBL","OPO","OPO","POP","REJ","POP","POP","NEO","POP","","","","","","","","","","","",""]
["* opravené 15.4.",null,"Pomo_Q_4_Target_2_písmeno",{"$f":"IF(D411<>\" \",IF(D411=\"POP\",\"A\",IF(D411=\"REJ\",\"B\",IF(D411=\"OPO\",\"C\",IF(D411=\"CON\",\"D\",IF(D411=\"AVE\",\"E\",\"\"))))))","v":"E"},{"$f":"IF(E411<>\" \",IF(E411=\"POP\",\"A\",IF(E411=\"REJ\",\"B\",IF(E411=\"OPO\",\"C\",IF(E411=\"CON\",\"D\",IF(E411=\"AVE\",\"E\",\"\"))))))","v":"B"},"E","E","E","B","E","E","A","B","E","E","E","E","A","E","E","E","E","E","E","E","A","E","A","A","E","A","","","","","","","","","","","",""]
[null,null,"Pomo_Q_4_Target_2_skratka",{"$f":"CONCATENATE(D196,D197,D198,D199,D200)","v":"AVE"},{"$f":"CONCATENATE(E196,E197,E198,E199,E200)","v":"REJ"},"AVE","AVE","AVE","REJ","AVE","AVE","POP","REJ","AVE","AVE","AVE","AVE","POP","AVE","AVE","AVE","AVE","AVE","AVE","AVE","POP","AVE","POP","POP","AVE","POP","","","","","","","","","","","",""]
[null,null,"Pomo_Q_4_Target_3_písmeno",{"$f":"D207","v":"D"},{"$f":"E207","v":"D"},"D","D","C","D","C","D","A","D","D","D","D","D","A","D","D","C","D","C","D","D","A","D","A","A","D","A","","","","","","","","","","","",""]
[null,null,"Pomo_Q_4_Target_3_skratka",{"$f":"IF(D412<>\" \",IF(D412=\"A\",\"VYS\",IF(D412=\"B\",\"MIE\",IF(D412=\"C\",\"SLA\",IF(D412=\"D\",\"NIZ\",\"\")))))","v":"NIZ"},{"$f":"IF(E412<>\" \",IF(E412=\"A\",\"VYS\",IF(E412=\"B\",\"MIE\",IF(E412=\"C\",\"SLA\",IF(E412=\"D\",\"NIZ\",\"\")))))","v":"NIZ"},"NIZ","NIZ","SLA","NIZ","SLA","NIZ","VYS","NIZ","NIZ","NIZ","NIZ","NIZ","VYS","NIZ","NIZ","SLA","NIZ","SLA","NIZ","NIZ","VYS","NIZ","VYS","VYS","NIZ","VYS","","","","","","","","","","","",""]
[null,null,"Pomo_Q_4_Target_4_písmeno",{"$f":"D211","v":"D"},{"$f":"E211","v":"A"},"D","C","D","A","D","D","D","A","D","D","D","D","D","D","D","D","D","D","D","D","D","D","D","D","D","D","","","","","","","","","","","",""]
[null,null,"Pomo_Q_4_Target_4_skratka",{"$f":"IF(D414<>\" \",IF(D414=\"A\",\"VYS\",IF(D414=\"B\",\"MIE\",IF(D414=\"C\",\"SLA\",IF(D414=\"D\",\"NIZ\",\"\")))))","v":"NIZ"},{"$f":"IF(E414<>\" \",IF(E414=\"A\",\"VYS\",IF(E414=\"B\",\"MIE\",IF(E414=\"C\",\"SLA\",IF(E414=\"D\",\"NIZ\",\"\")))))","v":"VYS"},"NIZ","SLA","NIZ","VYS","NIZ","NIZ","NIZ","VYS","NIZ","NIZ","NIZ","NIZ","NIZ","NIZ","NIZ","NIZ","NIZ","NIZ","NIZ","NIZ","NIZ","NIZ","NIZ","NIZ","NIZ","NIZ","","","","","","","","","","","",""]
[null,null,"Pomo_Q_4_Target_5_písmeno",{"$f":"D216","v":"D"},{"$f":"E216","v":"D"},"D","D","C","D","D","D","D","D","D","D","D","D","C","D","D","B","D","B","D","D","A","D","B","C","D","D","","","","","","","","","","","",""]
[null,null,"Pomo_Q_4_Target_5_skratka",{"$f":"IF(D416<>\" \",IF(D416=\"A\",\"VYS\",IF(D416=\"B\",\"MIE\",IF(D416=\"C\",\"SLA\",IF(D416=\"D\",\"NIZ\",\"\")))))","v":"NIZ"},{"$f":"IF(E416<>\" \",IF(E416=\"A\",\"VYS\",IF(E416=\"B\",\"MIE\",IF(E416=\"C\",\"SLA\",IF(E416=\"D\",\"NIZ\",\"\")))))","v":"NIZ"},"NIZ","NIZ","SLA","NIZ","NIZ","NIZ","NIZ","NIZ","NIZ","NIZ","NIZ","NIZ","SLA","NIZ","NIZ","MIE","NIZ","MIE","NIZ","NIZ","VYS","NIZ","MIE","SLA","NIZ","NIZ","","","","","","","","","","","",""]
[null,null,"Pomo_Q_4_Target_6_písmeno",{"$f":"D221","v":"D"},{"$f":"E221","v":"A"},"D","B","C","B","D","D","D","A","D","D","D","D","D","D","D","C","D","D","D","D","D","C","C","D","D","D","","","","","","","","","","","",""]
[null,null,"Pomo_Q_4_Target_6_skratka",{"$f":"IF(D418<>\" \",IF(D418=\"A\",\"VYS\",IF(D418=\"B\",\"MIE\",IF(D418=\"C\",\"SLA\",IF(D418=\"D\",\"NIZ\",\"\")))))","v":"NIZ"},{"$f":"IF(E418<>\" \",IF(E418=\"A\",\"VYS\",IF(E418=\"B\",\"MIE\",IF(E418=\"C\",\"SLA\",IF(E418=\"D\",\"NIZ\",\"\")))))","v":"VYS"},"NIZ","MIE","SLA","MIE","NIZ","NIZ","NIZ","VYS","NIZ","NIZ","NIZ","NIZ","NIZ","NIZ","NIZ","SLA","NIZ","NIZ","NIZ","NIZ","NIZ","SLA","SLA","NIZ","NIZ","NIZ","","","","","","","","","","","",""]
[null,"Q_5","Pomo_Q_5_Target_1_písmeno",{"$f":"CONCATENATE(D286,D287,D288,D289,D290,D291,)","v":"B"},{"$f":"CONCATENATE(E286,E287,E288,E289,E290,E291,)","v":"E"},"C","E","C","E","B","B","B","E","A","D","B","B","C","C","C","A","B","D","B","D","B","D","B","B","B","A","","","","","","","","","","","",""]
[null,null,"Pomo_Q_5_Target_1_skratka",{"$f":"IF(D420<>\" \",IF(D420=\"A\",\"POP\",IF(D420=\"B\",\"OBL\",IF(D420=\"C\",\"NEO\",IF(D420=\"D\",\"KON\",IF(D420=\"E\",\"REJ\",IF(D420=\"F\",\"OPO\",\"\")))))))","v":"OBL"},"REJ","NEO","REJ","NEO","REJ","OBL","OBL","OBL","REJ","POP","KON","OBL","OBL","NEO","NEO","NEO","POP","OBL","KON","OBL","KON","OBL","KON","OBL","OBL","OBL","POP","","","","","","","","","","","",""]
["* opravené 15.4.",null,"Pomo_Q_5_Target_2_písmeno",{"$f":"IF(D423<>\" \",IF(D423=\"POP\",\"A\",IF(D423=\"REJ\",\"B\",IF(D423=\"OPO\",\"C\",IF(D423=\"CON\",\"D\",IF(D423=\"AVE\",\"E\",\"\"))))))","v":"E"},{"$f":"IF(E423<>\" \",IF(E423=\"POP\",\"A\",IF(E423=\"REJ\",\"B\",IF(E423=\"OPO\",\"C\",IF(E423=\"CON\",\"D\",IF(E423=\"AVE\",\"E\",\"\"))))))","v":"B"},"E","B","B","B","A","E","E","B","A","E","E","E","E","E","E","A","E","E","E","E","D","E","D","E","D","A","","","","","","","","","","","",""]
[null,null,"Pomo_Q_5_Target_2_skratka",{"$f":"CONCATENATE(D254,D255,D256,D257,D258)","v":"AVE"},{"$f":"CONCATENATE(E254,E255,E256,E257,E258)","v":"REJ"},"AVE","REJ","REJ","REJ","POP","AVE","AVE","REJ","POP","AVE","AVE","AVE","AVE","AVE","AVE","POP","AVE","AVE","AVE","AVE","CON","AVE","CON","AVE","CON","POP","","","","","","","","","","","",""]
[null,null,"Pomo_Q_5_Target_3_písmeno",{"$f":"D265","v":"C"},{"$f":"E265","v":"D"},"D","D","C","D","B","C","C","D","C","C","C","C","D","D","D","B","C","C","C","C","A","C","B","C","B","B","","","","","","","","","","","",""]
[null,null,"Pomo_Q_5_Target_3_skratka",{"$f":"IF(D424<>\" \",IF(D424=\"A\",\"VYS\",IF(D424=\"B\",\"MIE\",IF(D424=\"C\",\"SLA\",IF(D424=\"D\",\"NIZ\",\"\")))))","v":"SLA"},{"$f":"IF(E424<>\" \",IF(E424=\"A\",\"VYS\",IF(E424=\"B\",\"MIE\",IF(E424=\"C\",\"SLA\",IF(E424=\"D\",\"NIZ\",\"\")))))","v":"NIZ"},"NIZ","NIZ","SLA","NIZ","MIE","SLA","SLA","NIZ","SLA","SLA","SLA","SLA","NIZ","NIZ","NIZ","MIE","SLA","SLA","SLA","SLA","VYS","SLA","MIE","SLA","MIE","MIE","","","","","","","","","","","",""]
[null,null,"Pomo_Q_5_Target_4_písmeno",{"$f":"D269","v":"D"},{"$f":"E269","v":"C"},"D","C","C","B","D","D","D","A","D","D","D","D","D","D","D","D","D","D","D","D","D","D","D","D","D","D","","","","","","","","","","","",""]
[null,null,"Pomo_Q_5_Target_4_skratka",{"$f":"IF(D426<>\" \",IF(D426=\"A\",\"VYS\",IF(D426=\"B\",\"MIE\",IF(D426=\"C\",\"SLA\",IF(D426=\"D\",\"NIZ\",\"\")))))","v":"NIZ"},{"$f":"IF(E426<>\" \",IF(E426=\"A\",\"VYS\",IF(E426=\"B\",\"MIE\",IF(E426=\"C\",\"SLA\",IF(E426=\"D\",\"NIZ\",\"\")))))","v":"SLA"},"NIZ","SLA","SLA","MIE","NIZ","NIZ","NIZ","VYS","NIZ","NIZ","NIZ","NIZ","NIZ","NIZ","NIZ","NIZ","NIZ","NIZ","NIZ","NIZ","NIZ","NIZ","NIZ","NIZ","NIZ","NIZ","","","","","","","","","","","",""]
[null,null,"Pomo_Q_5_Target_5_písmeno",{"$f":"D274","v":"C"},{"$f":"E274","v":"D"},"C","D","B","D","C","D","C","C","C","B","B","B","D","D","D","A","B","C","C","D","A","B","B","C","A","D","","","","","","","","","","","",""]
[null,null,"Pomo_Q_5_Target_5_skratka",{"$f":"IF(D428<>\" \",IF(D428=\"A\",\"VYS\",IF(D428=\"B\",\"MIE\",IF(D428=\"C\",\"SLA\",IF(D428=\"D\",\"NIZ\",\"\")))))","v":"SLA"},{"$f":"IF(E428<>\" \",IF(E428=\"A\",\"VYS\",IF(E428=\"B\",\"MIE\",IF(E428=\"C\",\"SLA\",IF(E428=\"D\",\"NIZ\",\"\")))))","v":"NIZ"},"SLA","NIZ","MIE","NIZ","SLA","NIZ","SLA","SLA","SLA","MIE","MIE","MIE","NIZ","NIZ","NIZ","VYS","MIE","SLA","SLA","NIZ","VYS","MIE","MIE","SLA","VYS","NIZ","","","","","","","","","","","",""]
[null,null,"Pomo_Q_5_Target_6_písmeno",{"$f":"D279","v":"D"},{"$f":"E279","v":"D"},"C","C","D","B","C","D","D","A","D","D","D","D","D","D","D","D","D","C","D","D","B","D","B","D","C","D","","","","","","","","","","","",""]
[null," 20.3.2018","Pomo_Q_5_Target_6_skratka",{"$f":"IF(D430<>\" \",IF(D430=\"A\",\"VYS\",IF(D430=\"B\",\"MIE\",IF(D430=\"C\",\"SLA\",IF(D430=\"D\",\"NIZ\",\"\")))))","v":"NIZ"},{"$f":"IF(E430<>\" \",IF(E430=\"A\",\"VYS\",IF(E430=\"B\",\"MIE\",IF(E430=\"C\",\"SLA\",IF(E430=\"D\",\"NIZ\",\"\")))))","v":"NIZ"},"SLA","SLA","NIZ","MIE","SLA","NIZ","NIZ","VYS","NIZ","NIZ","NIZ","NIZ","NIZ","NIZ","NIZ","NIZ","NIZ","SLA","NIZ","NIZ","MIE","NIZ","MIE","NIZ","SLA","NIZ","","","","","","","","","","","",""]
[null,null,"Zhodnotenie"]
[null,1,"POP 1,2 pozitívne",{"$f":"IF(D372<>\"\",COUNTIF(D372:D431,\"POP\"),\"\")","v":0},{"$f":"IF(E372<>\"\",COUNTIF(E372:E431,\"POP\"),\"\")","v":0},0,0,0,0,4,3,8,0,3,1,0,0,2,0,0,6,0,{"$f":"IF(W372<>\"\",COUNTIF(W372:W431,\"POP\"),\"\")","v":0},{"$f":"IF(X372<>\"\",COUNTIF(X372:X431,\"POP\"),\"\")","v":1},1,6,0,4,4,2,10,"","","","","","","","","","","",""]
[null,2,"REJ 1,2 negatívne",{"$f":"IF(D372<>\"\",COUNTIF(D372:D431,\"REJ\"),\"\")","v":0},{"$f":"IF(E372<>\"\",COUNTIF(E372:E431,\"REJ\"),\"\")","v":10},0,9,1,9,0,0,0,7,0,2,0,0,0,0,0,0,0,0,0,0,0,1,0,0,0,0,"","","","","","","","","","","",""]
[null,3,"OBL 1",{"$f":"IF(D372<>\"\",COUNTIF(D372:D431,\"OBL\"),\"\")","v":2},{"$f":"IF(E372<>\"\",COUNTIF(E372:E431,\"OBL\"),\"\")","v":0},3,0,3,0,3,1,1,0,2,0,3,4,1,1,0,2,4,3,2,3,3,1,3,3,2,0,"","","","","","","","","","","",""]
[null,4,"NEO 1",{"$f":"IF(D372<>\"\",COUNTIF(D372:D431,\"NEO\"),\"\")","v":0},{"$f":"IF(E372<>\"\",COUNTIF(E372:E431,\"NEO\"),\"\")","v":0},1,0,2,1,0,1,0,2,1,1,1,0,3,3,5,0,0,0,0,0,0,2,0,0,1,0,"","","","","","","","","","","",""]
[null,5,"KON 1,2",{"$f":"IF(D372<>\"\",COUNTIF(D372:D431,\"KON\"),\"\")","v":2},{"$f":"IF(E372<>\"\",COUNTIF(E372:E431,\"KON\"),\"\")","v":0},0,0,0,0,0,0,0,0,0,2,0,0,0,1,0,0,0,2,1,1,0,1,0,0,1,0,"","","","","","","","","","","",""]
[null,6,"OPO 1,2",{"$f":"IF(D372<>\"\",COUNTIF(D372:D431,\"OPO\"),\"\")","v":1},{"$f":"IF(E372<>\"\",COUNTIF(E372:E431,\"OPO\"),\"\")","v":0},1,0,0,0,0,0,0,0,0,0,1,1,0,0,0,0,1,0,1,1,0,0,0,0,0,0,"","","","","","","","","","","",""]
[null,7,"VYS 3,5 pozitívne",{"$f":"IF(D372<>\"\",COUNTIF(D377,\"VYS\")+COUNTIF(D381,\"VYS\")+COUNTIF(D389,\"VYS\")+COUNTIF(D393,\"VYS\")+COUNTIF(D401,\"VYS\")+COUNTIF(D405,\"VYS\")+COUNTIF(D413,\"VYS\")+COUNTIF(D417,\"VYS\")+COUNTIF(D425,\"VYS\")+COUNTIF(D429,\"VYS\"),\"\")","v":0},{"$f":"IF(E372<>\"\",COUNTIF(E377,\"VYS\")+COUNTIF(E381,\"VYS\")+COUNTIF(E389,\"VYS\")+COUNTIF(E393,\"VYS\")+COUNTIF(E401,\"VYS\")+COUNTIF(E405,\"VYS\")+COUNTIF(E413,\"VYS\")+COUNTIF(E417,\"VYS\")+COUNTIF(E425,\"VYS\")+COUNTIF(E429,\"VYS\"),\"\")","v":0},{"$f":"IF(F372<>\"\",COUNTIF(F377,\"VYS\")+COUNTIF(F381,\"VYS\")+COUNTIF(F389,\"VYS\")+COUNTIF(F393,\"VYS\")+COUNTIF(F401,\"VYS\")+COUNTIF(F405,\"VYS\")+COUNTIF(F413,\"VYS\")+COUNTIF(F417,\"VYS\")+COUNTIF(F425,\"VYS\")+COUNTIF(F429,\"VYS\"),\"\")","v":0},{"$f":"IF(G372<>\"\",COUNTIF(G377,\"VYS\")+COUNTIF(G381,\"VYS\")+COUNTIF(G389,\"VYS\")+COUNTIF(G393,\"VYS\")+COUNTIF(G401,\"VYS\")+COUNTIF(G405,\"VYS\")+COUNTIF(G413,\"VYS\")+COUNTIF(G417,\"VYS\")+COUNTIF(G425,\"VYS\")+COUNTIF(G429,\"VYS\"),\"\")","v":0},{"$f":"IF(H372<>\"\",COUNTIF(H377,\"VYS\")+COUNTIF(H381,\"VYS\")+COUNTIF(H389,\"VYS\")+COUNTIF(H393,\"VYS\")+COUNTIF(H401,\"VYS\")+COUNTIF(H405,\"VYS\")+COUNTIF(H413,\"VYS\")+COUNTIF(H417,\"VYS\")+COUNTIF(H425,\"VYS\")+COUNTIF(H429,\"VYS\"),\"\")","v":0},{"$f":"IF(I372<>\"\",COUNTIF(I377,\"VYS\")+COUNTIF(I381,\"VYS\")+COUNTIF(I389,\"VYS\")+COUNTIF(I393,\"VYS\")+COUNTIF(I401,\"VYS\")+COUNTIF(I405,\"VYS\")+COUNTIF(I413,\"VYS\")+COUNTIF(I417,\"VYS\")+COUNTIF(I425,\"VYS\")+COUNTIF(I429,\"VYS\"),\"\")","v":0},0,0,2,1,0,0,0,0,1,0,0,4,0,0,0,0,8,0,3,1,2,2,"","","","","","","","","","","",""]
[null,8,"VYS 4,6 negatívne",{"$f":"IF(D372<>\"\",COUNTIF(D379,\"VYS\")+COUNTIF(D386,\"VYS\")+COUNTIF(D391,\"VYS\")+COUNTIF(D395,\"VYS\")+COUNTIF(D403,\"VYS\")+COUNTIF(D407,\"VYS\")+COUNTIF(D415,\"VYS\")+COUNTIF(D419,\"VYS\")+COUNTIF(D427,\"VYS\")+COUNTIF(D431,\"VYS\"),\"\")","v":0},{"$f":"IF(E372<>\"\",COUNTIF(E379,\"VYS\")+COUNTIF(E386,\"VYS\")+COUNTIF(E391,\"VYS\")+COUNTIF(E395,\"VYS\")+COUNTIF(E403,\"VYS\")+COUNTIF(E407,\"VYS\")+COUNTIF(E415,\"VYS\")+COUNTIF(E419,\"VYS\")+COUNTIF(E427,\"VYS\")+COUNTIF(E431,\"VYS\"),\"\")","v":3},0,0,0,5,0,0,0,8,0,0,0,0,0,0,0,0,0,0,0,0,0,0,0,0,0,0,"","","","","","","","","","","",""]
[null,9,"MIE 3,5",{"$f":"IF(D372<>\"\",COUNTIF(D377,\"MIE\")+COUNTIF(D381,\"MIE\")+COUNTIF(D389,\"MIE\")+COUNTIF(D393,\"MIE\")+COUNTIF(D401,\"MIE\")+COUNTIF(D405,\"MIE\")+COUNTIF(D413,\"MIE\")+COUNTIF(D417,\"MIE\")+COUNTIF(D425,\"MIE\")+COUNTIF(D429,\"MIE\"),\"\")","v":1},{"$f":"IF(E372<>\"\",COUNTIF(E377,\"MIE\")+COUNTIF(E381,\"MIE\")+COUNTIF(E389,\"MIE\")+COUNTIF(E393,\"MIE\")+COUNTIF(E401,\"MIE\")+COUNTIF(E405,\"MIE\")+COUNTIF(E413,\"MIE\")+COUNTIF(E417,\"MIE\")+COUNTIF(E425,\"MIE\")+COUNTIF(E429,\"MIE\"),\"\")","v":0},{"$f":"IF(F372<>\"\",COUNTIF(F377,\"MIE\")+COUNTIF(F381,\"MIE\")+COUNTIF(F389,\"MIE\")+COUNTIF(F393,\"MIE\")+COUNTIF(F401,\"MIE\")+COUNTIF(F405,\"MIE\")+COUNTIF(F413,\"MIE\")+COUNTIF(F417,\"MIE\")+COUNTIF(F425,\"MIE\")+COUNTIF(F429,\"MIE\"),\"\")","v":1},{"$f":"IF(G372<>\"\",COUNTIF(G377,\"MIE\")+COUNTIF(G381,\"MIE\")+COUNTIF(G389,\"MIE\")+COUNTIF(G393,\"MIE\")+COUNTIF(G401,\"MIE\")+COUNTIF(G405,\"MIE\")+COUNTIF(G413,\"MIE\")+COUNTIF(G417,\"MIE\")+COUNTIF(G425,\"MIE\")+COUNTIF(G429,\"MIE\"),\"\")","v":0},{"$f":"IF(H372<>\"\",COUNTIF(H377,\"MIE\")+COUNTIF(H381,\"MIE\")+COUNTIF(H389,\"MIE\")+COUNTIF(H393,\"MIE\")+COUNTIF(H401,\"MIE\")+COUNTIF(H405,\"MIE\")+COUNTIF(H413,\"MIE\")+COUNTIF(H417,\"MIE\")+COUNTIF(H425,\"MIE\")+COUNTIF(H429,\"MIE\"),\"\")","v":2},{"$f":"IF(I372<>\"\",COUNTIF(I377,\"MIE\")+COUNTIF(I381,\"MIE\")+COUNTIF(I389,\"MIE\")+COUNTIF(I393,\"MIE\")+COUNTIF(I401,\"MIE\")+COUNTIF(I405,\"MIE\")+COUNTIF(I413,\"MIE\")+COUNTIF(I417,\"MIE\")+COUNTIF(I425,\"MIE\")+COUNTIF(I429,\"MIE\"),\"\")","v":0},5,0,3,0,1,1,1,1,0,0,0,4,1,1,0,1,2,2,4,2,5,2,"","","","","","","","","","","",""]
[null,10,"MIE 4,6",{"$f":"IF(D372<>\"\",COUNTIF(D379,\"MIE\")+COUNTIF(D386,\"MIE\")+COUNTIF(D391,\"MIE\")+COUNTIF(D395,\"MIE\")+COUNTIF(D403,\"MIE\")+COUNTIF(D407,\"MIE\")+COUNTIF(D415,\"MIE\")+COUNTIF(D419,\"MIE\")+COUNTIF(D427,\"MIE\")+COUNTIF(D431,\"MIE\"),\"\")","v":0},{"$f":"IF(E372<>\"\",COUNTIF(E379,\"MIE\")+COUNTIF(E386,\"MIE\")+COUNTIF(E391,\"MIE\")+COUNTIF(E395,\"MIE\")+COUNTIF(E403,\"MIE\")+COUNTIF(E407,\"MIE\")+COUNTIF(E415,\"MIE\")+COUNTIF(E419,\"MIE\")+COUNTIF(E427,\"MIE\")+COUNTIF(E431,\"MIE\"),\"\")","v":3},0,3,0,4,0,0,0,1,0,0,0,0,0,0,1,0,0,0,0,0,1,0,1,0,0,0,"","","","","","","","","","","",""]
[null,11,"SLA 3, 5",{"$f":"IF(D372<>\"\",COUNTIF(D377,\"SLA\")+COUNTIF(D381,\"SLA\")+COUNTIF(D389,\"SLA\")+COUNTIF(D393,\"SLA\")+COUNTIF(D401,\"SLA\")+COUNTIF(D405,\"SLA\")+COUNTIF(D413,\"SLA\")+COUNTIF(D417,\"SLA\")+COUNTIF(D425,\"SLA\")+COUNTIF(D429,\"SLA\"),\"\")","v":5},{"$f":"IF(E372<>\"\",COUNTIF(E377,\"SLA\")+COUNTIF(E381,\"SLA\")+COUNTIF(E389,\"SLA\")+COUNTIF(E393,\"SLA\")+COUNTIF(E401,\"SLA\")+COUNTIF(E405,\"SLA\")+COUNTIF(E413,\"SLA\")+COUNTIF(E417,\"SLA\")+COUNTIF(E425,\"SLA\")+COUNTIF(E429,\"SLA\"),\"\")","v":0},{"$f":"IF(F372<>\"\",COUNTIF(F377,\"SLA\")+COUNTIF(F381,\"SLA\")+COUNTIF(F389,\"SLA\")+COUNTIF(F393,\"SLA\")+COUNTIF(F401,\"SLA\")+COUNTIF(F405,\"SLA\")+COUNTIF(F413,\"SLA\")+COUNTIF(F417,\"SLA\")+COUNTIF(F425,\"SLA\")+COUNTIF(F429,\"SLA\"),\"\")","v":5},{"$f":"IF(G372<>\"\",COUNTIF(G377,\"SLA\")+COUNTIF(G381,\"SLA\")+COUNTIF(G389,\"SLA\")+COUNTIF(G393,\"SLA\")+COUNTIF(G401,\"SLA\")+COUNTIF(G405,\"SLA\")+COUNTIF(G413,\"SLA\")+COUNTIF(G417,\"SLA\")+COUNTIF(G425,\"SLA\")+COUNTIF(G429,\"SLA\"),\"\")","v":1},{"$f":"IF(H372<>\"\",COUNTIF(H377,\"SLA\")+COUNTIF(H381,\"SLA\")+COUNTIF(H389,\"SLA\")+COUNTIF(H393,\"SLA\")+COUNTIF(H401,\"SLA\")+COUNTIF(H405,\"SLA\")+COUNTIF(H413,\"SLA\")+COUNTIF(H417,\"SLA\")+COUNTIF(H425,\"SLA\")+COUNTIF(H429,\"SLA\"),\"\")","v":7},{"$f":"IF(I372<>\"\",COUNTIF(I377,\"SLA\")+COUNTIF(I381,\"SLA\")+COUNTIF(I389,\"SLA\")+COUNTIF(I393,\"SLA\")+COUNTIF(I401,\"SLA\")+COUNTIF(I405,\"SLA\")+COUNTIF(I413,\"SLA\")+COUNTIF(I417,\"SLA\")+COUNTIF(I425,\"SLA\")+COUNTIF(I429,\"SLA\"),\"\")","v":2},4,5,4,4,4,3,3,4,3,4,0,2,5,7,6,4,0,3,3,5,1,1,"","","","","","","","","","","",""]
[null,12,"SLA 4, 6",{"$f":"IF(D372<>\"\",COUNTIF(D379,\"SLA\")+COUNTIF(D386,\"SLA\")+COUNTIF(D391,\"SLA\")+COUNTIF(D395,\"SLA\")+COUNTIF(D403,\"SLA\")+COUNTIF(D407,\"SLA\")+COUNTIF(D415,\"SLA\")+COUNTIF(D419,\"SLA\")+COUNTIF(D427,\"SLA\")+COUNTIF(D431,\"SLA\"),\"\")","v":2},{"$f":"IF(E372<>\"\",COUNTIF(E379,\"SLA\")+COUNTIF(E386,\"SLA\")+COUNTIF(E391,\"SLA\")+COUNTIF(E395,\"SLA\")+COUNTIF(E403,\"SLA\")+COUNTIF(E407,\"SLA\")+COUNTIF(E415,\"SLA\")+COUNTIF(E419,\"SLA\")+COUNTIF(E427,\"SLA\")+COUNTIF(E431,\"SLA\"),\"\")","v":2},1,5,2,0,1,0,0,0,1,1,0,0,1,1,1,2,0,1,0,0,0,1,2,0,3,0,"","","","","","","","","","","",""]
[null,13,"NIZ 3,5 negatívne",{"$f":"IF(D372<>\"\",COUNTIF(D377,\"NIZ\")+COUNTIF(D381,\"NIZ\")+COUNTIF(D389,\"NIZ\")+COUNTIF(D393,\"NIZ\")+COUNTIF(D401,\"NIZ\")+COUNTIF(D405,\"NIZ\")+COUNTIF(D413,\"NIZ\")+COUNTIF(D417,\"NIZ\")+COUNTIF(D425,\"NIZ\")+COUNTIF(D429,\"NIZ\"),\"\")","v":4},{"$f":"IF(E372<>\"\",COUNTIF(E377,\"NIZ\")+COUNTIF(E381,\"NIZ\")+COUNTIF(E389,\"NIZ\")+COUNTIF(E393,\"NIZ\")+COUNTIF(E401,\"NIZ\")+COUNTIF(E405,\"NIZ\")+COUNTIF(E413,\"NIZ\")+COUNTIF(E417,\"NIZ\")+COUNTIF(E425,\"NIZ\")+COUNTIF(E429,\"NIZ\"),\"\")","v":10},{"$f":"IF(F372<>\"\",COUNTIF(F377,\"NIZ\")+COUNTIF(F381,\"NIZ\")+COUNTIF(F389,\"NIZ\")+COUNTIF(F393,\"NIZ\")+COUNTIF(F401,\"NIZ\")+COUNTIF(F405,\"NIZ\")+COUNTIF(F413,\"NIZ\")+COUNTIF(F417,\"NIZ\")+COUNTIF(F425,\"NIZ\")+COUNTIF(F429,\"NIZ\"),\"\")","v":4},{"$f":"IF(G372<>\"\",COUNTIF(G377,\"NIZ\")+COUNTIF(G381,\"NIZ\")+COUNTIF(G389,\"NIZ\")+COUNTIF(G393,\"NIZ\")+COUNTIF(G401,\"NIZ\")+COUNTIF(G405,\"NIZ\")+COUNTIF(G413,\"NIZ\")+COUNTIF(G417,\"NIZ\")+COUNTIF(G425,\"NIZ\")+COUNTIF(G429,\"NIZ\"),\"\")","v":9},{"$f":"IF(H372<>\"\",COUNTIF(H377,\"NIZ\")+COUNTIF(H381,\"NIZ\")+COUNTIF(H389,\"NIZ\")+COUNTIF(H393,\"NIZ\")+COUNTIF(H401,\"NIZ\")+COUNTIF(H405,\"NIZ\")+COUNTIF(H413,\"NIZ\")+COUNTIF(H417,\"NIZ\")+COUNTIF(H425,\"NIZ\")+COUNTIF(H429,\"NIZ\"),\"\")","v":1},{"$f":"IF(I372<>\"\",COUNTIF(I377,\"NIZ\")+COUNTIF(I381,\"NIZ\")+COUNTIF(I389,\"NIZ\")+COUNTIF(I393,\"NIZ\")+COUNTIF(I401,\"NIZ\")+COUNTIF(I405,\"NIZ\")+COUNTIF(I413,\"NIZ\")+COUNTIF(I417,\"NIZ\")+COUNTIF(I425,\"NIZ\")+COUNTIF(I429,\"NIZ\"),\"\")","v":8},1,5,1,5,5,6,6,5,6,6,10,0,4,2,4,5,0,5,0,2,2,5,"","","","","","","","","","","",""]
[null,14,"NIZ 4, 6 pozitívne",{"$f":"IF(D372<>\"\",COUNTIF(D379,\"NIZ\")+COUNTIF(D383,\"NIZ\")+COUNTIF(D386,\"NIZ\")+COUNTIF(D391,\"NIZ\")+COUNTIF(D395,\"NIZ\")+COUNTIF(D403,\"NIZ\")+COUNTIF(D407,\"NIZ\")+COUNTIF(D415,\"NIZ\")+COUNTIF(D419,\"NIZ\")+COUNTIF(D427,\"NIZ\")+COUNTIF(D431,\"NIZ\"),\"\")","v":8},{"$f":"IF(E372<>\"\",COUNTIF(E379,\"NIZ\")+COUNTIF(E383,\"NIZ\")+COUNTIF(E386,\"NIZ\")+COUNTIF(E391,\"NIZ\")+COUNTIF(E395,\"NIZ\")+COUNTIF(E403,\"NIZ\")+COUNTIF(E407,\"NIZ\")+COUNTIF(E415,\"NIZ\")+COUNTIF(E419,\"NIZ\")+COUNTIF(E427,\"NIZ\")+COUNTIF(E431,\"NIZ\"),\"\")","v":2},9,1,7,0,9,10,10,0,9,8,10,10,9,8,7,7,10,{"$f":"IF(W372<>\"\",COUNTIF(W379,\"NIZ\")+COUNTIF(W386,\"NIZ\")+COUNTIF(W391,\"NIZ\")+COUNTIF(W395,\"NIZ\")+COUNTIF(W403,\"NIZ\")+COUNTIF(W407,\"NIZ\")+COUNTIF(W415,\"NIZ\")+COUNTIF(W419,\"NIZ\")+COUNTIF(W427,\"NIZ\")+COUNTIF(W431,\"NIZ\"),\"\")","v":8},9,9,8,8,6,9,6,9,"","","","","","","","","","","",""]
[null,15,"AVE neutral",{"$f":"IF(D372<>\"\",COUNTIF(D372:D431,\"AVE\"),\"\")","v":5},{"$f":"IF(E372<>\"\",COUNTIF(E372:E431,\"AVE\"),\"\")","v":0},5,1,4,0,3,5,1,0,4,4,5,5,4,5,5,2,5]
[null,16]
[null,17,"Pozitívne",{"$f":"IF(D372<>\"\",(D433*3)+(D435*2)+(D439*3)+(D441*2)+(D444*2)+(D446*3),\"\")","v":34},{"$f":"IF(E372<>\"\",(E433*3)+(E435*2)+(E439*3)+(E441*2)+(E444*2)+(E446*3),\"\")","v":10},37,13,35,0,57,41,68,3,44,31,38,40,40,28,23,67,40,34,34,38,76,32,57,52,50,67,"","","","","","","","","","","",""]
[null,18,"Negatívne",{"$f":"IF(D372<>\"\",(D434*3)+(D436*2)+(D437*1)+(D438*2)+(D440*3)+(D442*2)+(D443*2)+(D445*3),\"\")","v":26},{"$f":"IF(E372<>\"\",(E434*3)+(E436*2)+(E437*1)+(E438*2)+(E440*3)+(E442*2)+(E443*2)+(E445*3),\"\")","v":75},26,62,24,80,11,27,11,74,25,34,28,25,30,33,42,4,24,22,27,26,2,29,8,16,11,17,"","","","","","","","","","","",""]
[null,19,"Vážené"]
[null,20,"Pozitívne",{"$f":"IF(D372<>\"\",D449/$B$455,\"\")","v":0.37777777777777777},{"$f":"IF(E372<>\"\",E449/$B$455,\"\")","v":0.1111111111111111},0.41111111111111109,0.14444444444444443,0.3888888888888889,0,0.6333333333333333,0.45555555555555555,0.75555555555555554,3.3333333333333333E-2,0.48888888888888887,0.34444444444444444,0.42222222222222222,0.44444444444444442,0.44444444444444442,0.31111111111111112,0.25555555555555554,0.74444444444444446,0.44444444444444442,0.37777777777777777,0.37777777777777777,0.42222222222222222,0.84444444444444444,0.35555555555555557,0.6333333333333333,0.57777777777777772,0.55555555555555558,0.74444444444444446,"","","","","","","","","","","",""]
[null,21,"Negatívne",{"$f":"IF(D372<>\"\",D450/$B$455,\"\")","v":0.28888888888888886},{"$f":"IF(E372<>\"\",E450/$B$455,\"\")","v":0.83333333333333337},0.28888888888888886,0.68888888888888888,0.26666666666666666,0.88888888888888884,0.12222222222222222,0.3,0.12222222222222222,0.82222222222222219,0.27777777777777779,0.37777777777777777,0.31111111111111112,0.27777777777777779,0.33333333333333331,0.36666666666666664,0.46666666666666667,4.4444444444444446E-2,0.26666666666666666,0.24444444444444444,0.3,0.28888888888888886,2.2222222222222223E-2,0.32222222222222224,8.8888888888888892E-2,0.17777777777777778,0.12222222222222222,0.18888888888888888,"","","","","","","","","","","",""]
[null,22,"Neutral Average len graf 2",{"$f":"IF(D372<>\"\",D447/5,\"\")","v":1},{"$f":"IF(E372<>\"\",E447/5,\"\")","v":0},1,0.2,0.8,0,0.6,1,0.2,0,0.8,0.8,1,1,0.8,1,1,0.4,1,0,0,0,0,0,0,0,0,0,"","","","","","","","","","","",""]
[null,{"$f":"IF(D420<>\"\",30*3,IF(D408<>\"\",24*3,IF(D396<>\"\",18*3,IF(D384<>\"\",12*3,IF(D372<>\"\",6*3,\"\")))))","v":90},"Menovateľ"]

{"sheet":"Target_All_Sumar","index":18,"n_rows":175,"n_cols":63,"rows_kept":175,"cut":false,"hidden":false,"merged":[]}
[null,2,3,4,5,6,7,8,9,10,11,12,13,14,15,16,17,18,19,null,null,null,null,24,25,26,27,28,29,30,31,32,33,34,35,36,37,38,39,40,41,42,43,44,45,46,47,48,49,50,51,52,53,54,55,56,57,58,59,60,61,62,63]
["TG 1",null,null,null,null,null,"TG 2",null,null,null,"TG 3","prijímanie",null,"TG 4","odmietanie",null,"TG 5","mutual akceptácia",null,"TG 6","mutual rejection",null,null,1,2,3,4,5,6,7,8,9,10,11,12,13,14,15,16,17,18,19,20,21,22,23,24,25,26,27,28,29,30,31,32,33,34,35,36,37,38,39,40]
["A","POP","Populárni ",null,null,null,"A","POP","Populárni ",null,"A","VYS","Vysoké","A","VYS","Vysoké","A","VYS","Vysoké","A","VYS","Vysoké",null,0.6,0.6,0.6,0.6,0.6,0.6,0.6,0.6,0.6,0.6,0.6,0.6,0.6,0.6,0.6,0.6,0.6,0.6,0.6,0.6,0.6,0.6,0.6,0.6,0.6,0.6,0.6,0.6,0.6,0.6,0.6,0.6,0.6,0.6,0.6,0.6,0.6,0.6,0.6,0.6]
["B","OBL","Viac obľúbení ako neobľúbení",null,null,null,"B","REJ","Odmietaní",null,"B","MIE","Mierne","B","MIE","Mierne","B","MIE","Mierne","B","MIE","Mierne",null,{"$f":"X3*(-1)","v":-0.6},{"$f":"Y3*(-1)","v":-0.6},-0.6,-0.6,-0.6,-0.6,-0.6,-0.6,-0.6,-0.6,-0.6,-0.6,-0.6,-0.6,-0.6,-0.6,-0.6,-0.6,-0.6,-0.6,-0.6,-0.6,-0.6,-0.6,-0.6,-0.6,-0.6,-0.6,-0.6,-0.6,-0.6,-0.6,-0.6,-0.6,-0.6,-0.6,-0.6,-0.6,-0.6,-0.6]
["C","NEO","Viac neobľúbení ako obľúbení",null,null,null,"C","OPO","Opomenutí",null,"C","SLA","Slabšie","C","SLA","Slabšie","C","SLA","Slabšie","C","SLA","Slabšie"]
["D","KON","Kontroverzní",null,null,null,"D","KON","Kontroverzní",null,"D","NIZ","Nízke","D","NIZ","Nízke","D","NIZ","Nízke","D","NIZ","Nízke"]
["E","REJ","Odmietaní",null,null,null,"E","AVE","Priemerný  status"]
["F","OPO","Opomenutí",null,null,null,null,"TG_Q_1_1","TG_Q_1_1","TG_Q_1_2","TG_Q_1_2","TG_Q_1_3","TG_Q_1_3","TG_Q_1_4","TG_Q_1_4","TG_Q_1_5","TG_Q_1_5","TG_Q_1_6","TG_Q_1_6"]
[null,null,null,null,null,null,null,"Pozit vs. Negat",null,"Pozit vs. Negat",null,"Prijímanie",null,"Odmietanie",null,"Mutual",null,"Murual"]
[null,null,null,null,null,"Mutual","Mutual","K priemeru AM",null,"K z-skóre",null,"Acceptacne k MAX",null,"Rejection k MAX",null,"Acceptance",null,"Rejection"]
[null,28,null,null,null,null,null,null,null,null,null,null,null,null,null,null,null,null,null,null,null,null,null,{"$f":"IF(Individualne!D4<>\"\",Individualne!D4,\"\")","v":"\"01_Oso m\""},{"$f":"IF(Individualne!E4<>\"\",Individualne!E4,\"\")","v":"\"02_Oso m\""},{"$f":"IF(Individualne!F4<>\"\",Individualne!F4,\"\")","v":"\"03_Oso m\""},{"$f":"IF(Individualne!G4<>\"\",Individualne!G4,\"\")","v":"\"04_Oso m\""},{"$f":"IF(Individualne!H4<>\"\",Individualne!H4,\"\")","v":"\"05_Oso m\""},{"$f":"IF(Individualne!I4<>\"\",Individualne!I4,\"\")","v":"\"*06_Oso m\""},{"$f":"IF(Individualne!J4<>\"\",Individualne!J4,\"\")","v":"\"07_Oso m\""},{"$f":"IF(Individualne!K4<>\"\",Individualne!K4,\"\")","v":"\"08_Oso m\""},{"$f":"IF(Individualne!L4<>\"\",Individualne!L4,\"\")","v":"\"09_Oso f\""},{"$f":"IF(Individualne!M4<>\"\",Individualne!M4,\"\")","v":"\"**10_Oso m\""},{"$f":"IF(Individualne!N4<>\"\",Individualne!N4,\"\")","v":"\"11_Oso m\""},{"$f":"IF(Individualne!O4<>\"\",Individualne!O4,\"\")","v":"\"12_Oso m\""},{"$f":"IF(Individualne!P4<>\"\",Individualne!P4,\"\")","v":"\"13_Oso m\""},{"$f":"IF(Individualne!Q4<>\"\",Individualne!Q4,\"\")","v":"\"14_Oso m\""},{"$f":"IF(Individualne!R4<>\"\",Individualne!R4,\"\")","v":"\"15_Oso f\""},{"$f":"IF(Individualne!S4<>\"\",Individualne!S4,\"\")","v":"\"16_Oso f\""},{"$f":"IF(Individualne!T4<>\"\",Individualne!T4,\"\")","v":"\"17_Oso f\""},{"$f":"IF(Individualne!U4<>\"\",Individualne!U4,\"\")","v":"\"18_Oso f\""},{"$f":"IF(Individualne!V4<>\"\",Individualne!V4,\"\")","v":"\"19_Oso f\""},{"$f":"IF(Individualne!W4<>\"\",Individualne!W4,\"\")","v":"\"20_Oso f\""},{"$f":"IF(Individualne!X4<>\"\",Individualne!X4,\"\")","v":"\"21_Oso f\""},{"$f":"IF(Individualne!Y4<>\"\",Individualne!Y4,\"\")","v":"\"22_Oso f\""},{"$f":"IF(Individualne!Z4<>\"\",Individualne!Z4,\"\")","v":"\"23_Oso f\""},{"$f":"IF(Individualne!AA4<>\"\",Individualne!AA4,\"\")","v":"\"24_Oso f\""},{"$f":"IF(Individualne!AB4<>\"\",Individualne!AB4,\"\")","v":"\"25_Oso f\""},{"$f":"IF(Individualne!AC4<>\"\",Individualne!AC4,\"\")","v":"\"26_Oso f\""},{"$f":"IF(Individualne!AD4<>\"\",Individualne!AD4,\"\")","v":"\"27_Oso f\""},{"$f":"IF(Individualne!AE4<>\"\",Individualne!AE4,\"\")","v":"\"28_Oso f\""},{"$f":"IF(Individualne!AF4<>\"\",Individualne!AF4,\"\")","v":""},{"$f":"IF(Individualne!AG4<>\"\",Individualne!AG4,\"\")","v":""},{"$f":"IF(Individualne!AH4<>\"\",Individualne!AH4,\"\")","v":""},{"$f":"IF(Individualne!AI4<>\"\",Individualne!AI4,\"\")","v":""},{"$f":"IF(Individualne!AJ4<>\"\",Individualne!AJ4,\"\")","v":""},{"$f":"IF(Individualne!AK4<>\"\",Individualne!AK4,\"\")","v":""},{"$f":"IF(Individualne!AL4<>\"\",Individualne!AL4,\"\")","v":""},{"$f":"IF(Individualne!AM4<>\"\",Individualne!AM4,\"\")","v":""},{"$f":"IF(Individualne!AN4<>\"\",Individualne!AN4,\"\")","v":""},{"$f":"IF(Individualne!AO4<>\"\",Individualne!AO4,\"\")","v":""},{"$f":"IF(Individualne!AP4<>\"\",Individualne!AP4,\"\")","v":""},{"$f":"IF(Individualne!AQ4<>\"\",Individualne!AQ4,\"\")","v":""}]
[null,null,"Sedieť",null,null,null,null,null,null,null,null,null,null,null,null,null,null,null,null,null,null,"Q_1","TG_1 Pozitívne voľby P",{"$f":"Individualne!D373","v":"OBL"},{"$f":"Individualne!E373","v":"REJ"},{"$f":"Individualne!F373","v":"OBL"},{"$f":"Individualne!G373","v":"REJ"},{"$f":"Individualne!H373","v":"OBL"},{"$f":"Individualne!I373","v":"REJ"},{"$f":"Individualne!J373","v":"POP"},{"$f":"Individualne!K373","v":"POP"},{"$f":"Individualne!L373","v":"POP"},{"$f":"Individualne!M373","v":"NEO"},{"$f":"Individualne!N373","v":"OBL"},{"$f":"Individualne!O373","v":"KON"},{"$f":"Individualne!P373","v":"OBL"},{"$f":"Individualne!Q373","v":"OBL"},{"$f":"Individualne!R373","v":"NEO"},{"$f":"Individualne!S373","v":"KON"},{"$f":"Individualne!T373","v":"NEO"},{"$f":"Individualne!U373","v":"POP"},{"$f":"Individualne!V373","v":"OBL"},{"$f":"Individualne!W373","v":"OBL"},{"$f":"Individualne!X373","v":"KON"},{"$f":"Individualne!Y373","v":"OBL"},{"$f":"Individualne!Z373","v":"OBL"},{"$f":"Individualne!AA373","v":"OBL"},{"$f":"Individualne!AB373","v":"OBL"},{"$f":"Individualne!AC373","v":"OBL"},{"$f":"Individualne!AD373","v":"POP"},{"$f":"Individualne!AE373","v":"POP"},{"$f":"Individualne!AF373","v":""},{"$f":"Individualne!AG373","v":""},{"$f":"Individualne!AH373","v":""},{"$f":"Individualne!AI373","v":""},{"$f":"Individualne!AJ373","v":""},{"$f":"Individualne!AK373","v":""},{"$f":"Individualne!AL373","v":""},{"$f":"Individualne!AM373","v":""},{"$f":"Individualne!AN373","v":""},{"$f":"Individualne!AO373","v":""},{"$f":"Individualne!AP373","v":""},{"$f":"Individualne!AQ373","v":""}]
[null,1,"\"01_Oso m\"",2,0,2,0,"B","OBL","E","AVE","C","SLA","D","NIZ","B","MIE","D","NIZ",null,null,"Sedieť","TG_2 Sociálny vplyv",{"$f":"Individualne!D375","v":"AVE"},{"$f":"Individualne!E375","v":"REJ"},{"$f":"Individualne!F375","v":"AVE"},{"$f":"Individualne!G375","v":"REJ"},{"$f":"Individualne!H375","v":"AVE"},{"$f":"Individualne!I375","v":"REJ"},{"$f":"Individualne!J375","v":"AVE"},{"$f":"Individualne!K375","v":"AVE"},{"$f":"Individualne!L375","v":"POP"},{"$f":"Individualne!M375","v":"REJ"},{"$f":"Individualne!N375","v":"AVE"},{"$f":"Individualne!O375","v":"AVE"},{"$f":"Individualne!P375","v":"AVE"},{"$f":"Individualne!Q375","v":"AVE"},{"$f":"Individualne!R375","v":"AVE"},{"$f":"Individualne!S375","v":"AVE"},{"$f":"Individualne!T375","v":"AVE"},{"$f":"Individualne!U375","v":"AVE"},{"$f":"Individualne!V375","v":"AVE"},{"$f":"Individualne!W375","v":"AVE"},{"$f":"Individualne!X375","v":"AVE"},{"$f":"Individualne!Y375","v":"POP"},{"$f":"Individualne!Z375","v":"POP"},{"$f":"Individualne!AA375","v":"AVE"},{"$f":"Individualne!AB375","v":"AVE"},{"$f":"Individualne!AC375","v":"AVE"},{"$f":"Individualne!AD375","v":"POP"},{"$f":"Individualne!AE375","v":"POP"},{"$f":"Individualne!AF375","v":""},{"$f":"Individualne!AG375","v":""},{"$f":"Individualne!AH375","v":""},{"$f":"Individualne!AI375","v":""},{"$f":"Individualne!AJ375","v":""},{"$f":"Individualne!AK375","v":""},{"$f":"Individualne!AL375","v":""},{"$f":"Individualne!AM375","v":""},{"$f":"Individualne!AN375","v":""},{"$f":"Individualne!AO375","v":""},{"$f":"Individualne!AP375","v":""},{"$f":"Individualne!AQ375","v":""}]
[null,2,"\"02_Oso m\"",0,12,0,12,"E","REJ","B","REJ","D","NIZ","B","MIE","D","NIZ","D","NIZ",null,null,null,"TG_3 Prijímanie",{"$f":"Individualne!D377","v":"SLA"},{"$f":"Individualne!E377","v":"NIZ"},{"$f":"Individualne!F377","v":"NIZ"},{"$f":"Individualne!G377","v":"NIZ"},{"$f":"Individualne!H377","v":"SLA"},{"$f":"Individualne!I377","v":"NIZ"},{"$f":"Individualne!J377","v":"SLA"},{"$f":"Individualne!K377","v":"SLA"},{"$f":"Individualne!L377","v":"MIE"},{"$f":"Individualne!M377","v":"SLA"},{"$f":"Individualne!N377","v":"SLA"},{"$f":"Individualne!O377","v":"SLA"},{"$f":"Individualne!P377","v":"NIZ"},{"$f":"Individualne!Q377","v":"SLA"},{"$f":"Individualne!R377","v":"NIZ"},{"$f":"Individualne!S377","v":"SLA"},{"$f":"Individualne!T377","v":"NIZ"},{"$f":"Individualne!U377","v":"SLA"},{"$f":"Individualne!V377","v":"NIZ"},{"$f":"Individualne!W377","v":"SLA"},{"$f":"Individualne!X377","v":"SLA"},{"$f":"Individualne!Y377","v":"MIE"},{"$f":"Individualne!Z377","v":"VYS"},{"$f":"Individualne!AA377","v":"SLA"},{"$f":"Individualne!AB377","v":"SLA"},{"$f":"Individualne!AC377","v":"SLA"},{"$f":"Individualne!AD377","v":"VYS"},{"$f":"Individualne!AE377","v":"MIE"},{"$f":"Individualne!AF377","v":""},{"$f":"Individualne!AG377","v":""},{"$f":"Individualne!AH377","v":""},{"$f":"Individualne!AI377","v":""},{"$f":"Individualne!AJ377","v":""},{"$f":"Individualne!AK377","v":""},{"$f":"Individualne!AL377","v":""},{"$f":"Individualne!AM377","v":""},{"$f":"Individualne!AN377","v":""},{"$f":"Individualne!AO377","v":""},{"$f":"Individualne!AP377","v":""},{"$f":"Individualne!AQ377","v":""}]
[null,3,"\"03_Oso m\"",1,0,1,0,"B","OBL","E","AVE","D","NIZ","D","NIZ","C","SLA","D","NIZ",null,null,null,"TG_4 Odmietanie",{"$f":"Individualne!D379","v":"NIZ"},{"$f":"Individualne!E379","v":"MIE"},{"$f":"Individualne!F379","v":"NIZ"},{"$f":"Individualne!G379","v":"SLA"},{"$f":"Individualne!H379","v":"NIZ"},{"$f":"Individualne!I379","v":"VYS"},{"$f":"Individualne!J379","v":"NIZ"},{"$f":"Individualne!K379","v":"NIZ"},{"$f":"Individualne!L379","v":"NIZ"},{"$f":"Individualne!M379","v":"VYS"},{"$f":"Individualne!N379","v":"NIZ"},{"$f":"Individualne!O379","v":"NIZ"},{"$f":"Individualne!P379","v":"NIZ"},{"$f":"Individualne!Q379","v":"NIZ"},{"$f":"Individualne!R379","v":"NIZ"},{"$f":"Individualne!S379","v":"NIZ"},{"$f":"Individualne!T379","v":"NIZ"},{"$f":"Individualne!U379","v":"NIZ"},{"$f":"Individualne!V379","v":"NIZ"},{"$f":"Individualne!W379","v":"NIZ"},{"$f":"Individualne!X379","v":"NIZ"},{"$f":"Individualne!Y379","v":"NIZ"},{"$f":"Individualne!Z379","v":"NIZ"},{"$f":"Individualne!AA379","v":"NIZ"},{"$f":"Individualne!AB379","v":"NIZ"},{"$f":"Individualne!AC379","v":"NIZ"},{"$f":"Individualne!AD379","v":"NIZ"},{"$f":"Individualne!AE379","v":"NIZ"},{"$f":"Individualne!AF379","v":""},{"$f":"Individualne!AG379","v":""},{"$f":"Individualne!AH379","v":""},{"$f":"Individualne!AI379","v":""},{"$f":"Individualne!AJ379","v":""},{"$f":"Individualne!AK379","v":""},{"$f":"Individualne!AL379","v":""},{"$f":"Individualne!AM379","v":""},{"$f":"Individualne!AN379","v":""},{"$f":"Individualne!AO379","v":""},{"$f":"Individualne!AP379","v":""},{"$f":"Individualne!AQ379","v":""}]
[null,4,"\"04_Oso m\"",1,6,0,6,"E","REJ","B","REJ","D","NIZ","C","SLA","D","NIZ","C","SLA",null,null,null,"TG_5 Sociabilita CS+",{"$f":"Individualne!D381","v":"MIE"},{"$f":"Individualne!E381","v":"NIZ"},{"$f":"Individualne!F381","v":"SLA"},{"$f":"Individualne!G381","v":"NIZ"},{"$f":"Individualne!H381","v":"MIE"},{"$f":"Individualne!I381","v":"NIZ"},{"$f":"Individualne!J381","v":"MIE"},{"$f":"Individualne!K381","v":"NIZ"},{"$f":"Individualne!L381","v":"MIE"},{"$f":"Individualne!M381","v":"SLA"},{"$f":"Individualne!N381","v":"NIZ"},{"$f":"Individualne!O381","v":"NIZ"},{"$f":"Individualne!P381","v":"SLA"},{"$f":"Individualne!Q381","v":"SLA"},{"$f":"Individualne!R381","v":"NIZ"},{"$f":"Individualne!S381","v":"SLA"},{"$f":"Individualne!T381","v":"NIZ"},{"$f":"Individualne!U381","v":"VYS"},{"$f":"Individualne!V381","v":"NIZ"},{"$f":"Individualne!W381","v":"SLA"},{"$f":"Individualne!X381","v":"SLA"},{"$f":"Individualne!Y381","v":"SLA"},{"$f":"Individualne!Z381","v":"MIE"},{"$f":"Individualne!AA381","v":"MIE"},{"$f":"Individualne!AB381","v":"MIE"},{"$f":"Individualne!AC381","v":"SLA"},{"$f":"Individualne!AD381","v":"MIE"},{"$f":"Individualne!AE381","v":"NIZ"},{"$f":"Individualne!AF381","v":""},{"$f":"Individualne!AG381","v":""},{"$f":"Individualne!AH381","v":""},{"$f":"Individualne!AI381","v":""},{"$f":"Individualne!AJ381","v":""},{"$f":"Individualne!AK381","v":""},{"$f":"Individualne!AL381","v":""},{"$f":"Individualne!AM381","v":""},{"$f":"Individualne!AN381","v":""},{"$f":"Individualne!AO381","v":""},{"$f":"Individualne!AP381","v":""},{"$f":"Individualne!AQ381","v":""}]
[null,5,"\"05_Oso m\"",4,2,2,2,"B","OBL","E","AVE","C","SLA","D","NIZ","B","MIE","C","SLA",null,null,null,"TG_6 NonSociabilita CS-",{"$f":"Individualne!D383","v":"NIZ"},{"$f":"Individualne!E383","v":"NIZ"},{"$f":"Individualne!F383","v":"NIZ"},{"$f":"Individualne!G383","v":"SLA"},{"$f":"Individualne!H383","v":"SLA"},{"$f":"Individualne!I383","v":"VYS"},{"$f":"Individualne!J383","v":"NIZ"},{"$f":"Individualne!K383","v":"NIZ"},{"$f":"Individualne!L383","v":"NIZ"},{"$f":"Individualne!M383","v":"VYS"},{"$f":"Individualne!N383","v":"NIZ"},{"$f":"Individualne!O383","v":"SLA"},{"$f":"Individualne!P383","v":"NIZ"},{"$f":"Individualne!Q383","v":"NIZ"},{"$f":"Individualne!R383","v":"NIZ"},{"$f":"Individualne!S383","v":"SLA"},{"$f":"Individualne!T383","v":"SLA"},{"$f":"Individualne!U383","v":"SLA"},{"$f":"Individualne!V383","v":"NIZ"},{"$f":"Individualne!W383","v":"SLA"},{"$f":"Individualne!X383","v":"NIZ"},{"$f":"Individualne!Y383","v":"SLA"},{"$f":"Individualne!Z383","v":"NIZ"},{"$f":"Individualne!AA383","v":"NIZ"},{"$f":"Individualne!AB383","v":"NIZ"},{"$f":"Individualne!AC383","v":"NIZ"},{"$f":"Individualne!AD383","v":"NIZ"},{"$f":"Individualne!AE383","v":"NIZ"},{"$f":"Individualne!AF383","v":""},{"$f":"Individualne!AG383","v":""},{"$f":"Individualne!AH383","v":""},{"$f":"Individualne!AI383","v":""},{"$f":"Individualne!AJ383","v":""},{"$f":"Individualne!AK383","v":""},{"$f":"Individualne!AL383","v":""},{"$f":"Individualne!AM383","v":""},{"$f":"Individualne!AN383","v":""},{"$f":"Individualne!AO383","v":""},{"$f":"Individualne!AP383","v":""},{"$f":"Individualne!AQ383","v":""}]
[null,6,"\"*06_Oso m\"",0,19,0,19,"E","REJ","B","REJ","D","NIZ","A","VYS","D","NIZ","A","VYS",null,null,"Q_2","TG_1 Pozitívne voľby P",{"$f":"Individualne!D385","v":"KON"},{"$f":"Individualne!E385","v":"REJ"},{"$f":"Individualne!F385","v":"OBL"},{"$f":"Individualne!G385","v":"REJ"},{"$f":"Individualne!H385","v":"NEO"},{"$f":"Individualne!I385","v":"REJ"},{"$f":"Individualne!J385","v":"POP"},{"$f":"Individualne!K385","v":"POP"},{"$f":"Individualne!L385","v":"POP"},{"$f":"Individualne!M385","v":"REJ"},{"$f":"Individualne!N385","v":"OBL"},{"$f":"Individualne!O385","v":"REJ"},{"$f":"Individualne!P385","v":"OBL"},{"$f":"Individualne!Q385","v":"OBL"},{"$f":"Individualne!R385","v":"OBL"},{"$f":"Individualne!S385","v":"NEO"},{"$f":"Individualne!T385","v":"NEO"},{"$f":"Individualne!U385","v":"POP"},{"$f":"Individualne!V385","v":"OBL"},{"$f":"Individualne!W385","v":"KON"},{"$f":"Individualne!X385","v":"OBL"},{"$f":"Individualne!Y385","v":"OBL"},{"$f":"Individualne!Z385","v":"OBL"},{"$f":"Individualne!AA385","v":"NEO"},{"$f":"Individualne!AB385","v":"POP"},{"$f":"Individualne!AC385","v":"POP"},{"$f":"Individualne!AD385","v":"OBL"},{"$f":"Individualne!AE385","v":"POP"},{"$f":"Individualne!AF385","v":""},{"$f":"Individualne!AG385","v":""},{"$f":"Individualne!AH385","v":""},{"$f":"Individualne!AI385","v":""},{"$f":"Individualne!AJ385","v":""},{"$f":"Individualne!AK385","v":""},{"$f":"Individualne!AL385","v":""},{"$f":"Individualne!AM385","v":""},{"$f":"Individualne!AN385","v":""},{"$f":"Individualne!AO385","v":""},{"$f":"Individualne!AP385","v":""},{"$f":"Individualne!AQ385","v":""}]
[null,7,"\"07_Oso m\"",4,0,2,0,"A","POP","E","AVE","C","SLA","D","NIZ","B","MIE","D","NIZ",null,null,"Učiť sa","TG_2 Sociálny vplyv",{"$f":"Individualne!D387","v":"AVE"},{"$f":"Individualne!E387","v":"REJ"},{"$f":"Individualne!F387","v":"AVE"},{"$f":"Individualne!G387","v":"REJ"},{"$f":"Individualne!H387","v":"AVE"},{"$f":"Individualne!I387","v":"REJ"},{"$f":"Individualne!J387","v":"POP"},{"$f":"Individualne!K387","v":"AVE"},{"$f":"Individualne!L387","v":"POP"},{"$f":"Individualne!M387","v":"REJ"},{"$f":"Individualne!N387","v":"AVE"},{"$f":"Individualne!O387","v":"REJ"},{"$f":"Individualne!P387","v":"AVE"},{"$f":"Individualne!Q387","v":"AVE"},{"$f":"Individualne!R387","v":"AVE"},{"$f":"Individualne!S387","v":"AVE"},{"$f":"Individualne!T387","v":"AVE"},{"$f":"Individualne!U387","v":"POP"},{"$f":"Individualne!V387","v":"AVE"},{"$f":"Individualne!W387","v":"AVE"},{"$f":"Individualne!X387","v":"AVE"},{"$f":"Individualne!Y387","v":"AVE"},{"$f":"Individualne!Z387","v":"POP"},{"$f":"Individualne!AA387","v":"AVE"},{"$f":"Individualne!AB387","v":"POP"},{"$f":"Individualne!AC387","v":"POP"},{"$f":"Individualne!AD387","v":"AVE"},{"$f":"Individualne!AE387","v":"POP"},{"$f":"Individualne!AF387","v":""},{"$f":"Individualne!AG387","v":""},{"$f":"Individualne!AH387","v":""},{"$f":"Individualne!AI387","v":""},{"$f":"Individualne!AJ387","v":""},{"$f":"Individualne!AK387","v":""},{"$f":"Individualne!AL387","v":""},{"$f":"Individualne!AM387","v":""},{"$f":"Individualne!AN387","v":""},{"$f":"Individualne!AO387","v":""},{"$f":"Individualne!AP387","v":""},{"$f":"Individualne!AQ387","v":""}]
[null,8,"\"08_Oso m\"",4,1,0,1,"A","POP","E","AVE","C","SLA","D","NIZ","D","NIZ","D","NIZ",null,null,null,"TG_3 Prijímanie",{"$f":"Individualne!D389","v":"NIZ"},{"$f":"Individualne!E389","v":"NIZ"},{"$f":"Individualne!F389","v":"SLA"},{"$f":"Individualne!G389","v":"NIZ"},{"$f":"Individualne!H389","v":"NIZ"},{"$f":"Individualne!I389","v":"NIZ"},{"$f":"Individualne!J389","v":"MIE"},{"$f":"Individualne!K389","v":"SLA"},{"$f":"Individualne!L389","v":"VYS"},{"$f":"Individualne!M389","v":"NIZ"},{"$f":"Individualne!N389","v":"NIZ"},{"$f":"Individualne!O389","v":"NIZ"},{"$f":"Individualne!P389","v":"NIZ"},{"$f":"Individualne!Q389","v":"SLA"},{"$f":"Individualne!R389","v":"SLA"},{"$f":"Individualne!S389","v":"NIZ"},{"$f":"Individualne!T389","v":"NIZ"},{"$f":"Individualne!U389","v":"MIE"},{"$f":"Individualne!V389","v":"SLA"},{"$f":"Individualne!W389","v":"NIZ"},{"$f":"Individualne!X389","v":"NIZ"},{"$f":"Individualne!Y389","v":"NIZ"},{"$f":"Individualne!Z389","v":"VYS"},{"$f":"Individualne!AA389","v":"NIZ"},{"$f":"Individualne!AB389","v":"VYS"},{"$f":"Individualne!AC389","v":"MIE"},{"$f":"Individualne!AD389","v":"MIE"},{"$f":"Individualne!AE389","v":"VYS"},{"$f":"Individualne!AF389","v":""},{"$f":"Individualne!AG389","v":""},{"$f":"Individualne!AH389","v":""},{"$f":"Individualne!AI389","v":""},{"$f":"Individualne!AJ389","v":""},{"$f":"Individualne!AK389","v":""},{"$f":"Individualne!AL389","v":""},{"$f":"Individualne!AM389","v":""},{"$f":"Individualne!AN389","v":""},{"$f":"Individualne!AO389","v":""},{"$f":"Individualne!AP389","v":""},{"$f":"Individualne!AQ389","v":""}]
[null,9,"\"09_Oso f\"",6,0,2,0,"A","POP","A","POP","B","MIE","D","NIZ","B","MIE","D","NIZ",null,null,null,"TG_4 Odmietanie",{"$f":"Individualne!D391","v":"NIZ"},{"$f":"Individualne!E391","v":"MIE"},{"$f":"Individualne!F391","v":"NIZ"},{"$f":"Individualne!G391","v":"MIE"},{"$f":"Individualne!H391","v":"NIZ"},{"$f":"Individualne!I391","v":"VYS"},{"$f":"Individualne!J391","v":"NIZ"},{"$f":"Individualne!K391","v":"NIZ"},{"$f":"Individualne!L391","v":"NIZ"},{"$f":"Individualne!M391","v":"VYS"},{"$f":"Individualne!N391","v":"NIZ"},{"$f":"Individualne!O391","v":"NIZ"},{"$f":"Individualne!P391","v":"NIZ"},{"$f":"Individualne!Q391","v":"NIZ"},{"$f":"Individualne!R391","v":"NIZ"},{"$f":"Individualne!S391","v":"NIZ"},{"$f":"Individualne!T391","v":"NIZ"},{"$f":"Individualne!U391","v":"NIZ"},{"$f":"Individualne!V391","v":"NIZ"},{"$f":"Individualne!W391","v":"NIZ"},{"$f":"Individualne!X391","v":"NIZ"},{"$f":"Individualne!Y391","v":"NIZ"},{"$f":"Individualne!Z391","v":"NIZ"},{"$f":"Individualne!AA391","v":"NIZ"},{"$f":"Individualne!AB391","v":"NIZ"},{"$f":"Individualne!AC391","v":"NIZ"},{"$f":"Individualne!AD391","v":"NIZ"},{"$f":"Individualne!AE391","v":"NIZ"},{"$f":"Individualne!AF391","v":""},{"$f":"Individualne!AG391","v":""},{"$f":"Individualne!AH391","v":""},{"$f":"Individualne!AI391","v":""},{"$f":"Individualne!AJ391","v":""},{"$f":"Individualne!AK391","v":""},{"$f":"Individualne!AL391","v":""},{"$f":"Individualne!AM391","v":""},{"$f":"Individualne!AN391","v":""},{"$f":"Individualne!AO391","v":""},{"$f":"Individualne!AP391","v":""},{"$f":"Individualne!AQ391","v":""}]
[null,10,"\"**10_Oso m\"",2,20,1,20,"C","NEO","B","REJ","C","SLA","A","VYS","C","SLA","A","VYS",null,null,null,"TG_5 Sociabilita CS+",{"$f":"Individualne!D393","v":"SLA"},{"$f":"Individualne!E393","v":"NIZ"},{"$f":"Individualne!F393","v":"SLA"},{"$f":"Individualne!G393","v":"SLA"},{"$f":"Individualne!H393","v":"SLA"},{"$f":"Individualne!I393","v":"NIZ"},{"$f":"Individualne!J393","v":"MIE"},{"$f":"Individualne!K393","v":"NIZ"},{"$f":"Individualne!L393","v":"SLA"},{"$f":"Individualne!M393","v":"NIZ"},{"$f":"Individualne!N393","v":"NIZ"},{"$f":"Individualne!O393","v":"NIZ"},{"$f":"Individualne!P393","v":"SLA"},{"$f":"Individualne!Q393","v":"NIZ"},{"$f":"Individualne!R393","v":"SLA"},{"$f":"Individualne!S393","v":"NIZ"},{"$f":"Individualne!T393","v":"NIZ"},{"$f":"Individualne!U393","v":"VYS"},{"$f":"Individualne!V393","v":"SLA"},{"$f":"Individualne!W393","v":"SLA"},{"$f":"Individualne!X393","v":"NIZ"},{"$f":"Individualne!Y393","v":"SLA"},{"$f":"Individualne!Z393","v":"VYS"},{"$f":"Individualne!AA393","v":"NIZ"},{"$f":"Individualne!AB393","v":"VYS"},{"$f":"Individualne!AC393","v":"MIE"},{"$f":"Individualne!AD393","v":"SLA"},{"$f":"Individualne!AE393","v":"NIZ"},{"$f":"Individualne!AF393","v":""},{"$f":"Individualne!AG393","v":""},{"$f":"Individualne!AH393","v":""},{"$f":"Individualne!AI393","v":""},{"$f":"Individualne!AJ393","v":""},{"$f":"Individualne!AK393","v":""},{"$f":"Individualne!AL393","v":""},{"$f":"Individualne!AM393","v":""},{"$f":"Individualne!AN393","v":""},{"$f":"Individualne!AO393","v":""},{"$f":"Individualne!AP393","v":""},{"$f":"Individualne!AQ393","v":""}]
[null,11,"\"11_Oso m\"",3,0,0,0,"B","OBL","E","AVE","C","SLA","D","NIZ","D","NIZ","D","NIZ",null,null,null,"TG_6 NonSociabilita CS-",{"$f":"Individualne!D395","v":"SLA"},{"$f":"Individualne!E395","v":"VYS"},{"$f":"Individualne!F395","v":"NIZ"},{"$f":"Individualne!G395","v":"MIE"},{"$f":"Individualne!H395","v":"NIZ"},{"$f":"Individualne!I395","v":"MIE"},{"$f":"Individualne!J395","v":"NIZ"},{"$f":"Individualne!K395","v":"NIZ"},{"$f":"Individualne!L395","v":"NIZ"},{"$f":"Individualne!M395","v":"MIE"},{"$f":"Individualne!N395","v":"NIZ"},{"$f":"Individualne!O395","v":"SLA"},{"$f":"Individualne!P395","v":"NIZ"},{"$f":"Individualne!Q395","v":"NIZ"},{"$f":"Individualne!R395","v":"NIZ"},{"$f":"Individualne!S395","v":"NIZ"},{"$f":"Individualne!T395","v":"SLA"},{"$f":"Individualne!U395","v":"NIZ"},{"$f":"Individualne!V395","v":"NIZ"},{"$f":"Individualne!W395","v":"NIZ"},{"$f":"Individualne!X395","v":"NIZ"},{"$f":"Individualne!Y395","v":"NIZ"},{"$f":"Individualne!Z395","v":"NIZ"},{"$f":"Individualne!AA395","v":"NIZ"},{"$f":"Individualne!AB395","v":"NIZ"},{"$f":"Individualne!AC395","v":"NIZ"},{"$f":"Individualne!AD395","v":"NIZ"},{"$f":"Individualne!AE395","v":"NIZ"},{"$f":"Individualne!AF395","v":""},{"$f":"Individualne!AG395","v":""},{"$f":"Individualne!AH395","v":""},{"$f":"Individualne!AI395","v":""},{"$f":"Individualne!AJ395","v":""},{"$f":"Individualne!AK395","v":""},{"$f":"Individualne!AL395","v":""},{"$f":"Individualne!AM395","v":""},{"$f":"Individualne!AN395","v":""},{"$f":"Individualne!AO395","v":""},{"$f":"Individualne!AP395","v":""},{"$f":"Individualne!AQ395","v":""}]
[null,12,"\"12_Oso m\"",3,3,0,3,"D","KON","E","AVE","C","SLA","D","NIZ","D","NIZ","C","SLA",null,null,"Q_3","TG_1 Pozitívne voľby P",{"$f":"Individualne!D397","v":"KON"},{"$f":"Individualne!E397","v":"REJ"},{"$f":"Individualne!F397","v":"OBL"},{"$f":"Individualne!G397","v":"REJ"},{"$f":"Individualne!H397","v":"OBL"},{"$f":"Individualne!I397","v":"NEO"},{"$f":"Individualne!J397","v":"OBL"},{"$f":"Individualne!K397","v":"POP"},{"$f":"Individualne!L397","v":"POP"},{"$f":"Individualne!M397","v":"NEO"},{"$f":"Individualne!N397","v":"POP"},{"$f":"Individualne!O397","v":"POP"},{"$f":"Individualne!P397","v":"OPO"},{"$f":"Individualne!Q397","v":"OBL"},{"$f":"Individualne!R397","v":"NEO"},{"$f":"Individualne!S397","v":"OBL"},{"$f":"Individualne!T397","v":"NEO"},{"$f":"Individualne!U397","v":"OBL"},{"$f":"Individualne!V397","v":"OBL"},{"$f":"Individualne!W397","v":"OBL"},{"$f":"Individualne!X397","v":"POP"},{"$f":"Individualne!Y397","v":"OBL"},{"$f":"Individualne!Z397","v":"POP"},{"$f":"Individualne!AA397","v":"NEO"},{"$f":"Individualne!AB397","v":"OBL"},{"$f":"Individualne!AC397","v":"OBL"},{"$f":"Individualne!AD397","v":"KON"},{"$f":"Individualne!AE397","v":"POP"},{"$f":"Individualne!AF397","v":""},{"$f":"Individualne!AG397","v":""},{"$f":"Individualne!AH397","v":""},{"$f":"Individualne!AI397","v":""},{"$f":"Individualne!AJ397","v":""},{"$f":"Individualne!AK397","v":""},{"$f":"Individualne!AL397","v":""},{"$f":"Individualne!AM397","v":""},{"$f":"Individualne!AN397","v":""},{"$f":"Individualne!AO397","v":""},{"$f":"Individualne!AP397","v":""},{"$f":"Individualne!AQ397","v":""}]
[null,13,"\"13_Oso m\"",1,0,1,0,"B","OBL","E","AVE","D","NIZ","D","NIZ","C","SLA","D","NIZ",null,null,"Pustý ostrov","TG_2 Sociálny vplyv",{"$f":"Individualne!D399","v":"AVE"},{"$f":"Individualne!E399","v":"REJ"},{"$f":"Individualne!F399","v":"AVE"},{"$f":"Individualne!G399","v":"REJ"},{"$f":"Individualne!H399","v":"AVE"},{"$f":"Individualne!I399","v":"REJ"},{"$f":"Individualne!J399","v":"AVE"},{"$f":"Individualne!K399","v":"AVE"},{"$f":"Individualne!L399","v":"POP"},{"$f":"Individualne!M399","v":"CON"},{"$f":"Individualne!N399","v":"AVE"},{"$f":"Individualne!O399","v":"AVE"},{"$f":"Individualne!P399","v":"AVE"},{"$f":"Individualne!Q399","v":"AVE"},{"$f":"Individualne!R399","v":"AVE"},{"$f":"Individualne!S399","v":"AVE"},{"$f":"Individualne!T399","v":"AVE"},{"$f":"Individualne!U399","v":"POP"},{"$f":"Individualne!V399","v":"AVE"},{"$f":"Individualne!W399","v":"AVE"},{"$f":"Individualne!X399","v":"AVE"},{"$f":"Individualne!Y399","v":"AVE"},{"$f":"Individualne!Z399","v":"POP"},{"$f":"Individualne!AA399","v":"AVE"},{"$f":"Individualne!AB399","v":"AVE"},{"$f":"Individualne!AC399","v":"AVE"},{"$f":"Individualne!AD399","v":"CON"},{"$f":"Individualne!AE399","v":"POP"},{"$f":"Individualne!AF399","v":""},{"$f":"Individualne!AG399","v":""},{"$f":"Individualne!AH399","v":""},{"$f":"Individualne!AI399","v":""},{"$f":"Individualne!AJ399","v":""},{"$f":"Individualne!AK399","v":""},{"$f":"Individualne!AL399","v":""},{"$f":"Individualne!AM399","v":""},{"$f":"Individualne!AN399","v":""},{"$f":"Individualne!AO399","v":""},{"$f":"Individualne!AP399","v":""},{"$f":"Individualne!AQ399","v":""}]
[null,14,"\"14_Oso m\"",2,0,1,0,"B","OBL","E","AVE","C","SLA","D","NIZ","C","SLA","D","NIZ",null,null,null,"TG_3 Prijímanie",{"$f":"Individualne!D401","v":"NIZ"},{"$f":"Individualne!E401","v":"NIZ"},{"$f":"Individualne!F401","v":"SLA"},{"$f":"Individualne!G401","v":"NIZ"},{"$f":"Individualne!H401","v":"SLA"},{"$f":"Individualne!I401","v":"SLA"},{"$f":"Individualne!J401","v":"SLA"},{"$f":"Individualne!K401","v":"SLA"},{"$f":"Individualne!L401","v":"MIE"},{"$f":"Individualne!M401","v":"SLA"},{"$f":"Individualne!N401","v":"SLA"},{"$f":"Individualne!O401","v":"SLA"},{"$f":"Individualne!P401","v":"NIZ"},{"$f":"Individualne!Q401","v":"NIZ"},{"$f":"Individualne!R401","v":"NIZ"},{"$f":"Individualne!S401","v":"SLA"},{"$f":"Individualne!T401","v":"NIZ"},{"$f":"Individualne!U401","v":"MIE"},{"$f":"Individualne!V401","v":"SLA"},{"$f":"Individualne!W401","v":"SLA"},{"$f":"Individualne!X401","v":"SLA"},{"$f":"Individualne!Y401","v":"SLA"},{"$f":"Individualne!Z401","v":"VYS"},{"$f":"Individualne!AA401","v":"NIZ"},{"$f":"Individualne!AB401","v":"SLA"},{"$f":"Individualne!AC401","v":"NIZ"},{"$f":"Individualne!AD401","v":"MIE"},{"$f":"Individualne!AE401","v":"SLA"},{"$f":"Individualne!AF401","v":""},{"$f":"Individualne!AG401","v":""},{"$f":"Individualne!AH401","v":""},{"$f":"Individualne!AI401","v":""},{"$f":"Individualne!AJ401","v":""},{"$f":"Individualne!AK401","v":""},{"$f":"Individualne!AL401","v":""},{"$f":"Individualne!AM401","v":""},{"$f":"Individualne!AN401","v":""},{"$f":"Individualne!AO401","v":""},{"$f":"Individualne!AP401","v":""},{"$f":"Individualne!AQ401","v":""}]
[null,15,"\"15_Oso f\"",0,1,0,1,"C","NEO","E","AVE","D","NIZ","D","NIZ","D","NIZ","D","NIZ",null,null,null,"TG_4 Odmietanie",{"$f":"Individualne!D403","v":"NIZ"},{"$f":"Individualne!E403","v":"MIE"},{"$f":"Individualne!F403","v":"NIZ"},{"$f":"Individualne!G403","v":"SLA"},{"$f":"Individualne!H403","v":"NIZ"},{"$f":"Individualne!I403","v":"VYS"},{"$f":"Individualne!J403","v":"NIZ"},{"$f":"Individualne!K403","v":"NIZ"},{"$f":"Individualne!L403","v":"NIZ"},{"$f":"Individualne!M403","v":"VYS"},{"$f":"Individualne!N403","v":"NIZ"},{"$f":"Individualne!O403","v":"NIZ"},{"$f":"Individualne!P403","v":"NIZ"},{"$f":"Individualne!Q403","v":"NIZ"},{"$f":"Individualne!R403","v":"NIZ"},{"$f":"Individualne!S403","v":"NIZ"},{"$f":"Individualne!T403","v":"NIZ"},{"$f":"Individualne!U403","v":"NIZ"},{"$f":"Individualne!V403","v":"NIZ"},{"$f":"Individualne!W403","v":"NIZ"},{"$f":"Individualne!X403","v":"NIZ"},{"$f":"Individualne!Y403","v":"NIZ"},{"$f":"Individualne!Z403","v":"NIZ"},{"$f":"Individualne!AA403","v":"NIZ"},{"$f":"Individualne!AB403","v":"NIZ"},{"$f":"Individualne!AC403","v":"NIZ"},{"$f":"Individualne!AD403","v":"SLA"},{"$f":"Individualne!AE403","v":"NIZ"},{"$f":"Individualne!AF403","v":""},{"$f":"Individualne!AG403","v":""},{"$f":"Individualne!AH403","v":""},{"$f":"Individualne!AI403","v":""},{"$f":"Individualne!AJ403","v":""},{"$f":"Individualne!AK403","v":""},{"$f":"Individualne!AL403","v":""},{"$f":"Individualne!AM403","v":""},{"$f":"Individualne!AN403","v":""},{"$f":"Individualne!AO403","v":""},{"$f":"Individualne!AP403","v":""},{"$f":"Individualne!AQ403","v":""}]
[null,16,"\"16_Oso f\"",2,2,1,2,"D","KON","E","AVE","C","SLA","D","NIZ","C","SLA","C","SLA",null,null,null,"TG_5 Sociabilita CS+",{"$f":"Individualne!D405","v":"SLA"},{"$f":"Individualne!E405","v":"NIZ"},{"$f":"Individualne!F405","v":"MIE"},{"$f":"Individualne!G405","v":"NIZ"},{"$f":"Individualne!H405","v":"SLA"},{"$f":"Individualne!I405","v":"SLA"},{"$f":"Individualne!J405","v":"MIE"},{"$f":"Individualne!K405","v":"SLA"},{"$f":"Individualne!L405","v":"SLA"},{"$f":"Individualne!M405","v":"VYS"},{"$f":"Individualne!N405","v":"MIE"},{"$f":"Individualne!O405","v":"NIZ"},{"$f":"Individualne!P405","v":"NIZ"},{"$f":"Individualne!Q405","v":"NIZ"},{"$f":"Individualne!R405","v":"NIZ"},{"$f":"Individualne!S405","v":"SLA"},{"$f":"Individualne!T405","v":"NIZ"},{"$f":"Individualne!U405","v":"VYS"},{"$f":"Individualne!V405","v":"SLA"},{"$f":"Individualne!W405","v":"NIZ"},{"$f":"Individualne!X405","v":"SLA"},{"$f":"Individualne!Y405","v":"NIZ"},{"$f":"Individualne!Z405","v":"MIE"},{"$f":"Individualne!AA405","v":"SLA"},{"$f":"Individualne!AB405","v":"SLA"},{"$f":"Individualne!AC405","v":"NIZ"},{"$f":"Individualne!AD405","v":"MIE"},{"$f":"Individualne!AE405","v":"NIZ"},{"$f":"Individualne!AF405","v":""},{"$f":"Individualne!AG405","v":""},{"$f":"Individualne!AH405","v":""},{"$f":"Individualne!AI405","v":""},{"$f":"Individualne!AJ405","v":""},{"$f":"Individualne!AK405","v":""},{"$f":"Individualne!AL405","v":""},{"$f":"Individualne!AM405","v":""},{"$f":"Individualne!AN405","v":""},{"$f":"Individualne!AO405","v":""},{"$f":"Individualne!AP405","v":""},{"$f":"Individualne!AQ405","v":""}]
[null,17,"\"17_Oso f\"",0,2,0,2,"C","NEO","E","AVE","D","NIZ","D","NIZ","D","NIZ","C","SLA",null,null,null,"TG_6 NonSociabilita CS-",{"$f":"Individualne!D407","v":"SLA"},{"$f":"Individualne!E407","v":"SLA"},{"$f":"Individualne!F407","v":"NIZ"},{"$f":"Individualne!G407","v":"NIZ"},{"$f":"Individualne!H407","v":"NIZ"},{"$f":"Individualne!I407","v":"VYS"},{"$f":"Individualne!J407","v":"NIZ"},{"$f":"Individualne!K407","v":"NIZ"},{"$f":"Individualne!L407","v":"NIZ"},{"$f":"Individualne!M407","v":"VYS"},{"$f":"Individualne!N407","v":"SLA"},{"$f":"Individualne!O407","v":"NIZ"},{"$f":"Individualne!P407","v":"NIZ"},{"$f":"Individualne!Q407","v":"NIZ"},{"$f":"Individualne!R407","v":"SLA"},{"$f":"Individualne!S407","v":"SLA"},{"$f":"Individualne!T407","v":"MIE"},{"$f":"Individualne!U407","v":"SLA"},{"$f":"Individualne!V407","v":"NIZ"},{"$f":"Individualne!W407","v":"NIZ"},{"$f":"Individualne!X407","v":"NIZ"},{"$f":"Individualne!Y407","v":"NIZ"},{"$f":"Individualne!Z407","v":"NIZ"},{"$f":"Individualne!AA407","v":"NIZ"},{"$f":"Individualne!AB407","v":"SLA"},{"$f":"Individualne!AC407","v":"NIZ"},{"$f":"Individualne!AD407","v":"SLA"},{"$f":"Individualne!AE407","v":"NIZ"},{"$f":"Individualne!AF407","v":""},{"$f":"Individualne!AG407","v":""},{"$f":"Individualne!AH407","v":""},{"$f":"Individualne!AI407","v":""},{"$f":"Individualne!AJ407","v":""},{"$f":"Individualne!AK407","v":""},{"$f":"Individualne!AL407","v":""},{"$f":"Individualne!AM407","v":""},{"$f":"Individualne!AN407","v":""},{"$f":"Individualne!AO407","v":""},{"$f":"Individualne!AP407","v":""},{"$f":"Individualne!AQ407","v":""}]
[null,18,"\"18_Oso f\"",4,1,3,1,"A","POP","E","AVE","C","SLA","D","NIZ","A","VYS","C","SLA",null,null,"Q_4","TG_1 Pozitívne voľby P",{"$f":"Individualne!D409","v":"OPO"},{"$f":"Individualne!E409","v":"REJ"},{"$f":"Individualne!F409","v":"OPO"},{"$f":"Individualne!G409","v":"REJ"},{"$f":"Individualne!H409","v":"OBL"},{"$f":"Individualne!I409","v":"REJ"},{"$f":"Individualne!J409","v":"OBL"},{"$f":"Individualne!K409","v":"NEO"},{"$f":"Individualne!L409","v":"POP"},{"$f":"Individualne!M409","v":"REJ"},{"$f":"Individualne!N409","v":"NEO"},{"$f":"Individualne!O409","v":"NEO"},{"$f":"Individualne!P409","v":"NEO"},{"$f":"Individualne!Q409","v":"OPO"},{"$f":"Individualne!R409","v":"POP"},{"$f":"Individualne!S409","v":"NEO"},{"$f":"Individualne!T409","v":"NEO"},{"$f":"Individualne!U409","v":"OBL"},{"$f":"Individualne!V409","v":"OPO"},{"$f":"Individualne!W409","v":"OBL"},{"$f":"Individualne!X409","v":"OPO"},{"$f":"Individualne!Y409","v":"OPO"},{"$f":"Individualne!Z409","v":"POP"},{"$f":"Individualne!AA409","v":"REJ"},{"$f":"Individualne!AB409","v":"POP"},{"$f":"Individualne!AC409","v":"POP"},{"$f":"Individualne!AD409","v":"NEO"},{"$f":"Individualne!AE409","v":"POP"},{"$f":"Individualne!AF409","v":""},{"$f":"Individualne!AG409","v":""},{"$f":"Individualne!AH409","v":""},{"$f":"Individualne!AI409","v":""},{"$f":"Individualne!AJ409","v":""},{"$f":"Individualne!AK409","v":""},{"$f":"Individualne!AL409","v":""},{"$f":"Individualne!AM409","v":""},{"$f":"Individualne!AN409","v":""},{"$f":"Individualne!AO409","v":""},{"$f":"Individualne!AP409","v":""},{"$f":"Individualne!AQ409","v":""}]
[null,19,"\"19_Oso f\"",1,0,0,0,"B","OBL","E","AVE","D","NIZ","D","NIZ","D","NIZ","D","NIZ",null,null,"Hájiť záujmy","TG_2 Sociálny vplyv",{"$f":"Individualne!D411","v":"AVE"},{"$f":"Individualne!E411","v":"REJ"},{"$f":"Individualne!F411","v":"AVE"},{"$f":"Individualne!G411","v":"AVE"},{"$f":"Individualne!H411","v":"AVE"},{"$f":"Individualne!I411","v":"REJ"},{"$f":"Individualne!J411","v":"AVE"},{"$f":"Individualne!K411","v":"AVE"},{"$f":"Individualne!L411","v":"POP"},{"$f":"Individualne!M411","v":"REJ"},{"$f":"Individualne!N411","v":"AVE"},{"$f":"Individualne!O411","v":"AVE"},{"$f":"Individualne!P411","v":"AVE"},{"$f":"Individualne!Q411","v":"AVE"},{"$f":"Individualne!R411","v":"POP"},{"$f":"Individualne!S411","v":"AVE"},{"$f":"Individualne!T411","v":"AVE"},{"$f":"Individualne!U411","v":"AVE"},{"$f":"Individualne!V411","v":"AVE"},{"$f":"Individualne!W411","v":"AVE"},{"$f":"Individualne!X411","v":"AVE"},{"$f":"Individualne!Y411","v":"AVE"},{"$f":"Individualne!Z411","v":"POP"},{"$f":"Individualne!AA411","v":"AVE"},{"$f":"Individualne!AB411","v":"POP"},{"$f":"Individualne!AC411","v":"POP"},{"$f":"Individualne!AD411","v":"AVE"},{"$f":"Individualne!AE411","v":"POP"},{"$f":"Individualne!AF411","v":""},{"$f":"Individualne!AG411","v":""},{"$f":"Individualne!AH411","v":""},{"$f":"Individualne!AI411","v":""},{"$f":"Individualne!AJ411","v":""},{"$f":"Individualne!AK411","v":""},{"$f":"Individualne!AL411","v":""},{"$f":"Individualne!AM411","v":""},{"$f":"Individualne!AN411","v":""},{"$f":"Individualne!AO411","v":""},{"$f":"Individualne!AP411","v":""},{"$f":"Individualne!AQ411","v":""}]
[null,20,"\"20_Oso f\"",2,1,1,1,"B","OBL","E","AVE","C","SLA","D","NIZ","C","SLA","C","SLA",null,null,null,"TG_3 Prijímanie",{"$f":"Individualne!D413","v":"NIZ"},{"$f":"Individualne!E413","v":"NIZ"},{"$f":"Individualne!F413","v":"NIZ"},{"$f":"Individualne!G413","v":"NIZ"},{"$f":"Individualne!H413","v":"SLA"},{"$f":"Individualne!I413","v":"NIZ"},{"$f":"Individualne!J413","v":"SLA"},{"$f":"Individualne!K413","v":"NIZ"},{"$f":"Individualne!L413","v":"VYS"},{"$f":"Individualne!M413","v":"NIZ"},{"$f":"Individualne!N413","v":"NIZ"},{"$f":"Individualne!O413","v":"NIZ"},{"$f":"Individualne!P413","v":"NIZ"},{"$f":"Individualne!Q413","v":"NIZ"},{"$f":"Individualne!R413","v":"VYS"},{"$f":"Individualne!S413","v":"NIZ"},{"$f":"Individualne!T413","v":"NIZ"},{"$f":"Individualne!U413","v":"SLA"},{"$f":"Individualne!V413","v":"NIZ"},{"$f":"Individualne!W413","v":"SLA"},{"$f":"Individualne!X413","v":"NIZ"},{"$f":"Individualne!Y413","v":"NIZ"},{"$f":"Individualne!Z413","v":"VYS"},{"$f":"Individualne!AA413","v":"NIZ"},{"$f":"Individualne!AB413","v":"VYS"},{"$f":"Individualne!AC413","v":"VYS"},{"$f":"Individualne!AD413","v":"NIZ"},{"$f":"Individualne!AE413","v":"VYS"},{"$f":"Individualne!AF413","v":""},{"$f":"Individualne!AG413","v":""},{"$f":"Individualne!AH413","v":""},{"$f":"Individualne!AI413","v":""},{"$f":"Individualne!AJ413","v":""},{"$f":"Individualne!AK413","v":""},{"$f":"Individualne!AL413","v":""},{"$f":"Individualne!AM413","v":""},{"$f":"Individualne!AN413","v":""},{"$f":"Individualne!AO413","v":""},{"$f":"Individualne!AP413","v":""},{"$f":"Individualne!AQ413","v":""}]
[null,21,"\"21_Oso f\"",2,2,1,2,"D","KON","E","AVE","C","SLA","D","NIZ","C","SLA","D","NIZ",null,null,null,"TG_4 Odmietanie",{"$f":"Individualne!D415","v":"NIZ"},{"$f":"Individualne!E415","v":"VYS"},{"$f":"Individualne!F415","v":"NIZ"},{"$f":"Individualne!G415","v":"SLA"},{"$f":"Individualne!H415","v":"NIZ"},{"$f":"Individualne!I415","v":"VYS"},{"$f":"Individualne!J415","v":"NIZ"},{"$f":"Individualne!K415","v":"NIZ"},{"$f":"Individualne!L415","v":"NIZ"},{"$f":"Individualne!M415","v":"VYS"},{"$f":"Individualne!N415","v":"NIZ"},{"$f":"Individualne!O415","v":"NIZ"},{"$f":"Individualne!P415","v":"NIZ"},{"$f":"Individualne!Q415","v":"NIZ"},{"$f":"Individualne!R415","v":"NIZ"},{"$f":"Individualne!S415","v":"NIZ"},{"$f":"Individualne!T415","v":"NIZ"},{"$f":"Individualne!U415","v":"NIZ"},{"$f":"Individualne!V415","v":"NIZ"},{"$f":"Individualne!W415","v":"NIZ"},{"$f":"Individualne!X415","v":"NIZ"},{"$f":"Individualne!Y415","v":"NIZ"},{"$f":"Individualne!Z415","v":"NIZ"},{"$f":"Individualne!AA415","v":"NIZ"},{"$f":"Individualne!AB415","v":"NIZ"},{"$f":"Individualne!AC415","v":"NIZ"},{"$f":"Individualne!AD415","v":"NIZ"},{"$f":"Individualne!AE415","v":"NIZ"},{"$f":"Individualne!AF415","v":""},{"$f":"Individualne!AG415","v":""},{"$f":"Individualne!AH415","v":""},{"$f":"Individualne!AI415","v":""},{"$f":"Individualne!AJ415","v":""},{"$f":"Individualne!AK415","v":""},{"$f":"Individualne!AL415","v":""},{"$f":"Individualne!AM415","v":""},{"$f":"Individualne!AN415","v":""},{"$f":"Individualne!AO415","v":""},{"$f":"Individualne!AP415","v":""},{"$f":"Individualne!AQ415","v":""}]
[null,22,"\"22_Oso f\"",5,2,1,2,"B","OBL","A","POP","B","MIE","D","NIZ","C","SLA","C","SLA",null,null,null,"TG_5 Sociabilita CS+",{"$f":"Individualne!D417","v":"NIZ"},{"$f":"Individualne!E417","v":"NIZ"},{"$f":"Individualne!F417","v":"NIZ"},{"$f":"Individualne!G417","v":"NIZ"},{"$f":"Individualne!H417","v":"SLA"},{"$f":"Individualne!I417","v":"NIZ"},{"$f":"Individualne!J417","v":"NIZ"},{"$f":"Individualne!K417","v":"NIZ"},{"$f":"Individualne!L417","v":"NIZ"},{"$f":"Individualne!M417","v":"NIZ"},{"$f":"Individualne!N417","v":"NIZ"},{"$f":"Individualne!O417","v":"NIZ"},{"$f":"Individualne!P417","v":"NIZ"},{"$f":"Individualne!Q417","v":"NIZ"},{"$f":"Individualne!R417","v":"SLA"},{"$f":"Individualne!S417","v":"NIZ"},{"$f":"Individualne!T417","v":"NIZ"},{"$f":"Individualne!U417","v":"MIE"},{"$f":"Individualne!V417","v":"NIZ"},{"$f":"Individualne!W417","v":"MIE"},{"$f":"Individualne!X417","v":"NIZ"},{"$f":"Individualne!Y417","v":"NIZ"},{"$f":"Individualne!Z417","v":"VYS"},{"$f":"Individualne!AA417","v":"NIZ"},{"$f":"Individualne!AB417","v":"MIE"},{"$f":"Individualne!AC417","v":"SLA"},{"$f":"Individualne!AD417","v":"NIZ"},{"$f":"Individualne!AE417","v":"NIZ"},{"$f":"Individualne!AF417","v":""},{"$f":"Individualne!AG417","v":""},{"$f":"Individualne!AH417","v":""},{"$f":"Individualne!AI417","v":""},{"$f":"Individualne!AJ417","v":""},{"$f":"Individualne!AK417","v":""},{"$f":"Individualne!AL417","v":""},{"$f":"Individualne!AM417","v":""},{"$f":"Individualne!AN417","v":""},{"$f":"Individualne!AO417","v":""},{"$f":"Individualne!AP417","v":""},{"$f":"Individualne!AQ417","v":""}]
[null,23,"\"23_Oso f\"",10,2,2,2,"B","OBL","A","POP","A","VYS","D","NIZ","B","MIE","D","NIZ",null,null,null,"TG_6 NonSociabilita CS-",{"$f":"Individualne!D419","v":"NIZ"},{"$f":"Individualne!E419","v":"VYS"},{"$f":"Individualne!F419","v":"NIZ"},{"$f":"Individualne!G419","v":"MIE"},{"$f":"Individualne!H419","v":"SLA"},{"$f":"Individualne!I419","v":"MIE"},{"$f":"Individualne!J419","v":"NIZ"},{"$f":"Individualne!K419","v":"NIZ"},{"$f":"Individualne!L419","v":"NIZ"},{"$f":"Individualne!M419","v":"VYS"},{"$f":"Individualne!N419","v":"NIZ"},{"$f":"Individualne!O419","v":"NIZ"},{"$f":"Individualne!P419","v":"NIZ"},{"$f":"Individualne!Q419","v":"NIZ"},{"$f":"Individualne!R419","v":"NIZ"},{"$f":"Individualne!S419","v":"NIZ"},{"$f":"Individualne!T419","v":"NIZ"},{"$f":"Individualne!U419","v":"SLA"},{"$f":"Individualne!V419","v":"NIZ"},{"$f":"Individualne!W419","v":"NIZ"},{"$f":"Individualne!X419","v":"NIZ"},{"$f":"Individualne!Y419","v":"NIZ"},{"$f":"Individualne!Z419","v":"NIZ"},{"$f":"Individualne!AA419","v":"SLA"},{"$f":"Individualne!AB419","v":"SLA"},{"$f":"Individualne!AC419","v":"NIZ"},{"$f":"Individualne!AD419","v":"NIZ"},{"$f":"Individualne!AE419","v":"NIZ"},{"$f":"Individualne!AF419","v":""},{"$f":"Individualne!AG419","v":""},{"$f":"Individualne!AH419","v":""},{"$f":"Individualne!AI419","v":""},{"$f":"Individualne!AJ419","v":""},{"$f":"Individualne!AK419","v":""},{"$f":"Individualne!AL419","v":""},{"$f":"Individualne!AM419","v":""},{"$f":"Individualne!AN419","v":""},{"$f":"Individualne!AO419","v":""},{"$f":"Individualne!AP419","v":""},{"$f":"Individualne!AQ419","v":""}]
[null,24,"\"24_Oso f\"",3,2,2,2,"B","OBL","E","AVE","C","SLA","D","NIZ","B","MIE","D","NIZ",null,null,"Q_5","TG_1 Pozitívne voľby P",{"$f":"Individualne!D421","v":"OBL"},{"$f":"Individualne!E421","v":"REJ"},{"$f":"Individualne!F421","v":"NEO"},{"$f":"Individualne!G421","v":"REJ"},{"$f":"Individualne!H421","v":"NEO"},{"$f":"Individualne!I421","v":"REJ"},{"$f":"Individualne!J421","v":"OBL"},{"$f":"Individualne!K421","v":"OBL"},{"$f":"Individualne!L421","v":"OBL"},{"$f":"Individualne!M421","v":"REJ"},{"$f":"Individualne!N421","v":"POP"},{"$f":"Individualne!O421","v":"KON"},{"$f":"Individualne!P421","v":"OBL"},{"$f":"Individualne!Q421","v":"OBL"},{"$f":"Individualne!R421","v":"NEO"},{"$f":"Individualne!S421","v":"NEO"},{"$f":"Individualne!T421","v":"NEO"},{"$f":"Individualne!U421","v":"POP"},{"$f":"Individualne!V421","v":"OBL"},{"$f":"Individualne!W421","v":"KON"},{"$f":"Individualne!X421","v":"OBL"},{"$f":"Individualne!Y421","v":"KON"},{"$f":"Individualne!Z421","v":"OBL"},{"$f":"Individualne!AA421","v":"KON"},{"$f":"Individualne!AB421","v":"OBL"},{"$f":"Individualne!AC421","v":"OBL"},{"$f":"Individualne!AD421","v":"OBL"},{"$f":"Individualne!AE421","v":"POP"},{"$f":"Individualne!AF421","v":""},{"$f":"Individualne!AG421","v":""},{"$f":"Individualne!AH421","v":""},{"$f":"Individualne!AI421","v":""},{"$f":"Individualne!AJ421","v":""},{"$f":"Individualne!AK421","v":""},{"$f":"Individualne!AL421","v":""},{"$f":"Individualne!AM421","v":""},{"$f":"Individualne!AN421","v":""},{"$f":"Individualne!AO421","v":""},{"$f":"Individualne!AP421","v":""},{"$f":"Individualne!AQ421","v":""}]
[null,25,"\"25_Oso f\"",3,1,2,1,"B","OBL","E","AVE","C","SLA","D","NIZ","B","MIE","D","NIZ",null,null,"Tajomstvo","TG_2 Sociálny vplyv",{"$f":"Individualne!D423","v":"AVE"},{"$f":"Individualne!E423","v":"REJ"},{"$f":"Individualne!F423","v":"AVE"},{"$f":"Individualne!G423","v":"REJ"},{"$f":"Individualne!H423","v":"REJ"},{"$f":"Individualne!I423","v":"REJ"},{"$f":"Individualne!J423","v":"POP"},{"$f":"Individualne!K423","v":"AVE"},{"$f":"Individualne!L423","v":"AVE"},{"$f":"Individualne!M423","v":"REJ"},{"$f":"Individualne!N423","v":"POP"},{"$f":"Individualne!O423","v":"AVE"},{"$f":"Individualne!P423","v":"AVE"},{"$f":"Individualne!Q423","v":"AVE"},{"$f":"Individualne!R423","v":"AVE"},{"$f":"Individualne!S423","v":"AVE"},{"$f":"Individualne!T423","v":"AVE"},{"$f":"Individualne!U423","v":"POP"},{"$f":"Individualne!V423","v":"AVE"},{"$f":"Individualne!W423","v":"AVE"},{"$f":"Individualne!X423","v":"AVE"},{"$f":"Individualne!Y423","v":"AVE"},{"$f":"Individualne!Z423","v":"CON"},{"$f":"Individualne!AA423","v":"AVE"},{"$f":"Individualne!AB423","v":"CON"},{"$f":"Individualne!AC423","v":"AVE"},{"$f":"Individualne!AD423","v":"CON"},{"$f":"Individualne!AE423","v":"POP"},{"$f":"Individualne!AF423","v":""},{"$f":"Individualne!AG423","v":""},{"$f":"Individualne!AH423","v":""},{"$f":"Individualne!AI423","v":""},{"$f":"Individualne!AJ423","v":""},{"$f":"Individualne!AK423","v":""},{"$f":"Individualne!AL423","v":""},{"$f":"Individualne!AM423","v":""},{"$f":"Individualne!AN423","v":""},{"$f":"Individualne!AO423","v":""},{"$f":"Individualne!AP423","v":""},{"$f":"Individualne!AQ423","v":""}]
[null,26,"\"26_Oso f\"",2,0,1,0,"B","OBL","E","AVE","C","SLA","D","NIZ","C","SLA","D","NIZ",null,null,null,"TG_3 Prijímanie",{"$f":"Individualne!D425","v":"SLA"},{"$f":"Individualne!E425","v":"NIZ"},{"$f":"Individualne!F425","v":"NIZ"},{"$f":"Individualne!G425","v":"NIZ"},{"$f":"Individualne!H425","v":"SLA"},{"$f":"Individualne!I425","v":"NIZ"},{"$f":"Individualne!J425","v":"MIE"},{"$f":"Individualne!K425","v":"SLA"},{"$f":"Individualne!L425","v":"SLA"},{"$f":"Individualne!M425","v":"NIZ"},{"$f":"Individualne!N425","v":"SLA"},{"$f":"Individualne!O425","v":"SLA"},{"$f":"Individualne!P425","v":"SLA"},{"$f":"Individualne!Q425","v":"SLA"},{"$f":"Individualne!R425","v":"NIZ"},{"$f":"Individualne!S425","v":"NIZ"},{"$f":"Individualne!T425","v":"NIZ"},{"$f":"Individualne!U425","v":"MIE"},{"$f":"Individualne!V425","v":"SLA"},{"$f":"Individualne!W425","v":"SLA"},{"$f":"Individualne!X425","v":"SLA"},{"$f":"Individualne!Y425","v":"SLA"},{"$f":"Individualne!Z425","v":"VYS"},{"$f":"Individualne!AA425","v":"SLA"},{"$f":"Individualne!AB425","v":"MIE"},{"$f":"Individualne!AC425","v":"SLA"},{"$f":"Individualne!AD425","v":"MIE"},{"$f":"Individualne!AE425","v":"MIE"},{"$f":"Individualne!AF425","v":""},{"$f":"Individualne!AG425","v":""},{"$f":"Individualne!AH425","v":""},{"$f":"Individualne!AI425","v":""},{"$f":"Individualne!AJ425","v":""},{"$f":"Individualne!AK425","v":""},{"$f":"Individualne!AL425","v":""},{"$f":"Individualne!AM425","v":""},{"$f":"Individualne!AN425","v":""},{"$f":"Individualne!AO425","v":""},{"$f":"Individualne!AP425","v":""},{"$f":"Individualne!AQ425","v":""}]
[null,27,"\"27_Oso f\"",8,1,2,1,"A","POP","A","POP","A","VYS","D","NIZ","B","MIE","D","NIZ",null,null,null,"TG_4 Odmietanie",{"$f":"Individualne!D427","v":"NIZ"},{"$f":"Individualne!E427","v":"SLA"},{"$f":"Individualne!F427","v":"NIZ"},{"$f":"Individualne!G427","v":"SLA"},{"$f":"Individualne!H427","v":"SLA"},{"$f":"Individualne!I427","v":"MIE"},{"$f":"Individualne!J427","v":"NIZ"},{"$f":"Individualne!K427","v":"NIZ"},{"$f":"Individualne!L427","v":"NIZ"},{"$f":"Individualne!M427","v":"VYS"},{"$f":"Individualne!N427","v":"NIZ"},{"$f":"Individualne!O427","v":"NIZ"},{"$f":"Individualne!P427","v":"NIZ"},{"$f":"Individualne!Q427","v":"NIZ"},{"$f":"Individualne!R427","v":"NIZ"},{"$f":"Individualne!S427","v":"NIZ"},{"$f":"Individualne!T427","v":"NIZ"},{"$f":"Individualne!U427","v":"NIZ"},{"$f":"Individualne!V427","v":"NIZ"},{"$f":"Individualne!W427","v":"NIZ"},{"$f":"Individualne!X427","v":"NIZ"},{"$f":"Individualne!Y427","v":"NIZ"},{"$f":"Individualne!Z427","v":"NIZ"},{"$f":"Individualne!AA427","v":"NIZ"},{"$f":"Individualne!AB427","v":"NIZ"},{"$f":"Individualne!AC427","v":"NIZ"},{"$f":"Individualne!AD427","v":"NIZ"},{"$f":"Individualne!AE427","v":"NIZ"},{"$f":"Individualne!AF427","v":""},{"$f":"Individualne!AG427","v":""},{"$f":"Individualne!AH427","v":""},{"$f":"Individualne!AI427","v":""},{"$f":"Individualne!AJ427","v":""},{"$f":"Individualne!AK427","v":""},{"$f":"Individualne!AL427","v":""},{"$f":"Individualne!AM427","v":""},{"$f":"Individualne!AN427","v":""},{"$f":"Individualne!AO427","v":""},{"$f":"Individualne!AP427","v":""},{"$f":"Individualne!AQ427","v":""}]
[null,28,"\"28_Oso f\"",6,0,0,0,"A","POP","A","POP","B","MIE","D","NIZ","D","NIZ","D","NIZ",null,null,null,"TG_5 Sociabilita CS+",{"$f":"Individualne!D429","v":"SLA"},{"$f":"Individualne!E429","v":"NIZ"},{"$f":"Individualne!F429","v":"SLA"},{"$f":"Individualne!G429","v":"NIZ"},{"$f":"Individualne!H429","v":"MIE"},{"$f":"Individualne!I429","v":"NIZ"},{"$f":"Individualne!J429","v":"SLA"},{"$f":"Individualne!K429","v":"NIZ"},{"$f":"Individualne!L429","v":"SLA"},{"$f":"Individualne!M429","v":"SLA"},{"$f":"Individualne!N429","v":"SLA"},{"$f":"Individualne!O429","v":"MIE"},{"$f":"Individualne!P429","v":"MIE"},{"$f":"Individualne!Q429","v":"MIE"},{"$f":"Individualne!R429","v":"NIZ"},{"$f":"Individualne!S429","v":"NIZ"},{"$f":"Individualne!T429","v":"NIZ"},{"$f":"Individualne!U429","v":"VYS"},{"$f":"Individualne!V429","v":"MIE"},{"$f":"Individualne!W429","v":"SLA"},{"$f":"Individualne!X429","v":"SLA"},{"$f":"Individualne!Y429","v":"NIZ"},{"$f":"Individualne!Z429","v":"VYS"},{"$f":"Individualne!AA429","v":"MIE"},{"$f":"Individualne!AB429","v":"MIE"},{"$f":"Individualne!AC429","v":"SLA"},{"$f":"Individualne!AD429","v":"VYS"},{"$f":"Individualne!AE429","v":"NIZ"},{"$f":"Individualne!AF429","v":""},{"$f":"Individualne!AG429","v":""},{"$f":"Individualne!AH429","v":""},{"$f":"Individualne!AI429","v":""},{"$f":"Individualne!AJ429","v":""},{"$f":"Individualne!AK429","v":""},{"$f":"Individualne!AL429","v":""},{"$f":"Individualne!AM429","v":""},{"$f":"Individualne!AN429","v":""},{"$f":"Individualne!AO429","v":""},{"$f":"Individualne!AP429","v":""},{"$f":"Individualne!AQ429","v":""}]
[null,null,"Suma = ",{"$f":"SUM($D$13:$D$40)","v":81},{"$f":"SUM($E$13:$E$40)","v":80},{"$f":"SUM($F$13:$F$40)","v":28},{"$f":"SUM($G$13:$G$40)","v":80},null,null,null,null,null,null,null,null,null,null,null,null,null,null,null,"TG_6 NonSociabilita CS-",{"$f":"Individualne!D431","v":"NIZ"},{"$f":"Individualne!E431","v":"NIZ"},{"$f":"Individualne!F431","v":"SLA"},{"$f":"Individualne!G431","v":"SLA"},{"$f":"Individualne!H431","v":"NIZ"},{"$f":"Individualne!I431","v":"MIE"},{"$f":"Individualne!J431","v":"SLA"},{"$f":"Individualne!K431","v":"NIZ"},{"$f":"Individualne!L431","v":"NIZ"},{"$f":"Individualne!M431","v":"VYS"},{"$f":"Individualne!N431","v":"NIZ"},{"$f":"Individualne!O431","v":"NIZ"},{"$f":"Individualne!P431","v":"NIZ"},{"$f":"Individualne!Q431","v":"NIZ"},{"$f":"Individualne!R431","v":"NIZ"},{"$f":"Individualne!S431","v":"NIZ"},{"$f":"Individualne!T431","v":"NIZ"},{"$f":"Individualne!U431","v":"NIZ"},{"$f":"Individualne!V431","v":"NIZ"},{"$f":"Individualne!W431","v":"SLA"},{"$f":"Individualne!X431","v":"NIZ"},{"$f":"Individualne!Y431","v":"NIZ"},{"$f":"Individualne!Z431","v":"MIE"},{"$f":"Individualne!AA431","v":"NIZ"},{"$f":"Individualne!AB431","v":"MIE"},{"$f":"Individualne!AC431","v":"NIZ"},{"$f":"Individualne!AD431","v":"SLA"},{"$f":"Individualne!AE431","v":"NIZ"},{"$f":"Individualne!AF431","v":""},{"$f":"Individualne!AG431","v":""},{"$f":"Individualne!AH431","v":""},{"$f":"Individualne!AI431","v":""},{"$f":"Individualne!AJ431","v":""},{"$f":"Individualne!AK431","v":""},{"$f":"Individualne!AL431","v":""},{"$f":"Individualne!AM431","v":""},{"$f":"Individualne!AN431","v":""},{"$f":"Individualne!AO431","v":""},{"$f":"Individualne!AP431","v":""},{"$f":"Individualne!AQ431","v":""}]
[null,null,"AM = ",{"$f":"AVERAGE($D$13:$D$40)","v":2.8928571428571428},{"$f":"AVERAGE($E$13:$F$40)","v":1.9285714285714286},{"$f":"AVERAGE($F$13:$G$40)","v":1.9285714285714286},{"$f":"AVERAGE($G$13:$H$40)","v":2.8571428571428572},null,null,null,null,null,null,null,null,null,null,null,null,null,null,null,"Zhodnotenie"]
[null,null,"SD = ",{"$f":"STDEV($D$13:D$40)","v":2.4242491883022517},{"$f":"STDEV($E$13:E$40)","v":5.2895024320663637},{"$f":"STDEV($F$13:F$40)","v":0.90267093384843999},{"$f":"STDEV($G$13:G$40)","v":5.2895024320663637},null,null,null,null,null,null,null,null,null,null,null,null,null,null,1,"POP 1,2 pozitívne",{"$f":"Individualne!D433","v":0},{"$f":"Individualne!E433","v":0},{"$f":"Individualne!F433","v":0},{"$f":"Individualne!G433","v":0},{"$f":"Individualne!H433","v":0},{"$f":"Individualne!I433","v":0},{"$f":"Individualne!J433","v":4},{"$f":"Individualne!K433","v":3},{"$f":"Individualne!L433","v":8},{"$f":"Individualne!M433","v":0},{"$f":"Individualne!N433","v":3},{"$f":"Individualne!O433","v":1},{"$f":"Individualne!P433","v":0},{"$f":"Individualne!Q433","v":0},{"$f":"Individualne!R433","v":2},{"$f":"Individualne!S433","v":0},{"$f":"Individualne!T433","v":0},{"$f":"Individualne!U433","v":6},{"$f":"Individualne!V433","v":0},{"$f":"Individualne!W433","v":0},{"$f":"Individualne!X433","v":1},{"$f":"Individualne!Y433","v":1},{"$f":"Individualne!Z433","v":6},{"$f":"Individualne!AA433","v":0},{"$f":"Individualne!AB433","v":4},{"$f":"Individualne!AC433","v":4},{"$f":"Individualne!AD433","v":2},{"$f":"Individualne!AE433","v":10},{"$f":"Individualne!AF433","v":""},{"$f":"Individualne!AG433","v":""},{"$f":"Individualne!AH433","v":""},{"$f":"Individualne!AI433","v":""},{"$f":"Individualne!AJ433","v":""},{"$f":"Individualne!AK433","v":""},{"$f":"Individualne!AL433","v":""},{"$f":"Individualne!AM433","v":""},{"$f":"Individualne!AN433","v":""},{"$f":"Individualne!AO433","v":""},{"$f":"Individualne!AP433","v":""},{"$f":"Individualne!AQ433","v":""}]
[null,null,null,null,null,null,null,null,null,null,null,null,null,null,null,null,null,null,null,null,null,2,"REJ 1,2 negatívne",{"$f":"Individualne!D434","v":0},{"$f":"Individualne!E434","v":10},{"$f":"Individualne!F434","v":0},{"$f":"Individualne!G434","v":9},{"$f":"Individualne!H434","v":1},{"$f":"Individualne!I434","v":9},{"$f":"Individualne!J434","v":0},{"$f":"Individualne!K434","v":0},{"$f":"Individualne!L434","v":0},{"$f":"Individualne!M434","v":7},{"$f":"Individualne!N434","v":0},{"$f":"Individualne!O434","v":2},{"$f":"Individualne!P434","v":0},{"$f":"Individualne!Q434","v":0},{"$f":"Individualne!R434","v":0},{"$f":"Individualne!S434","v":0},{"$f":"Individualne!T434","v":0},{"$f":"Individualne!U434","v":0},{"$f":"Individualne!V434","v":0},{"$f":"Individualne!W434","v":0},{"$f":"Individualne!X434","v":0},{"$f":"Individualne!Y434","v":0},{"$f":"Individualne!Z434","v":0},{"$f":"Individualne!AA434","v":1},{"$f":"Individualne!AB434","v":0},{"$f":"Individualne!AC434","v":0},{"$f":"Individualne!AD434","v":0},{"$f":"Individualne!AE434","v":0},{"$f":"Individualne!AF434","v":""},{"$f":"Individualne!AG434","v":""},{"$f":"Individualne!AH434","v":""},{"$f":"Individualne!AI434","v":""},{"$f":"Individualne!AJ434","v":""},{"$f":"Individualne!AK434","v":""},{"$f":"Individualne!AL434","v":""},{"$f":"Individualne!AM434","v":""},{"$f":"Individualne!AN434","v":""},{"$f":"Individualne!AO434","v":""},{"$f":"Individualne!AP434","v":""},{"$f":"Individualne!AQ434","v":""}]
[null,null,"Učiť sa",null,null,null,null,null,null,null,null,null,null,null,null,null,null,null,null,null,null,3,"OBL 1",{"$f":"Individualne!D435","v":2},{"$f":"Individualne!E435","v":0},{"$f":"Individualne!F435","v":3},{"$f":"Individualne!G435","v":0},{"$f":"Individualne!H435","v":3},{"$f":"Individualne!I435","v":0},{"$f":"Individualne!J435","v":3},{"$f":"Individualne!K435","v":1},{"$f":"Individualne!L435","v":1},{"$f":"Individualne!M435","v":0},{"$f":"Individualne!N435","v":2},{"$f":"Individualne!O435","v":0},{"$f":"Individualne!P435","v":3},{"$f":"Individualne!Q435","v":4},{"$f":"Individualne!R435","v":1},{"$f":"Individualne!S435","v":1},{"$f":"Individualne!T435","v":0},{"$f":"Individualne!U435","v":2},{"$f":"Individualne!V435","v":4},{"$f":"Individualne!W435","v":3},{"$f":"Individualne!X435","v":2},{"$f":"Individualne!Y435","v":3},{"$f":"Individualne!Z435","v":3},{"$f":"Individualne!AA435","v":1},{"$f":"Individualne!AB435","v":3},{"$f":"Individualne!AC435","v":3},{"$f":"Individualne!AD435","v":2},{"$f":"Individualne!AE435","v":0},{"$f":"Individualne!AF435","v":""},{"$f":"Individualne!AG435","v":""},{"$f":"Individualne!AH435","v":""},{"$f":"Individualne!AI435","v":""},{"$f":"Individualne!AJ435","v":""},{"$f":"Individualne!AK435","v":""},{"$f":"Individualne!AL435","v":""},{"$f":"Individualne!AM435","v":""},{"$f":"Individualne!AN435","v":""},{"$f":"Individualne!AO435","v":""},{"$f":"Individualne!AP435","v":""},{"$f":"Individualne!AQ435","v":""}]
[null,1,"\"01_Oso m\"",1,1,1,1,"D","KON","E","AVE","D","NIZ","D","NIZ","C","SLA","C","SLA",null,null,4,"NEO 1",{"$f":"Individualne!D436","v":0},{"$f":"Individualne!E436","v":0},{"$f":"Individualne!F436","v":1},{"$f":"Individualne!G436","v":0},{"$f":"Individualne!H436","v":2},{"$f":"Individualne!I436","v":1},{"$f":"Individualne!J436","v":0},{"$f":"Individualne!K436","v":1},{"$f":"Individualne!L436","v":0},{"$f":"Individualne!M436","v":2},{"$f":"Individualne!N436","v":1},{"$f":"Individualne!O436","v":1},{"$f":"Individualne!P436","v":1},{"$f":"Individualne!Q436","v":0},{"$f":"Individualne!R436","v":3},{"$f":"Individualne!S436","v":3},{"$f":"Individualne!T436","v":5},{"$f":"Individualne!U436","v":0},{"$f":"Individualne!V436","v":0},{"$f":"Individualne!W436","v":0},{"$f":"Individualne!X436","v":0},{"$f":"Individualne!Y436","v":0},{"$f":"Individualne!Z436","v":0},{"$f":"Individualne!AA436","v":2},{"$f":"Individualne!AB436","v":0},{"$f":"Individualne!AC436","v":0},{"$f":"Individualne!AD436","v":1},{"$f":"Individualne!AE436","v":0},{"$f":"Individualne!AF436","v":""},{"$f":"Individualne!AG436","v":""},{"$f":"Individualne!AH436","v":""},{"$f":"Individualne!AI436","v":""},{"$f":"Individualne!AJ436","v":""},{"$f":"Individualne!AK436","v":""},{"$f":"Individualne!AL436","v":""},{"$f":"Individualne!AM436","v":""},{"$f":"Individualne!AN436","v":""},{"$f":"Individualne!AO436","v":""},{"$f":"Individualne!AP436","v":""},{"$f":"Individualne!AQ436","v":""}]
[null,2,"\"02_Oso m\"",0,13,0,13,"E","REJ","B","REJ","D","NIZ","B","MIE","D","NIZ","A","VYS",null,null,5,"KON 1,2",{"$f":"Individualne!D437","v":2},{"$f":"Individualne!E437","v":0},{"$f":"Individualne!F437","v":0},{"$f":"Individualne!G437","v":0},{"$f":"Individualne!H437","v":0},{"$f":"Individualne!I437","v":0},{"$f":"Individualne!J437","v":0},{"$f":"Individualne!K437","v":0},{"$f":"Individualne!L437","v":0},{"$f":"Individualne!M437","v":0},{"$f":"Individualne!N437","v":0},{"$f":"Individualne!O437","v":2},{"$f":"Individualne!P437","v":0},{"$f":"Individualne!Q437","v":0},{"$f":"Individualne!R437","v":0},{"$f":"Individualne!S437","v":1},{"$f":"Individualne!T437","v":0},{"$f":"Individualne!U437","v":0},{"$f":"Individualne!V437","v":0},{"$f":"Individualne!W437","v":2},{"$f":"Individualne!X437","v":1},{"$f":"Individualne!Y437","v":1},{"$f":"Individualne!Z437","v":0},{"$f":"Individualne!AA437","v":1},{"$f":"Individualne!AB437","v":0},{"$f":"Individualne!AC437","v":0},{"$f":"Individualne!AD437","v":1},{"$f":"Individualne!AE437","v":0},{"$f":"Individualne!AF437","v":""},{"$f":"Individualne!AG437","v":""},{"$f":"Individualne!AH437","v":""},{"$f":"Individualne!AI437","v":""},{"$f":"Individualne!AJ437","v":""},{"$f":"Individualne!AK437","v":""},{"$f":"Individualne!AL437","v":""},{"$f":"Individualne!AM437","v":""},{"$f":"Individualne!AN437","v":""},{"$f":"Individualne!AO437","v":""},{"$f":"Individualne!AP437","v":""},{"$f":"Individualne!AQ437","v":""}]
[null,3,"\"03_Oso m\"",3,0,1,0,"B","OBL","E","AVE","C","SLA","D","NIZ","C","SLA","D","NIZ",null,null,6,"OPO 1,2",{"$f":"Individualne!D438","v":1},{"$f":"Individualne!E438","v":0},{"$f":"Individualne!F438","v":1},{"$f":"Individualne!G438","v":0},{"$f":"Individualne!H438","v":0},{"$f":"Individualne!I438","v":0},{"$f":"Individualne!J438","v":0},{"$f":"Individualne!K438","v":0},{"$f":"Individualne!L438","v":0},{"$f":"Individualne!M438","v":0},{"$f":"Individualne!N438","v":0},{"$f":"Individualne!O438","v":0},{"$f":"Individualne!P438","v":1},{"$f":"Individualne!Q438","v":1},{"$f":"Individualne!R438","v":0},{"$f":"Individualne!S438","v":0},{"$f":"Individualne!T438","v":0},{"$f":"Individualne!U438","v":0},{"$f":"Individualne!V438","v":1},{"$f":"Individualne!W438","v":0},{"$f":"Individualne!X438","v":1},{"$f":"Individualne!Y438","v":1},{"$f":"Individualne!Z438","v":0},{"$f":"Individualne!AA438","v":0},{"$f":"Individualne!AB438","v":0},{"$f":"Individualne!AC438","v":0},{"$f":"Individualne!AD438","v":0},{"$f":"Individualne!AE438","v":0},{"$f":"Individualne!AF438","v":""},{"$f":"Individualne!AG438","v":""},{"$f":"Individualne!AH438","v":""},{"$f":"Individualne!AI438","v":""},{"$f":"Individualne!AJ438","v":""},{"$f":"Individualne!AK438","v":""},{"$f":"Individualne!AL438","v":""},{"$f":"Individualne!AM438","v":""},{"$f":"Individualne!AN438","v":""},{"$f":"Individualne!AO438","v":""},{"$f":"Individualne!AP438","v":""},{"$f":"Individualne!AQ438","v":""}]
[null,4,"\"04_Oso m\"",1,10,1,10,"E","REJ","B","REJ","D","NIZ","B","MIE","C","SLA","B","MIE",null,null,7,"VYS 3,5 pozitívne",{"$f":"Individualne!D439","v":0},{"$f":"Individualne!E439","v":0},{"$f":"Individualne!F439","v":0},{"$f":"Individualne!G439","v":0},{"$f":"Individualne!H439","v":0},{"$f":"Individualne!I439","v":0},{"$f":"Individualne!J439","v":0},{"$f":"Individualne!K439","v":0},{"$f":"Individualne!L439","v":2},{"$f":"Individualne!M439","v":1},{"$f":"Individualne!N439","v":0},{"$f":"Individualne!O439","v":0},{"$f":"Individualne!P439","v":0},{"$f":"Individualne!Q439","v":0},{"$f":"Individualne!R439","v":1},{"$f":"Individualne!S439","v":0},{"$f":"Individualne!T439","v":0},{"$f":"Individualne!U439","v":4},{"$f":"Individualne!V439","v":0},{"$f":"Individualne!W439","v":0},{"$f":"Individualne!X439","v":0},{"$f":"Individualne!Y439","v":0},{"$f":"Individualne!Z439","v":8},{"$f":"Individualne!AA439","v":0},{"$f":"Individualne!AB439","v":3},{"$f":"Individualne!AC439","v":1},{"$f":"Individualne!AD439","v":2},{"$f":"Individualne!AE439","v":2},{"$f":"Individualne!AF439","v":""},{"$f":"Individualne!AG439","v":""},{"$f":"Individualne!AH439","v":""},{"$f":"Individualne!AI439","v":""},{"$f":"Individualne!AJ439","v":""},{"$f":"Individualne!AK439","v":""},{"$f":"Individualne!AL439","v":""},{"$f":"Individualne!AM439","v":""},{"$f":"Individualne!AN439","v":""},{"$f":"Individualne!AO439","v":""},{"$f":"Individualne!AP439","v":""},{"$f":"Individualne!AQ439","v":""}]
[null,5,"\"05_Oso m\"",1,3,1,3,"C","NEO","E","AVE","D","NIZ","D","NIZ","C","SLA","D","NIZ",null,null,8,"VYS 4,6 negatívne",{"$f":"Individualne!D440","v":0},{"$f":"Individualne!E440","v":3},{"$f":"Individualne!F440","v":0},{"$f":"Individualne!G440","v":0},{"$f":"Individualne!H440","v":0},{"$f":"Individualne!I440","v":5},{"$f":"Individualne!J440","v":0},{"$f":"Individualne!K440","v":0},{"$f":"Individualne!L440","v":0},{"$f":"Individualne!M440","v":8},{"$f":"Individualne!N440","v":0},{"$f":"Individualne!O440","v":0},{"$f":"Individualne!P440","v":0},{"$f":"Individualne!Q440","v":0},{"$f":"Individualne!R440","v":0},{"$f":"Individualne!S440","v":0},{"$f":"Individualne!T440","v":0},{"$f":"Individualne!U440","v":0},{"$f":"Individualne!V440","v":0},{"$f":"Individualne!W440","v":0},{"$f":"Individualne!X440","v":0},{"$f":"Individualne!Y440","v":0},{"$f":"Individualne!Z440","v":0},{"$f":"Individualne!AA440","v":0},{"$f":"Individualne!AB440","v":0},{"$f":"Individualne!AC440","v":0},{"$f":"Individualne!AD440","v":0},{"$f":"Individualne!AE440","v":0},{"$f":"Individualne!AF440","v":""},{"$f":"Individualne!AG440","v":""},{"$f":"Individualne!AH440","v":""},{"$f":"Individualne!AI440","v":""},{"$f":"Individualne!AJ440","v":""},{"$f":"Individualne!AK440","v":""},{"$f":"Individualne!AL440","v":""},{"$f":"Individualne!AM440","v":""},{"$f":"Individualne!AN440","v":""},{"$f":"Individualne!AO440","v":""},{"$f":"Individualne!AP440","v":""},{"$f":"Individualne!AQ440","v":""}]
[null,6,"\"*06_Oso m\"",0,20,0,20,"E","REJ","B","REJ","D","NIZ","A","VYS","D","NIZ","B","MIE",null,null,9,"MIE 3,5",{"$f":"Individualne!D441","v":1},{"$f":"Individualne!E441","v":0},{"$f":"Individualne!F441","v":1},{"$f":"Individualne!G441","v":0},{"$f":"Individualne!H441","v":2},{"$f":"Individualne!I441","v":0},{"$f":"Individualne!J441","v":5},{"$f":"Individualne!K441","v":0},{"$f":"Individualne!L441","v":3},{"$f":"Individualne!M441","v":0},{"$f":"Individualne!N441","v":1},{"$f":"Individualne!O441","v":1},{"$f":"Individualne!P441","v":1},{"$f":"Individualne!Q441","v":1},{"$f":"Individualne!R441","v":0},{"$f":"Individualne!S441","v":0},{"$f":"Individualne!T441","v":0},{"$f":"Individualne!U441","v":4},{"$f":"Individualne!V441","v":1},{"$f":"Individualne!W441","v":1},{"$f":"Individualne!X441","v":0},{"$f":"Individualne!Y441","v":1},{"$f":"Individualne!Z441","v":2},{"$f":"Individualne!AA441","v":2},{"$f":"Individualne!AB441","v":4},{"$f":"Individualne!AC441","v":2},{"$f":"Individualne!AD441","v":5},{"$f":"Individualne!AE441","v":2},{"$f":"Individualne!AF441","v":""},{"$f":"Individualne!AG441","v":""},{"$f":"Individualne!AH441","v":""},{"$f":"Individualne!AI441","v":""},{"$f":"Individualne!AJ441","v":""},{"$f":"Individualne!AK441","v":""},{"$f":"Individualne!AL441","v":""},{"$f":"Individualne!AM441","v":""},{"$f":"Individualne!AN441","v":""},{"$f":"Individualne!AO441","v":""},{"$f":"Individualne!AP441","v":""},{"$f":"Individualne!AQ441","v":""}]
[null,7,"\"07_Oso m\"",6,0,2,0,"A","POP","A","POP","B","MIE","D","NIZ","B","MIE","D","NIZ",null,null,10,"MIE 4,6",{"$f":"Individualne!D442","v":0},{"$f":"Individualne!E442","v":3},{"$f":"Individualne!F442","v":0},{"$f":"Individualne!G442","v":3},{"$f":"Individualne!H442","v":0},{"$f":"Individualne!I442","v":4},{"$f":"Individualne!J442","v":0},{"$f":"Individualne!K442","v":0},{"$f":"Individualne!L442","v":0},{"$f":"Individualne!M442","v":1},{"$f":"Individualne!N442","v":0},{"$f":"Individualne!O442","v":0},{"$f":"Individualne!P442","v":0},{"$f":"Individualne!Q442","v":0},{"$f":"Individualne!R442","v":0},{"$f":"Individualne!S442","v":0},{"$f":"Individualne!T442","v":1},{"$f":"Individualne!U442","v":0},{"$f":"Individualne!V442","v":0},{"$f":"Individualne!W442","v":0},{"$f":"Individualne!X442","v":0},{"$f":"Individualne!Y442","v":0},{"$f":"Individualne!Z442","v":1},{"$f":"Individualne!AA442","v":0},{"$f":"Individualne!AB442","v":1},{"$f":"Individualne!AC442","v":0},{"$f":"Individualne!AD442","v":0},{"$f":"Individualne!AE442","v":0},{"$f":"Individualne!AF442","v":""},{"$f":"Individualne!AG442","v":""},{"$f":"Individualne!AH442","v":""},{"$f":"Individualne!AI442","v":""},{"$f":"Individualne!AJ442","v":""},{"$f":"Individualne!AK442","v":""},{"$f":"Individualne!AL442","v":""},{"$f":"Individualne!AM442","v":""},{"$f":"Individualne!AN442","v":""},{"$f":"Individualne!AO442","v":""},{"$f":"Individualne!AP442","v":""},{"$f":"Individualne!AQ442","v":""}]
[null,8,"\"08_Oso m\"",4,1,0,1,"A","POP","E","AVE","C","SLA","D","NIZ","D","NIZ","D","NIZ",null,null,11,"SLA 3, 5",{"$f":"Individualne!D443","v":5},{"$f":"Individualne!E443","v":0},{"$f":"Individualne!F443","v":5},{"$f":"Individualne!G443","v":1},{"$f":"Individualne!H443","v":7},{"$f":"Individualne!I443","v":2},{"$f":"Individualne!J443","v":4},{"$f":"Individualne!K443","v":5},{"$f":"Individualne!L443","v":4},{"$f":"Individualne!M443","v":4},{"$f":"Individualne!N443","v":4},{"$f":"Individualne!O443","v":3},{"$f":"Individualne!P443","v":3},{"$f":"Individualne!Q443","v":4},{"$f":"Individualne!R443","v":3},{"$f":"Individualne!S443","v":4},{"$f":"Individualne!T443","v":0},{"$f":"Individualne!U443","v":2},{"$f":"Individualne!V443","v":5},{"$f":"Individualne!W443","v":7},{"$f":"Individualne!X443","v":6},{"$f":"Individualne!Y443","v":4},{"$f":"Individualne!Z443","v":0},{"$f":"Individualne!AA443","v":3},{"$f":"Individualne!AB443","v":3},{"$f":"Individualne!AC443","v":5},{"$f":"Individualne!AD443","v":1},{"$f":"Individualne!AE443","v":1},{"$f":"Individualne!AF443","v":""},{"$f":"Individualne!AG443","v":""},{"$f":"Individualne!AH443","v":""},{"$f":"Individualne!AI443","v":""},{"$f":"Individualne!AJ443","v":""},{"$f":"Individualne!AK443","v":""},{"$f":"Individualne!AL443","v":""},{"$f":"Individualne!AM443","v":""},{"$f":"Individualne!AN443","v":""},{"$f":"Individualne!AO443","v":""},{"$f":"Individualne!AP443","v":""},{"$f":"Individualne!AQ443","v":""}]
[null,9,"\"09_Oso f\"",7,0,1,0,"A","POP","A","POP","A","VYS","D","NIZ","C","SLA","D","NIZ",null,null,12,"SLA 4, 6",{"$f":"Individualne!D444","v":2},{"$f":"Individualne!E444","v":2},{"$f":"Individualne!F444","v":1},{"$f":"Individualne!G444","v":5},{"$f":"Individualne!H444","v":2},{"$f":"Individualne!I444","v":0},{"$f":"Individualne!J444","v":1},{"$f":"Individualne!K444","v":0},{"$f":"Individualne!L444","v":0},{"$f":"Individualne!M444","v":0},{"$f":"Individualne!N444","v":1},{"$f":"Individualne!O444","v":1},{"$f":"Individualne!P444","v":0},{"$f":"Individualne!Q444","v":0},{"$f":"Individualne!R444","v":1},{"$f":"Individualne!S444","v":1},{"$f":"Individualne!T444","v":1},{"$f":"Individualne!U444","v":2},{"$f":"Individualne!V444","v":0},{"$f":"Individualne!W444","v":1},{"$f":"Individualne!X444","v":0},{"$f":"Individualne!Y444","v":0},{"$f":"Individualne!Z444","v":0},{"$f":"Individualne!AA444","v":1},{"$f":"Individualne!AB444","v":2},{"$f":"Individualne!AC444","v":0},{"$f":"Individualne!AD444","v":3},{"$f":"Individualne!AE444","v":0},{"$f":"Individualne!AF444","v":""},{"$f":"Individualne!AG444","v":""},{"$f":"Individualne!AH444","v":""},{"$f":"Individualne!AI444","v":""},{"$f":"Individualne!AJ444","v":""},{"$f":"Individualne!AK444","v":""},{"$f":"Individualne!AL444","v":""},{"$f":"Individualne!AM444","v":""},{"$f":"Individualne!AN444","v":""},{"$f":"Individualne!AO444","v":""},{"$f":"Individualne!AP444","v":""},{"$f":"Individualne!AQ444","v":""}]
[null,10,"\"**10_Oso m\"",0,18,0,18,"E","REJ","B","REJ","D","NIZ","A","VYS","D","NIZ","B","MIE",null,null,13,"NIZ 3,5 negatívne",{"$f":"Individualne!D445","v":4},{"$f":"Individualne!E445","v":10},{"$f":"Individualne!F445","v":4},{"$f":"Individualne!G445","v":9},{"$f":"Individualne!H445","v":1},{"$f":"Individualne!I445","v":8},{"$f":"Individualne!J445","v":1},{"$f":"Individualne!K445","v":5},{"$f":"Individualne!L445","v":1},{"$f":"Individualne!M445","v":5},{"$f":"Individualne!N445","v":5},{"$f":"Individualne!O445","v":6},{"$f":"Individualne!P445","v":6},{"$f":"Individualne!Q445","v":5},{"$f":"Individualne!R445","v":6},{"$f":"Individualne!S445","v":6},{"$f":"Individualne!T445","v":10},{"$f":"Individualne!U445","v":0},{"$f":"Individualne!V445","v":4},{"$f":"Individualne!W445","v":2},{"$f":"Individualne!X445","v":4},{"$f":"Individualne!Y445","v":5},{"$f":"Individualne!Z445","v":0},{"$f":"Individualne!AA445","v":5},{"$f":"Individualne!AB445","v":0},{"$f":"Individualne!AC445","v":2},{"$f":"Individualne!AD445","v":2},{"$f":"Individualne!AE445","v":5},{"$f":"Individualne!AF445","v":""},{"$f":"Individualne!AG445","v":""},{"$f":"Individualne!AH445","v":""},{"$f":"Individualne!AI445","v":""},{"$f":"Individualne!AJ445","v":""},{"$f":"Individualne!AK445","v":""},{"$f":"Individualne!AL445","v":""},{"$f":"Individualne!AM445","v":""},{"$f":"Individualne!AN445","v":""},{"$f":"Individualne!AO445","v":""},{"$f":"Individualne!AP445","v":""},{"$f":"Individualne!AQ445","v":""}]
[null,11,"\"11_Oso m\"",1,0,0,0,"B","OBL","E","AVE","D","NIZ","D","NIZ","D","NIZ","D","NIZ",null,null,14,"NIZ 4, 6 pozitívne",{"$f":"Individualne!D446","v":8},{"$f":"Individualne!E446","v":2},{"$f":"Individualne!F446","v":9},{"$f":"Individualne!G446","v":1},{"$f":"Individualne!H446","v":7},{"$f":"Individualne!I446","v":0},{"$f":"Individualne!J446","v":9},{"$f":"Individualne!K446","v":10},{"$f":"Individualne!L446","v":10},{"$f":"Individualne!M446","v":0},{"$f":"Individualne!N446","v":9},{"$f":"Individualne!O446","v":8},{"$f":"Individualne!P446","v":10},{"$f":"Individualne!Q446","v":10},{"$f":"Individualne!R446","v":9},{"$f":"Individualne!S446","v":8},{"$f":"Individualne!T446","v":7},{"$f":"Individualne!U446","v":7},{"$f":"Individualne!V446","v":10},{"$f":"Individualne!W446","v":8},{"$f":"Individualne!X446","v":9},{"$f":"Individualne!Y446","v":9},{"$f":"Individualne!Z446","v":8},{"$f":"Individualne!AA446","v":8},{"$f":"Individualne!AB446","v":6},{"$f":"Individualne!AC446","v":9},{"$f":"Individualne!AD446","v":6},{"$f":"Individualne!AE446","v":9},{"$f":"Individualne!AF446","v":""},{"$f":"Individualne!AG446","v":""},{"$f":"Individualne!AH446","v":""},{"$f":"Individualne!AI446","v":""},{"$f":"Individualne!AJ446","v":""},{"$f":"Individualne!AK446","v":""},{"$f":"Individualne!AL446","v":""},{"$f":"Individualne!AM446","v":""},{"$f":"Individualne!AN446","v":""},{"$f":"Individualne!AO446","v":""},{"$f":"Individualne!AP446","v":""},{"$f":"Individualne!AQ446","v":""}]
[null,12,"\"12_Oso m\"",0,4,0,4,"E","REJ","B","REJ","D","NIZ","D","NIZ","D","NIZ","C","SLA"]
[null,13,"\"13_Oso m\"",1,0,1,0,"B","OBL","E","AVE","D","NIZ","D","NIZ","C","SLA","D","NIZ"]
[null,14,"\"14_Oso m\"",2,0,0,0,"B","OBL","E","AVE","C","SLA","D","NIZ","D","NIZ","D","NIZ",null,null,null,"Sumy"]
[null,15,"\"15_Oso f\"",2,1,1,1,"B","OBL","E","AVE","C","SLA","D","NIZ","C","SLA","D","NIZ",null,null,null,"Pozitívne",{"$f":"Individualne!D449","v":34},{"$f":"Individualne!E449","v":10},{"$f":"Individualne!F449","v":37},{"$f":"Individualne!G449","v":13},{"$f":"Individualne!H449","v":35},{"$f":"Individualne!I449","v":0},{"$f":"Individualne!J449","v":57},{"$f":"Individualne!K449","v":41},{"$f":"Individualne!L449","v":68},{"$f":"Individualne!M449","v":3},{"$f":"Individualne!N449","v":44},{"$f":"Individualne!O449","v":31},{"$f":"Individualne!P449","v":38},{"$f":"Individualne!Q449","v":40},{"$f":"Individualne!R449","v":40},{"$f":"Individualne!S449","v":28},{"$f":"Individualne!T449","v":23},{"$f":"Individualne!U449","v":67},{"$f":"Individualne!V449","v":40},{"$f":"Individualne!W449","v":34},{"$f":"Individualne!X449","v":34},{"$f":"Individualne!Y449","v":38},{"$f":"Individualne!Z449","v":76},{"$f":"Individualne!AA449","v":32},{"$f":"Individualne!AB449","v":57},{"$f":"Individualne!AC449","v":52},{"$f":"Individualne!AD449","v":50},{"$f":"Individualne!AE449","v":67},{"$f":"Individualne!AF449","v":""},{"$f":"Individualne!AG449","v":""},{"$f":"Individualne!AH449","v":""},{"$f":"Individualne!AI449","v":""},{"$f":"Individualne!AJ449","v":""},{"$f":"Individualne!AK449","v":""},{"$f":"Individualne!AL449","v":""},{"$f":"Individualne!AM449","v":""},{"$f":"Individualne!AN449","v":""},{"$f":"Individualne!AO449","v":""},{"$f":"Individualne!AP449","v":""},{"$f":"Individualne!AQ449","v":""}]
[null,16,"\"16_Oso f\"",0,1,0,1,"C","NEO","E","AVE","D","NIZ","D","NIZ","D","NIZ","D","NIZ",null,null,null,"Negatívne",{"$f":"Individualne!D450","v":26},{"$f":"Individualne!E450","v":75},{"$f":"Individualne!F450","v":26},{"$f":"Individualne!G450","v":62},{"$f":"Individualne!H450","v":24},{"$f":"Individualne!I450","v":80},{"$f":"Individualne!J450","v":11},{"$f":"Individualne!K450","v":27},{"$f":"Individualne!L450","v":11},{"$f":"Individualne!M450","v":74},{"$f":"Individualne!N450","v":25},{"$f":"Individualne!O450","v":34},{"$f":"Individualne!P450","v":28},{"$f":"Individualne!Q450","v":25},{"$f":"Individualne!R450","v":30},{"$f":"Individualne!S450","v":33},{"$f":"Individualne!T450","v":42},{"$f":"Individualne!U450","v":4},{"$f":"Individualne!V450","v":24},{"$f":"Individualne!W450","v":22},{"$f":"Individualne!X450","v":27},{"$f":"Individualne!Y450","v":26},{"$f":"Individualne!Z450","v":2},{"$f":"Individualne!AA450","v":29},{"$f":"Individualne!AB450","v":8},{"$f":"Individualne!AC450","v":16},{"$f":"Individualne!AD450","v":11},{"$f":"Individualne!AE450","v":17},{"$f":"Individualne!AF450","v":""},{"$f":"Individualne!AG450","v":""},{"$f":"Individualne!AH450","v":""},{"$f":"Individualne!AI450","v":""},{"$f":"Individualne!AJ450","v":""},{"$f":"Individualne!AK450","v":""},{"$f":"Individualne!AL450","v":""},{"$f":"Individualne!AM450","v":""},{"$f":"Individualne!AN450","v":""},{"$f":"Individualne!AO450","v":""},{"$f":"Individualne!AP450","v":""},{"$f":"Individualne!AQ450","v":""}]
[null,17,"\"17_Oso f\"",0,3,0,3,"C","NEO","E","AVE","D","NIZ","D","NIZ","D","NIZ","C","SLA",null,null,null,"Vážené"]
[null,18,"\"18_Oso f\"",5,0,3,0,"A","POP","A","POP","B","MIE","D","NIZ","A","VYS","D","NIZ",null,null,null,"Pozitívne",{"$f":"Individualne!D452","v":0.37777777777777777},{"$f":"Individualne!E452","v":0.1111111111111111},{"$f":"Individualne!F452","v":0.41111111111111109},{"$f":"Individualne!G452","v":0.14444444444444443},{"$f":"Individualne!H452","v":0.3888888888888889},{"$f":"Individualne!I452","v":0},{"$f":"Individualne!J452","v":0.6333333333333333},{"$f":"Individualne!K452","v":0.45555555555555555},{"$f":"Individualne!L452","v":0.75555555555555554},{"$f":"Individualne!M452","v":3.3333333333333333E-2},{"$f":"Individualne!N452","v":0.48888888888888887},{"$f":"Individualne!O452","v":0.34444444444444444},{"$f":"Individualne!P452","v":0.42222222222222222},{"$f":"Individualne!Q452","v":0.44444444444444442},{"$f":"Individualne!R452","v":0.44444444444444442},{"$f":"Individualne!S452","v":0.31111111111111112},{"$f":"Individualne!T452","v":0.25555555555555554},{"$f":"Individualne!U452","v":0.74444444444444446},{"$f":"Individualne!V452","v":0.44444444444444442},{"$f":"Individualne!W452","v":0.37777777777777777},{"$f":"Individualne!X452","v":0.37777777777777777},{"$f":"Individualne!Y452","v":0.42222222222222222},{"$f":"Individualne!Z452","v":0.84444444444444444},{"$f":"Individualne!AA452","v":0.35555555555555557},{"$f":"Individualne!AB452","v":0.6333333333333333},{"$f":"Individualne!AC452","v":0.57777777777777772},{"$f":"Individualne!AD452","v":0.55555555555555558},{"$f":"Individualne!AE452","v":0.74444444444444446},{"$f":"Individualne!AF452","v":""},{"$f":"Individualne!AG452","v":""},{"$f":"Individualne!AH452","v":""},{"$f":"Individualne!AI452","v":""},{"$f":"Individualne!AJ452","v":""},{"$f":"Individualne!AK452","v":""},{"$f":"Individualne!AL452","v":""},{"$f":"Individualne!AM452","v":""},{"$f":"Individualne!AN452","v":""},{"$f":"Individualne!AO452","v":""},{"$f":"Individualne!AP452","v":""},{"$f":"Individualne!AQ452","v":""}]
[null,19,"\"19_Oso f\"",2,0,1,0,"B","OBL","E","AVE","C","SLA","D","NIZ","C","SLA","D","NIZ",null,null,null,"Negatívne",{"$f":"Individualne!D453","v":0.28888888888888886},{"$f":"Individualne!E453","v":0.83333333333333337},{"$f":"Individualne!F453","v":0.28888888888888886},{"$f":"Individualne!G453","v":0.68888888888888888},{"$f":"Individualne!H453","v":0.26666666666666666},{"$f":"Individualne!I453","v":0.88888888888888884},{"$f":"Individualne!J453","v":0.12222222222222222},{"$f":"Individualne!K453","v":0.3},{"$f":"Individualne!L453","v":0.12222222222222222},{"$f":"Individualne!M453","v":0.82222222222222219},{"$f":"Individualne!N453","v":0.27777777777777779},{"$f":"Individualne!O453","v":0.37777777777777777},{"$f":"Individualne!P453","v":0.31111111111111112},{"$f":"Individualne!Q453","v":0.27777777777777779},{"$f":"Individualne!R453","v":0.33333333333333331},{"$f":"Individualne!S453","v":0.36666666666666664},{"$f":"Individualne!T453","v":0.46666666666666667},{"$f":"Individualne!U453","v":4.4444444444444446E-2},{"$f":"Individualne!V453","v":0.26666666666666666},{"$f":"Individualne!W453","v":0.24444444444444444},{"$f":"Individualne!X453","v":0.3},{"$f":"Individualne!Y453","v":0.28888888888888886},{"$f":"Individualne!Z453","v":2.2222222222222223E-2},{"$f":"Individualne!AA453","v":0.32222222222222224},{"$f":"Individualne!AB453","v":8.8888888888888892E-2},{"$f":"Individualne!AC453","v":0.17777777777777778},{"$f":"Individualne!AD453","v":0.12222222222222222},{"$f":"Individualne!AE453","v":0.18888888888888888},{"$f":"Individualne!AF453","v":""},{"$f":"Individualne!AG453","v":""},{"$f":"Individualne!AH453","v":""},{"$f":"Individualne!AI453","v":""},{"$f":"Individualne!AJ453","v":""},{"$f":"Individualne!AK453","v":""},{"$f":"Individualne!AL453","v":""},{"$f":"Individualne!AM453","v":""},{"$f":"Individualne!AN453","v":""},{"$f":"Individualne!AO453","v":""},{"$f":"Individualne!AP453","v":""},{"$f":"Individualne!AQ453","v":""}]
[null,20,"\"20_Oso f\"",1,1,1,1,"D","KON","E","AVE","D","NIZ","D","NIZ","C","SLA","D","NIZ",null,null,null,"Negatívne obrátené",{"$f":"IF(X64<>\"\",X64*(-1),\"\")","v":-0.28888888888888886},{"$f":"IF(Y64<>\"\",Y64*(-1),\"\")","v":-0.83333333333333337},-0.28888888888888886,-0.68888888888888888,-0.26666666666666666,-0.88888888888888884,-0.12222222222222222,-0.3,-0.12222222222222222,-0.82222222222222219,-0.27777777777777779,-0.37777777777777777,-0.31111111111111112,-0.27777777777777779,-0.33333333333333331,-0.36666666666666664,-0.46666666666666667,-4.4444444444444446E-2,-0.26666666666666666,-0.24444444444444444,-0.3,-0.28888888888888886,-2.2222222222222223E-2,-0.32222222222222224,-8.8888888888888892E-2,-0.17777777777777778,-0.12222222222222222,-0.18888888888888888,"","","","","","","","","","","",""]
[null,21,"\"21_Oso f\"",1,0,0,0,"B","OBL","E","AVE","D","NIZ","D","NIZ","D","NIZ","D","NIZ"]
[null,22,"\"22_Oso f\"",1,0,1,0,"B","OBL","E","AVE","D","NIZ","D","NIZ","C","SLA","D","NIZ"]
[null,23,"\"23_Oso f\"",14,2,3,2,"B","OBL","A","POP","A","VYS","D","NIZ","A","VYS","D","NIZ"]
[null,24,"\"24_Oso f\"",0,1,0,1,"C","NEO","E","AVE","D","NIZ","D","NIZ","D","NIZ","D","NIZ"]
[null,25,"\"25_Oso f\"",9,0,3,0,"A","POP","A","POP","A","VYS","D","NIZ","A","VYS","D","NIZ"]
[null,26,"\"26_Oso f\"",6,0,2,0,"A","POP","A","POP","B","MIE","D","NIZ","B","MIE","D","NIZ"]
[null,27,"\"27_Oso f\"",5,2,1,2,"B","OBL","E","AVE","B","MIE","D","NIZ","C","SLA","D","NIZ"]
[null,28,"\"28_Oso f\"",8,0,0,0,"A","POP","A","POP","A","VYS","D","NIZ","D","NIZ","D","NIZ"]
[null,null,"Suma = ",{"$f":"SUM($D$46:$D$73)","v":81},{"$f":"SUM($E$46:$E$73)","v":81},{"$f":"SUM($F$46:$F$73)","v":24},{"$f":"SUM($G$46:$G$73)","v":81}]
[null,null,"AM = ",{"$f":"AVERAGE($D$46:$D$73)","v":2.8928571428571428},{"$f":"AVERAGE($E$46:$F$73)","v":1.875},{"$f":"AVERAGE($F$46:$G$73)","v":1.875},{"$f":"AVERAGE($G$46:$H$73)","v":2.8928571428571428}]
[null,null,"SD = ",{"$f":"STDEV($D$46:D$73)","v":3.4570302574692922},{"$f":"STDEV($E$46:E$73)","v":5.4659842779671557},{"$f":"STDEV($F$46:F$73)","v":0.97046326143700146},{"$f":"STDEV($G$46:G$73)","v":5.4659842779671557}]
[]
[null,null,"Pustý ostrov"]
[null,1,"\"01_Oso m\"",1,1,1,1,"D","KON","E","AVE","D","NIZ","D","NIZ","C","SLA","C","SLA"]
[null,2,"\"02_Oso m\"",0,12,0,12,"E","REJ","B","REJ","D","NIZ","B","MIE","D","NIZ","C","SLA"]
[null,3,"\"03_Oso m\"",2,0,2,0,"B","OBL","E","AVE","C","SLA","D","NIZ","B","MIE","D","NIZ"]
[null,4,"\"04_Oso m\"",0,6,0,6,"E","REJ","B","REJ","D","NIZ","C","SLA","D","NIZ","D","NIZ"]
[null,5,"\"05_Oso m\"",4,2,1,2,"B","OBL","E","AVE","C","SLA","D","NIZ","C","SLA","D","NIZ"]
[null,6,"\"*06_Oso m\"",2,15,1,15,"C","NEO","B","REJ","C","SLA","A","VYS","C","SLA","A","VYS"]
[null,7,"\"07_Oso m\"",4,2,2,2,"B","OBL","E","AVE","C","SLA","D","NIZ","B","MIE","D","NIZ"]
[null,8,"\"08_Oso m\"",4,1,1,1,"A","POP","E","AVE","C","SLA","D","NIZ","C","SLA","D","NIZ"]
[null,9,"\"09_Oso f\"",5,0,1,0,"A","POP","A","POP","B","MIE","D","NIZ","C","SLA","D","NIZ"]
[null,10,"\"**10_Oso m\"",3,16,3,16,"C","NEO","D","CON","C","SLA","A","VYS","A","VYS","A","VYS"]
[null,11,"\"11_Oso m\"",4,1,2,1,"A","POP","E","AVE","C","SLA","D","NIZ","B","MIE","C","SLA"]
[null,12,"\"12_Oso m\"",4,1,0,1,"A","POP","E","AVE","C","SLA","D","NIZ","D","NIZ","D","NIZ",null,null,null,null,null,null,null,null,null,null,"jemná"]
[null,13,"\"13_Oso m\"",0,0,0,0,"F","OPO","E","AVE","D","NIZ","D","NIZ","D","NIZ","D","NIZ"]
[null,14,"\"14_Oso m\"",1,0,0,0,"B","OBL","E","AVE","D","NIZ","D","NIZ","D","NIZ","D","NIZ"]
[null,15,"\"15_Oso f\"",1,2,0,2,"C","NEO","E","AVE","D","NIZ","D","NIZ","D","NIZ","C","SLA"]
[null,16,"\"16_Oso f\"",4,2,1,2,"B","OBL","E","AVE","C","SLA","D","NIZ","C","SLA","C","SLA"]
[null,17,"\"17_Oso f\"",1,2,0,2,"C","NEO","E","AVE","D","NIZ","D","NIZ","D","NIZ","B","MIE"]
[null,18,"\"18_Oso f\"",5,2,3,2,"B","OBL","A","POP","B","MIE","D","NIZ","A","VYS","C","SLA"]
[null,19,"\"19_Oso f\"",2,1,1,1,"B","OBL","E","AVE","C","SLA","D","NIZ","C","SLA","D","NIZ"]
[null,20,"\"20_Oso f\"",3,2,0,2,"B","OBL","E","AVE","C","SLA","D","NIZ","D","NIZ","D","NIZ"]
[null,21,"\"21_Oso f\"",4,1,1,1,"A","POP","E","AVE","C","SLA","D","NIZ","C","SLA","D","NIZ"]
[null,22,"\"22_Oso f\"",3,1,0,1,"B","OBL","E","AVE","C","SLA","D","NIZ","D","NIZ","D","NIZ"]
[null,23,"\"23_Oso f\"",9,1,2,1,"A","POP","A","POP","A","VYS","D","NIZ","B","MIE","D","NIZ"]
[null,24,"\"24_Oso f\"",1,2,1,2,"C","NEO","E","AVE","D","NIZ","D","NIZ","C","SLA","D","NIZ"]
[null,25,"\"25_Oso f\"",3,2,1,2,"B","OBL","E","AVE","C","SLA","D","NIZ","C","SLA","C","SLA"]
[null,26,"\"26_Oso f\"",1,0,0,0,"B","OBL","E","AVE","D","NIZ","D","NIZ","D","NIZ","D","NIZ"]
[null,27,"\"27_Oso f\"",6,6,2,6,"D","KON","D","CON","B","MIE","C","SLA","B","MIE","C","SLA"]
[null,28,"\"28_Oso f\"",4,0,0,0,"A","POP","A","POP","C","SLA","D","NIZ","D","NIZ","D","NIZ"]
[null,null,"Suma = ",{"$f":"SUM($D$79:$D$106)","v":81},{"$f":"SUM($E$79:$E$106)","v":81},{"$f":"SUM($F$79:$F$106)","v":26},{"$f":"SUM($G$79:$G$106)","v":81}]
[null,null,"AM = ",{"$f":"AVERAGE($D$79:$D$106)","v":2.8928571428571428},{"$f":"AVERAGE($E$79:$F$106)","v":1.9107142857142858},{"$f":"AVERAGE($F$79:$G$106)","v":1.9107142857142858},{"$f":"AVERAGE($G$79:$H$106)","v":2.8928571428571428}]
[null,null,"SD = ",{"$f":"STDEV($D$79:D$106)","v":2.0609110842912406},{"$f":"STDEV($E$79:E$106)","v":4.3319594891772724},{"$f":"STDEV($F$79:F$106)","v":0.93999887425351936},{"$f":"STDEV($G$79:G$106)","v":4.3319594891772724}]
[]
[null,null,"Hájiť záujmy"]
[null,1,"\"01_Oso m\"",0,0,0,0,"F","OPO","E","AVE","D","NIZ","D","NIZ","D","NIZ","D","NIZ"]
[null,2,"\"02_Oso m\"",0,20,0,20,"E","REJ","B","REJ","D","NIZ","A","VYS","D","NIZ","A","VYS"]
[null,3,"\"03_Oso m\"",0,0,0,0,"F","OPO","E","AVE","D","NIZ","D","NIZ","D","NIZ","D","NIZ"]
[null,4,"\"04_Oso m\"",0,5,0,5,"E","REJ","E","AVE","D","NIZ","C","SLA","D","NIZ","B","MIE"]
[null,5,"\"05_Oso m\"",2,1,1,1,"B","OBL","E","AVE","C","SLA","D","NIZ","C","SLA","C","SLA"]
[null,6,"\"*06_Oso m\"",0,18,0,18,"E","REJ","B","REJ","D","NIZ","A","VYS","D","NIZ","B","MIE"]
[null,7,"\"07_Oso m\"",2,0,0,0,"B","OBL","E","AVE","C","SLA","D","NIZ","D","NIZ","D","NIZ"]
[null,8,"\"08_Oso m\"",1,3,0,3,"C","NEO","E","AVE","D","NIZ","D","NIZ","D","NIZ","D","NIZ"]
[null,9,"\"09_Oso f\"",10,0,0,0,"A","POP","A","POP","A","VYS","D","NIZ","D","NIZ","D","NIZ"]
[null,10,"\"**10_Oso m\"",0,20,0,20,"E","REJ","B","REJ","D","NIZ","A","VYS","D","NIZ","A","VYS"]
[null,11,"\"11_Oso m\"",0,1,0,1,"C","NEO","E","AVE","D","NIZ","D","NIZ","D","NIZ","D","NIZ"]
[null,12,"\"12_Oso m\"",0,2,0,2,"C","NEO","E","AVE","D","NIZ","D","NIZ","D","NIZ","D","NIZ"]
[null,13,"\"13_Oso m\"",0,1,0,1,"C","NEO","E","AVE","D","NIZ","D","NIZ","D","NIZ","D","NIZ"]
[null,14,"\"14_Oso m\"",0,0,0,0,"F","OPO","E","AVE","D","NIZ","D","NIZ","D","NIZ","D","NIZ"]
[null,15,"\"15_Oso f\"",8,0,1,0,"A","POP","A","POP","A","VYS","D","NIZ","C","SLA","D","NIZ"]
[null,16,"\"16_Oso f\"",0,1,0,1,"C","NEO","E","AVE","D","NIZ","D","NIZ","D","NIZ","D","NIZ"]
[null,17,"\"17_Oso f\"",0,1,0,1,"C","NEO","E","AVE","D","NIZ","D","NIZ","D","NIZ","D","NIZ"]
[null,18,"\"18_Oso f\"",2,1,2,1,"B","OBL","E","AVE","C","SLA","D","NIZ","B","MIE","C","SLA"]
[null,19,"\"19_Oso f\"",0,0,0,0,"F","OPO","E","AVE","D","NIZ","D","NIZ","D","NIZ","D","NIZ"]
[null,20,"\"20_Oso f\"",3,0,2,0,"B","OBL","E","AVE","C","SLA","D","NIZ","B","MIE","D","NIZ"]
[null,21,"\"21_Oso f\"",0,0,0,0,"F","OPO","E","AVE","D","NIZ","D","NIZ","D","NIZ","D","NIZ"]
[null,22,"\"22_Oso f\"",0,0,0,0,"F","OPO","E","AVE","D","NIZ","D","NIZ","D","NIZ","D","NIZ"]
[null,23,"\"23_Oso f\"",25,0,3,0,"A","POP","A","POP","A","VYS","D","NIZ","A","VYS","D","NIZ"]
[null,24,"\"24_Oso f\"",0,4,0,4,"E","REJ","E","AVE","D","NIZ","D","NIZ","D","NIZ","C","SLA"]
[null,25,"\"25_Oso f\"",12,1,2,1,"A","POP","A","POP","A","VYS","D","NIZ","B","MIE","C","SLA"]
[null,26,"\"26_Oso f\"",8,0,1,0,"A","POP","A","POP","A","VYS","D","NIZ","C","SLA","D","NIZ"]
[null,27,"\"27_Oso f\"",0,2,0,2,"C","NEO","E","AVE","D","NIZ","D","NIZ","D","NIZ","D","NIZ"]
[null,28,"\"28_Oso f\"",8,0,0,0,"A","POP","A","POP","A","VYS","D","NIZ","D","NIZ","D","NIZ"]
[null,null,"Suma = ",{"$f":"SUM($D$112:$D$139)","v":81},{"$f":"SUM($E$112:$E$139)","v":81},{"$f":"SUM($F$112:$F$139)","v":12},{"$f":"SUM($G$112:$G$139)","v":81}]
[null,null,"AM = ",{"$f":"AVERAGE($D$112:$D$139)","v":2.8928571428571428},{"$f":"AVERAGE($E$112:$F$139)","v":1.6607142857142858},{"$f":"AVERAGE($F$112:$G$139)","v":1.6607142857142858},{"$f":"AVERAGE($G$112:$H$139)","v":2.8928571428571428}]
[null,null,"SD = ",{"$f":"STDEV($D$112:D$139)","v":5.6064730163035374},{"$f":"STDEV($E$112:E$139)","v":5.9462984795976741},{"$f":"STDEV($F$112:F$139)","v":0.835710894037345},{"$f":"STDEV($G$112:G$139)","v":5.9462984795976741}]
[]
[null,null,"Tajomstvo"]
[null,1,"\"01_Oso m\"",2,1,1,1,"B","OBL","E","AVE","C","SLA","D","NIZ","C","SLA","D","NIZ"]
[null,2,"\"02_Oso m\"",0,8,0,8,"E","REJ","B","REJ","D","NIZ","C","SLA","D","NIZ","D","NIZ"]
[null,3,"\"03_Oso m\"",1,2,1,2,"C","NEO","E","AVE","D","NIZ","D","NIZ","C","SLA","C","SLA"]
[null,4,"\"04_Oso m\"",1,7,0,7,"E","REJ","B","REJ","D","NIZ","C","SLA","D","NIZ","C","SLA"]
[null,5,"\"05_Oso m\"",2,7,2,7,"C","NEO","B","REJ","C","SLA","C","SLA","B","MIE","D","NIZ"]
[null,6,"\"*06_Oso m\"",1,13,0,13,"E","REJ","B","REJ","D","NIZ","B","MIE","D","NIZ","B","MIE"]
[null,7,"\"07_Oso m\"",5,2,1,2,"B","OBL","A","POP","B","MIE","D","NIZ","C","SLA","C","SLA"]
[null,8,"\"08_Oso m\"",3,0,0,0,"B","OBL","E","AVE","C","SLA","D","NIZ","D","NIZ","D","NIZ"]
[null,9,"\"09_Oso f\"",3,0,1,0,"B","OBL","E","AVE","C","SLA","D","NIZ","C","SLA","D","NIZ"]
[null,10,"\"**10_Oso m\"",1,15,1,15,"E","REJ","B","REJ","D","NIZ","A","VYS","C","SLA","A","VYS"]
[null,11,"\"11_Oso m\"",4,0,1,0,"A","POP","A","POP","C","SLA","D","NIZ","C","SLA","D","NIZ"]
[null,12,"\"12_Oso m\"",2,2,2,2,"D","KON","E","AVE","C","SLA","D","NIZ","B","MIE","D","NIZ"]
[null,13,"\"13_Oso m\"",2,0,2,0,"B","OBL","E","AVE","C","SLA","D","NIZ","B","MIE","D","NIZ"]
[null,14,"\"14_Oso m\"",3,0,2,0,"B","OBL","E","AVE","C","SLA","D","NIZ","B","MIE","D","NIZ"]
[null,15,"\"15_Oso f\"",0,1,0,1,"C","NEO","E","AVE","D","NIZ","D","NIZ","D","NIZ","D","NIZ"]
[null,16,"\"16_Oso f\"",0,2,0,2,"C","NEO","E","AVE","D","NIZ","D","NIZ","D","NIZ","D","NIZ"]
[null,17,"\"17_Oso f\"",0,1,0,1,"C","NEO","E","AVE","D","NIZ","D","NIZ","D","NIZ","D","NIZ"]
[null,18,"\"18_Oso f\"",5,0,3,0,"A","POP","A","POP","B","MIE","D","NIZ","A","VYS","D","NIZ"]
[null,19,"\"19_Oso f\"",4,2,2,2,"B","OBL","E","AVE","C","SLA","D","NIZ","B","MIE","D","NIZ"]
[null,20,"\"20_Oso f\"",2,2,1,2,"D","KON","E","AVE","C","SLA","D","NIZ","C","SLA","C","SLA"]
[null,21,"\"21_Oso f\"",3,1,1,1,"B","OBL","E","AVE","C","SLA","D","NIZ","C","SLA","D","NIZ"]
[null,22,"\"22_Oso f\"",3,3,0,3,"D","KON","E","AVE","C","SLA","D","NIZ","D","NIZ","D","NIZ"]
[null,23,"\"23_Oso f\"",11,3,3,3,"B","OBL","D","CON","A","VYS","D","NIZ","A","VYS","B","MIE"]
[null,24,"\"24_Oso f\"",2,2,2,2,"D","KON","E","AVE","C","SLA","D","NIZ","B","MIE","D","NIZ"]
[null,25,"\"25_Oso f\"",6,3,2,3,"B","OBL","D","CON","B","MIE","D","NIZ","B","MIE","B","MIE"]
[null,26,"\"26_Oso f\"",2,0,1,0,"B","OBL","E","AVE","C","SLA","D","NIZ","C","SLA","D","NIZ"]
[null,27,"\"27_Oso f\"",6,4,3,4,"B","OBL","D","CON","B","MIE","D","NIZ","A","VYS","C","SLA"]
[null,28,"\"28_Oso f\"",5,0,0,0,"A","POP","A","POP","B","MIE","D","NIZ","D","NIZ","D","NIZ"]
[null,null,"Suma = ",{"$f":"SUM($D$145:$D$172)","v":79},{"$f":"SUM($E$145:$E$172)","v":81},{"$f":"SUM($F$145:$F$172)","v":32},{"$f":"SUM($G$145:$G$172)","v":81}]
[null,null,"AM = ",{"$f":"AVERAGE($D$145:$D$172)","v":2.8214285714285716},{"$f":"AVERAGE($E$145:$F$172)","v":2.0178571428571428},{"$f":"AVERAGE($F$145:$G$172)","v":2.0178571428571428},{"$f":"AVERAGE($G$145:$H$172)","v":2.8928571428571428}]
[null,null,"SD = ",{"$f":"STDEV($D$145:D$172)","v":2.3890734517113446},{"$f":"STDEV($E$145:E$172)","v":3.8329882522385774},{"$f":"STDEV($F$145:F$172)","v":1.0079052613579393},{"$f":"STDEV($G$145:G$172)","v":3.8329882522385774}]

{"sheet":"Target_grafy_Q_1","index":19,"n_rows":103,"n_cols":45,"rows_kept":103,"cut":false,"hidden":false,"merged":[]}
["Target grafy otázka 1",null,3,4,5,6,7,8,9,10,11,12,13,14,15,16,17,18,19,20,21,22,23,24,25,26,27,28,29,30,31,32,33]
[null,null,28,null,1,2,3,4,5,6,7,8,9,10,11,12,13,14,15,16,17,18,19,20,21,22,23,24,25,26,27,28,29,30,31,32,33,34,35,36,37,38,39,40]
[null,null,null,null,"01_Oso m","02_Oso m","03_Oso m","04_Oso m","05_Oso m","*06_Oso ","07_Oso m","08_Oso m","09_Oso f","**10_Oso","11_Oso m","12_Oso m","13_Oso m","14_Oso m","15_Oso f","16_Oso f","17_Oso f","18_Oso f","19_Oso f","20_Oso f","21_Oso f","22_Oso f","23_Oso f","24_Oso f","25_Oso f","26_Oso f","27_Oso f","28_Oso f"]
[1,1,"Target 1",null,26,26,26,26,26,26,26,26,26,26,26,26,26,26,26,26,26,26,26,26,26,26,26,26,26,26,26,26]
[2,2,null,null,40,40,40,40,40,40,40,40,40,40,40,40,40,40,40,40,40,40,40,40,40,40,40,40,40,40,40,40]
[3,3,null,null,53,53,53,53,53,53,53,53,53,53,53,53,53,53,53,53,53,53,53,53,53,53,53,53,53,53,53,53]
[4,4,null,null,67,67,67,67,67,67,67,67,67,67,67,67,67,67,67,67,67,67,67,67,67,67,67,67,67,67,67,67]
[5,5,null,null,80,80,80,80,80,80,80,80,80,80,80,80,80,80,80,80,80,80,80,80,80,80,80,80,80,80,80,80]
[6,6,null,null,94,94,94,94,94,94,94,94,94,94,94,94,94,94,94,94,94,94,94,94,94,94,94,94,94,94,94,94]
[7,7,null,null,33,74,33,74,33,74,13,13,13,46,33,60,33,33,46,60,46,13,33,33,60,33,33,33,33,33,13,13]
[8,null,null,null,null,null,null,null,null,null,null,null,null,null,null,null,null,null,null,null,null,null,null,null,null,null,null,null,null,null,null,null,null,null,null,null,null,null,null,null,null,null,null,null,"Prírastok"]
[9,null,"Uhol",null,3.14,{"$f":"IF(E4<>\"\",E12-$AS$12,\"\")","v":2.9157142857142859},{"$f":"IF(F4<>\"\",F12-$AS$12,\"\")","v":2.6914285714285717},2.4671428571428575,2.2428571428571433,2.0185714285714291,1.7942857142857149,1.5700000000000007,1.3457142857142865,1.1214285714285723,0.89714285714285802,0.67285714285714371,0.4485714285714294,0.22428571428571512,8.3266726846886741E-16,-0.22428571428571345,-0.44857142857142773,-0.67285714285714204,-0.89714285714285635,-1.1214285714285706,-1.3457142857142848,-1.569999999999999,-1.7942857142857132,-2.0185714285714274,-2.2428571428571416,-2.4671428571428557,-2.6914285714285699,-2.9157142857142841,-3.1399999999999983,"","","","","","","","","","","",{"$f":"IF(C2<>\"\",6.28/(C2),\"\")","v":0.22428571428571428}]
[10,null,null,"x A",{"$f":"IF(E12<>\"\",$E$4*COS(E$12),\"\")","v":-25.999967024916028},{"$f":"IF(F12<>\"\",$E$4*COS(F$12),\"\")","v":-25.339541801374828},{"$f":"IF(G12<>\"\",$E$4*COS(G$12),\"\")","v":-23.409768723815624},-20.307316995412737,-16.187599467531509,-11.256987456755594,-5.7624728709865884,2.0704494479047528E-2,5.8028446981111532,11.294299753507962,16.219983128140857,20.333149807037884,23.427756628961102,25.34878372183751,26,25.348783721837517,23.427756628961124,20.333149807037909,16.219983128140889,11.294299753508003,5.8028446981111994,2.0704494479093713E-2,-5.7624728709865431,-11.256987456755553,-16.187599467531474,-20.307316995412709,-23.409768723815603,-25.339541801374818,-25.999967024916028,"","","","","","","","","","",""]
[11,null,null,"y A",{"$f":"IF(E12<>\"\",$E$4*SIN(E$12),\"\")","v":4.1408975828657532E-2},{"$f":"IF(F12<>\"\",$E$4*SIN(F$12),\"\")","v":5.8230250983812324},{"$f":"IF(G12<>\"\",$E$4*SIN(G$12),\"\")","v":11.312945164609609},16.236159535056959,20.34604687596029,23.436728299795757,25.353380571654416,25.999991756227701,25.344170797435911,23.418770101734847,20.320239844126498,16.203796435544213,11.275647180280567,5.7826606180464868,2.1649348980190553E-14,-5.782660618046445,-11.275647180280528,-16.203796435544177,-20.320239844126469,-23.418770101734825,-25.344170797435901,-25.999991756227701,-25.353380571654426,-23.436728299795778,-20.346046875960322,-16.236159535056991,-11.312945164609651,-5.8230250983812777,-4.1408975828703717E-2,"","","","","","","","","","",""]
[12,null,null,"x B",{"$f":"IF(E12<>\"\",$E$5*COS(E$12),\"\")","v":-39.999949269101577},{"$f":"IF(F12<>\"\",$E$5*COS(F$12),\"\")","v":-38.983910463653579},-36.015028805870188,-31.242026146788827,-24.903999180817706,-17.318442241162451,-8.8653428784409058,3.1853068429303889E-2,8.9274533817094675,17.375845774627635,24.953820197139777,31.281768933904438,36.042702506094003,38.99812880282694,40,38.998128802826947,36.042702506094038,31.281768933904477,24.953820197139827,17.375845774627699,8.9274533817095367,3.1853068429374944E-2,-8.8653428784408348,-17.318442241162387,-24.903999180817653,-31.242026146788785,-36.015028805870159,-38.983910463653565,-39.999949269101577,"","","","","","","","","","",""]
[13,null,null,"y B",{"$f":"IF(E12<>\"\",$E$5*SIN(E$12),\"\")","v":6.3706116659473122E-2},{"$f":"IF(F12<>\"\",$E$5*SIN(F$12),\"\")","v":8.9585001513557412},17.40453102247632,24.978706977010706,31.301610578400449,36.056505076608858,39.005200879468333,39.999987317273387,38.991031996055248,36.028877079592071,31.261907452502303,24.928917593144941,17.347149508123948,8.89640095084075,3.3306690738754696E-14,-8.8964009508406843,-17.347149508123888,-24.928917593144888,-31.261907452502264,-36.028877079592043,-38.991031996055234,-39.999987317273387,-39.005200879468347,-36.056505076608886,-31.301610578400492,-24.978706977010759,-17.404531022476387,-8.9585001513558122,-6.3706116659544176E-2,"","","","","","","","","","",""]
[14,null,null,"x C",{"$f":"IF(E12<>\"\",$E$6*COS(E$12),\"\")","v":-52.999932781559593},{"$f":"IF(F12<>\"\",$E$6*COS(F$12),\"\")","v":-51.65368136434099},-47.719913167778003,-41.395684644495198,-32.997798914583463,-22.946935969540249,-11.746579313934198,4.2205315668827653E-2,11.828875730765043,23.022995651381613,33.063811761210204,41.44834383742338,47.756580820574555,51.672520663745694,53,51.672520663745708,47.756580820574598,41.44834383742343,33.063811761210268,23.022995651381699,11.828875730765137,4.22053156689218E-2,-11.746579313934106,-22.946935969540164,-32.997798914583392,-41.395684644495141,-47.71991316777796,-51.653681364340976,-52.999932781559593,"","","","","","","","","","",""]
[15,null,null,"y C",{"$f":"IF(E12<>\"\",$E$6*SIN(E$12),\"\")","v":8.4410604573801895E-2},{"$f":"IF(F12<>\"\",$E$6*SIN(F$12),\"\")","v":11.870012700546358},23.061003604781128,33.096786744539187,41.474634016380598,47.774869226506731,51.681891165295539,52.999983195387237,51.663117394773202,47.738262130459496,41.422027374565552,33.030815810917048,22.984973098264234,11.787731259863993,4.4131365228849972E-14,-11.787731259863907,-22.984973098264152,-33.030815810916977,-41.422027374565495,-47.738262130459454,-51.663117394773188,-52.999983195387237,-51.681891165295561,-47.774869226506773,-41.474634016380655,-33.096786744539251,-23.061003604781213,-11.87001270054645,-8.4410604573896042E-2,"","","","","","","","","","",""]
[16,null,null,"x D",{"$f":"IF(E12<>\"\",$E$7*COS(E$12),\"\")","v":-66.999915025745153},{"$f":"IF(F12<>\"\",$E$7*COS(F$12),\"\")","v":-65.298050026619748},-60.325173249832567,-52.330393795871288,-41.714198627869656,-29.008390753947108,-14.849449321388516,5.3353889619084015E-2,14.953484414363357,29.104541672501288,41.797648830209127,52.396962964289933,60.371526697707459,65.321865744735121,67,65.321865744735135,60.371526697707509,52.396962964289997,41.797648830209212,29.104541672501394,14.953484414363475,5.3353889619203031E-2,-14.849449321388398,-29.008390753947001,-41.714198627869571,-52.33039379587121,-60.325173249832517,-65.29805002661972,-66.999915025745153,"","","","","","","","","","",""]
[17,null,null,"y D",{"$f":"IF(E12<>\"\",$E$7*SIN(E$12),\"\")","v":0.10670774540461749},{"$f":"IF(F12<>\"\",$E$7*SIN(F$12),\"\")","v":15.005487753520867},29.152589462647839,41.839334186492934,52.43019771882075,60.394646003319835,65.33371147310946,66.999978756432924,65.309978593392543,60.348369108316717,52.363694982941354,41.75593696851778,29.056475426107614,14.901471592658256,5.5788706987414116E-14,-14.901471592658147,-29.056475426107514,-41.755936968517688,-52.36369498294129,-60.348369108316668,-65.309978593392515,-66.999978756432924,-65.333711473109489,-60.394646003319885,-52.430197718820828,-41.839334186493019,-29.152589462647946,-15.005487753520985,-0.1067077454047365,"","","","","","","","","","",""]
[18,null,null,"x E",{"$f":"IF(E12<>\"\",$E$8*COS(E$12),\"\")","v":-79.999898538203155},{"$f":"IF(F12<>\"\",$E$8*COS(F$12),\"\")","v":-77.967820927307159},-72.030057611740375,-62.484052293577655,-49.807998361635413,-34.636884482324902,-17.730685756881812,6.3706136858607779E-2,17.854906763418935,34.75169154925527,49.907640394279554,62.563537867808876,72.085405012188005,77.996257605653881,80,77.996257605653895,72.085405012188076,62.563537867808954,49.907640394279653,34.751691549255398,17.854906763419073,6.3706136858749887E-2,-17.73068575688167,-34.636884482324774,-49.807998361635306,-62.48405229357757,-72.030057611740318,-77.96782092730713,-79.999898538203155,"","","","","","","","","","",""]
[19,null,null,"y E",{"$f":"IF(E12<>\"\",$E$8*SIN(E$12),\"\")","v":0.12741223331894624},{"$f":"IF(F12<>\"\",$E$8*SIN(F$12),\"\")","v":17.917000302711482},34.80906204495264,49.957413954021412,62.603221156800899,72.113010153217715,78.010401758936666,79.999974634546774,77.982063992110497,72.057754159184142,62.523814905004606,49.857835186289883,34.694299016247896,17.7928019016815,6.6613381477509392E-14,-17.792801901681369,-34.694299016247776,-49.857835186289776,-62.523814905004528,-72.057754159184086,-77.982063992110469,-79.999974634546774,-78.010401758936695,-72.113010153217772,-62.603221156800984,-49.957413954021519,-34.809062044952775,-17.917000302711624,-0.12741223331908835,"","","","","","","","","","",""]
[20,null,null,"x F",{"$f":"IF(E12<>\"\",$E$9*COS(E$12),\"\")","v":-93.999880782388715},{"$f":"IF(F12<>\"\",$E$9*COS(F$12),\"\")","v":-91.61218958958591},-84.635317693794946,-73.418761444953745,-58.524398074921606,-40.698339266731764,-20.833555764336126,7.4854710808864133E-2,20.979515447017249,40.833237570374941,58.641477463278477,73.512156994675422,84.700350889320916,91.645602686643301,94,91.645602686643329,84.700350889320987,73.512156994675522,58.641477463278591,40.83323757037509,20.979515447017413,7.4854710809031111E-2,-20.833555764335962,-40.698339266731615,-58.524398074921486,-73.418761444953645,-84.635317693794875,-91.612189589585881,-93.999880782388715,"","","","","","","","","","",""]
[1,null,null,"y F",{"$f":"IF(E12<>\"\",$E$9*SIN(E$12),\"\")","v":0.14970937414976185},{"$f":"IF(F12<>\"\",$E$9*SIN(F$12),\"\")","v":21.052475355685992},40.900647902819358,58.699961395975158,73.558784859241058,84.732786930030812,91.662222066750573,93.999970195592454,91.628925190729831,84.667861137041371,73.465482513380408,58.582956343890615,40.76580134409128,20.906542234475761,7.8270723236073536E-14,-20.906542234475609,-40.765801344091138,-58.582956343890487,-73.465482513380323,-84.667861137041299,-91.628925190729802,-93.999970195592454,-91.662222066750616,-84.732786930030883,-73.558784859241158,-58.699961395975279,-40.900647902819507,-21.052475355686155,-0.14970937414992883,"","","","","","","","","","",""]
[2,null,null,"x Oso",{"$f":"IF(E10<>\"\",E10*COS(E$12),\"\")","v":-32.999958147008805},{"$f":"IF(F10<>\"\",F10*COS(F$12),\"\")","v":-72.120234357759117},-29.712398764842906,-57.797748371559329,-20.54579932417461,-32.039118146150535,-2.8812364354932942,1.0352247239523764E-2,2.9014223490555766,19.982222640821778,20.586901662640315,46.922653400856653,29.735229567527554,32.173456262332223,46,58.497193204240425,41.449107882008143,10.166574903518955,20.586901662640358,14.335072764067851,13.391180072564305,2.6278781454234328E-2,{"$f":"IF(AA10<>\"\",AA10*COS(AA$12),\"\")","v":-7.3139078747136885},-14.28771484895897,-20.545799324174563,-25.774671571100747,-11.704884361907801,-12.669770900687409,"","","","","","","","","","","",""]
[3,null,null,"y Oso",{"$f":"IF(E10<>\"\",E10*SIN(E$12),\"\")","v":5.2557546244065334E-2},{"$f":"IF(F10<>\"\",F10*SIN(F$12),\"\")","v":16.573225280008121},14.358738093542966,46.210607907469807,25.82382872718037,66.704534391726384,12.676690285827208,12.99999587811385,12.672085398717956,41.433208641530882,25.791073648314399,37.39337638971741,14.311398344202258,7.3395307844436184,3.8302694349567901E-14,-13.344601426261027,-19.949221934342471,-8.1018982177720886,-25.791073648314367,-29.723823590663432,-58.486547994082855,-32.99998953675054,{"$f":"IF(AA10<>\"\",AA10*SIN(AA$12),\"\")","v":-32.179290725561387},-29.74661668820233,-25.823828727180409,-20.607433256033875,-5.6564725823048256,-2.9115125491906388,"","","","","","","","","","","",""]
[4,null,null,"x pís y",5,5,5,5,5,5,5,5,5,5,5]
[5,null,null,"y pís y",85,73,60,45,30,0,-30,-45,-60,-73,-85]
[6,null,null,"písmeno","F","E","D","C","B",null,"B","C","D","E","F",null,null,null,null,null,null,"A"]
[7,null,null,"x pís x",85,73,60,45,30,0,-30,-45,-60,-73,-85,null,85,73,60,45,30,0,-30,-45,-60,-73,-85]
[8,null,null,"y pís x",5,5,5,5,5,5,5,5,5,5,5,null,5,5,5,5,5,5,5,5,5,5,5]
[9]
[10,null,"Target 2",null,74,33,74,33,74,33,74,74,13,33,74,74,74,74,74,74,74,74,74,74,74,13,13,74,74,74,13,13]
[11,null,null,"x Oso",{"$f":"IF(E33<>\"\",E33*COS(E$12),\"\")","v":-73.999906147837919},{"$f":"IF(F33<>\"\",F33*COS(F$12),\"\")","v":-32.161726132514204},-66.627803290859845,-25.774671571100782,-46.07239848451276,-14.287714848959023,-16.400884325115673,5.8928176594212192E-2,2.9014223490555766,14.335072764067798,46.164567364708589,57.871272527723207,66.678999636273915,72.146538285229838,74,72.146538285229852,66.678999636273971,57.871272527723285,46.164567364708681,32.145314683061244,16.515788756162642,1.0352247239546856E-2,-2.8812364354932716,-32.039118146150422,-46.072398484512661,-57.797748371559251,-11.704884361907801,-12.669770900687409,"","","","","","","","","","","",""]
[null,null,null,"y Oso",{"$f":"IF(E33<>\"\",E33*SIN(E$12),\"\")","v":0.11785631582002529},{"$f":"IF(F33<>\"\",F33*SIN(F$12),\"\")","v":7.3907626248684872},32.198382391581198,20.607433256033833,57.90797957004083,29.746616688202305,72.159621627016406,73.999976536955757,12.672085398717956,29.723823590663461,57.834528787129258,46.118497547318142,32.092226590029306,16.458341759055386,6.1617377866696188E-14,-16.458341759055266,-32.092226590029192,-46.118497547318043,-57.834528787129187,-66.653422597245282,-72.133409192702189,-12.99999587811385,-12.676690285827213,-66.70453439172644,-57.907979570040915,-46.2106079074699,-5.6564725823048256,-2.9115125491906388,"","","","","","","","","","","",""]
[]
[null,1,"Target 3",null,32,32,32,32,32,32,32,32,32,32,32,32,32,32,32,32,32,32,32,32,32,32,32,32,32,32,32,32]
[null,2,null,null,48,48,48,48,48,48,48,48,48,48,48,48,48,48,48,48,48,48,48,48,48,48,48,48,48,48,48,48]
[null,3,null,null,65,65,65,65,65,65,65,65,65,65,65,65,65,65,65,65,65,65,65,65,65,65,65,65,65,65,65,65]
[null,4,null,null,82,82,82,82,82,82,82,82,82,82,82,82,82,82,82,82,82,82,82,82,82,82,82,82,82,82,82,82]
[null,5,null,null,56,73,73,73,56,73,56,56,40,56,56,56,73,56,73,56,73,56,73,56,56,40,15,56,56,56,15,40]
[]
[null,null,null,"x A",{"$f":"IF(E12<>\"\",$E$37*COS(E$12),\"\")","v":-31.999959415281264},{"$f":"IF(F12<>\"\",$E$37*COS(F$12),\"\")","v":-31.187128370922863},-28.812023044696151,-24.993620917431063,-19.923199344654165,-13.854753792929962,-7.092274302752724,2.5482454743443111E-2,7.1419627053675736,13.900676619702107,19.963056157711822,25.02541514712355,28.834162004875203,31.198503042261549,32,31.19850304226156,28.834162004875228,25.025415147123582,19.963056157711861,13.900676619702159,7.1419627053676296,2.5482454743499954E-2,-7.092274302752668,-13.854753792929911,-19.923199344654122,-24.993620917431027,-28.812023044696126,-31.187128370922853,-31.999959415281264,"","","","","","","","","","",""]
[null,null,null,"y A",{"$f":"IF(E12<>\"\",$E$37*SIN(E$12),\"\")","v":5.0964893327578503E-2},{"$f":"IF(F12<>\"\",$E$37*SIN(F$12),\"\")","v":7.1668001210845933},13.923624817981057,19.982965581608564,25.04128846272036,28.845204061287085,31.204160703574665,31.999989853818708,31.192825596844198,28.823101663673658,25.009525962001842,19.943134074515953,13.877719606499159,7.1171207606725995,2.6645352591003757E-14,-7.117120760672548,-13.877719606499111,-19.94313407451591,-25.00952596200181,-28.823101663673633,-31.192825596844187,-31.999989853818708,-31.204160703574679,-28.845204061287109,-25.041288462720395,-19.982965581608607,-13.923624817981109,-7.1668001210846493,-5.0964893327635347E-2,"","","","","","","","","","",""]
[null,null,null,"x B",{"$f":"IF(E12<>\"\",$E$38*COS(E$12),\"\")","v":-47.999939122921894},{"$f":"IF(F12<>\"\",$E$38*COS(F$12),\"\")","v":-46.780692556384295},-43.218034567044228,-37.490431376146596,-29.884799016981248,-20.782130689394943,-10.638411454129086,3.8223682115164664E-2,10.71294405805136,20.851014929553159,29.944584236567735,37.538122720685323,43.251243007312809,46.797754563392324,48,46.797754563392338,43.251243007312844,37.538122720685372,29.944584236567792,20.851014929553237,10.712944058051445,3.822368211524993E-2,-10.638411454129002,-20.782130689394865,-29.884799016981184,-37.490431376146539,-43.218034567044185,-46.780692556384281,-47.999939122921894,"","","","","","","","","","",""]
[null,null,null,"y B",{"$f":"IF(E12<>\"\",$E$38*SIN(E$12),\"\")","v":7.6447339991367755E-2},{"$f":"IF(F12<>\"\",$E$38*SIN(F$12),\"\")","v":10.750200181626891},20.885437226971586,29.974448372412844,37.561932694080539,43.267806091930623,46.806241055361994,47.999984780728063,46.789238395266295,43.234652495510488,37.514288943002761,29.91470111177393,20.816579409748741,10.6756811410089,3.9968028886505635E-14,-10.675681141008821,-20.816579409748666,-29.914701111773866,-37.514288943002711,-43.234652495510446,-46.789238395266281,-47.999984780728063,-46.806241055362023,-43.267806091930666,-37.561932694080596,-29.974448372412908,-20.885437226971664,-10.750200181626974,-7.644733999145302E-2,"","","","","","","","","","",""]
[null,null,null,"x C",{"$f":"IF(E12<>\"\",$E$39*COS(E$12),\"\")","v":-64.999917562290065},{"$f":"IF(F12<>\"\",$E$39*COS(F$12),\"\")","v":-63.348854503437067},-58.524421809539056,-50.768292488531849,-40.468998668828775,-28.142468641888986,-14.406182177466471,5.1761236197618819E-2,14.507111745277884,28.235749383769907,40.549957820352141,50.832874517594711,58.569391572402758,63.371959304593773,65,63.371959304593794,58.569391572402807,50.832874517594774,40.549957820352219,28.23574938377001,14.507111745277998,5.1761236197734282E-2,-14.406182177466357,-28.142468641888883,-40.468998668828689,-50.76829248853177,-58.524421809539007,-63.348854503437046,-64.999917562290065,"","","","","","","","","","",""]
[null,null,null,"y C",{"$f":"IF(E12<>\"\",$E$39*SIN(E$12),\"\")","v":0.10352243957164384},{"$f":"IF(F12<>\"\",$E$39*SIN(F$12),\"\")","v":14.55756274595308},28.282362911524022,40.590398837642397,50.865117189900729,58.591820749489393,63.383451429136038,64.999979390569251,63.360426993589776,58.546925254337118,50.80059961031624,40.509491088860528,28.189117950701416,14.456651545116218,5.4123372450476381E-14,-14.456651545116113,-28.18911795070132,-40.509491088860443,-50.800599610316176,-58.546925254337069,-63.360426993589755,-64.999979390569251,-63.383451429136066,-58.591820749489443,-50.865117189900801,-40.590398837642482,-28.282362911524128,-14.557562745953193,-0.1035224395717593,"","","","","","","","","","",""]
[null,null,null,"x D",{"$f":"IF(E12<>\"\",$E$40*COS(E$12),\"\")","v":-81.999896001658243},{"$f":"IF(F12<>\"\",$E$40*COS(F$12),\"\")","v":-79.917016450489839},-73.830809052033885,-64.046153600917094,-51.053198320676302,-35.502806594383031,-18.173952900803855,6.5298790280072974E-2,18.301279432504408,35.620483837986647,51.155331404136547,64.127626314504099,73.887540137492707,79.946164045795214,82,79.946164045795243,73.887540137492778,64.127626314504184,51.155331404136646,35.620483837986782,18.30127943250455,6.5298790280218635E-2,-18.173952900803712,-35.502806594382896,-51.053198320676188,-64.046153600917009,-73.830809052033828,-79.917016450489811,-81.999896001658243,"","","","","","","","","","",""]
[null,null,null,"y D",{"$f":"IF(E12<>\"\",$E$40*SIN(E$12),\"\")","v":0.13059753915191991},{"$f":"IF(F12<>\"\",$E$40*SIN(F$12),\"\")","v":18.364925310279272},35.679288596076461,51.206349302871942,64.16830168572092,73.915835407048149,79.960661802910082,81.999974000410432,79.931615591913257,73.859198013163748,64.086910277629713,51.104281065947127,35.561656491654098,18.237621949223538,6.8278716014447127E-14,-18.237621949223403,-35.56165649165397,-51.104281065947021,-64.086910277629642,-73.859198013163677,-79.931615591913229,-81.999974000410432,-79.96066180291011,-73.91583540704822,-64.168301685721019,-51.206349302872056,-35.679288596076589,-18.364925310279414,-0.13059753915206557,"","","","","","","","","","",""]
[null,null,null,"x Oso",{"$f":"IF(E41<>\"\",E41*COS(E$12),\"\")","v":-55.999928976742211},{"$f":"IF(F41<>\"\",F41*COS(F$12),\"\")","v":-71.145636596167776},-65.72742757071309,-57.016697717889613,-34.865598853144789,-31.606157090121478,-12.411480029817266,4.4594295801025446E-2,8.9274533817094675,24.326184084478687,34.935348275995686,43.794476507466214,65.777932073621557,54.597380323957708,73,54.597380323957729,65.777932073621614,43.794476507466271,45.540721859780184,24.326184084478779,12.498434734393351,3.1853068429374944E-2,-3.324503579415313,-24.245819137627343,-34.865598853144718,-43.738836605504297,-13.50563580220131,-38.983910463653565,"","","","","","","","","","","",""]
[1,null,null,"y Oso",{"$f":"IF(E41<>\"\",E41*SIN(E$12),\"\")","v":8.9188563323262388E-2},{"$f":"IF(F41<>\"\",F41*SIN(F$12),\"\")","v":16.349262776224229},31.763269116019288,45.586140233044539,43.822254809760629,65.803121764811166,54.607281231255662,55.999982244182739,38.991031996055248,50.440427911428898,43.766670433503222,34.900484630402914,31.658547852326208,12.454961331177049,6.0784710598227321E-14,-12.454961331176959,-31.658547852326098,-34.900484630402843,-57.052981100816631,-50.440427911428856,-54.587444794477328,-39.999987317273387,-14.62695032980063,-50.479107107252439,-43.822254809760693,-34.970189767815064,-6.5266991334286448,-8.9585001513558122,"","","","","","","","","","","",""]
[2,null,null,"x pís y",5,5,5,5,5,5,5]
[3,null,null,"y pís y",73,55,40,0,-40,-55,-73]
[4,null,null,"písmeno","D","C","B",null,"B","C","D",null,null,null,null,"A"]
[5,null,null,"x pís x",73,55,40,0,-40,-55,-73,null,73,55,40,0,-40,-55,-73]
[6,null,null,"y pís x",5,5,5,5,5,5,5,null,5,5,5,5,5,5,5]
[7]
[8,null,"Target 4",null,73,40,73,56,73,15,73,73,73,15,73,73,73,73,73,73,73,73,73,73,73,73,73,73,73,73,73,73]
[9,null,null,"x Oso",{"$f":"IF(E59<>\"\",E59*COS(E$12),\"\")","v":-72.999907416110389},{"$f":"IF(F59<>\"\",F59*COS(F$12),\"\")","v":-38.983910463653579},-65.72742757071309,-43.73883660550436,-45.449798504992316,-6.49441584043592,-16.179250753154651,5.8131849883479594E-2,16.292602421619776,6.5159421654853631,45.540721859780092,57.089228304375595,65.777932073621557,71.171585065159164,73,71.171585065159178,65.777932073621614,57.089228304375673,45.540721859780184,31.710918538695548,16.292602421619904,5.8131849883609268E-2,-16.179250753154523,-31.606157090121357,-45.449798504992216,-57.016697717889528,-65.727427570713033,-71.145636596167762,"","","","","","","","","","","",""]
[10,null,null,"y Oso",{"$f":"IF(E59<>\"\",E59*SIN(E$12),\"\")","v":0.11626366290353846},{"$f":"IF(F59<>\"\",F59*SIN(F$12),\"\")","v":8.9585001513557412},31.763269116019288,34.970189767814986,57.125439305580819,13.521189403728322,71.184491605029706,72.999976854023927,71.158633392800823,13.510828904847028,57.052981100816702,45.49527460748952,31.658547852326208,16.235931735284368,6.0784710598227321E-14,-16.23593173528425,-31.658547852326098,-45.495274607489421,-57.052981100816631,-65.752700670255479,-71.158633392800809,-72.999976854023927,-71.184491605029734,-65.803121764811223,-57.125439305580905,-45.586140233044631,-31.763269116019405,-16.349262776224357,"","","","","","","","","","","",""]
[11]
[12,null,"Target 5",null,40,73,56,73,40,73,40,73,40,56,73,73,56,56,73,56,73,15,73,56,56,56,40,40,40,56,40,73]
[13,null,null,"x Oso",{"$f":"IF(E63<>\"\",E63*COS(E$12),\"\")","v":-39.999949269101577},{"$f":"IF(F63<>\"\",F63*COS(F$12),\"\")","v":-71.145636596167776},-50.421040328218261,-57.016697717889613,-24.903999180817706,-31.606157090121478,-8.8653428784409058,5.8131849883479594E-2,8.9274533817094675,24.326184084478687,45.540721859780092,57.089228304375595,50.459783508531608,54.597380323957708,73,54.597380323957729,65.777932073621614,11.730663350214179,45.540721859780184,24.326184084478779,12.498434734393351,4.4594295801124922E-2,-8.8653428784408348,-17.318442241162387,-24.903999180817653,-43.738836605504297,-36.015028805870159,-71.145636596167762,"","","","","","","","","","","",""]
[14,null,null,"y Oso",{"$f":"IF(E63<>\"\",E63*SIN(E$12),\"\")","v":6.3706116659473122E-2},{"$f":"IF(F63<>\"\",F63*SIN(F$12),\"\")","v":16.349262776224229},24.366343431466852,45.586140233044539,31.301610578400449,65.803121764811166,39.005200879468333,72.999976854023927,38.991031996055248,50.440427911428898,57.052981100816702,45.49527460748952,24.28600931137353,12.454961331177049,6.0784710598227321E-14,-12.454961331176959,-31.658547852326098,-9.348344097429333,-57.052981100816631,-50.440427911428856,-54.587444794477328,-55.999982244182739,-39.005200879468347,-36.056505076608886,null,null,-17.404531022476387,-16.349262776224357,"","","","","","","","","","","",""]
[15]
[16,null,"Target 6",null,73,73,73,56,56,15,73,73,73,15,73,56,73,73,73,56,56,56,73,56,73,56,73,73,73,73,73,73]
[17,null,null,"x Oso",{"$f":"IF(E67<>\"\",E67*COS(E$12),\"\")","v":-72.999907416110389},{"$f":"IF(F67<>\"\",F67*COS(F$12),\"\")","v":-71.145636596167776},-65.72742757071309,-43.73883660550436,-34.865598853144789,-6.49441584043592,-16.179250753154651,5.8131849883479594E-2,16.292602421619776,6.5159421654853631,45.540721859780092,43.794476507466214,65.777932073621557,71.171585065159164,73,54.597380323957729,50.45978350853165,43.794476507466271,45.540721859780184,24.326184084478779,16.292602421619904,4.4594295801124922E-2,-16.179250753154523,-31.606157090121357,-45.449798504992216,-57.016697717889528,-65.727427570713033,-71.145636596167762,"","","","","","","","","","","",""]
[null,null,null,"y Oso",{"$f":"IF(E67<>\"\",E67*SIN(E$12),\"\")","v":0.11626366290353846},{"$f":"IF(F67<>\"\",F67*SIN(F$12),\"\")","v":16.349262776224229},31.763269116019288,34.970189767814986,43.822254809760629,13.521189403728322,71.184491605029706,72.999976854023927,71.158633392800823,13.510828904847028,57.052981100816702,34.900484630402914,31.658547852326208,16.235931735284368,6.0784710598227321E-14,-12.454961331176959,-24.286009311373444,-34.900484630402843,-57.052981100816631,-50.440427911428856,-71.158633392800809,-55.999982244182739,-71.184491605029734,-65.803121764811223,-57.125439305580905,-45.586140233044631,-31.763269116019405,-16.349262776224357,"","","","","","","","","","","",""]
[]
[]
[]
[]
[]
[]
[]
[]
[]
[]
[]
[]
[]
[]
[]
[]
[]
[]
[]
[]
[]
[]
[]
[]
[]
[]
[]
[]
[]
[]
[]
[]
[]
[null,null,null,null,null,null,null,null,null,null,null,null,null,null,null,null,null,null,null,null,null,null,null,null,null,null,null,null,null,null,{"$f":"IF(AE102<>\"\",(IF(AE102<=26,\"A\",IF(AE102<=40,\"B\",IF(AE102<=53,\"C\",IF(AE102<=67,\"D\",IF(AE102<=80,\"E\",IF(AE102<=90,\"D\",\"x\"))))))),\"\")","v":""},"","","","","","","","","","","","",""]

{"sheet":"Target_grafy_Q_2","index":20,"n_rows":24,"n_cols":45,"rows_kept":24,"cut":false,"hidden":false,"merged":[]}
["Target grafy otázka 2",null,3,4,5,6,7,8,9,10,11,12,13,14,15,16,17,18,19,20,21,22,23,24,25,26,27,28,29,30,31,32]
[null,null,28,null,1,2,3,4,5,6,7,8,9,10,11,12,13,14,15,16,17,18,19,20,21,22,23,24,25,26,27,28,29,30,31,32,33,34,35,36,37,38,39,40]
[null,null,null,null,"01_Oso m","02_Oso m","03_Oso m","04_Oso m","05_Oso m","*06_Oso ","07_Oso m","08_Oso m","09_Oso f","**10_Oso","11_Oso m","12_Oso m","13_Oso m","14_Oso m","15_Oso f","16_Oso f","17_Oso f","18_Oso f","19_Oso f","20_Oso f","21_Oso f","22_Oso f","23_Oso f","24_Oso f","25_Oso f","26_Oso f","27_Oso f","28_Oso f"]
[null,"Osoby","Target 1",null,60,74,33,74,46,74,13,13,13,74,33,74,33,33,33,46,46,13,33,60,33,33,33,46,13,13,33,13]
[null,"Osoby","Target 2",null,74,33,74,33,74,33,13,74,13,33,74,33,74,74,74,74,74,13,74,74,74,74,13,74,13,13,74,13]
[null,"Osoby","Target 3",null,73,73,56,73,73,73,40,56,15,73,73,73,73,56,56,73,73,40,56,73,73,73,15,73,15,40,40,15]
[null,"Osoby","Target 4",null,73,40,73,40,73,15,73,73,73,15,73,73,73,73,73,73,73,73,73,73,73,73,73,73,73,73,73,73]
[null,"Osoby","Target 5",null,56,73,56,56,56,73,40,73,56,73,73,73,56,73,56,73,73,15,56,56,73,56,15,73,15,40,56,73]
[null,"Osoby","Target 6",null,56,15,73,40,73,40,73,73,73,40,73,56,73,73,73,73,56,73,73,73,73,73,73,73,73,73,73,73]
[]
[null,null,null,null,null,null,null,null,null,null,null,null,null,null,null,null,null,null,null,null,null,null,null,null,null,null,null,null,null,null,null,null,null,null,null,null,null,null,null,null,null,null,null,null,"Prírastok"]
[null,null,"Uhol",null,3.14,{"$f":"IF(F4<>\"\",E12-$AS$12,\"\")","v":2.9157142857142859},{"$f":"IF(G4<>\"\",F12-$AS$12,\"\")","v":2.6914285714285717},2.4671428571428575,2.2428571428571433,2.0185714285714291,1.7942857142857149,1.5700000000000007,1.3457142857142865,1.1214285714285723,0.89714285714285802,0.67285714285714371,0.4485714285714294,0.22428571428571512,8.3266726846886741E-16,-0.22428571428571345,-0.44857142857142773,-0.67285714285714204,-0.89714285714285635,-1.1214285714285706,-1.3457142857142848,-1.569999999999999,-1.7942857142857132,-2.0185714285714274,-2.2428571428571416,-2.4671428571428557,-2.6914285714285699,-2.9157142857142841,"","","","","","","","","","","","",{"$f":"IF(C2<>\"\",6.28/(C2),\"\")","v":0.22428571428571428}]
[null,null,"Target 1 x",null,{"$f":"IF(E12<>\"\",E4*COS(E$12),\"\")","v":-59.999923903652373},{"$f":"IF(F12<>\"\",F4*COS(F$12),\"\")","v":-72.120234357759117},-29.712398764842906,-57.797748371559329,-28.639599057940362,-32.039118146150535,-2.8812364354932942,1.0352247239523764E-2,2.9014223490555766,32.145314683061123,20.586901662640315,57.871272527723207,29.735229567527554,32.173456262332223,33,44.847848123250991,41.449107882008143,10.166574903518955,20.586901662640358,26.063768661941548,7.3651490399103681,2.6278781454234328E-2,-7.3139078747136885,-19.916208577336747,-8.0937997337657368,-10.153658497706354,-29.712398764842881,-12.669770900687409,"","","","","","","","","","","",""]
[null,null,"Target 1 y",null,{"$f":"IF(E12<>\"\",E4*SIN(E$12),\"\")","v":9.5559174989209697E-2},{"$f":"IF(F12<>\"\",F4*SIN(F$12),\"\")","v":16.573225280008121},14.358738093542966,46.210607907469807,35.996852165160519,66.704534391726384,12.676690285827208,12.99999587811385,12.672085398717956,66.653422597245338,25.791073648314399,46.118497547318142,14.311398344202258,7.3395307844436184,2.7478019859472624E-14,-10.230861093466787,-19.949221934342471,-8.1018982177720886,-25.791073648314367,-54.043315619388061,-32.167601396745567,-32.99998953675054,-32.179290725561387,-41.464980838100217,-10.173023437980161,-8.1180797675284957,-14.358738093543019,-2.9115125491906388,"","","","","","","","","","","",""]
[null,null,"Target 2 x",null,{"$f":"IF(E12<>\"\",E5*COS(E$12),\"\")","v":-73.999906147837919},{"$f":"IF(F12<>\"\",F5*COS(F$12),\"\")","v":-32.161726132514204},-66.627803290859845,-25.774671571100782,-46.07239848451276,-14.287714848959023,-2.8812364354932942,5.8928176594212192E-2,2.9014223490555766,14.335072764067798,46.164567364708589,25.807459370471161,66.678999636273915,72.146538285229838,74,72.146538285229852,66.678999636273971,10.166574903518955,46.164567364708681,32.145314683061244,16.515788756162642,5.8928176594343643E-2,-2.8812364354932716,-32.039118146150422,-8.0937997337657368,-10.153658497706354,-66.627803290859788,-12.669770900687409,"","","","","","","","","","","",""]
[null,null,"Target 2 y",null,{"$f":"IF(E12<>\"\",E5*SIN(E$12),\"\")","v":0.11785631582002529},{"$f":"IF(F12<>\"\",F5*SIN(F$12),\"\")","v":7.3907626248684872},32.198382391581198,20.607433256033833,57.90797957004083,29.746616688202305,12.676690285827208,73.999976536955757,12.672085398717956,29.723823590663461,57.834528787129258,20.566357014344575,32.092226590029306,16.458341759055386,6.1617377866696188E-14,-16.458341759055266,-32.092226590029192,-8.1018982177720886,-57.834528787129187,-66.653422597245282,-72.133409192702189,-73.999976536955757,-12.676690285827213,-66.70453439172644,-10.173023437980161,-8.1180797675284957,-32.198382391581312,-2.9115125491906388,"","","","","","","","","","","",""]
[null,null,"Target 3 x",null,{"$f":"IF(E12<>\"\",E6*COS(E$12),\"\")","v":-72.999907416110389},{"$f":"IF(F12<>\"\",F6*COS(F$12),\"\")","v":-71.145636596167776},-50.421040328218261,-57.016697717889613,-45.449798504992316,-31.606157090121478,-8.8653428784409058,4.4594295801025446E-2,3.3477950181410501,31.710918538695431,45.540721859780092,57.089228304375595,65.777932073621557,54.597380323957708,56,71.171585065159178,65.777932073621614,31.281768933904477,34.935348275995757,31.710918538695548,16.292602421619904,5.8131849883609268E-2,-3.324503579415313,-31.606157090121357,-9.3389996928066203,-31.242026146788785,-36.015028805870159,-14.618966423870088,"","","","","","","","",""]
[null,null,"Target 3 y",null,{"$f":"IF(E12<>\"\",E6*SIN(E$12),\"\")","v":0.11626366290353846},{"$f":"IF(F12<>\"\",F6*SIN(F$12),\"\")","v":16.349262776224229},24.366343431466852,45.586140233044539,57.125439305580819,65.803121764811166,39.005200879468333,55.999982244182739,14.621636998520717,65.752700670255535,57.052981100816702,45.49527460748952,31.658547852326208,12.454961331177049,4.6629367034256575E-14,-16.23593173528425,-31.658547852326098,-24.928917593144888,-43.766670433503165,-65.752700670255479,-71.158633392800809,-72.999976854023927,-14.62695032980063,-65.803121764811223,-11.738103966900185,-24.978706977010759,-17.404531022476387,-3.3594375567584294,"","","","","","","","",""]
[null,null,"Target 4 x",null,{"$f":"IF(E12<>\"\",E7*COS(E$12),\"\")","v":-72.999907416110389},{"$f":"IF(F12<>\"\",F7*COS(F$12),\"\")","v":-38.983910463653579},-65.72742757071309,-31.242026146788827,-45.449798504992316,-6.49441584043592,-16.179250753154651,5.8131849883479594E-2,16.292602421619776,6.5159421654853631,45.540721859780092,57.089228304375595,65.777932073621557,71.171585065159164,73,71.171585065159178,65.777932073621614,57.089228304375673,45.540721859780184,31.710918538695548,16.292602421619904,5.8131849883609268E-2,-16.179250753154523,-31.606157090121357,-45.449798504992216,-57.016697717889528,-65.727427570713033,-71.145636596167762,"","","","","","","","","","","",""]
[null,null,"Target 4 y",null,{"$f":"IF(E12<>\"\",E7*SIN(E$12),\"\")","v":0.11626366290353846},{"$f":"IF(F12<>\"\",F7*SIN(F$12),\"\")","v":8.9585001513557412},31.763269116019288,24.978706977010706,57.125439305580819,13.521189403728322,71.184491605029706,72.999976854023927,71.158633392800823,13.510828904847028,57.052981100816702,45.49527460748952,31.658547852326208,16.235931735284368,6.0784710598227321E-14,-16.23593173528425,-31.658547852326098,-45.495274607489421,-57.052981100816631,-65.752700670255479,-71.158633392800809,-72.999976854023927,-71.184491605029734,-65.803121764811223,-57.125439305580905,-45.586140233044631,-31.763269116019405,-16.349262776224357,"","","","","","","","","","","",""]
[null,null,"Target 5 x",null,{"$f":"IF(E12<>\"\",E8*COS(E$12),\"\")","v":-55.999928976742211},{"$f":"IF(F12<>\"\",F8*COS(F$12),\"\")","v":-71.145636596167776},-50.421040328218261,-43.73883660550436,-34.865598853144789,-31.606157090121478,-8.8653428784409058,5.8131849883479594E-2,12.498434734393253,31.710918538695431,45.540721859780092,57.089228304375595,50.459783508531608,71.171585065159164,56,71.171585065159178,65.777932073621614,11.730663350214179,34.935348275995757,24.326184084478779,16.292602421619904,4.4594295801124922E-2,-3.324503579415313,-31.606157090121357,-9.3389996928066203,-31.242026146788785,-50.421040328218218,-71.145636596167762,"","","","","","","","","","","",""]
[null,null,"Target 5 y",null,{"$f":"IF(E12<>\"\",E8*SIN(E$12),\"\")","v":8.9188563323262388E-2},{"$f":"IF(F12<>\"\",F8*SIN(F$12),\"\")","v":16.349262776224229},24.366343431466852,34.970189767814986,43.822254809760629,65.803121764811166,39.005200879468333,72.999976854023927,54.587444794477349,65.752700670255535,57.052981100816702,45.49527460748952,24.28600931137353,16.235931735284368,4.6629367034256575E-14,-16.23593173528425,-31.658547852326098,-9.348344097429333,-43.766670433503165,-50.440427911428856,-71.158633392800809,-55.999982244182739,-14.62695032980063,-65.803121764811223,-11.738103966900185,-24.978706977010759,-24.366343431466941,-16.349262776224357,"","","","","","","","","","","",""]
[null,null,"Target 6 x",null,{"$f":"IF(E12<>\"\",E9*COS(E$12),\"\")","v":-55.999928976742211},{"$f":"IF(F12<>\"\",F9*COS(F$12),\"\")","v":-14.618966423870091},-65.72742757071309,-31.242026146788827,-45.449798504992316,-17.318442241162451,-16.179250753154651,5.8131849883479594E-2,16.292602421619776,17.375845774627635,45.540721859780092,43.794476507466214,65.777932073621557,71.171585065159164,73,71.171585065159178,50.45978350853165,57.089228304375673,45.540721859780184,31.710918538695548,16.292602421619904,5.8131849883609268E-2,-16.179250753154523,-31.606157090121357,-45.449798504992216,-57.016697717889528,-65.727427570713033,-71.145636596167762,"","","","","","","","","","","",""]
[null,null,"Target 6 y",null,{"$f":"IF(E12<>\"\",E9*SIN(E$12),\"\")","v":8.9188563323262388E-2},{"$f":"IF(F12<>\"\",F9*SIN(F$12),\"\")","v":3.3594375567584032},31.763269116019288,24.978706977010706,57.125439305580819,36.056505076608858,71.184491605029706,72.999976854023927,71.158633392800823,36.028877079592071,57.052981100816702,34.900484630402914,31.658547852326208,16.235931735284368,6.0784710598227321E-14,-16.23593173528425,-24.286009311373444,-45.495274607489421,-57.052981100816631,-65.752700670255479,-71.158633392800809,-72.999976854023927,-71.184491605029734,-65.803121764811223,-57.125439305580905,-45.586140233044631,-31.763269116019405,-16.349262776224357,"","","","","","","","","","","",""]

{"sheet":"Target_grafy_Q_3","index":21,"n_rows":24,"n_cols":45,"rows_kept":24,"cut":false,"hidden":false,"merged":[]}
["Target grafy otázka 3"]
[null,null,28,null,1,2,3,4,5,6,7,8,9,10,11,12,13,14,15,16,17,18,19,20,21,22,23,24,25,26,27,28,29,30,31,32,33,34,35,36,37,38,39,40]
[null,null,null,null,"01_Oso m","02_Oso m","03_Oso m","04_Oso m","05_Oso m","*06_Oso ","07_Oso m","08_Oso m","09_Oso f","**10_Oso","11_Oso m","12_Oso m","13_Oso m","14_Oso m","15_Oso f","16_Oso f","17_Oso f","18_Oso f","19_Oso f","20_Oso f","21_Oso f","22_Oso f","23_Oso f","24_Oso f","25_Oso f","26_Oso f","27_Oso f","28_Oso f"]
[null,"Osoby","Target 1",null,60,74,33,74,33,46,33,13,13,46,13,13,87,33,46,33,46,33,33,33,13,33,13,46,33,33,60,13]
[null,"Osoby","Target 2",null,74,33,74,33,74,33,74,74,13,60,74,74,74,74,74,74,74,13,74,74,74,74,13,74,74,74,60,13]
[null,"Osoby","Target 3",null,73,73,56,73,56,56,56,56,40,56,56,56,73,73,73,56,73,40,56,56,56,56,15,73,56,73,40,56]
[null,"Osoby","Target 4",null,73,40,73,56,73,15,73,73,73,15,73,73,73,73,73,73,73,73,73,73,73,73,73,73,73,73,56,73]
[null,"Osoby","Target 5",null,56,73,40,73,56,56,40,56,56,15,40,73,73,73,73,56,73,15,56,73,56,73,40,56,56,73,40,73]
[null,"Osoby","Target 6",null,56,56,73,73,73,15,73,73,73,15,56,73,73,73,56,56,40,56,73,73,73,73,73,73,56,73,56,73]
[]
[null,null,null,null,null,null,null,null,null,null,null,null,null,null,null,null,null,null,null,null,null,null,null,null,null,null,null,null,null,null,null,null,null,null,null,null,null,null,null,null,null,null,null,null,"Prírastok"]
[null,null,"Uhol",null,3.14,{"$f":"IF(F4<>\"\",E12-$AS$12,\"\")","v":2.9157142857142859},{"$f":"IF(G4<>\"\",F12-$AS$12,\"\")","v":2.6914285714285717},2.4671428571428575,2.2428571428571433,2.0185714285714291,1.7942857142857149,1.5700000000000007,1.3457142857142865,1.1214285714285723,0.89714285714285802,0.67285714285714371,0.4485714285714294,0.22428571428571512,8.3266726846886741E-16,-0.22428571428571345,-0.44857142857142773,-0.67285714285714204,-0.89714285714285635,-1.1214285714285706,-1.3457142857142848,-1.569999999999999,-1.7942857142857132,-2.0185714285714274,-2.2428571428571416,-2.4671428571428557,-2.6914285714285699,-2.9157142857142841,"","","","","","","","","","","","",{"$f":"IF(C2<>\"\",6.28/(C2),\"\")","v":0.22428571428571428}]
[null,null,"Target 1 x",null,{"$f":"IF(E12<>\"\",E4*COS(E$12),\"\")","v":-59.999923903652373},{"$f":"IF(F12<>\"\",F4*COS(F$12),\"\")","v":-72.120234357759117},-29.712398764842906,-57.797748371559329,-20.54579932417461,-19.916208577336821,-7.3139078747137463,1.0352247239523764E-2,2.9014223490555766,19.982222640821778,8.1099915640704285,10.166574903518942,78.392877950754453,32.173456262332223,46,32.17345626233223,41.449107882008143,25.807459370471193,20.586901662640358,14.335072764067851,2.9014223490555997,2.6278781454234328E-2,-2.8812364354932716,-19.916208577336747,-20.545799324174563,-25.774671571100747,-54.022543208805239,-12.669770900687409,"","","","","","","","","","","",""]
[null,null,"Target 1 y",null,{"$f":"IF(E12<>\"\",E4*SIN(E$12),\"\")","v":9.5559174989209697E-2},{"$f":"IF(F12<>\"\",F4*SIN(F$12),\"\")","v":16.573225280008121},14.358738093542966,46.210607907469807,25.82382872718037,41.464980838100182,32.179290725561373,12.99999587811385,12.672085398717956,41.433208641530882,10.160119922063249,8.1018982177721064,37.730050180169592,7.3395307844436184,3.8302694349567901E-14,-7.3395307844435651,-19.949221934342471,-20.566357014344533,-25.791073648314367,-29.723823590663432,-12.67208539871795,-32.99998953675054,-12.676690285827213,-41.464980838100217,-25.823828727180409,-20.607433256033875,-26.106796533714579,-2.9115125491906388,"","","","","","","","","","","",""]
[null,null,"Target 2 x",null,{"$f":"IF(E12<>\"\",E5*COS(E$12),\"\")","v":-73.999906147837919},{"$f":"IF(F12<>\"\",F5*COS(F$12),\"\")","v":-32.161726132514204},-66.627803290859845,-25.774671571100782,-46.07239848451276,-14.287714848959023,-16.400884325115673,5.8928176594212192E-2,2.9014223490555766,26.063768661941452,46.164567364708589,57.871272527723207,66.678999636273915,72.146538285229838,74,72.146538285229852,66.678999636273971,10.166574903518955,46.164567364708681,32.145314683061244,16.515788756162642,5.8928176594343643E-2,-2.8812364354932716,-32.039118146150422,-46.072398484512661,-57.797748371559251,-54.022543208805239,-12.669770900687409,"","","","","","","","","","","",""]
[null,null,"Target 2 y",null,{"$f":"IF(E12<>\"\",E5*SIN(E$12),\"\")","v":0.11785631582002529},{"$f":"IF(F12<>\"\",F5*SIN(F$12),\"\")","v":7.3907626248684872},32.198382391581198,20.607433256033833,57.90797957004083,29.746616688202305,72.159621627016406,73.999976536955757,12.672085398717956,54.04331561938811,57.834528787129258,46.118497547318142,32.092226590029306,16.458341759055386,6.1617377866696188E-14,-16.458341759055266,-32.092226590029192,-8.1018982177720886,-57.834528787129187,-66.653422597245282,-72.133409192702189,-73.999976536955757,-12.676690285827213,-66.70453439172644,-57.907979570040915,-46.2106079074699,-26.106796533714579,-2.9115125491906388,"","","","","","","","","","","",""]
[null,null,"Target 3 x",null,{"$f":"IF(E12<>\"\",E6*COS(E$12),\"\")","v":-72.999907416110389},{"$f":"IF(F12<>\"\",F6*COS(F$12),\"\")","v":-71.145636596167776},-50.421040328218261,-57.016697717889613,-34.865598853144789,-24.245819137627436,-12.411480029817266,4.4594295801025446E-2,8.9274533817094675,24.326184084478687,34.935348275995686,43.794476507466214,65.777932073621557,71.171585065159164,73,54.597380323957729,65.777932073621614,31.281768933904477,34.935348275995757,24.326184084478779,12.498434734393351,4.4594295801124922E-2,-3.324503579415313,-31.606157090121357,-34.865598853144718,-57.016697717889528,-36.015028805870159,-54.57747464911499,"","","","","","","","",""]
[null,null,"Target 3 y",null,{"$f":"IF(E12<>\"\",E6*SIN(E$12),\"\")","v":0.11626366290353846},{"$f":"IF(F12<>\"\",F6*SIN(F$12),\"\")","v":16.349262776224229},24.366343431466852,45.586140233044539,43.822254809760629,50.479107107252396,54.607281231255662,55.999982244182739,38.991031996055248,50.440427911428898,43.766670433503222,34.900484630402914,31.658547852326208,16.235931735284368,6.0784710598227321E-14,-12.454961331176959,-31.658547852326098,-24.928917593144888,-43.766670433503165,-50.440427911428856,-54.587444794477328,-55.999982244182739,-14.62695032980063,-65.803121764811223,-43.822254809760693,-45.586140233044631,-17.404531022476387,-12.541900211898136,"","","","","","","","",""]
[null,null,"Target 4 x",null,{"$f":"IF(E12<>\"\",E7*COS(E$12),\"\")","v":-72.999907416110389},{"$f":"IF(F12<>\"\",F7*COS(F$12),\"\")","v":-38.983910463653579},-65.72742757071309,-43.73883660550436,-45.449798504992316,-6.49441584043592,-16.179250753154651,5.8131849883479594E-2,16.292602421619776,6.5159421654853631,45.540721859780092,57.089228304375595,65.777932073621557,71.171585065159164,73,71.171585065159178,65.777932073621614,57.089228304375673,45.540721859780184,31.710918538695548,16.292602421619904,5.8131849883609268E-2,-16.179250753154523,-31.606157090121357,-45.449798504992216,-57.016697717889528,-50.421040328218218,-71.145636596167762,"","","","","","","","","","","",""]
[null,null,"Target 4 y",null,{"$f":"IF(E12<>\"\",E7*SIN(E$12),\"\")","v":0.11626366290353846},{"$f":"IF(F12<>\"\",F7*SIN(F$12),\"\")","v":8.9585001513557412},31.763269116019288,34.970189767814986,57.125439305580819,13.521189403728322,71.184491605029706,72.999976854023927,71.158633392800823,13.510828904847028,57.052981100816702,45.49527460748952,31.658547852326208,16.235931735284368,6.0784710598227321E-14,-16.23593173528425,-31.658547852326098,-45.495274607489421,-57.052981100816631,-65.752700670255479,-71.158633392800809,-72.999976854023927,-71.184491605029734,-65.803121764811223,-57.125439305580905,-45.586140233044631,-24.366343431466941,-16.349262776224357,"","","","","","","","","","","",""]
[null,null,"Target 5 x",null,{"$f":"IF(E12<>\"\",E8*COS(E$12),\"\")","v":-55.999928976742211},{"$f":"IF(F12<>\"\",F8*COS(F$12),\"\")","v":-71.145636596167776},-36.015028805870188,-57.016697717889613,-34.865598853144789,-24.245819137627436,-8.8653428784409058,4.4594295801025446E-2,12.498434734393253,6.5159421654853631,24.953820197139777,57.089228304375595,65.777932073621557,71.171585065159164,73,54.597380323957729,65.777932073621614,11.730663350214179,34.935348275995757,31.710918538695548,12.498434734393351,5.8131849883609268E-2,-8.8653428784408348,-24.245819137627343,-34.865598853144718,-57.016697717889528,-36.015028805870159,-71.145636596167762,"","","","","","","","","","","",""]
[null,null,"Target 5 y",null,{"$f":"IF(E12<>\"\",E8*SIN(E$12),\"\")","v":8.9188563323262388E-2},{"$f":"IF(F12<>\"\",F8*SIN(F$12),\"\")","v":16.349262776224229},17.40453102247632,45.586140233044539,43.822254809760629,50.479107107252396,39.005200879468333,55.999982244182739,54.587444794477349,13.510828904847028,31.261907452502303,45.49527460748952,31.658547852326208,16.235931735284368,6.0784710598227321E-14,-12.454961331176959,-31.658547852326098,-9.348344097429333,-43.766670433503165,-65.752700670255479,-54.587444794477328,-72.999976854023927,-39.005200879468347,-50.479107107252439,-43.822254809760693,-45.586140233044631,-17.404531022476387,-16.349262776224357,"","","","","","","","","","","",""]
[null,null,"Target 6 x",null,{"$f":"IF(E12<>\"\",E9*COS(E$12),\"\")","v":-55.999928976742211},{"$f":"IF(F12<>\"\",F9*COS(F$12),\"\")","v":-54.577474649115011},-65.72742757071309,-57.016697717889613,-45.449798504992316,-6.49441584043592,-16.179250753154651,5.8131849883479594E-2,16.292602421619776,6.5159421654853631,34.935348275995686,57.089228304375595,65.777932073621557,71.171585065159164,56,54.597380323957729,36.042702506094038,43.794476507466271,45.540721859780184,31.710918538695548,16.292602421619904,5.8131849883609268E-2,-16.179250753154523,-31.606157090121357,-34.865598853144718,-57.016697717889528,-50.421040328218218,-71.145636596167762,"","","","","","","","","","","",""]
[null,null,"Target 6 y",null,{"$f":"IF(E12<>\"\",E9*SIN(E$12),\"\")","v":8.9188563323262388E-2},{"$f":"IF(F12<>\"\",F9*SIN(F$12),\"\")","v":12.541900211898039},31.763269116019288,45.586140233044539,57.125439305580819,13.521189403728322,71.184491605029706,72.999976854023927,71.158633392800823,13.510828904847028,43.766670433503222,45.49527460748952,31.658547852326208,16.235931735284368,4.6629367034256575E-14,-12.454961331176959,-17.347149508123888,-34.900484630402843,-57.052981100816631,-65.752700670255479,-71.158633392800809,-72.999976854023927,-71.184491605029734,-65.803121764811223,-43.822254809760693,-45.586140233044631,-24.366343431466941,-16.349262776224357,"","","","","","","","","","","",""]

{"sheet":"Target_grafy_Q_4","index":22,"n_rows":24,"n_cols":45,"rows_kept":24,"cut":false,"hidden":false,"merged":[]}
["Target grafy otázka 4"]
[null,null,28,null,1,2,3,4,5,6,7,8,9,10,11,12,13,14,15,16,17,18,19,20,21,22,23,24,25,26,27,28,29,30,31,32,33,34,35,36,37,38,39,40]
[null,null,null,null,"01_Oso m","02_Oso m","03_Oso m","04_Oso m","05_Oso m","*06_Oso ","07_Oso m","08_Oso m","09_Oso f","**10_Oso","11_Oso m","12_Oso m","13_Oso m","14_Oso m","15_Oso f","16_Oso f","17_Oso f","18_Oso f","19_Oso f","20_Oso f","21_Oso f","22_Oso f","23_Oso f","24_Oso f","25_Oso f","26_Oso f","27_Oso f","28_Oso f"]
[null,"Osoby","Target 1",null,87,74,87,74,33,74,33,46,13,74,46,46,46,87,13,46,46,33,87,33,87,87,13,74,13,13,46,13]
[null,"Osoby","Target 2",null,74,33,74,74,74,33,74,74,13,33,74,74,74,74,13,74,74,74,74,74,74,74,13,74,13,13,74,13]
[null,"Osoby","Target 3",null,73,73,73,73,56,73,56,73,15,73,73,73,73,73,15,73,73,56,73,56,73,73,15,73,15,15,73,15]
[null,"Osoby","Target 4",null,73,15,73,56,73,15,73,73,73,15,73,73,73,73,73,73,73,73,73,73,73,73,73,73,73,73,73,73]
[null,"Osoby","Target 5",null,73,73,73,73,56,73,73,73,73,73,73,73,73,73,56,73,73,40,73,40,73,73,15,73,40,56,73,73]
[null,"Osoby","Target 6",null,73,15,73,40,56,40,73,73,73,15,73,73,73,73,73,73,73,56,73,73,73,73,73,56,56,73,73,73]
[]
[null,null,null,null,null,null,null,null,null,null,null,null,null,null,null,null,null,null,null,null,null,null,null,null,null,null,null,null,null,null,null,null,null,null,null,null,null,null,null,null,null,null,null,null,"Prírastok"]
[null,null,"Uhol",null,3.14,{"$f":"IF(F4<>\"\",E12-$AS$12,\"\")","v":2.9157142857142859},{"$f":"IF(G4<>\"\",F12-$AS$12,\"\")","v":2.6914285714285717},2.4671428571428575,2.2428571428571433,2.0185714285714291,1.7942857142857149,1.5700000000000007,1.3457142857142865,1.1214285714285723,0.89714285714285802,0.67285714285714371,0.4485714285714294,0.22428571428571512,8.3266726846886741E-16,-0.22428571428571345,-0.44857142857142773,-0.67285714285714204,-0.89714285714285635,-1.1214285714285706,-1.3457142857142848,-1.569999999999999,-1.7942857142857132,-2.0185714285714274,-2.2428571428571416,-2.4671428571428557,-2.6914285714285699,-2.9157142857142841,"","","","","","","","","","","","",{"$f":"IF(C2<>\"\",6.28/(C2),\"\")","v":0.22428571428571428}]
[null,null,"Target 1 x",null,{"$f":"IF(E12<>\"\",E4*COS(E$12),\"\")","v":-86.999889660295935},{"$f":"IF(F12<>\"\",F4*COS(F$12),\"\")","v":-72.120234357759117},-78.33268765276766,-57.797748371559329,-20.54579932417461,-32.039118146150535,-7.3139078747137463,3.6631028693699469E-2,2.9014223490555766,32.145314683061123,28.696893226710745,35.9740342739901,41.449107882008107,84.820930146148584,13,44.847848123250991,41.449107882008143,25.807459370471193,54.274558928779122,14.335072764067851,19.417211105218243,6.9280423833890506E-2,-2.8812364354932716,-32.039118146150422,-8.0937997337657368,-10.153658497706354,-41.417283126750682,-12.669770900687409,"","","","","","","","","","","",""]
[null,null,"Target 1 y",null,{"$f":"IF(E12<>\"\",E4*SIN(E$12),\"\")","v":0.13856080373435406},{"$f":"IF(F12<>\"\",F4*SIN(F$12),\"\")","v":16.573225280008121},37.854854973885999,46.210607907469807,25.82382872718037,66.704534391726384,32.179290725561373,45.999985414864391,12.672085398717956,66.653422597245338,35.951193570377647,28.668255232116682,19.949221934342543,19.349672068078629,1.0824674490095276E-14,-10.230861093466787,-19.949221934342471,-20.566357014344533,-67.994648709192418,-29.723823590663432,-84.805494591420128,-86.999972415069607,-12.676690285827213,-66.70453439172644,-10.173023437980161,-8.1180797675284957,-20.015210675847843,-2.9115125491906388,"","","","","","","","","","","",""]
[null,null,"Target 2 x",null,{"$f":"IF(E12<>\"\",E5*COS(E$12),\"\")","v":-73.999906147837919},{"$f":"IF(F12<>\"\",F5*COS(F$12),\"\")","v":-32.161726132514204},-66.627803290859845,-57.797748371559329,-46.07239848451276,-14.287714848959023,-16.400884325115673,5.8928176594212192E-2,2.9014223490555766,14.335072764067798,46.164567364708589,57.871272527723207,66.678999636273915,72.146538285229838,13,72.146538285229852,66.678999636273971,57.871272527723285,46.164567364708681,32.145314683061244,16.515788756162642,5.8928176594343643E-2,-2.8812364354932716,-32.039118146150422,-8.0937997337657368,-10.153658497706354,-66.627803290859788,-12.669770900687409,"","","","","","","","","","","",""]
[null,null,"Target 2 y",null,{"$f":"IF(E12<>\"\",E5*SIN(E$12),\"\")","v":0.11785631582002529},{"$f":"IF(F12<>\"\",F5*SIN(F$12),\"\")","v":7.3907626248684872},32.198382391581198,46.210607907469807,57.90797957004083,29.746616688202305,72.159621627016406,73.999976536955757,12.672085398717956,29.723823590663461,57.834528787129258,46.118497547318142,32.092226590029306,16.458341759055386,1.0824674490095276E-14,-16.458341759055266,-32.092226590029192,-46.118497547318043,-57.834528787129187,-66.653422597245282,-72.133409192702189,-73.999976536955757,-12.676690285827213,-66.70453439172644,-10.173023437980161,-8.1180797675284957,-32.198382391581312,-2.9115125491906388,"","","","","","","","","","","",""]
[null,null,"Target 3 x",null,{"$f":"IF(E12<>\"\",E6*COS(E$12),\"\")","v":-72.999907416110389},{"$f":"IF(F12<>\"\",F6*COS(F$12),\"\")","v":-71.145636596167776},-65.72742757071309,-57.016697717889613,-34.865598853144789,-31.606157090121478,-12.411480029817266,5.8131849883479594E-2,3.3477950181410501,31.710918538695431,45.540721859780092,57.089228304375595,65.777932073621557,71.171585065159164,15,71.171585065159178,65.777932073621614,43.794476507466271,45.540721859780184,24.326184084478779,16.292602421619904,5.8131849883609268E-2,-3.324503579415313,-31.606157090121357,-9.3389996928066203,-11.715759805045794,-65.727427570713033,-14.618966423870088,"","","","","","","","",""]
[null,null,"Target 3 y",null,{"$f":"IF(E12<>\"\",E6*SIN(E$12),\"\")","v":0.11626366290353846},{"$f":"IF(F12<>\"\",F6*SIN(F$12),\"\")","v":16.349262776224229},31.763269116019288,45.586140233044539,43.822254809760629,65.803121764811166,54.607281231255662,72.999976854023927,14.621636998520717,65.752700670255535,57.052981100816702,45.49527460748952,31.658547852326208,16.235931735284368,1.2490009027033011E-14,-16.23593173528425,-31.658547852326098,-34.900484630402843,-57.052981100816631,-50.440427911428856,-71.158633392800809,-72.999976854023927,-14.62695032980063,-65.803121764811223,-11.738103966900185,-9.3670151163790347,-31.763269116019405,-3.3594375567584294,"","","","","","","","",""]
[null,null,"Target 4 x",null,{"$f":"IF(E12<>\"\",E7*COS(E$12),\"\")","v":-72.999907416110389},{"$f":"IF(F12<>\"\",F7*COS(F$12),\"\")","v":-14.618966423870091},-65.72742757071309,-43.73883660550436,-45.449798504992316,-6.49441584043592,-16.179250753154651,5.8131849883479594E-2,16.292602421619776,6.5159421654853631,45.540721859780092,57.089228304375595,65.777932073621557,71.171585065159164,73,71.171585065159178,65.777932073621614,57.089228304375673,45.540721859780184,31.710918538695548,16.292602421619904,5.8131849883609268E-2,-16.179250753154523,-31.606157090121357,-45.449798504992216,-57.016697717889528,-65.727427570713033,-71.145636596167762,"","","","","","","","","","","",""]
[null,null,"Target 4 y",null,{"$f":"IF(E12<>\"\",E7*SIN(E$12),\"\")","v":0.11626366290353846},{"$f":"IF(F12<>\"\",F7*SIN(F$12),\"\")","v":3.3594375567584032},31.763269116019288,34.970189767814986,57.125439305580819,13.521189403728322,71.184491605029706,72.999976854023927,71.158633392800823,13.510828904847028,57.052981100816702,45.49527460748952,31.658547852326208,16.235931735284368,6.0784710598227321E-14,-16.23593173528425,-31.658547852326098,-45.495274607489421,-57.052981100816631,-65.752700670255479,-71.158633392800809,-72.999976854023927,-71.184491605029734,-65.803121764811223,-57.125439305580905,-45.586140233044631,-31.763269116019405,-16.349262776224357,"","","","","","","","","","","",""]
[null,null,"Target 5 x",null,{"$f":"IF(E12<>\"\",E8*COS(E$12),\"\")","v":-72.999907416110389},{"$f":"IF(F12<>\"\",F8*COS(F$12),\"\")","v":-71.145636596167776},-65.72742757071309,-57.016697717889613,-34.865598853144789,-31.606157090121478,-16.179250753154651,5.8131849883479594E-2,16.292602421619776,31.710918538695431,45.540721859780092,57.089228304375595,65.777932073621557,71.171585065159164,56,71.171585065159178,65.777932073621614,31.281768933904477,45.540721859780184,17.375845774627699,16.292602421619904,5.8131849883609268E-2,-3.324503579415313,-31.606157090121357,-24.903999180817653,-43.738836605504297,-65.727427570713033,-71.145636596167762,"","","","","","","","","","","",""]
[null,null,"Target 5 y",null,{"$f":"IF(E12<>\"\",E8*SIN(E$12),\"\")","v":0.11626366290353846},{"$f":"IF(F12<>\"\",F8*SIN(F$12),\"\")","v":16.349262776224229},31.763269116019288,45.586140233044539,43.822254809760629,65.803121764811166,71.184491605029706,72.999976854023927,71.158633392800823,65.752700670255535,57.052981100816702,45.49527460748952,31.658547852326208,16.235931735284368,4.6629367034256575E-14,-16.23593173528425,-31.658547852326098,-24.928917593144888,-57.052981100816631,-36.028877079592043,-71.158633392800809,-72.999976854023927,-14.62695032980063,-65.803121764811223,-31.301610578400492,-34.970189767815064,-31.763269116019405,-16.349262776224357,"","","","","","","","","","","",""]
[null,null,"Target 6 x",null,{"$f":"IF(E12<>\"\",E9*COS(E$12),\"\")","v":-72.999907416110389},{"$f":"IF(F12<>\"\",F9*COS(F$12),\"\")","v":-14.618966423870091},-65.72742757071309,-31.242026146788827,-34.865598853144789,-17.318442241162451,-16.179250753154651,5.8131849883479594E-2,16.292602421619776,6.5159421654853631,45.540721859780092,57.089228304375595,65.777932073621557,71.171585065159164,73,71.171585065159178,65.777932073621614,43.794476507466271,45.540721859780184,31.710918538695548,16.292602421619904,5.8131849883609268E-2,-16.179250753154523,-24.245819137627343,-34.865598853144718,-57.016697717889528,-65.727427570713033,-71.145636596167762,"","","","","","","","","","","",""]
[null,null,"Target 6 y",null,{"$f":"IF(E12<>\"\",E9*SIN(E$12),\"\")","v":0.11626366290353846},{"$f":"IF(F12<>\"\",F9*SIN(F$12),\"\")","v":3.3594375567584032},31.763269116019288,24.978706977010706,43.822254809760629,36.056505076608858,71.184491605029706,72.999976854023927,71.158633392800823,13.510828904847028,57.052981100816702,45.49527460748952,31.658547852326208,16.235931735284368,6.0784710598227321E-14,-16.23593173528425,-31.658547852326098,-34.900484630402843,-57.052981100816631,-65.752700670255479,-71.158633392800809,-72.999976854023927,-71.184491605029734,-50.479107107252439,-43.822254809760693,-45.586140233044631,-31.763269116019405,-16.349262776224357,"","","","","","","","","","","",""]

{"sheet":"Target_grafy_Q_5","index":23,"n_rows":24,"n_cols":45,"rows_kept":24,"cut":false,"hidden":false,"merged":[]}
["Target grafy otázka 5"]
[null,null,28,null,1,2,3,4,5,6,7,8,9,10,11,12,13,14,15,16,17,18,19,20,21,22,23,24,25,26,27,28,29,30,31,32,33,34,35,36,37,38,39,40]
[null,null,null,null,"01_Oso m","02_Oso m","03_Oso m","04_Oso m","05_Oso m","*06_Oso ","07_Oso m","08_Oso m","09_Oso f","**10_Oso","11_Oso m","12_Oso m","13_Oso m","14_Oso m","15_Oso f","16_Oso f","17_Oso f","18_Oso f","19_Oso f","20_Oso f","21_Oso f","22_Oso f","23_Oso f","24_Oso f","25_Oso f","26_Oso f","27_Oso f","28_Oso f"]
[null,"Osoby","Target 1",null,33,74,46,74,46,74,33,33,33,74,13,60,33,33,46,46,46,13,33,60,33,60,33,60,33,33,33,13]
[null,"Osoby","Target 2",null,74,33,74,33,33,33,13,74,74,33,13,74,74,74,74,74,74,13,74,74,74,74,60,74,60,74,60,13]
[null,"Osoby","Target 3",null,56,73,73,73,56,73,40,56,56,73,56,56,56,56,73,73,73,40,56,56,56,56,15,56,40,56,40,40]
[null,"Osoby","Target 4",null,73,56,73,56,56,40,73,73,73,15,73,73,73,73,73,73,73,73,73,73,73,73,73,73,73,73,73,73]
[null,"Osoby","Target 5",null,56,73,56,73,40,73,56,73,56,56,56,40,40,40,73,73,73,15,40,56,56,73,15,40,40,56,15,73]
[null,"Osoby","Target 6",null,73,73,56,56,73,40,56,73,73,15,73,73,73,73,73,73,73,73,73,56,73,73,40,73,40,73,56,73]
[]
[null,null,null,null,null,null,null,null,null,null,null,null,null,null,null,null,null,null,null,null,null,null,null,null,null,null,null,null,null,null,null,null,null,null,null,null,null,null,null,null,null,null,null,null,"Prírastok"]
[null,null,"Uhol",null,3.14,{"$f":"IF(F4<>\"\",E12-$AS$12,\"\")","v":2.9157142857142859},{"$f":"IF(G4<>\"\",F12-$AS$12,\"\")","v":2.6914285714285717},2.4671428571428575,2.2428571428571433,2.0185714285714291,1.7942857142857149,1.5700000000000007,1.3457142857142865,1.1214285714285723,0.89714285714285802,0.67285714285714371,0.4485714285714294,0.22428571428571512,8.3266726846886741E-16,-0.22428571428571345,-0.44857142857142773,-0.67285714285714204,-0.89714285714285635,-1.1214285714285706,-1.3457142857142848,-1.569999999999999,-1.7942857142857132,-2.0185714285714274,-2.2428571428571416,-2.4671428571428557,-2.6914285714285699,-2.9157142857142841,"","","","","","","","","","","","",{"$f":"IF(C2<>\"\",6.28/(C2),\"\")","v":0.22428571428571428}]
[null,null,"Target 1 x",null,{"$f":"IF(E12<>\"\",E4*COS(E$12),\"\")","v":-32.999958147008805},{"$f":"IF(F12<>\"\",F4*COS(F$12),\"\")","v":-72.120234357759117},-41.417283126750718,-57.797748371559329,-28.639599057940362,-32.039118146150535,-7.3139078747137463,2.6278781454175709E-2,7.3651490399103103,32.145314683061123,8.1099915640704285,46.922653400856653,29.735229567527554,32.173456262332223,46,44.847848123250991,41.449107882008143,10.166574903518955,20.586901662640358,26.063768661941548,7.3651490399103681,4.7779602644062412E-2,-7.3139078747136885,-25.977663361743584,-20.545799324174563,-25.774671571100747,-29.712398764842881,-12.669770900687409,"","","","","","","","","","","",""]
[null,null,"Target 1 y",null,{"$f":"IF(E12<>\"\",E4*SIN(E$12),\"\")","v":5.2557546244065334E-2},{"$f":"IF(F12<>\"\",F4*SIN(F$12),\"\")","v":16.573225280008121},20.015210675847769,46.210607907469807,35.996852165160519,66.704534391726384,32.179290725561373,32.99998953675054,32.167601396745582,66.653422597245338,10.160119922063249,37.39337638971741,14.311398344202258,7.3395307844436184,3.8302694349567901E-14,-10.230861093466787,-19.949221934342471,-8.1018982177720886,-25.791073648314367,-54.043315619388061,-32.167601396745567,-59.999980975910077,-32.179290725561387,-54.084757614913329,-25.823828727180409,-20.607433256033875,-14.358738093543019,-2.9115125491906388,"","","","","","","","","","","",""]
[null,null,"Target 2 x",null,{"$f":"IF(E12<>\"\",E5*COS(E$12),\"\")","v":-73.999906147837919},{"$f":"IF(F12<>\"\",F5*COS(F$12),\"\")","v":-32.161726132514204},-66.627803290859845,-25.774671571100782,-20.54579932417461,-14.287714848959023,-2.8812364354932942,5.8928176594212192E-2,16.515788756162515,14.335072764067798,8.1099915640704285,57.871272527723207,66.678999636273915,72.146538285229838,74,72.146538285229852,66.678999636273971,10.166574903518955,46.164567364708681,32.145314683061244,16.515788756162642,5.8928176594343643E-2,-13.298014317661252,-32.039118146150422,-37.355998771226481,-57.797748371559251,-54.022543208805239,-12.669770900687409,"","","","","","","","","","","",""]
[null,null,"Target 2 y",null,{"$f":"IF(E12<>\"\",E5*SIN(E$12),\"\")","v":0.11785631582002529},{"$f":"IF(F12<>\"\",F5*SIN(F$12),\"\")","v":7.3907626248684872},32.198382391581198,20.607433256033833,25.82382872718037,29.746616688202305,12.676690285827208,73.999976536955757,72.133409192702203,29.723823590663461,10.160119922063249,46.118497547318142,32.092226590029306,16.458341759055386,6.1617377866696188E-14,-16.458341759055266,-32.092226590029192,-8.1018982177720886,-57.834528787129187,-66.653422597245282,-72.133409192702189,-73.999976536955757,-58.507801319202521,-66.70453439172644,-46.952415867600742,-46.2106079074699,-26.106796533714579,-2.9115125491906388,"","","","","","","","","","","",""]
[null,null,"Target 3 x",null,{"$f":"IF(E12<>\"\",E6*COS(E$12),\"\")","v":-55.999928976742211},{"$f":"IF(F12<>\"\",F6*COS(F$12),\"\")","v":-71.145636596167776},-65.72742757071309,-57.016697717889613,-34.865598853144789,-31.606157090121478,-8.8653428784409058,4.4594295801025446E-2,12.498434734393253,31.710918538695431,34.935348275995686,43.794476507466214,50.459783508531608,54.597380323957708,73,71.171585065159178,65.777932073621614,31.281768933904477,34.935348275995757,24.326184084478779,12.498434734393351,4.4594295801124922E-2,-3.324503579415313,-24.245819137627343,-24.903999180817653,-43.738836605504297,-36.015028805870159,-38.983910463653565,"","","","","","","","",""]
[null,null,"Target 3 y",null,{"$f":"IF(E12<>\"\",E6*SIN(E$12),\"\")","v":8.9188563323262388E-2},{"$f":"IF(F12<>\"\",F6*SIN(F$12),\"\")","v":16.349262776224229},31.763269116019288,45.586140233044539,43.822254809760629,65.803121764811166,39.005200879468333,55.999982244182739,54.587444794477349,65.752700670255535,43.766670433503222,34.900484630402914,24.28600931137353,12.454961331177049,6.0784710598227321E-14,-16.23593173528425,-31.658547852326098,-24.928917593144888,-43.766670433503165,-50.440427911428856,-54.587444794477328,-55.999982244182739,-14.62695032980063,-50.479107107252439,-31.301610578400492,-34.970189767815064,-17.404531022476387,-8.9585001513558122,"","","","","","","","",""]
[null,null,"Target 4 x",null,{"$f":"IF(E12<>\"\",E7*COS(E$12),\"\")","v":-72.999907416110389},{"$f":"IF(F12<>\"\",F7*COS(F$12),\"\")","v":-54.577474649115011},-65.72742757071309,-43.73883660550436,-34.865598853144789,-17.318442241162451,-16.179250753154651,5.8131849883479594E-2,16.292602421619776,6.5159421654853631,45.540721859780092,57.089228304375595,65.777932073621557,71.171585065159164,73,71.171585065159178,65.777932073621614,57.089228304375673,45.540721859780184,31.710918538695548,16.292602421619904,5.8131849883609268E-2,-16.179250753154523,-31.606157090121357,-45.449798504992216,-57.016697717889528,-65.727427570713033,-71.145636596167762,"","","","","","","","","","","",""]
[null,null,"Target 4 y",null,{"$f":"IF(E12<>\"\",E7*SIN(E$12),\"\")","v":0.11626366290353846},{"$f":"IF(F12<>\"\",F7*SIN(F$12),\"\")","v":12.541900211898039},31.763269116019288,34.970189767814986,43.822254809760629,36.056505076608858,71.184491605029706,72.999976854023927,71.158633392800823,13.510828904847028,57.052981100816702,45.49527460748952,31.658547852326208,16.235931735284368,6.0784710598227321E-14,-16.23593173528425,-31.658547852326098,-45.495274607489421,-57.052981100816631,-65.752700670255479,-71.158633392800809,-72.999976854023927,-71.184491605029734,-65.803121764811223,-57.125439305580905,-45.586140233044631,-31.763269116019405,-16.349262776224357,"","","","","","","","","","","",""]
[null,null,"Target 5 x",null,{"$f":"IF(E12<>\"\",E8*COS(E$12),\"\")","v":-55.999928976742211},{"$f":"IF(F12<>\"\",F8*COS(F$12),\"\")","v":-71.145636596167776},-50.421040328218261,-57.016697717889613,-24.903999180817706,-31.606157090121478,-12.411480029817266,5.8131849883479594E-2,12.498434734393253,24.326184084478687,34.935348275995686,31.281768933904438,36.042702506094003,38.99812880282694,73,71.171585065159178,65.777932073621614,11.730663350214179,24.953820197139827,24.326184084478779,12.498434734393351,5.8131849883609268E-2,-3.324503579415313,-17.318442241162387,-24.903999180817653,-43.738836605504297,-13.50563580220131,-71.145636596167762,"","","","","","","","","","","",""]
[null,null,"Target 5 y",null,{"$f":"IF(E12<>\"\",E8*SIN(E$12),\"\")","v":8.9188563323262388E-2},{"$f":"IF(F12<>\"\",F8*SIN(F$12),\"\")","v":16.349262776224229},24.366343431466852,45.586140233044539,31.301610578400449,65.803121764811166,54.607281231255662,72.999976854023927,54.587444794477349,50.440427911428898,43.766670433503222,24.928917593144941,17.347149508123948,8.89640095084075,6.0784710598227321E-14,-16.23593173528425,-31.658547852326098,-9.348344097429333,-31.261907452502264,-50.440427911428856,-54.587444794477328,-72.999976854023927,-14.62695032980063,-36.056505076608886,-31.301610578400492,-34.970189767815064,-6.5266991334286448,-16.349262776224357,"","","","","","","","","","","",""]
[null,null,"Target 6 x",null,{"$f":"IF(E12<>\"\",E9*COS(E$12),\"\")","v":-72.999907416110389},{"$f":"IF(F12<>\"\",F9*COS(F$12),\"\")","v":-71.145636596167776},-50.421040328218261,-43.73883660550436,-45.449798504992316,-17.318442241162451,-12.411480029817266,5.8131849883479594E-2,16.292602421619776,6.5159421654853631,45.540721859780092,57.089228304375595,65.777932073621557,71.171585065159164,73,71.171585065159178,65.777932073621614,57.089228304375673,45.540721859780184,24.326184084478779,16.292602421619904,5.8131849883609268E-2,-8.8653428784408348,-31.606157090121357,-24.903999180817653,-57.016697717889528,-50.421040328218218,-71.145636596167762,"","","","","","","","","","","",""]
[null,null,"Target 6 y",null,{"$f":"IF(E12<>\"\",E9*SIN(E$12),\"\")","v":0.11626366290353846},{"$f":"IF(F12<>\"\",F9*SIN(F$12),\"\")","v":16.349262776224229},24.366343431466852,34.970189767814986,57.125439305580819,36.056505076608858,54.607281231255662,72.999976854023927,71.158633392800823,13.510828904847028,57.052981100816702,45.49527460748952,31.658547852326208,16.235931735284368,6.0784710598227321E-14,-16.23593173528425,-31.658547852326098,-45.495274607489421,-57.052981100816631,-50.440427911428856,-71.158633392800809,-72.999976854023927,-39.005200879468347,-65.803121764811223,-31.301610578400492,-45.586140233044631,-24.366343431466941,-16.349262776224357,"","","","","","","","","","","",""]

{"sheet":"Odlo_Q_1_hranice","index":24,"n_rows":14,"n_cols":14,"rows_kept":14,"cut":false,"hidden":false,"merged":[]}
[1,2,3,4,5]
[]
[null,null,null,null,null,null,"Odložené názvy Target grafov"]
["Vzor 1",1,"Target 1,2","A",26]
[null,2,null,"B",40,null,{"$f":"Sumy_All_Q!BJ3","v":"Sedieť"},{"$f":"Sumy_All_Q!BK3","v":"Učiť sa"},{"$f":"Sumy_All_Q!BL3","v":"Pustý ostrov"},{"$f":"Sumy_All_Q!BM3","v":"Hájiť záujmy"},{"$f":"Sumy_All_Q!BN3","v":"Tajomstvo"},null,"1. Frequency of positive questions","1. Frekvencia pozitívnych volieb"]
[null,3,null,"C",53,null,null,null,null,null,null,null,"2. Social preference and social impact","2. Sociálna preferencia a sociálny vplyv"]
[null,4,null,"D",67,null,null,null,null,null,null,null,"3. Received Acceptances","3. Ziskané pozitívne voľby - prijímanie"]
[null,5,null,"E",80,null,null,null,null,null,null,null,"4. Received Rejections","4. Získané negatívne voľby - odmietanie"]
[null,6,null,"F",94,null,null,null,null,null,null,null,"5. Mutual Acceptances","5. Vzájomné pozitívne voľby -  Akceptovanie - Index sociability Cs"]
[null,null,null,null,null,null,null,null,null,null,null,null,"6. Mutual Rejections","6. Vzájomné negatívne voľby - Odmietanie  - Negatívny index sociability ¬ Cs"]
["Vzor 1",1,"Target 3,4,5,6","A",32]
[null,2,null,"B",48]
[null,3,null,"C",65]
[null,4,null,"D",82]

{"sheet":"Odlo","index":25,"n_rows":70,"n_cols":10,"rows_kept":70,"cut":false,"hidden":false,"merged":[]}
[1]
[2,"→"]
[3,"Odložené veci."]
[4,"Nemazať ani nespúšťať!"]
[5]
[6,"I keď spúšťanie mám ošetrené."]
[7]
[8]
[9,null,null,null,null,null,"prvý","predpred","predposl","posledný"]
[10,null,null,null,"\"01_Ada m\"",{"$f":"LEN(E10)","v":10},{"$f":"LEFT(E10,1)","v":"\""},{"$f":"MID(E10,8,1)","v":" "},{"$f":"MID(E10,9,1)","v":"m"},{"$f":"RIGHT(E10,1)","v":"\""}]
[11]
[12]
[13]
[14]
[15]
[16]
[17]
[18]
[19]
[20]
[21]
[22]
[23]
[24]
[25]
[26]
[27]
[28]
[29]
[30]
[31]
[32]
[33]
[34]
[35]
[36]
[37]
[38,"Option Explicit"]
[39,"Private Sub Worksheet_BeforeDoubleClick( _"]
[40,"ByVal Target As Range, Cancel As Boolean)"]
[41,"Dim Pocitadlo As Integer"]
[42,"Dim Adr_pocitadlo As String"]
[43,"'"]
[44,"Adr_pocitadlo = \"C3\""]
[45,"'"]
[46,"If Target.Cells.Value = \"\" Then"]
[47,"    Let Pocitadlo = Range(Adr_pocitadlo).Value"]
[48,"    Let Pocitadlo = Pocitadlo + 1"]
[49,"    Let Range(Adr_pocitadlo).Value = Pocitadlo"]
[50,"    Target.Cells.Value = Pocitadlo"]
[51,"    If Pocitadlo = 3 Then"]
[52,"        Range(Adr_pocitadlo).Value = 0"]
[53,"    End If"]
[54,"Else"]
[55,"        Target.Cells.Value = \"\""]
[56,"End If"]
[57,"'"]
[58,"End Sub"]
[59]
[60]
[61]
[62]
[63]
[64]
[65]
[66]
[67]
[68]
[69]
[70]

{"sheet":"Stručný návod","index":26,"n_rows":392,"n_cols":11,"rows_kept":392,"cut":false,"hidden":false,"merged":[]}
[null,"Stručný návod na obsluhu spreadsheetu \"C_Socio_Pozit_Negat_Fila_TG_analy.xls\"",null,null,null,null,null,null,null,null,"bez histogramov"]
[null,"Mgr. Stanislav Fila, psychológ CPPPaP Banská Bystrica"]
[null,"Aktualizácia 18.11.2018"]
[]
[null,"Tento materiál i program nie je možné použiť na komerčné účely."]
[]
[null,"Dôležité upozornenie!"]
[null,"Pred prácou s programom je nutné dodržať pokyny uvedené v Technickom návode."]
[null,"Ten je v Liste: \"Technický návod\"."]
[]
[null,"Jednoducho povedané, treba mať povolené makrá,"]
[null,"treba mať povolené Doplnky:"]
[]
[null,null,"Analytické nástroje"]
[null,null,"Analytické nástroje VBA"]
[]
[null,"a treba mať nainštalovaný a povolený v Doplnkoch:"]
[]
[null,null,"XY Chart Labeler 7.1"]
[]
[null,"Ako sa to robí a ďalšie podrobnosti sú v už spomínanom \"Technickom návode\"."]
[]
[null,"Dimenzovanie programu."]
[]
[null,null,"Program má tieto parametre, ak chceme obmedzenia."]
[]
[null,"1. Počet otázok je najviac 5 pričom každá musí mať pozitívnu aj negatívnu formu."]
[null,"2. Musí byť zadaná najmenej jedna pozitívna a jedna negatívna otázka."]
[null,"3. Počet osôb môže byť najviac 40 a najmenej 4 osoby."]
[null,"4. Počet volieb môže byť najviac 3. Najlepšie je keď sú tri."]
[null,"5. V Liste Questions musia byť zadané mená otázok v plnom znení (hlavičky v Listoch), v konvencii"]
[null,"pre Walshov program, ako aj v skrátenom znení ktoré program vkladá do názvov grafov"]
[null,"jednotlivých otázok."]
[null,"6. Konotácia otázok nemusí byť zadaná."]
[null,"7. Nezadaným otázkam dávame rovnaké meno aj pre plný aj pre skrátený názov, napr."]
[null,"„5. Nezadaná.“"]
[null," "]
[null,"Názvy jednotlivých Listov nemožno meniť, pretože makrá programu sa o ne opierajú."]
[]
[null,"Sú takéto:"]
[]
[null,"Listy Q_1_P; Q_1_N; Q_2_P; Q_2_N; Q_3_P; Q_3_N; Q_4_P; Q_4_N; Q_5_P; Q_5_N;"]
[null,"  ","sú Listy, kde sú matice odpovedí. Musia byť v tomto poradí."]
[null,"List Questions:  tu texty otázok v konvencii pre program Walsh`s Classroom Sociometrics."]
[null,"Mená osôb aj znenie otázok je nutné zadávať "]
[null,null,"v konvencii pre tento program. Konvencie sú tieto:"]
[null,null,"a.) Znenie otázok v Liste Questions musí byť v úvodzovkách napríklad:"]
[]
[null,null,"1. S kým z triedy by si chcel sedieť v jednej lavici?"]
[null,null,"(Číslo otázky nie je povinné, je užitočné pre orientáciu)"]
[]
[null,null,"b.) Mená osôb musia byť v úvodzovkách, pričom reťazec musí obsahovať jednu medzeru,"]
[null,null,"za ktorou nasleduje písmeno označujúce pohlavie a to m pre muža a f pre ženu. Napríklad:"]
[]
[null,null,"„01_Janko m“"]
[null,null,"(Číslo osoby a podčiarnik nie sú povinné, je to tiež ale užitočné pre orientáciu)"]
[]
[null,"Listy Sgm_Q1; Sgm_Q2; Sgm_Q3; Sgm_Q4; Sgm_Q5 sú Listy, kde sú vygenerované súbory *.sgm"]
[null," ","pre program Walsh`s Classroom Sociometrics. "]
[null,"List Sumy_All_Q: tu sú preložené dáta všetkých zadaných otázok a robím tam aj nejaké výpočty."]
[null,"List Individualne:  tu sú výpočty pre Target grafy."]
[null,"Listy: "]
[null,"Target_grafy_Q_1; Target_grafy_Q_2; Target_grafy_Q_3; Target_grafy_Q_4; Target_grafy_Q_5"]
[null,"sú listy terčových grafov"]
[null,"List Odlo_Q_1_hranice: tam sú odložené hranice Target grafov"]
[null,"List Odlo: tam sú odložené potrebné veci pre makrá"]
[null,"List Technický návod: tam sú nutné technické nastavenia pre správne fungovanie programu."]
[null,"List Návod: tam je tento návod na obsluhu s kvalitnejšími grabmi obrázkov."]
[null,"List Pomo: na odkladanie pomocných vecí"]
[]
[null,"Opakujem, že poradie Listov ani ich názvy nemožno meniť."]
[null,"Takto to vyzerá na dolnej Lište v EXCELI (samozrejme to ide za sebou):"]
[]
[]
[]
[]
[]
[]
[]
[null,"Práca s programom."]
[]
[null,"Prejdeme do Listu Questions."]
[]
[null,"Do stĺpca B dáme konotácie otázok. Pre pozitívne otázky písmeno P, pre negatívne písmeno N"]
[null,null,"pre pozitívne otázky písmeno P"]
[null,null,"pre negatívne otázky písmeno N"]
[null,null,"pre nepoužité otázky písmeno Q"]
[null,"Písmená P a N sú povinné. Makrá kontroluje ich zadanie."]
[]
[null,"Do stĺpca C dáme znenie otázok."]
[]
[null,"Musia byť v konvencii pre Walshov program Sociometry, teda úvodzovky vľavo, text otázky a úvodzovky vpravo."]
[null,"Makro to kontroluje."]
[]
[null,"Do stĺpca D dáme skrátené názvy otázok. Nemusia byť v konvencii Walshovho programu, teda v úvodzovkách."]
[null,"Program ich dáva do názvov grafov."]
[]
[null,"Správne vyplnenie otázok v Liste Questions vyzerá napríklad takto:"]
[]
[]
[]
[]
[]
[]
[]
[]
[]
[]
[]
[]
[]
[]
[]
[]
[]
[]
[]
[null,"V bunke D2 musí byť hlavička pre súbory *.sgm. Vyzerá takto:"]
[]
[null,"\"Version 01.00\",\"Škola\",\"Psychológ\",\"Obdobie\",\"Dátum\",\"Trieda\""]
[]
[null,"Môžeme to zmeniť ak chceme, okrem prvého \"Version 01.00\""]
[null,"\"Version 01.00\",\"ZŠ Sitnianska\",\"2.polrok\",\"13.júna.2018\",\"5.A\""]
[]
[null,"Potom prejdeme do Listu: Q_1_P. Dole vidíme tieto tlačidlá:"]
[]
[]
[]
[]
[]
[]
[]
[]
[]
[]
[]
[]
[]
[]
[]
[null,"Stlačíme tlačidlo „1. Vymaž listy“."]
[]
[]
[]
[]
[null,"Program vykoná nejaké kontroly a ak je všetko v poriadku vymaže všetky Listy a dá oznam:"]
[]
[]
[]
[]
[]
[]
[]
[]
[]
[]
[]
[]
[]
[]
[]
[]
[]
[]
[null,"Program tam preloží aj zadané otázky."]
[null,"Stlačíme OK a program sa nastaví na bunku B5."]
[]
[]
[]
[]
[]
[]
[]
[]
[]
[null,"Zadáme mená napríklad:"]
[]
[]
[]
[]
[]
[]
[]
[]
[]
[]
[]
[]
[]
[]
[]
[]
[]
[]
[]
[]
[]
[]
[]
[]
[]
[]
[]
[]
[]
[]
[]
[]
[]
[]
[]
[null,"Po zadaní poradových čísiel osôb a mien stlačíme tlačidlo: „2. Prelož do ostatných“."]
[]
[]
[]
[]
[null,"Program vykoná ďalšie kontroly a ak je všetko vyžiada si počet volieb:"]
[]
[]
[]
[]
[]
[]
[]
[]
[]
[]
[]
[]
[null,"Zadáme počet volieb a stlačíme OK."]
[null,"Program preloží čísla a mená osôb do všetkých Listov,"]
[null,"Potom dá oznam o preložení mien do všetkých Listov:"]
[]
[]
[]
[]
[]
[]
[]
[]
[]
[]
[]
[]
[]
[]
[]
[]
[]
[]
[null,"Po preložení mien to vyzerá takto:"]
[]
[]
[]
[]
[]
[]
[]
[]
[]
[]
[]
[]
[]
[]
[]
[]
[]
[]
[]
[]
[]
[]
[]
[null,"Zadávanie volieb."]
[]
[null,"Údaje volieb do matice zadávame klikaním ľavým tlačidlom na myši na danej bunke."]
[null,"(Môžeme zadávať aj čísla volieb priamo do matice k zvoleným osobám, ale to nie je praktické.)"]
[]
[null,"Údaje zadávame dvojklikmi na myši takto:"]
[]
[null,null,"Nastavíme sa v danom riadku pod osobu, ktorá bola zvolená ako prvá"]
[null,null,"a dáme ľavý dvojklik myšou."]
[null,null,"V danej bunke sa objaví číslo 1."]
[null,null,"Nastavíme sa v danom riadku pod osobu, ktorá bola zvolená ako druhá"]
[null,null,"a dáme ľavý dvojklik myšou."]
[null,null,"V danej bunke sa objaví číslo 2."]
[null,null,"Nastavíme sa v danom riadku pod osobu, ktorá bola zvolená ako tretia"]
[null,null,"a dáme ľavý dvojklik myšou."]
[null,null,"V danej bunke sa objaví číslo 3."]
[]
[null,null,"Prejdeme do ďalšieho riadku a postup opakujeme."]
[]
[null,"Môžeme si ukotviť priečky, kvôli prehľadu. Klikneme na Riadok 4 a dáme ukotviť priečky."]
[]
[null,"Vyzerá to napr. takto (ukotvené priečky):"]
[]
[]
[]
[]
[]
[]
[]
[]
[]
[null,"Čo robiť, keď sa pomýlime:"]
[]
[null,"V žltej bunke C3 je počítadlo klikov. (Ukotvené)"]
[]
[]
[]
[]
[]
[]
[null,"1. Vymažeme chybné číslo."]
[null,"2. Nastavíme počítadlo, ktoré je v bunke C3 na hodnotu, ktorú chceme vložiť."]
[null,"3. Klikneme znovu na novú bunku 2x."]
[]
[null,"Alebo:"]
[null,"1. Vymažeme všetky čísla v danom riadku."]
[null,"2. Do bunky počítadla dáme hodnotu nula = 0"]
[null,"3. Znovu zadáme tri správne čísla."]
[]
[null,"Alebo:"]
[null,"1. Dvojklikneme na chybnom čísle. Číslo zmizne."]
[null,"2. Dáme ľavý klik na hociktorej inej prázdnej bunke. Chybné číslo zmizne."]
[null,"3. Teraz dvojklikneme na správnej bunke."]
[null,"4. Toto opakujeme, kým tam nebude správne číslo (max 3 razy), pretože to súvisí s počítadlom."]
[]
[null,"Lepšie je dávať pozor, alebo druhý postup s vymazaním riadku a nastavením počítadla na nulu."]
[null,"Matice môžeme aj kopírovať, ak ich máme vyhotovené predtým v EXCELI. (Tak postupujem pri ladení)."]
[]
[null,"Keď vyplníme maticu stlačíme tlačidlo „3. Spočítaj sumy“. "]
[]
[]
[]
[]
[null,"Makro vykoná ďalšie kontroly, vytvorí súbor *.SGM pre Walshov program a skončí."]
[]
[null,"Prejdeme do negatívnej varianty prvej otázky, teda do Listu Q_1_N."]
[null,"Vyplníme voľby. Teda maticu. Mená tam už máme."]
[null,"Tam už je len tlačidlo Spočítaj sumy."]
[null,"Minimálne musíme zadať 1 pozitívnu a 1 negatívnu otázku."]
[null,"Maximálny počet je 5 párovanách otázok."]
[]
[null,"Keď zadáme potrebné matice prejdeme do Listu Sumy_All_Q"]
[null,"Tam stlačíme tlačidlo: Prelož do Target grafov."]
[]
[]
[]
[]
[null,"Makro vytvorí Target grafy a dá najprv voľbu prezerania:"]
[]
[]
[]
[]
[]
[]
[]
[]
[]
[]
[]
[]
[]
[]
[]
[]
[]
[]
[]
[]
[null,"Vyberieme čo si chceme pozrieť ako prvé a dáme OK."]
[]
[null,"Program dá záverečný oznam:"]
[]
[]
[]
[]
[]
[]
[]
[]
[]
[]
[]
[]
[]
[]
[null,"To je všetko."]
[null,"Banská Bystrica 18.11.2018"]
[null,"Fila"]

{"sheet":"Podrobný návod","index":27,"n_rows":2864,"n_cols":13,"rows_kept":2864,"cut":false,"hidden":false,"merged":[]}
[null,"Podrobný návod na obsluhu spreadsheetu \"C_Socio_Pozit_Negat_Fila_TG_analy_new.xls\"",null,null,null,null,"bez histogramov"]
[null,"Mgr. Stanislav Fila, psychológ CPPPaP Banská Bystrica"]
[null,"Aktualizácia 11.11.2018"]
[]
[null,"Tento materiál i program nie je možné použiť na komerčné účely."]
[]
[null,"Dôležité upozornenie!"]
[null,"Pred prácou s programom je nutné dodržať pokyny uvedené v Technickom návode."]
[null,"Ten je v Liste: \"Technický návod\"."]
[]
[null,"Jednoducho povedané, treba mať povolené makrá,"]
[null,"treba mať povolené Doplnky:"]
[]
[null,null,"Analytické nástroje"]
[null,null,"Analytické nástroje VBA"]
[]
[null,"a treba mať nainštalovaný a povolený v Doplnkoch:"]
[]
[null,null,"XY Chart Labeler 7.1"]
[]
[null,"Ako sa to robí a ďalšie podrobnosti sú v už spomínanom \"Technickom návode\"."]
[]
[null,"Úvod."]
[]
[null,null,"Tento spreadsheet som naprogramoval na podnet psychologičky v zácviku, ktorá ako školská"]
[null,"psychologička na ZŠ dostala za úlohu zmapovať sociálne vzťahy v dvoch triedach, kde sa vyskytli problémy."]
[null,"Spreadsheet vychádza z princípu, že položené otázky majú pozitívnu a negatívnu verziu a sú"]
[null,"vyhodnocované spolu. Postupne som na spreadsheete pracoval od decembra 2016 doteraz"]
[null,"a pridával som rôzne varianty výstupov hlavne grafických. "]
[]
[null,null,"Programoval som vo Visual Basicu v makrách v EXCELI. Pracoval som vo verzii EXCEL 2003,"]
[null,"program som ošetril aj pre verzie EXCEL 2007 a vyššie."]
[]
[null,null,"Vstup sú najmenej dve matice odpovedí, pričom jedna je pozitívna a druhá negatívna. Najviac"]
[null,"dvojíc je 5. Program som ladil na 5. dvojiciach otázok, zo sociometrie, ktorú sme realizovali v roku"]
[null,"1993 v ZŠ v Banskej Bystrici (15. tried ZŠ) a z výskumu sociometrie, ktorú som realizoval v roku"]
[null,"1992 v rámci výskumnej úlohy na Výskumnom ústave detskej psychológie a patopsychológie v Bratislave (43 tried)."]
[null,"Orientačné kvantilové normy som počítal z počtu tried N = 58 (1576 žiakov). Prevažovali žiaci 6. ročníka ZŠ."]
[]
[null,null,"Otázky sa týkali týchto okruhov:"]
[]
[null,null,"1. Fyzická blízkosť"]
[null,null,"2. Učenie sa"]
[null,null,"3. Mimoškolská atraktívnosť"]
[null,null,"4. Vodcovstvo"]
[null,null,"5. Emocionálna blízkosť (dôvera)"]
[]
[]
[null,null,"Administrácia sociometrického dotazníka."]
[]
[null,null,"Samotná administrácia dotazníka prebehla podľa očakávania veľmi hladko a v podstate bez"]
[null,"problémov. Väčšina detí vyplnila dotazník za 10 minút, tí najpomalší skončili za 20 minút. Pre úplnosť"]
[null,"uvedieme ešte inštrukciu s ktorou sme dotazník predkladali:"]
[]
[null,null,"\"My sme z Krajskej pedagogicko-psychologickej poradne a robíme na banskobystrických školách na"]
[null,"na druhom stupni prieskum vzťahov medzi žiakmi. Medzi inými bola do tohto prieskumu vybratá aj"]
[null,"vaša trieda a preto sme tu. Čo budeme od vás chcieť?"]
[null,null,"Pred sebou máte dotazník, ktorý obsahuje 10 otázok, vždy dve patria spolu - jedna je kladná a druhá"]
[null,"je jej opak. Vašou úlohou je do riadkov pod každou otázkou napísať tri mená vašich spolužiakov, ktorých by"]
[null,"ste si z triedy vybrali, ako odpoveď na túto otázku."]
[null,null,"Najprv odpovedzte na otázku číslo 1 vľavo, potom na otázku č.1 vpravo atď. Stačí ak budete písať"]
[null,"priezviská. Musíte napísať vždy 3 mená. Môžete napísať aj žiakov, ktorí chýbajú, ale môžu to byť len žiaci"]
[null,"z vašej triedy."]
[null,null,"Keď skončíte zodvihnite ruku. Ak vám v priebehu práce nebude niečo jasné, zodvihnete ruku"]
[null,"a počkáte, kým k vám prídem."]
[null,null,"Môžete sa obzerať, aby ste si oživili tváre všetkých spolužiakov."]
[null,null,"Pracujte tak, že si zakrývajte to čo píšete, aby vám to sused nevidel. Nesmiete sa ani pozerať na to čo"]
[null,"píše sused."]
[null,null,"Je to jasné? Ak máte nejaké otázky, môžete sa teraz spýtať.\""]
[null,null,"Otázky sa týkali priezvisk, chýbajúcich a pod."]
[]
[null,"Krajská pedagogicko-psychologická poradňa v Banskej Bystrici"]
[]
[null,"Meno:                                                "]
[null,"Trieda:"]
[]
[null,"1.","S kým z triedy by si chcel sedieť",null,null,null,"1.","S kým z triedy by si nechcel sedieť "]
[null,null,"v jednej lavici?",null,null,null,null,"v jednej lavici?",null,null,null,null," "]
[]
[null,null,"1 .....................",null,null,null,null,"1 ....................."]
[null,null,"2 .....................",null,null,null,null,"2 ....................."]
[null,null,"3 .....................",null,null,null,null,"3 ....................."]
[]
[null,"2.","S kým z triedy by si najradšej",null,null,null," 2.","S kým z triedy by si v žiadnom prípade"]
[null,null,"písaval úlohy a učieval sa?",null,null,null,null,"nechcel písavať úlohy a učievať sa?"]
[]
[null,null,"1 .....................",null,null,null,null,"1 ....................."]
[null,null,"2 .....................",null,null,null,null,"2 ....................."]
[null,null,"3 .....................",null,null,null,null,"3 ....................."]
[]
[null,3,".S kým z triedy by si chcel stráviť",null,null,null,"3.","S kým z triedy by si nechcel stráviť"]
[null,null,"prázdniny na pustom ostrove?  ",null,null,null,null,"stráviť prázdniny na pustom ostrove?"]
[]
[null,null,"1 .....................",null,null,null,null,"1 ....................."]
[null,null,"2 .....................",null,null,null,null,"2 ....................."]
[null,null,"3 .....................",null,null,null,null,"3 ....................."]
[]
[null,"4.","Kto by najlepšie dokázal",null,null,null,"4.","Koho by si vôbec nevybral"]
[null,null,"hájiť záujmy triedy?",null,null,null,null,"na hájenie záujmov triedy?"]
[]
[null,null,"1 .....................",null,null,null,null,"1 ....................."]
[null,null,"2 .....................",null,null,null,null,"2 ....................."]
[null,null,"3 .....................",null,null,null,null,"3 ....................."]
[]
[null,"5.","Komu z triedy by si zveril",null,null,null,"5.","Komu z triedy by si nikdy"]
[null,null,"svoje tajomstvo?",null,null,null,null,"nezveril žiadne tajomstvo?"]
[]
[null,null,"1 .....................",null,null,null,null,"1 ....................."]
[null,null,"2 .....................",null,null,null,null,"2 ....................."]
[null,null,"3 .....................",null,null,null,null,"3 ....................."]
[]
[null,"Spomínaná kolegyňa použila tieto štyri otázky:"]
[]
[null,null,"Meno: ______________________________"]
[]
[]
[null,null,"1. S kým z triedy by si chcel/a sedieť v jednej",null,null,null,null,null,"1. S kým z triedy by si nechcel/a sedieť v jednej"]
[null,null,"lavici?",null,null,null,null,null,"lavici?"]
[]
[null,null,"1. ________________________________",null,null,null,null,null,"1. ________________________________"]
[null,null,"2. ________________________________",null,null,null,null,null,"2. ________________________________"]
[null,null,"3. ________________________________",null,null,null,null,null,"3. ________________________________"]
[]
[null,null,"2. S kým z triedy by si chcel/a robiť spoločný projekt",null,null,null,null,null,"2. S kým z triedy by si nechcel/a robiť spoločný projekt"]
[null,null,"do školy?",null,null,null,null,null,"do školy?"]
[]
[null,null,"1. ________________________________",null,null,null,null,null,"1. ________________________________"]
[null,null,"2. ________________________________",null,null,null,null,null,"2. ________________________________"]
[null,null,"3. ________________________________",null,null,null,null,null,"3. ________________________________"]
[]
[null,null,"3. Komu z triedy by si povedal/a svoje",null,null,null,null,null,"3. Komu z triedy by si nepovedal/a svoje"]
[null,null,"tajomstvo?",null,null,null,null,null,"tajomstvo?"]
[]
[null,null,"1. ________________________________",null,null,null,null,null,"1. ________________________________"]
[null,null,"2. ________________________________",null,null,null,null,null,"2. ________________________________"]
[null,null,"3. ________________________________",null,null,null,null,null,"3. ________________________________"]
[]
[null,null,"4. S kým z triedy by si sa chcel/a stretávať aj",null,null,null,null,null,"4. S kým z triedy by si sa nechcel/a stretávať aj"]
[null,null,"po vyučovaní?",null,null,null,null,null,"po vyučovaní?"]
[]
[null,null,"1. ________________________________",null,null,null,null,null,"1. ________________________________"]
[null,null,"2. ________________________________",null,null,null,null,null,"2. ________________________________"]
[null,null,"3. ________________________________",null,null,null,null,null,"3. ________________________________"]
[]
[]
[null,null,"Trieda: ______","  Dátum: _____________"]
[]
[null,"Pri snímaní v Bratislave som si poznačil pár užitočných rád, nazvaných „Nezabudnúť pri snímaní“."]
[]
[null,null,"1. Urobiť zasadací poriadok triedy"]
[null,null,"2. Zistiť počet žiakov v triede aj s neprítomnými."]
[null,null,"3. Uvádzať len žiakov z triedy (nie z iných tried)."]
[null,null,"4. Toho istého žiaka nemožno dať na druhé a tretie miesto."]
[null,null,"5. Treba uvádzať vždy troch žiakov. Nemožno písať „s nikým“; „všetci chalani“; „predseda“ a pod."]
[null,null,"6. Zvláštny pozor na odlíšenie menovcov."]
[null,null,"7. Ak robíme neanonymne, mená treba písať čitateľne, najlepšie paličkovým písmom,"]
[null,null,"    vrátane krstného mena pri menovcoch. Ak robíme anonymne, čísla musia byť čitateľné."]
[null,null,"8. Odpísať triedny výbor. Predseda triedy a pod., ak to teda ešte existuje."]
[null,null,"9. Zistiť nových žiakov. Presunutí, prisťahovaní, opakujúci ročník a pod."]
[null,null,"10. Pri neanonymnom snímaní netreba mená skloňovať ani písať krstné mená, iba pri menovcoch,"]
[null,null,"       teda ak sú rovnaké priezviská."]
[null,null,"11. Toho istého žiaka nemožno dať aj vľavo (chcel) aj vpravo (nechcel)."]
[null,null,"12. Nemožno dávať „seba“, „nikomu“, „učiteľka“ a pod."]
[null,null,"13. V jednom riadku môže byť len jedno meno."]
[null,null,"14. Treba vyplniť všetky otázky."]
[null,null,"15. Odpoveďové hárky musia mať dátum snímania a označenie triedy."]
[]
[null,"Výstupy z programu.",null,"V návode je súbor: SPO_6B_BB_1983",null,null,"28 osôb"]
[]
[null,"Grafy nominácií osôb v Liste: Sumy_All_Q."]
[]
[]
[]
[]
[]
[]
[]
[]
[]
[]
[]
[]
[]
[]
[]
[]
[]
[]
[]
[]
[]
[]
[]
[]
[]
[null,"Tento graf ukazuje pozitívne a negatívne voľby vo všetkých zadaných otázkach (v tomto prípade"]
[null,"5 otázok). Program pracuje len so sumami všetkých troch volieb. Je to v podstate graf nominácií"]
[null,"ako vo Walshovom programe zo všetkých otázok."]
[]
[]
[]
[]
[]
[]
[]
[]
[]
[]
[]
[]
[]
[]
[]
[]
[]
[]
[]
[]
[]
[]
[]
[]
[]
[]
[null,"Toto je ten istý graf ako predošlý, ale zo vzájomných volieb."]
[]
[null,"Teraz nasledujú osobitné grafy pre jednotlivé otázky. Tiež pre všetky voľby a vzájomné voľby."]
[null,"Ak dávame 5 otázok, grafov je 10. Napríklad:"]
[]
[]
[]
[]
[]
[]
[]
[]
[]
[]
[]
[]
[]
[]
[]
[]
[]
[]
[]
[]
[]
[]
[]
[]
[]
[]
[]
[]
[]
[]
[]
[]
[]
[]
[]
[]
[]
[]
[]
[]
[]
[]
[]
[]
[]
[]
[]
[]
[]
[null,"Program zároveň označí tieto kategórie podľa algoritmu, ktorý používa aj Capretti v programe"]
[null,"Group Sociometry ako aj Walsh v svojom programe Walsh`s Classroom Sociometrics. "]
[null,"(Autori tohto postupu sú COIE, J.D. - DODGE, K.A. (1983). Continuities and Changes in Children’s"]
[null,"Social Status: A Five-Year Longitudinal Study. In Merrill- Palmer Quartely, 29(3), 261-282.)"]
[null,"Viď „Použitá literatúra a pramene“ na konci návodu."]
[]
[null,"Sú to tieto kategórie: "]
[]
[null,"POP = Populárni ",null,null,"REJ = Odmietaní",null,null,"CON = Kontroverzní"]
[]
[null,"Pretože sa vychádza zo z-skóre, tak označenie už možno považovať za presahujúce „normu triedy.“"]
[]
[null,"Na konci sú ešte tri grafy porovnania otázok:"]
[]
[null,"Tieto grafy nám umožňujú pozrieť sa či je prijímanie alebo odmietanie jednotlivých žiakov"]
[null,"podobné u rôznych otázok, teda v rôznych „sociálnych rolách."]
[]
[]
[]
[]
[]
[]
[]
[]
[]
[]
[]
[]
[]
[]
[]
[]
[]
[]
[]
[]
[]
[]
[]
[]
[]
[]
[]
[]
[]
[]
[]
[]
[]
[]
[]
[]
[]
[]
[]
[]
[]
[]
[]
[]
[]
[]
[]
[]
[]
[]
[]
[]
[]
[]
[]
[]
[]
[]
[]
[]
[]
[]
[]
[]
[]
[]
[]
[]
[]
[]
[]
[]
[]
[]
[]
[]
[]
[]
[]
[]
[]
[]
[]
[]
[]
[]
[]
[]
[]
[]
[null,"To sú grafy umiestnené pod odpoveďami v Liste Sumy_All_Q teda začínajú od riadku (bunka A77)."]
[]
[null,"Grafy indexov v Liste Sumy_All_Q."]
[]
[null,"Teraz nasledujú „stĺpikové grafy“  na porovnanie tzv. „sociometrických indexov.“ Indexy som"]
[null," analyzoval v materiáli: „Soc_indexy_analýza_1_4_2017_short.doc“ ."]
[]
[null,"Grafy sú vpravo vedľa odpovedí. Od stĺpca AS (bunka AS27)."]
[null,"Tam sú uvedené aj „kvantilové normy“ ktoré používam v spreadsheete."]
[]
[null,"Použitých je týchto 5 indexov:"]
[]
[null,null,"C Koherencia; Icc; ",null,null,null,"KH = (M+*q)/( U+ *p)"]
[null,null,"IN Intensity; Nespokojnosť ",null,null,null,"IN = (2*(P-2*M+))/(d*(N/2))"]
[null,null,"IK Kohézia; Co; ",null,null,null,"IK = M+/ MAX M+"]
[null,null,"IG Integrácia ",null,null,null,"IG = 1 - (OPOp/(N-d))"]
[null,null,"IZ Izolácia ",null,null,null,"IZ = OPOp/(N - d)"]
[]
[]
[]
[]
[]
[]
[]
[]
[]
[]
[]
[]
[]
[]
[]
[]
[]
[]
[]
[]
[]
[]
[]
[]
[]
[]
[]
[]
[]
[]
[]
[]
[]
[]
[]
[]
[]
[]
[]
[]
[]
[]
[]
[]
[null,"Ďalej nasledujú „radarové grafy“  jednotlivých indexov, pričom sú zobrazené otázky. Je ich 6,"]
[null,"pridaný je „index disociácie ID“. Je to vlastne „index kohézie“ počítaný z negatívnych volieb."]
[]
[null,"Sú to vlastne tie predošlé grafy ale nakreslené podľa indexov a otázky sú y- hodnoty,"]
[null,"Kým stĺpikové sú kreslené podľa otázok a y-hodnoty sú indexy. "]
[]
[null,"Aj tu sú hranice kvantilov 25%; 50% a 75%."]
[]
[]
[]
[]
[]
[]
[]
[]
[]
[]
[]
[]
[]
[]
[]
[]
[]
[]
[]
[]
[]
[]
[]
[]
[]
[]
[]
[]
[]
[]
[]
[]
[]
[]
[]
[]
[]
[]
[]
[]
[]
[]
[]
[]
[]
[]
[]
[]
[]
[null,"Ešte je tam pridaný „stĺpikový graf“ porovnania percent populárnych a odmietaných:"]
[]
[]
[]
[]
[]
[]
[]
[]
[]
[]
[]
[]
[]
[]
[]
[]
[]
[null,"Scatter 12. kvantitatívnych charakteristík prevedených na jednotnú škálu v Liste Sumy_All_Q."]
[]
[null,null,"Postup ako som charakteristiky previedol na jednotnú škálu pomocou „kvantilových noriem“ je"]
[null,"popísaný v spomínanom materiáli:  „Soc_indexy_analýza_1_4_2017_short.doc“. Sú odvodené"]
[null,"zo všetkých otázok"]
[]
[null,"Sú tieto (napríklad):"]
[]
[null,null,null,"Pre graf","Popisky"]
[null,1,"Koherencia C suma",7,"Koherencia"]
[null,2,"Kohézia IK suma",10,"Kohézia"]
[null,3,"Integrácia IG suma",6,"Integrácia"]
[null,4,"Populárni POP % suma",10,"Populárni"]
[null,5,"Nespokojnosť IN suma",19,"Nespokojnosť"]
[null,6,"Disociácia ID suma",17,"Disociácia"]
[null,7,"Izolácia IZ suma",19,"Izolácia"]
[null,8,"Odmietaní REJ % suma",7,"Odmietaní"]
[null,9,"Kontroverzní CON % suma",15,"Kontroverzní"]
[null,10,"Opomíjaní OPO % suma",19,"Opomenutí"]
[null,11,"Index Lásky",8.25,"Index Lásky"]
[null,12,"Index Nenávisti",16,"Index Nenávisti"]
[]
[null,"Graf vyzerá takto:"]
[]
[]
[]
[]
[]
[]
[]
[]
[]
[]
[]
[]
[]
[]
[]
[]
[]
[]
[]
[]
[]
[]
[]
[]
[]
[null,"Samozrejme všetky normatívne údaje musíme brať trochu s rezervou, pretože nemáme k dispozícii"]
[null," žiadne „celoslovenské normy.“ Vychádzajú z 58. tried."]
[]
[null,"Vpravo od Scattera indexov je ešte 5 radarových grafov obsahujúcich ako y-hodnoty všetkých"]
[null,"12 kvantitatívnych hodnôt, ktoré sú v scatteri."]
[]
[]
[]
[]
[]
[]
[]
[]
[]
[]
[]
[]
[]
[]
[]
[]
[]
[]
[]
[]
[]
[]
[]
[]
[]
[]
[]
[]
[]
[]
[]
[]
[]
[]
[]
[]
[]
[]
[]
[]
[]
[]
[]
[]
[]
[]
[]
[]
[]
[]
[null,"To sú všetky grafy z Listu: Sumy_All_Q. Názvy aj rozsahy grafov menia makrá."]
[]
[null,"Grafy priemerov AM z-skóre zo sumy volieb všetky otázky spolu P vs. N a PM vs. NM voľby"]
[null,"v Liste Individualne."]
[null,null,"Je to graf priemerov z-skóre pre sumy volieb na všetky otázky pozitívne vs. Negatívne"]
[null,"a vzájomné (mutual) voľby pozitívne vs. negatívne. Pre celú triedu."]
[]
[null,"Je typu „Guličkový graf“, vcelku nepodarený graf, ktorý sa ťažko číta."]
[null,"I keď sú tam normatívne hranice z-skóre."]
[]
[]
[]
[]
[]
[]
[]
[]
[]
[]
[]
[]
[]
[]
[]
[null,"Rozdiel medzi OPO Fila a OPO Walsh popisujem v spomínanom materiáli, kde som analyzoval indexy."]
[]
[null,"Čítalo by sa to asi takto: „vidíme, že keď zoberieme do úvahy všetky otázky, tak počet populárnych"]
[null,"osôb je nad z-skóre + 1 s. Ostatné kategórie sú v rámci normy triedy."]
[null,"Počet vzájomných volieb nevybočuje zo štatistickej hranice triedy.“"]
[]
[null,"To je vlastne pokus zobraziť obraz triedy v porovnaní „sama sebe normou“, ako sú rozvrstvené tie"]
[null,"kategórie žiakov. Predtým, než to zavrhnem, pozriem sa na tých 58 tried u ktorých mám"]
[null,"zosnímanú sociometriu. Už máme nahodených 50 z 58 tried."]
[]
[null,"Grafy z-skóre jednotlivých osôb zo sumy volieb všetky otázky spolu P vs. N a PM vs. NM voľby"]
[null,"v Liste Individualne."]
[]
[]
[]
[]
[]
[]
[]
[]
[]
[]
[]
[]
[]
[]
[]
[]
[]
[]
[]
[]
[]
[]
[]
[]
[null,"Toto je orientácia na osoby, teda z inej strany pohľad na to, čo je asi aj v ostatných grafoch."]
[null,"Tentoraz vyjadrené v z-skóre triedy. To sa už číta lepšie. V tomto grafe sú to pozitívne a negatívne"]
[null,"voľby vo všetkých otázkach. Čítalo by sa to asi takto:"]
[]
[null,null,"„Čo sa týka prijímania a odmietania, vidíme, že žiaci „02_Oso m“, „06_Oso m“, „10_Oso m“,dostávajú"]
[null,null,"vysoko významne viac negatívnych volieb v porovnaní s rozložením volieb v triede."]
[null,null,"Oproti tomu najviac preferovaná žiačka v triede je „23_Oso f“."]
[null,null,"Nad z-skóre +1 sú ešte žiačky „09_Oso f“ , „25_Oso f.“ a „28_Oso f.“"]
[]
[null,"Keď odčítame Negatívne z-skóre od Pozitívnych (modrá čiara) tak je obraz výraznejší."]
[]
[]
[]
[]
[]
[]
[]
[]
[]
[]
[]
[]
[]
[]
[]
[]
[]
[]
[]
[]
[]
[]
[]
[]
[null,"Tento graf sa týka vzájomných volieb. Čítal by sa asi takto:"]
[]
[null,null,"„Čo sa týka vzájomného prijímania a odmietania teda vzájomných volieb, tak podpriemerný počet"]
[null,null,"vzájomných pozitívnych volieb majú žiaci „02_Oso m“; „17_Oso f“ a „28_Oso f. Nadpriemerný"]
[null,null,"počet týchto volieb majú žiačky „18_Oso f, „23_Oso m“ a žiačka „25_Oso f. "]
[]
[null,null,"Oproti tomu vzájomné odmietanie je najvyššie u žiaka „06_Oso m“ a žiaka „10_Oso m“ a mierne"]
[null,null,"nad priemerom je ešte žiak „02_Oso m“."]
[]
[null,"Target Grafy jednotlivých otázok v Listoch Target_grafy_Q_1 až Target_grafy_Q_5."]
[]
[null,null,"Tieto listy obsahujú každý 6 grafov, ktoré obsahujú osoby umiestnené v terčových grafoch"]
[null,"podľa algoritmov, ktoré používa Capretti v svojom programe „Group Dynamics.“ Tam sú uvedené"]
[null,"aj vzorce teda algoritmy. Počítam ich v Liste: Individuálne."]
[]
[null,"Algoritmy sú uvedené v návode na obsluhu programu Group Gynamics, dostupnom na Internete:"]
[null,"„GroupDynamics-eng.pdf“."]
[]
[null,"Inak aj program je dostupný na:",null,null,null,"https://groupdynamics.en.softonic.com/"]
[]
[null,"Je to krásny program, žiaľ nemá interfejs na vstup matice z EXCELU. Ani po zadaní matice nemá"]
[null,"export matice iba export kvantitatívnych údajov. Na ich použitie, teda rozbitie reťazca pre naše"]
[null,"potreby som urobil tretí program na Sociometriu. Licencia je Shareware. Inak stojí 26 dolárov."]
[null,"Autorom je Simone Capretti."]
[]
[null,"Jedná sa o tieto „Target grafy“:"]
[]
[null,"1. Frequency of positive questions – Sedieť",null,null,"1. Frekvencia pozitívnych volieb – Sedieť "]
[null,"2. Social preference and social impact – Sedieť ",null,null,"2. Sociálna preferencia a sociálny vplyv – Sedieť "]
[null,"3. Received Acceptances – Sedieť ",null,null,"3. Získané pozitívne voľby – prijímanie – Sedieť "]
[null,"4. Received Rejections – Sedieť ",null,null,"4. Získané negatívne voľby – odmietanie – Sedieť "]
[null,"5. Mutual Acceptances – Sedieť ",null,null,"5. Vzájomné pozitívne voľby – Akceptovanie – "]
[null," ",null,null,"    Index sociability Cs –  Sedieť "]
[null,"6. Mutual Rejections – Sedieť ",null,null,"6. Vzájomné negatívne voľby – odmietanie – "]
[null," ",null,null,"    Negatívny index sociability ¬ (non)Cs – a Sedieť "]
[]
[null,"Do grafov som dal krátku Legendu, ako čítať tie „kruhy“, resp. polohu osôb v nich."]
[]
[null,"1. Frequency of positive questions – Sedieť",null,null,"2. Social preference and social impact – Sedieť"]
[]
[]
[]
[]
[]
[]
[]
[]
[null,"3. Received Acceptances – Sedieť",null,null,"4. Received Rejections – Sedieť"]
[]
[]
[]
[]
[]
[]
[]
[null,"5. Mutual Acceptances – Sedieť",null,null,"6. Mutual Rejections – Sedieť"]
[]
[]
[]
[]
[]
[]
[null,"Grafy vyzerajú takto:",null,"otázka Sedieť"]
[]
[]
[]
[]
[]
[]
[]
[]
[]
[]
[]
[]
[]
[]
[]
[]
[]
[]
[]
[]
[]
[]
[]
[]
[]
[]
[]
[]
[]
[]
[]
[]
[]
[]
[]
[]
[]
[]
[]
[]
[]
[]
[]
[]
[]
[]
[]
[]
[]
[]
[]
[]
[]
[]
[]
[]
[]
[]
[]
[]
[]
[]
[]
[]
[]
[]
[]
[]
[]
[]
[]
[]
[]
[]
[]
[]
[]
[]
[]
[]
[]
[]
[]
[]
[]
[]
[]
[]
[]
[]
[]
[null,"V Listoch Target grafov sú dve tlačidlá:"]
[]
[]
[]
[]
[]
[]
[]
[]
[]
[]
[]
[]
[null,"Keď stlačíme tlačidlo \"Popisky ako mená\" tak namiesto čísiel tam budú skrátené mená osôb orezané na 8 znakov napr.:"]
[null,null,null,null,null,null,null,null,"Alebo:"]
[]
[]
[]
[]
[]
[]
[]
[]
[]
[]
[]
[]
[]
[]
[]
[]
[]
[]
[]
[]
[]
[]
[]
[]
[]
[]
[]
[]
[]
[]
[null,"Keď stlačíme tlačidlo \"Popisky ako čísla\" tak namiesto mien tam budú čísla osôb."]
[null,"Toto je preddefinovaná (default) možnosť, pretože je vhodnejšia z hľadiska anonymizácie "]
[null,"i čitateľnosti grafu."]
[]
[null,"Analogicky je to pri všetkých ostatných otázkach."]
[]
[null,"Graf v Liste: Target_All_Sumar"]
[]
[null,"V tomto liste sú zhodnotené pozície každej osoby vo všetkých Target grafoch otázok 1 až 5",null,null,null,null,null,null,null,null,null," "]
[null,"prevedené na jednu jednotku. V tabuľke sú označené extrémne pozície v „semafórovej konvencii.“"]
[null,"V grafe je zobrazenie pozitívnych a negatívnych konotácií a prevedené na jednu jednotku."]
[]
[null,"Naprogramoval som tento postup.",null,"Tzv.\" zjemnenie škály\""]
[]
[null,"TG 1. Frekvencia pozitívnych volieb."]
[]
[null,null,"A. \"Populárni\". Osoby, ktoré majú počet pozitívnych volieb väčší ako M a majú počet"]
[null,null," ","odmietnutí blízko (near) nule. V našom prípade M = 3"]
[null,null,"B. \"Viac obľúbení ako neobľúbení\". Osoby, ktoré majú viac pozitívnych než negatívnych volieb."]
[null,null,"C. \"Viac neobľúbení ako obľúbení\". Osoby, ktoré majú viac negatívnych než pozitívnych volieb."]
[null,null,"D. \"Kontroverzní\". Osoby, ktoré majú približne (nearly) rovnaký počet pozitívnych i negatívnych volieb."]
[null,null,"E. \"Odmietaní\". Osoby, ktoré majú len jednu alebo žiadnu pozitívnu voľbu a počet negatívnych volieb je väčší ak M."]
[null,null,"F. \"Opomenutí\". Osoby, ktoré nezískali ani jednu pozitívnu ani negatívnu voľbu."]
[]
[]
[]
[]
[]
[]
[]
[]
[]
[null,"Komentár. Do pozitívnej kategórie patria skupiny POP a OBL, pričom sa odlišujú o jeden bod."]
[null,"Do negatívnej kategórie zaraďujeme REJ  s 3 bodmi, NEO a majú dva body a CON 1 bod."]
[]
[null,"TG 2.  Sociálna preferencia a sociálny vplyv"]
[]
[null,null,"A. \"Populárni\". ","Ak SP > 1.0 a zLM > 0.0 a zLL < 0.0"]
[null,null,"B. \"Odmietaní\". ","Ak SP < 1.0 a zLM < 0.0 a zLL > 0.0"]
[null,null,"C. \"Opomenutí\". ","Ak SI < 1.0 a zLM = 0.0 a zLL = 0.0"]
[null,null,"D. \"Kontroverzní\".","Ak SI > 1.0 a zLM > 0.0 a zLL > 0.0"]
[null,null,"E. \"Priemerný  status\". ","Osoby, ktoré nepatria do žiadnej z predošlých skupín."]
[]
[]
[]
[]
[]
[]
[]
[]
[null,"Komentár. Teto graf vychádza zo z-skóre. Priemerných nezaraďujeme. "]
[]
[null,"TG 3. Získané pozitívne voľby – prijímanie"]
[]
[null,null,"A. osoby s: ","max ≤ poz ≤ 0.75 max"]
[null,null,"B. osoby s:","0.75 max < poz ≤ 0.5 max"]
[null,null,"C. osoby s: ","0.5 max < poz ≤ 0.25 max"]
[null,null,"D. osoby s:","0.25 max < poz ≤ 0"]
[]
[]
[]
[]
[]
[]
[]
[null,"Komentár. Tu vychádzame z úvahy, ak je prijímanie slabé a nízke, je to negatívny znak."]
[null,"Je to kontinuálna škála od 0 do MAX."]
[]
[null,"TG 4. Získané negatívne voľby – odmietanie"]
[]
[null,null,"A. osoby s: ","max ≤ neg ≤ 0.75 max",null,"Vysoké"]
[null,null,"B. osoby s:","0.75 max < neg ≤ 0.5 max",null,"Mierne"]
[null,null,"C. osoby s: ","0.5 max < neg ≤ 0.25 max",null,"Slabé"]
[null,null,"D. osoby s:","0.25 max < neg ≤ 0",null,"Nízke"]
[]
[]
[]
[]
[]
[]
[]
[null,"Komentár. Tu vychádzame z úvahy, ak je odmietanie slabé a nízke, je to pozitívny znak."]
[null,"Je to kontinuálna škála od 0 do MAX."]
[]
[null,"TG 5. Vzájomné pozitívne voľby – akceptovanie – Index sociability Cs+"]
[]
[null," ","A. osoby s: "," 1 ≤ Cs+ ≤ 0,75",null,"Vysoký"]
[null," ","B. osoby s:"," 0,75 <Cs+ ≤ 0,5",null,"Mierny"]
[null," ","C. osoby s: "," 0,5 <Cs+ ≤ 0,25",null,"Slabší"]
[null," ","D. osoby s:"," 0,25 ≤ = Cs+ <0",null,"Nízky"]
[]
[]
[]
[]
[]
[]
[]
[]
[null,"Komentár. Tu vychádzame z úvahy, ak je Index sociability slabý a nízky, je to negatívny znak."]
[null,"Je to kontinuálna škála od 0 do MAX."]
[]
[null,"TG 6. Vzájomné negatívne voľby – odmietanie – Negatívny index sociability ¬ (non)Cs; Cs –"]
[]
[null," ","A) osoby s: 1 ≤ Cs+ ≤ 0,75",null,"Vysoký"]
[null," ","B) osoby s: 0,75 <Cs+ ≤ 0,5",null,"Mierny"]
[null," ","C) osoby s: 0,5 <Cs+ ≤ 0,25",null,"Slabší"]
[null," ","D) osoby s: 0,25 ≤ = Cs+ <0",null,"Nizky"]
[]
[]
[]
[]
[]
[]
[]
[null,"Komentár. Tu vychádzame z úvahy, ak je Index nesociability slabý a nízky, je to pozitívny znak."]
[null,"Je to kontinuálna škála od 0 do MAX."]
[]
[null,"Maximálny počet bodov v pozitívnej i negatívnej kategórii je teraz 18 x 5 = 90."]
[null,"(Testovanie MAX je v súbore: C_Target_analy_23_03_2018_pomo.xls)"]
[]
[null,"Poznámka. Tým, že delíme body hodnotou MAX dostaneme škálu od 0,00 do 1,00."]
[]
[null,"Ďalej program spočíta tieto kategórie v každej otázke:"]
[]
[]
[]
[]
[]
[]
[]
[]
[]
[]
[]
[]
[]
[]
[]
[]
[]
[]
[]
[]
[]
[]
[]
[]
[]
[]
[null,"Kvôli rýchlej orientácii ako vyzerajú jednotlivé osoby podľa prekódovania do kategórií"]
[null,"zobrazená je tabuľka \"semafórového typu\", kde sú okrajové pozitívne kategórie označené zelenou výplňou"]
[null,"a negatívne červenou."]
[]
[]
[]
[]
[]
[]
[]
[]
[]
[]
[]
[]
[]
[]
[]
[]
[]
[]
[]
[]
[]
[]
[]
[]
[]
[]
[]
[]
[]
[]
[]
[]
[]
[]
[]
[]
[]
[null,"Hneď vidíme, že osoby \"02_Oso m\"; \"04_Oso m\"; \"06_Oso m a \"**10_Oso m\" majú vysoký počet negatívnych konotácií"]
[null,"Naproti tomu \"09_Oso f\"; \"18_Oso f\"; \"23_Oso f\" a \"28_Oso f\" majú vysoký počet pozitívnych konotácií."]
[]
[null,"Pri pohľade na tabuľku nás môže prekvapiť, že osoba \"**10_Oso m\" má tretej otázke aj Sociabilitu CS+ VYS aj  NonSociabilitu CS- VYS."]
[null,"Keď si pozrieme sociogramy tak vidíme, že táto osoba má maximálny počet vzájomných volieb 3 aj pri pozitívnych voľbách aj pri negatívnych."]
[null,"Zrejme tu ide o kamarátov pri pozitívnych voľbách",null,null,null,"a vzájomne sa neznášajúcich pri negatívnych voľbách."]
[]
[]
[]
[]
[]
[]
[]
[]
[]
[]
[]
[]
[null,"Treba poznamenať, že v programe Group dynamics nemusí byť počet volieb obmedzený."]
[]
[null,"Zrejme preto ho aj Walsh v Grafe nominácií zaradil ako kontroverzného, nie ako Rejected i keď má najvyšší počet negatívnych volieb 16."]
[]
[]
[]
[null,"Takže indexy Cs+ a Cs- berieme s určitou rezervou."]
[]
[]
[null,"Pod tabuľkou je sumárne zhodnotenie:"]
[]
[]
[]
[]
[]
[]
[]
[]
[]
[]
[]
[]
[]
[]
[null,"Tu je medzi pozitívnymi osobami ešte \"07_Oso m\". To je dané tým, že toto zhodnotenie berie do úvahy celé jemné dielenie, kým horná tabuľka len okrajové, trojbodové hodnoty."]
[]
[null,"Táto tabuľka je zobrazená aj v tomto grafe:"]
[]
[]
[]
[]
[]
[]
[]
[]
[]
[]
[]
[]
[]
[]
[]
[]
[]
[]
[]
[]
[]
[]
[]
[]
[null,"Môže nás napríklad zaujímať ako vyzerá porovnanie sumárnych z-skóre a sumárne skóre z Target grafov:"]
[]
[]
[]
[]
[]
[]
[]
[]
[]
[]
[]
[]
[]
[]
[]
[]
[]
[]
[]
[]
[]
[]
[]
[]
[]
[]
[null,"hranica ± 1","z-skóre pozit","09_Oso f; 23_Oso f; 25_Oso f; 28_Oso f"]
[null,"hranica ± 1","z-skóre negat","02_Oso m; 06_Oso m; 10_Oso m"]
[null,"hranica ± 0,6","Target suma pozit","07_Oso m; 09_Oso f; 18_Oso f; 23_Oso f; 25_Oso f; 28 _Oso f"]
[null,"hranica ± 0,6","Target suma negat","02_Oso m; 06_Oso m; 10_Oso m"]
[]
[null,"V podstate podobný obraz. Podľa Target je ich viac. Ide o to, že z-skóre vychádza le z algoritmu Walsha,"]
[null,"kým Target grafy používajú aj iné algoritmy."]
[]
[null,"Toľko ku grafickým výstupom."]
[]
[null,"Venujme sa návodu na obsluhu."]
[]
[null,"Návod na obsluhu programu."]
[]
[null,"Dimenzovanie programu."]
[]
[null,null,"Program má tieto parametre, ak chceme obmedzenia."]
[]
[null,"1. Počet otázok je najviac 5 pričom každá musí mať pozitívnu aj negatívnu formu."]
[null,"2. Musí byť zadaná najmenej jedna pozitívna a jedna negatívna otázka."]
[null,"3. Počet osôb môže byť najviac 40 a najmenej 4 osoby."]
[null,"4. Počet volieb môže byť najviac 3. Najlepšie je keď sú tri."]
[null,"5. V Liste Questions musia byť zadané mená otázok v plnom znení (hlavičky v Listoch), v konvencii"]
[null,"pre Walshov program, ako aj v skrátenom znení ktoré program vkladá do názvov grafov"]
[null,"jednotlivých otázok."]
[null,"6. Konotácia otázok nemusí byť zadaná."]
[null,"7. Nezadaným otázkam dávame rovnaké meno aj pre plný aj pre skrátený názov, napr."]
[null,"„5. Nezadaná.“"]
[null," "]
[null,"Názvy jednotlivých Listov nemožno meniť, pretože makrá programu sa o ne opierajú."]
[]
[null,"Sú takéto:"]
[]
[null,"Listy Q_1_P; Q_1_N; Q_2_P; Q_2_N; Q_3_P; Q_3_N; Q_4_P; Q_4_N; Q_5_P; Q_5_N;"]
[null,"  ","sú Listy, kde sú matice odpovedí. Musia byť v tomto poradí."]
[null,"List Questions:  tu texty otázok v konvencii pre program Walsh`s Classroom Sociometrics."]
[null,"Mená osôb aj znenie otázok je nutné zadávať "]
[null,null,"v konvencii pre tento program. Konvencie sú tieto:"]
[null,null,"a.) Znenie otázok v Liste Questions musí byť v úvodzovkách napríklad:"]
[]
[null,null,"1. S kým z triedy by si chcel sedieť v jednej lavici?"]
[null,null,"(Číslo otázky nie je povinné, je užitočné pre orientáciu)"]
[]
[null,null,"b.) Mená osôb musia byť v úvodzovkách, pričom reťazec musí obsahovať jednu medzeru,"]
[null,null,"za ktorou nasleduje písmeno označujúce pohlavie a to m pre muža a f pre ženu. Napríklad:"]
[]
[null,null,"„01_Janko m“"]
[null,null,"(Číslo osoby a podčiarnik nie sú povinné, je to tiež ale užitočné pre orientáciu)"]
[]
[null,"Listy Sgm_Q1; Sgm_Q2; Sgm_Q3; Sgm_Q4; Sgm_Q5 sú Listy, kde sú vygenerované súbory *.sgm"]
[null," ","pre program Walsh`s Classroom Sociometrics. "]
[null,"List Sumy_All_Q: tu sú preložené dáta všetkých zadaných otázok a robím tam aj nejaké výpočty."]
[null,"List Individualne:  tu sú výpočty pre Target grafy."]
[null,"Listy: "]
[null,"Target_grafy_Q_1; Target_grafy_Q_2; Target_grafy_Q_3; Target_grafy_Q_4; Target_grafy_Q_5"]
[null,"sú listy terčových grafov"]
[null,"List Odlo_Q_1_hranice: tam sú odložené hranice Target grafov"]
[null,"List Odlo: tam sú odložené potrebné veci pre makrá"]
[null,"List Technický návod: tam sú nutné technické nastavenia pre správne fungovanie programu."]
[null,"List Návod: tam je tento návod na obsluhu s kvalitnejšími grabmi obrázkov."]
[null,"List Pomo: na odkladanie pomocných vecí"]
[]
[null,"Opakujem, že poradie Listov ani ich názvy nemožno meniť."]
[null,"Takto to vyzerá na dolnej Lište v EXCELI (samozrejme to ide za sebou):"]
[]
[]
[]
[]
[]
[]
[]
[]
[null,"Práca s programom."]
[]
[null,"Po otvorení súboru najprv zadáme znenie použitých sociometrických otázok, konotáciu a skrátené názvy."]
[]
[null,"Prejdeme do Listu Questions."]
[]
[null,"Do stĺpca B dáme konotácie otázok. Pre pozitívne otázky písmeno P, pre negatívne písmeno N"]
[null,null,"pre pozitívne otázky písmeno P"]
[null,null,"pre negatívne otázky písmeno N"]
[null,null,"pre nepoužité otázky písmeno Q"]
[null,"Písmená P a N sú povinné. Makrá kontroluje ich zadanie."]
[]
[null,"Do stĺpca C dáme znenie otázok."]
[]
[null,"Musia byť v konvencii pre Walshov program Sociometry, teda úvodzovky vľavo, text otázky a úvodzovky vpravo."]
[null,"Makro to kontroluje."]
[]
[null,"Do stĺpca D dáme skrátené názvy otázok. Nemusia byť v konvencii Walshovho programu, teda v úvodzovkách."]
[null,"Program ich dáva do názvov grafov."]
[]
[null,"Správne vyplnenie otázok v Liste Questions vyzerá napríklad takto:"]
[]
[]
[]
[]
[]
[]
[]
[]
[]
[]
[]
[]
[]
[]
[]
[]
[]
[]
[]
[null,"V bunke D2 musí byť hlavička pre súbory *.sgm. Vyzerá takto:"]
[]
[null,"\"Version 01.00\",\"Škola\",\"Psychológ\",\"Obdobie\",\"Dátum\",\"Trieda\""]
[]
[null,"Môžeme to zmeniť ak chceme, okrem prvého \"Version 01.00\""]
[null,"\"Version 01.00\",\"ZŠ Sitnianska\",\"2.polrok\",\"13.júna.2018\",\"5.A\""]
[]
[null,"Potom prejdeme do Listu: Q_1_P. Dole vidíme tieto tlačidlá:"]
[]
[]
[]
[]
[]
[]
[]
[]
[]
[]
[]
[]
[]
[]
[]
[null,"Stlačíme tlačidlo „1. Vymaž listy“."]
[]
[null,"Makro prekontroluje či je hlavička pre súbor *.sgm v Liste Questions. Ak tam nie je dá znam:"]
[]
[]
[]
[]
[]
[]
[]
[]
[]
[]
[]
[]
[]
[]
[]
[null,"Potom prekontroluje, či sme zadali všetky konotácie. Ak nie dá napr. oznam:"]
[]
[]
[]
[]
[]
[]
[]
[]
[]
[]
[]
[]
[]
[]
[]
[]
[]
[]
[null,"Ďalej kontroluje, či sú v konotáciách povolené písmená, teda P, N alebo Q. Ak nie dá napr. oznam:"]
[]
[]
[]
[]
[]
[]
[]
[]
[]
[]
[]
[]
[null,null,null,null,null,null,null,null,null,null,null,null,"Toto nie je aktuálne, len pri ladení."]
[]
[]
[null,"Potom kontroluje, či sú zadané všetky otázky v Liste Questions. Ak nie sú makro dá oznam:"]
[]
[]
[]
[]
[]
[]
[]
[]
[]
[]
[]
[]
[]
[]
[]
[]
[]
[]
[]
[null,"Konvencia je, že musí byť text otázok v úvodzovkách."]
[null,"' Kontrola či sú otázky v konvencii pre Walshov program. Prvý znak."]
[null,"Ak nie sú v otázke úvodzovky vľavo dá oznam:"]
[]
[]
[]
[]
[]
[]
[]
[]
[]
[]
[]
[]
[]
[]
[]
[]
[]
[null," Kontrola či sú otázky v konvencii pre Walshov program. Posledný znak."]
[null,"Ak chýbajú úvodzovky vpravo makro dá oznam:"]
[]
[]
[]
[]
[]
[]
[]
[]
[]
[]
[]
[]
[]
[]
[]
[]
[]
[]
[null,"' Kontrola či sú zadané skrátené názvy otázok"]
[null,"Zároveň makro kontroluje, či sme nezabudli do Listu Questions dať skrátené názvy otázok, ktoré sa"]
[null,"zobrazujú v názvoch grafov. Ak nie je tento názov zadaný program dá oznam:"]
[]
[]
[]
[]
[]
[]
[]
[]
[]
[]
[]
[]
[]
[]
[]
[]
[]
[]
[]
[null,"Stlačíme OK a program sa nastaví na bunku, kde treba zadať skrátený názov otázky. Tieto názvy sú"]
[null,"rovnaké pre pozitívnu i negatívnu otázku. Nejdú do súboru *.sgm, takže nemusia byť"]
[null,"v úvodzovkách. Program kontroluje všetkých 5 názvov."]
[]
[]
[]
[]
[]
[null,"Keď je všetko v poriadku chybové hlásenia sa neobjavia."]
[null,"Program vymaže všetky Listy a dá oznam:"]
[]
[]
[]
[]
[]
[]
[]
[]
[]
[]
[]
[]
[]
[]
[]
[]
[]
[]
[null,"Program tam preloží aj zadané otázky."]
[null,"Stlačíme OK a program sa nastaví na bunku B5."]
[]
[]
[]
[]
[]
[]
[]
[]
[]
[null,"Zadáme mená napríklad:"]
[]
[]
[]
[]
[]
[]
[]
[]
[]
[]
[]
[]
[]
[]
[]
[]
[]
[]
[]
[]
[]
[]
[]
[]
[]
[]
[]
[]
[]
[]
[]
[]
[]
[]
[]
[null,"Po zadaní poradových čísiel osôb a mien stlačíme tlačidlo: „2. Prelož do ostatných“."]
[]
[null,"Program vykoná tieto kontroly:"]
[]
[null,"1. Či je vôbec niečo zadané. Ak nie dá oznam:"]
[]
[]
[]
[]
[]
[]
[]
[]
[]
[]
[]
[]
[]
[]
[]
[]
[null,"2. Či je počet osôb menší alebo rovný N = 40. Ak nie dá oznam:"]
[]
[]
[]
[]
[]
[]
[]
[]
[]
[]
[]
[]
[]
[]
[]
[]
[null,"3. Či je počet osôb rovný alebo väčší ako N = 4.  Ak nie, dá oznam:"]
[]
[]
[]
[]
[]
[]
[]
[]
[]
[]
[]
[]
[]
[]
[]
[]
[null,"4. Či je pri všetkých menách číslo. Ak nie dá napr. oznam:"]
[]
[]
[]
[]
[]
[]
[]
[]
[]
[]
[]
[]
[]
[]
[]
[null,"5. Či je pri všetkých číslach meno osoby. Ak nie dá napr. oznam:"]
[]
[]
[]
[]
[]
[]
[]
[]
[]
[]
[]
[]
[]
[]
[]
[null,"6. Či sú čísla správne, teda zvyšujú sa o 1. Ak nie makro dá napr. oznam:"]
[]
[]
[]
[]
[]
[]
[]
[]
[]
[]
[]
[]
[]
[]
[]
[]
[null,"7. Či je v mene osoby prvý znak úvodzovky. Ak nie, makro dá napr. oznam:"]
[]
[]
[]
[]
[]
[]
[]
[]
[]
[]
[]
[]
[]
[]
[]
[null,"8. Či je v mene osoby posledný znak úvodzovky. Ak nie, makro dá napr. oznam:"]
[]
[]
[]
[]
[]
[]
[]
[]
[]
[]
[]
[]
[]
[]
[]
[null,"9. Či je zadané písmeno pohlavia f alebo m. Ak nie dá oznam napr.:"]
[]
[]
[]
[]
[]
[]
[]
[]
[]
[]
[]
[]
[]
[]
[]
[]
[null,"10. Či je pred písmenom pohlavia medzera. Ak nie, makro dá napr. oznam:"]
[]
[]
[]
[]
[]
[]
[]
[]
[]
[]
[]
[]
[]
[]
[]
[null,"11. Či sú zadané všetky mená."]
[]
[]
[]
[]
[]
[]
[]
[]
[]
[]
[]
[]
[]
[]
[]
[null,"Keď je všetko v poriadku tieto hlásenia sa neobjavujú. Objaví sa oznam:"]
[]
[]
[]
[]
[]
[]
[]
[]
[]
[]
[]
[]
[null,"Preddefinovaný (Default) počet sú tri voľby. Ak zadáme viac alebo nulu program dá oznam:"]
[]
[]
[]
[]
[]
[]
[]
[]
[]
[]
[]
[]
[]
[]
[]
[null,"Ak nezadáme nič program dá oznam:"]
[]
[]
[]
[]
[]
[]
[]
[]
[]
[]
[]
[]
[]
[]
[]
[null,"Zadáme počet volieb, ak sú tri, stlačíme len OK."]
[null,"Program vykoná transpozíciu mien v hornej matici, vytvorí dolnú maticu a preloží ich do všetkých Listov."]
[]
[null,"Potom dá oznam o preložení mien do všetkých Listov:"]
[]
[]
[]
[]
[]
[]
[]
[]
[]
[]
[]
[]
[]
[]
[]
[]
[]
[]
[]
[null,"Po preložení mien to vyzerá takto:"]
[]
[]
[]
[]
[]
[]
[]
[]
[]
[]
[]
[]
[]
[]
[]
[]
[]
[]
[]
[]
[]
[]
[]
[]
[]
[]
[]
[]
[]
[]
[]
[]
[]
[]
[]
[]
[]
[]
[]
[]
[]
[]
[]
[]
[]
[null,"Stlačíme OK a kurzor sa nastaví na prvú bunku D5 v matici prvej otázky Q_1_P."]
[null,"Údaje volieb do matice zadávame dvojklikaním ľavým tlačidlom na myši na danej bunke."]
[null,"(Môžeme ich aj priamo vpisovať do buniek, ale to nie je veľmi praktické.)"]
[]
[]
[]
[]
[]
[]
[]
[]
[]
[]
[]
[null,"Zadávanie volieb."]
[]
[null,"Údaje volieb do matice zadávame klikaním ľavým tlačidlom na myši na danej bunke."]
[null,"(Môžeme zadávať aj čísla volieb priamo do matice k zvoleným osobám, ale to nie je praktické.)"]
[]
[null,"Údaje zadávame dvojklikmi na myši takto:"]
[]
[null,null,"Nastavíme sa v danom riadku pod osobu, ktorá bola zvolená ako prvá"]
[null,null,"a dáme ľavý dvojklik myšou."]
[null,null,"V danej bunke sa objaví číslo 1."]
[null,null,"Nastavíme sa v danom riadku pod osobu, ktorá bola zvolená ako druhá"]
[null,null,"a dáme ľavý dvojklik myšou."]
[null,null,"V danej bunke sa objaví číslo 2."]
[null,null,"Nastavíme sa v danom riadku pod osobu, ktorá bola zvolená ako tretia"]
[null,null,"a dáme ľavý dvojklik myšou."]
[null,null,"V danej bunke sa objaví číslo 3."]
[]
[null,null,"Prejdeme do ďalšieho riadku a postup opakujeme."]
[]
[null,"Môžeme si ukotviť priečky, kvôli prehľadu. Klikneme na Riadok 4 a dáme ukotviť priečky."]
[]
[null,"Vyzerá to napr. takto (ukotvené priečky):"]
[]
[]
[]
[]
[]
[]
[]
[]
[]
[]
[null,"Alebo napr. takto (neukotvené):"]
[]
[]
[]
[]
[]
[]
[]
[]
[]
[]
[]
[]
[]
[]
[]
[]
[]
[]
[]
[null,"Čo robiť, keď sa pomýlime:"]
[]
[null,"V žltej bunke C3 je počítadlo klikov. (Ukotvené)"]
[]
[]
[]
[]
[]
[]
[]
[null,"1. Vymažeme chybné číslo."]
[null,"2. Nastavíme počítadlo, ktoré je v bunke C3 na hodnotu, ktorú chceme vložiť."]
[null,"3. Klikneme znovu na novú bunku 2x."]
[]
[null,"Alebo:"]
[null,"1. Vymažeme všetky čísla v danom riadku."]
[null,"2. Do bunky počítadla dáme hodnotu nula = 0"]
[null,"3. Znovu zadáme tri správne čísla."]
[]
[null,"Alebo:"]
[null,"1. Dvojklikneme na chybnom čísle. Číslo zmizne."]
[null,"2. Dáme ľavý klik na hociktorej inej prázdnej bunke. Chybné číslo zmizne."]
[null,"3. Teraz dvojklikneme na správnej bunke."]
[null,"4. Toto opakujeme, kým tam nebude správne číslo (max 3 razy), pretože to súvisí s počítadlom."]
[]
[null,"Lepšie je dávať pozor, alebo druhý postup s vymazaním riadku a nastavením počítadla na nulu."]
[null,"Matice môžeme aj kopírovať, ak ich máme vyhotovené predtým v EXCELI. (Tak postupujem pri ladení)."]
[]
[null,"Horná vyplnená matica vyzerá napr. takto (ukotvené):"]
[]
[]
[]
[]
[]
[]
[]
[]
[]
[]
[]
[]
[]
[]
[]
[]
[]
[]
[]
[]
[]
[]
[]
[]
[]
[]
[]
[]
[]
[]
[]
[]
[]
[null,"Pri vypĺňaní hornej matice sa automaticky v dolnej matici zobrazujú čísla zvolených osôb. To je potrebné"]
[null,"pre tvorbu reťazcov pre Walshov program. Vyzerá to napr. takto:"]
[]
[]
[]
[]
[]
[]
[]
[]
[]
[]
[]
[]
[]
[]
[]
[]
[]
[]
[]
[]
[]
[]
[]
[]
[]
[]
[]
[]
[]
[]
[]
[]
[]
[]
[]
[]
[]
[]
[]
[]
[]
[]
[]
[null,"Keď vyplníme maticu stlačíme tlačidlo „3. Spočítaj sumy“. "]
[]
[null,"Makro najprv prekontroluje, či je matica vyplnená (ak sme stlačili tlačidlo \"3.Spočítaj sumy\" omylom)."]
[null,"Ak áno dá oznam:"]
[]
[]
[]
[]
[]
[]
[]
[]
[]
[]
[]
[]
[]
[]
[]
[]
[null,"Ak je to v poriadku, makro vypočíta sumy volieb v riadkoch a stĺpcoch v hornej matici a vytvorí reťazec pre Walshov program"]
[null,"a dá ho vedľa dolnej matice. Zároveň vypočíta sumy vzájomných volieb. Potom prekontroluje správnosť"]
[null,"zadania. Ak niekto volil seba dá oznam:"]
[]
[]
[]
[]
[]
[]
[]
[]
[]
[]
[]
[]
[]
[]
[]
[]
[]
[]
[null,"V dolnej matici to potom vyzerá takto (v poslednom stĺpci je počet vzájomných volieb):"]
[]
[]
[]
[]
[]
[]
[]
[]
[]
[]
[]
[]
[]
[]
[]
[]
[]
[]
[]
[]
[]
[]
[]
[]
[]
[]
[]
[]
[]
[]
[]
[]
[]
[]
[]
[]
[null,"V prípade, že sme v negatívnej otázke, makro najprv prekontroluje, ži je vyplnená matica predošlej pozitívnej otázky. Ak nie je dá oznam:"]
[]
[]
[]
[]
[]
[]
[]
[]
[]
[]
[]
[]
[]
[]
[]
[]
[null,"Ak je to v poriadku, makro urobí aj spoločný reťazec a dá ho do predošlej pozitívnej otázky:"]
[]
[null,"Vtedy to vyzerá takto:"]
[]
[]
[]
[]
[]
[]
[]
[]
[]
[]
[]
[]
[]
[]
[]
[]
[]
[]
[]
[]
[]
[]
[]
[]
[]
[]
[]
[]
[]
[]
[]
[]
[]
[]
[]
[]
[null,"Zároveň aj vytvorí súbor *.sgm pre obe otázky a dá ho napr. do Sgm_Q1."]
[null,"Ďalej preloží potrebné údaje do Listu Sumy_All_Q. Tam to vyzerá napr. takto:"]
[]
[]
[]
[]
[]
[]
[]
[]
[]
[]
[]
[]
[]
[null,"To ale užívateľa nemusí zaujímať."]
[]
[null,"Od Listu Q_1_N je tam len jedno tlačidlo: 3. Spočítaj sumy."]
[]
[]
[]
[]
[]
[]
[]
[]
[]
[]
[]
[null,"Postupne vypĺňame matice ďalších otázok a len tlačidlo 3. Spočítaj sumy."]
[]
[null,"Funkcia tlačidla „Koriguj mená po pridaní mena“. Zrušené 11.11.2018. Nie je to praktické."]
[]
[null,null,"Teraz máme potrebné dáta aj v Liste: Sumy_All_Q ako aj v Liste: Individualne. Nakoniec"]
[null,"potrebujeme preložiť údaje do Target grafov. Na to slúži tlačidlo Preložiť do Target grafov v Liste:"]
[null,"Sumy_All_Q:"]
[]
[]
[]
[]
[]
[]
[]
[]
[]
[]
[]
[]
[]
[]
[null,"Makro prekontroluje, či boli preložené všetky údaje z otázok P a N."]
[null,"Ak sme niektorú zabudli dá oznam:"]
[]
[]
[]
[]
[]
[]
[]
[]
[]
[]
[]
[]
[]
[]
[]
[null,"Stlačíme OK, nájdeme otázku a stlačíme tam tlačidlo Spočítaj sumy."]
[]
[null,"Program preloží údaje a dá oznam:"]
[]
[]
[]
[]
[]
[]
[]
[]
[]
[]
[]
[]
[]
[]
[]
[]
[]
[null,null,null,null,null,null,null,null,null,null,null,"'"]
[]
[]
[]
[null,"Zvolíme List, ktorý si chceme pozrieť ako prvý a dáme OK. Program tam prejde a dá záverečný"]
[null,"oznam."]
[null,"Ak nezadáme nič alebo stlačíme Cancel, program prejde do Listu Sumy_All_Q a nastaví sa na"]
[null,"Scatter. Ak dáme nelegálnu voľbu, program zostane v  Liste: Target_grafy_Q_1 a dá len záverečný"]
[null,"oznam."]
[]
[]
[]
[]
[]
[]
[]
[]
[]
[]
[]
[]
[]
[null,"To je prakticky všetko, čo sa týka spracovania matíc v EXCELI."]
[null,"Spreadsheet nerobí tzv. „sociogramy“ z viacero dôvodov. Po prvé to neviem naprogramovať, lebo"]
[null,"je to zložité a po druhé, existujú skvelé programy, ktoré to robia."]
[]
[null,"Dodatok. Získanie sociogramu z programu Walsh`s Classroom Sociometrics."]
[null,"(Autori programu sú Donald Wash a Richard Walsh z Roscoe Middle School, Illinois, USA)"]
[null,"Viď „Použitá literatúra a pramene“ na konci návodu."]
[]
[null,"Webová stránka programu je: http://www.classroomsociometrics.com/"]
[]
[null,"Z tejto stránky je možné stiahnuť si Demo verziu zdarma, ktoré je plne funkčná okrem toho,"]
[null,"že neumožňuje ukladať vyhodnotené dáta. Samotný sociogram sa z neho dá vybrať grabom obrazovky a uložiť ako obrázok."]
[null,"Cena programu je 39.99 dolárov. Na tejto stránke je aj demo video obsluhy programu."]
[]
[null,"Úplný návod na obsluhu programu je v súbore: 02_Sociometria_Walsh_návod_A4_18_12_2016.doc,"]
[null,"ktorý som napísal pre psychológov v zácviku."]
[]
[null,"Tu popisujem len postup, ako dostaneme do programu vytvorený súbor *.sgm."]
[]
[null,"A. Vytvorenie textového súboru *.sgm."]
[]
[null,null,"Je to obyčajný textový súbor. V ľubovoľnom textovom editore, napríklad Edit Plus ale Notepad"]
[null," alebo aj vo Worde si vytvoríme prázdny súbor napríklad Q_1.txt. Vo Worde ho uložíme ako"]
[null," obyčajný text."]
[]
[null,null,"V súbore v EXCELI napr.: Socio_Pozit_Negat_Fila_defo.xls prejdeme do listu Sgm Q1"]
[null,"a označíme text v stĺpci od bunky B1 až po bunku, kde je nejaký text. Dĺžka závisí od poštu osôb."]
[null,"Je tam napríklad toto:"]
[]
[null,null,"\"Version 01.00\",\"Škola\",\"Psychológ\",\"Obdobie\",\"Dátum\",\"Trieda\""]
[null,null,28]
[null,null,"\"01_Oso m\""]
[null,null,"\"02_Oso m\""]
[null,null,"\"03_Oso m\""]
[null,null,"\"04_Oso m\""]
[null,null,"\"05_Oso m\""]
[null,null,"\"*06_Oso m\""]
[null,null,"\"07_Oso m\""]
[null,null,"\"08_Oso m\""]
[null,null,"\"09_Oso f\""]
[null,null,"\"**10_Oso m\""]
[null,null,"\"11_Oso m\""]
[null,null,"\"12_Oso m\""]
[null,null,"\"13_Oso m\""]
[null,null,"\"14_Oso m\""]
[null,null,"\"15_Oso f\""]
[null,null,"\"16_Oso f\""]
[null,null,"\"17_Oso f\""]
[null,null,"\"18_Oso f\""]
[null,null,"\"19_Oso f\""]
[null,null,"\"20_Oso f\""]
[null,null,"\"21_Oso f\""]
[null,null,"\"22_Oso f\""]
[null,null,"\"23_Oso f\""]
[null,null,"\"24_Oso f\""]
[null,null,"\"25_Oso f\""]
[null,null,"\"26_Oso f\""]
[null,null,"\"27_Oso f\""]
[null,null,"\"28_Oso f\""]
[null,null,"3 \"\",\"\""]
[null,null,"\"1. S kým z triedy by si chcel sedieť v jednej lavici?\""]
[null,null,"\"\""]
[null,null,"\"\""]
[null,null,"\"1. S kým z triedy by si nechcel sedieť v jednej lavici?\""]
[null,null," 5, 10, 11, 16, 17, 23,"]
[null,null," 8, 9, 11, 4, 6, 10,"]
[null,null," 9, 12, 28, 5, 6, 10,"]
[null,null," 23, 25, 28, 10, 21, 24,"]
[null,null," 1, 7, 9, 4, 12, 27,"]
[null,null," 10, 11, 12, 17, 20, 22,"]
[null,null," 5, 9, 28, 2, 6, 10,"]
[null,null," 7, 9, 28, 6, 10, 24,"]
[null,null," 3, 7, 28, 15, 23, 25,"]
[null,null," 1, 5, 8, 4, 16, 18,"]
[null,null," 7, 8, 28, 2, 4, 10,"]
[null,null," 20, 21, 23, 2, 5, 22,"]
[null,null," 4, 12, 14, 6, 21, 0,"]
[null,null," 8, 9, 13, 2, 6, 10,"]
[null,null," 22, 23, 26, 4, 6, 10,"]
[null,null," 22, 24, 27, 2, 6, 10,"]
[null,null," 16, 22, 27, 6, 8, 10,"]
[null,null," 20, 23, 27, 2, 6, 10,"]
[null,null," 18, 23, 27, 2, 6, 10,"]
[null,null," 18, 23, 27, 4, 6, 10,"]
[null,null," 22, 24, 27, 2, 6, 10,"]
[null,null," 23, 25, 27, 2, 6, 10,"]
[null,null," 5, 18, 25, 2, 6, 10,"]
[null,null," 19, 21, 26, 6, 10, 12,"]
[null,null," 22, 23, 27, 2, 6, 10,"]
[null,null," 14, 23, 24, 2, 6, 10,"]
[null,null," 16, 18, 23, 6, 10, 12,"]
[null,null," 0, 0, 0, 0, 0, 0,"]
[]
[null,"Označený text vezmeme do clipboardu (Ctrl + C) a prejdeme do nášho súboru Q_1.txt."]
[null,"Text tam vložíme nie Ctrl + V (Prilepiť, teda Paste) ale Úpravy → Prilepiť špeciálne →"]
[null,"Neformátovaný text, ak sme vo Worde."]
[]
[null,"Ak sme v Poznámkovom bloku (Notepad), dáme len Ctrl+V. Dáme Uložiť. To je bežná práca"]
[null,"s Wordom alebo Notepadom."]
[]
[null,"Potom súbor premenujeme na Q_1.sgm."]
[]
[null,"B. Vytvorenie sociogramu programom Walsh`s Classroom Sociometrics."]
[null,null,null,null,null,null,"Ikonka:"]
[]
[]
[null,null,"1. Spustíme program či už demo verziu, alebo zakúpenú verziu (naša poradňa program kúpila)."]
[null,"Objaví sa okno:"]
[]
[]
[]
[]
[]
[]
[]
[]
[]
[]
[]
[]
[]
[]
[]
[]
[]
[]
[]
[]
[]
[]
[]
[]
[]
[]
[null,"Dáme File → Open a vyberieme náš súbor Q_1.sgm:"]
[]
[]
[]
[]
[]
[]
[]
[]
[]
[]
[]
[]
[]
[]
[]
[]
[]
[null,"Dáme Otvoriť. Úvodná obrazovka zostáva."]
[]
[null,null,"2. Prekontrolujeme, či máme dáta správne zadané tak, že postupne prejdeme Step One až Step Five."]
[]
[]
[]
[]
[]
[]
[]
[]
[]
[]
[]
[]
[]
[]
[]
[]
[]
[]
[]
[]
[]
[]
[]
[]
[]
[]
[]
[]
[]
[]
[]
[]
[]
[]
[]
[]
[]
[]
[]
[]
[]
[]
[]
[]
[]
[]
[]
[]
[]
[]
[]
[]
[]
[]
[]
[]
[]
[]
[]
[]
[]
[]
[]
[]
[]
[]
[]
[]
[]
[]
[]
[]
[]
[]
[]
[]
[]
[]
[]
[]
[]
[]
[]
[]
[]
[]
[]
[]
[]
[]
[]
[]
[]
[]
[]
[]
[]
[]
[]
[]
[]
[]
[]
[]
[]
[]
[]
[]
[]
[]
[]
[]
[]
[]
[]
[]
[]
[]
[]
[]
[]
[]
[]
[]
[]
[]
[]
[]
[]
[null,"Keď už sme zbehlí, tak hneď prejdeme na Step Five."]
[null,"Výhoda toho, že EXCEL nám sám pripraví súbor *.sgm je zrejmá. Nemusíme v programe"]
[null,"Sociometrics nič zadávať, čo je mimochodom aj dosť zdĺhavé. Identifikačné údaje môžeme"]
[null,"samozrejme meniť aj tu."]
[]
[null,"Zväčšíme si sociogram a môžeme ho prípadne upraviť tak, že posúvame osoby a šípky idú s nimi."]
[]
[null,"Dáme vytučniť vzájomné voľby a poposúvame tak, aby bolo čo najmenej prekrížení."]
[]
[null,"Ak máme kúpenú plnú verziu programu, môžeme si súbor uložiť napríklad pod názvom"]
[null,"Q_1_a.sgm."]
[null,"Výhoda je, že odloží už poposúvaný sociogram. Ak nie môžeme si sociogram grabnúť z obrazovky"]
[null,"napríklad programom UltraSnap alebo iným a uložiť ho napríklad ako Sociogram_Q_1.jpg."]
[]
[null,"Výsledok je napríklad tento:"]
[]
[null,"Pozitívne voľby:"]
[]
[]
[]
[]
[]
[]
[]
[]
[]
[]
[]
[]
[]
[]
[]
[]
[]
[]
[]
[]
[]
[]
[]
[]
[]
[]
[]
[]
[]
[]
[]
[]
[]
[]
[]
[]
[]
[null,"Negatívne voľby:"]
[]
[]
[]
[]
[]
[]
[]
[]
[]
[]
[]
[]
[]
[]
[]
[]
[]
[]
[]
[]
[]
[]
[]
[]
[]
[]
[]
[]
[]
[]
[]
[]
[]
[]
[]
[]
[]
[null,"Nominácie P vs. N:"]
[]
[]
[]
[]
[]
[]
[]
[]
[]
[]
[]
[]
[]
[]
[]
[]
[]
[]
[]
[]
[]
[]
[]
[]
[]
[]
[]
[]
[]
[]
[]
[]
[]
[]
[]
[]
[]
[]
[]
[]
[null,"Tento graf v Liste Sumy_All_Q vyzerá takto:"]
[]
[]
[]
[]
[]
[]
[]
[]
[]
[]
[]
[]
[]
[]
[]
[]
[]
[]
[]
[]
[]
[]
[]
[]
[]
[]
[null,"Sociomapa:"]
[]
[]
[]
[]
[]
[]
[]
[]
[]
[]
[]
[]
[]
[]
[]
[]
[]
[]
[]
[]
[]
[]
[]
[]
[]
[]
[]
[]
[]
[]
[]
[]
[]
[]
[]
[]
[]
[]
[]
[]
[]
[]
[]
[null,"Táto mapa ukazuje čísla žiakov a koľko majú pozitívnych a negatívnych volieb."]
[null,"Napríklad žiak č.10 získal 2 pozitívne a 20 negatívnych volieb."]
[null,"Nie je to veľmi prehľadné."]
[]
[null,"To sú vlastne tieto údaje:"]
[]
[]
[]
[]
[]
[]
[]
[]
[]
[]
[]
[null,"V tejto podobe ich v spreadsheete v EXCELI nezobrazujem."]
[null,"Aj keď by sa dalo pridať 5 takýchto grafov:"]
[]
[]
[]
[]
[]
[]
[]
[]
[]
[]
[]
[]
[]
[]
[]
[]
[]
[]
[]
[]
[]
[]
[]
[]
[]
[]
[]
[]
[]
[null,"Namiesto čísel sa dajú dať popisky aj mená, ale aj tak je tu problém, že sa kryjú ak žiaci majú"]
[null,"rovnaký počet pozitívnych a negatívnych volieb. Takže na tieto matice som rezignoval."]
[]
[null,"Rovnako si môžeme vyrobiť sociogramy všetkých otázok ak chceme."]
[]
[null,"Použitá literatúra a premene."]
[]
[null,"BodySays Group: Методика диагностики межличностных и межгрупповых"]
[null," ","отношений Дж. Морено «Cоциометрия». Обработка и интерпретация результатов."]
[null," ","http://bodysays.ru/tests-on-the-interpersonal-relationships-in-a-team/methods-of-diagnosis-of-interpersonal-and-intergroup-relations-moreno-sociometry.html"]
[]
[null,"Capretti S.: Program GroupDynamics. Ver. 1.2.5. Release date 23/02/2016. Trial."]
[null,null,"Brescia, Lombardia, Italy. (Simone Capretti is a developer of education software)."]
[null," ","https://groupdynamics.en.softonic.com/"]
[null,null,"Manuál: http://manualzz.com/doc/7058425/user-manual---simone-capretti"]
[]
[null,"Coie, J., D., Dodge, K., A.:Continuities and Changes in Children’s Social Status: "]
[null," ","A Five-Year Longitudinal Study. In Merrill- Palmer Quartely, 29(3), 261-282. 1983"]
[null," ","http://www.saske.sk/cas/public/media/6069/03_Lipovsk%C3%A1_Dobe%C5%A1.pdf"]
[]
[null,"LeDiS Group: SociometryPro computer program. Russian Federation."]
[null," ","http://www.sociometry.ru/files/sociometrypro/2_2/socio_manual_eng_2_2.pdf"]
[]
[null,"Медпортал.com ©: Социометрическая оценка групповой сплоченности"]
[null,"http://медпортал.com/psihologiya-pedagogika-voennaya/sotsiometricheskaya-otsenka-gruppovoy.html"]
[]
[null,"Noga Henryk, PL: Metody socjometryczne w edukacji techniczno - informatycznej. "]
[null," ","http://tvv-journal.upol.cz/pdfs/tvv/2009/01/37.pdf"]
[]
[null,"Osicenaua, M., E., Popab., I.: Access Technologies (AT) for students with visual impairments."]
[null," ","aTechnical University of Civil Engineering of Bucharest, Romania, 2014"]
[null," ","bSchool for the Visually Impaired, Bucharest, Romania, 2014"]
[null," ","http://www.sciencedirect.com/science/article/pii/S1877042815015724"]
[null,"Petrusek, M.: Sociometrie. Nakladatelství Svoboda, Praha 1969"]
[]
[null,"Попова Г.В., Богдан Ж.Б.: "]
[null," ","Социометрическое исследование динамических процессов в малой группе."]
[null," ","Национальный Технический Университет «Харьковский Политехнический Институт»"]
[null," ","Кафедра педагогики и психологии управления  социальными системами"]
[null," ","Монография 2015."]
[null," ","http://конференция.com.ua/files/file/monofrafiya_popova_bogdan.pdf"]
[]
[null,"Rumińska, Patrycja, Phm wędr.: Jak przeprowadzić badanie socjometryczne?"]
[null," ","Stowarzyszenie Harcerskie, 2015"]
[null," ","http://www.sh.org.pl/wp-content/uploads/2016/01/Skrypt-socjometryczny.pdf"]
[]
[null,"Sherman, Lawrence W., PhD: Sociometry in the Classroom: How to do it."]
[null," ","Miami University, Ohio, USA, 2002"]
[null,null,"http://www.users.miamioh.edu/shermalw/sociometryfiles/socio_step16.htmlx"]
[]
[null,"Šuláková, Michaela : Využití sociometrie v práci vychovatele a pedagoga. Bakalářska práce."]
[null,null,"Universita Palackého, Olomouc 2011"]
[null," ","https://theses.cz/id/0t8tp2/?lang=en;furl=%2Fid%2F0t8tp2%2F"]
[]
[null,"Baш Пcиxoлог ©: Метод социометрических измерений (социометрия)."]
[null," ","http://www.vashpsixolog.ru/psychodiagnostic-school-psychologist/73-diagnosis-of-interpersonal/476-the-method-of-sociometric-measurements-sociometry"]
[]
[null,"Walsh, Donald  and Walsh, Richard : Walsh`s Classroom Sociometrics. "]
[null," ","Roscoe Middle School, Illinois, USA, 2004"]
[null," ","http://www.classroomsociometrics.com/"]
[]
[null,"Zatloukalová, B.: ","Formální a neformální vztahy ve skupině školní třídy víceletého gymnázia"]
[null," ","a základní školy.  ","Diplomová práce. Univesita Tomáše Bati ve Zlíně. 2010"]
[null,null,"http://digilib.k.utb.cz/bitstream/handle/10563/12344/zatloukalov%C3%A1_2010_dp.pdf?sequence=1"]
[]
[null,"Zwierzyńska, Elżbieta : Poznawanie klasy szkolnej. "]
[null," ","Centrum Metodyczne Pomocy Psychologiczno-Pedagogicznej. Warszawa 2008"]
[null,null,"http://www.bc.ore.edu.pl/Content/215/Poznawanie+klasy+szkolnej.pdf"]
[]
[null,"Fila.","  V Banskej Bystrici dňa 11.11.2018"]

{"sheet":"Technický návod","index":28,"n_rows":657,"n_cols":13,"rows_kept":657,"cut":false,"hidden":false,"merged":[]}
[null,"Technický návod na obsluhu všetkých spreadsheetov na vyhodnotenie sociometrie verzie A, B, C, D, E, F,G."]
[null,"Mgr. Stanislav Fila, psychológ CPPPaP Banská Bystrica"]
[]
[null,"Dôležité technické poznámky."]
[]
[null,"A. Musíme mať povolené makrá. (Všetky verzie spreadsheeotov)."]
[]
[null,null,"Pretože spreadsheet obsahuje makrá v jazyku Visual Basic pred samotnou prácou"]
[null,"je potrebné povoliť makrá."]
[]
[null,"V EXCELI 2003."]
[null,"Dáme Nastroje → Možnosti → Zabezpečenie → Zabezpečenie makier"]
[]
[]
[]
[]
[]
[]
[]
[]
[]
[]
[]
[]
[]
[]
[]
[]
[]
[]
[]
[]
[]
[null,"Môžeme zvoliť podľa potreby Stredná alebo ak máme dobrý rezidentný Antivirový program aj Nizka."]
[]
[null,"Ak zvolíme Stredná po spustení sa objaví oznam:"]
[]
[]
[]
[]
[]
[]
[]
[]
[]
[]
[]
[]
[null,"V EXCELI 2007 a vyššie."]
[]
[null,"Keď nie sú povolené makrá objaví sa napr. oznam:"]
[]
[]
[]
[]
[]
[]
[]
[]
[null,"Stlačíme Tlačidlo OFFICE vľavo hore."]
[]
[null,"Potom klikneme dole na Možnosti programu EXCEL a vyberieme Centrum dôveryhodnosti."]
[]
[]
[]
[]
[]
[]
[]
[]
[]
[]
[]
[]
[]
[]
[]
[]
[]
[]
[]
[]
[]
[]
[]
[]
[null,"Nastavenie centra dôveryhodnosti → Nastavenie makra:"]
[]
[]
[]
[]
[]
[]
[]
[]
[]
[]
[]
[]
[]
[]
[]
[null,"V EXCELI 2013."]
[]
[null,"Klikneme na SÚBOR:"]
[]
[]
[]
[]
[]
[]
[]
[]
[]
[]
[]
[]
[]
[]
[]
[]
[]
[null,"Vyberieme Možnosti:"]
[]
[]
[]
[]
[]
[]
[]
[]
[]
[]
[]
[]
[]
[]
[]
[]
[]
[]
[]
[]
[]
[]
[]
[]
[]
[]
[]
[]
[]
[]
[]
[]
[]
[null,"Vyberieme Možnosti → Centrum dôveryhodnosti:"]
[]
[]
[]
[]
[]
[]
[]
[]
[]
[]
[]
[]
[]
[]
[]
[]
[]
[]
[]
[]
[]
[]
[null,"Zaklikneme takto:"]
[]
[]
[]
[]
[]
[]
[]
[]
[]
[]
[]
[]
[]
[]
[]
[]
[]
[]
[]
[]
[]
[]
[]
[]
[null,"B. Musíme mať nainštalovaný Add In XY Chart Labeler. (Nie je nutný pre verzie Socio_Semafo bez histogramov)."]
[]
[null,"Autor je vývojár Microsoftu Rob Bovey, je zdarma na stiahnutie napríklad na lokácii:"]
[null,"http://www.appspro.com/Utilities/ChartLabeler.htm"]
[]
[]
[]
[]
[]
[]
[]
[]
[]
[]
[]
[]
[]
[]
[]
[]
[]
[]
[]
[]
[]
[]
[]
[]
[]
[]
[]
[]
[]
[]
[null,"Stiahneme verziu pre Windows:"]
[]
[]
[]
[]
[]
[]
[]
[]
[]
[]
[]
[]
[null,"a spustíme:",null," XYChartLabeler.exe"]
[]
[null,"B. Musíme mať nainštalované a povolené tzv. Doplnky a to konkrétne"]
[]
[null,null,"Analytické nástroje"]
[null,null,"Analytické nástroje - VBA"]
[null,null,"XY Chart Labeler 7.1"]
[]
[null,"V EXCELI 2003 dáme: Nástroje → Doplnky."]
[null,"Zobrazí sa toto:",null,null,null,null,null,null,"Zaklikneme to takto:"]
[]
[]
[]
[]
[]
[]
[]
[]
[]
[]
[]
[]
[]
[]
[]
[]
[]
[]
[]
[]
[]
[null,"Ak by sme to nezaklikli objaví sa oznam:",null,null,null,null,"Keď nie je zakliknuté XY Chart Labeler:",null,null,null,null,null,"Keď nie sú zakliknuté Analytické nástroje:"]
[]
[]
[]
[]
[]
[]
[]
[]
[]
[]
[]
[]
[null,"Keď by sme teraz stlačili Debug program vojde do makra a ukáže čo mu chýba:"]
[]
[]
[]
[]
[]
[]
[]
[]
[]
[]
[]
[]
[]
[]
[]
[]
[]
[]
[null,"Makro diferencuje, či sme v prostredí EXCEL 2003 alebo EXCEL 2007 a vyššie."]
[null,"Z okna makra odídeme tak, že stlačíme krížik vpravo hore (Koniec) a odklikneme OK v tomto ozname:"]
[]
[]
[]
[]
[]
[]
[]
[]
[]
[]
[null,"V EXCELI 2007 a vyššie."]
[]
[null,"Stlačíme Tlačidlo OFFICE vľavo hore."]
[null,"Potom klikneme dole na Možnosti programu EXCEL a vyberieme Doplnky."]
[null,"Predtým sme doinštalovali XY Chart Labels."]
[]
[]
[]
[]
[]
[]
[]
[]
[]
[]
[]
[]
[]
[]
[]
[]
[]
[]
[]
[]
[]
[]
[]
[]
[]
[]
[]
[]
[null,"Dáme Spustiť. Môže sa objaviť oznam:"]
[]
[]
[]
[]
[]
[]
[]
[]
[null,"Dáme Áno a Doplnok sa nainštaluje. Znovu dáme spustiť a objaví sa toto:",null,null,null,null,null,null,null,"Zaklikneme to takto:"]
[]
[]
[]
[]
[]
[]
[]
[]
[]
[]
[]
[]
[]
[]
[]
[]
[]
[]
[]
[]
[null,"Bez zakliknutých Doplnkov sa zobrazí toto:"]
[]
[]
[]
[]
[]
[]
[]
[]
[]
[]
[]
[]
[]
[]
[]
[]
[]
[]
[]
[]
[]
[null,"Vidíme, že makro identifikovalo verziu EXCELU a potrebuje XY Chart Labeler alebo daný doplnok."]
[null,"Z makra odídeme rovnako ako v EXCELI 2003."]
[]
[null,"V EXCELI 2013."]
[]
[null,"Klikneme na SÚBOR:"]
[]
[]
[]
[]
[]
[]
[]
[]
[]
[]
[]
[]
[]
[]
[]
[]
[]
[]
[null,"Vyberieme Možnosti:"]
[]
[]
[]
[]
[]
[]
[]
[]
[]
[]
[]
[]
[]
[]
[]
[]
[]
[]
[]
[]
[]
[]
[]
[]
[]
[]
[]
[]
[]
[]
[]
[]
[]
[null,"Vyberieme Doplnky:"]
[]
[]
[]
[]
[]
[]
[]
[]
[]
[]
[]
[]
[]
[]
[]
[]
[]
[]
[]
[]
[]
[null,"Vyberieme Spravovať : Doplnky programu Excel → Spustiť"]
[]
[]
[]
[]
[]
[null,"Zaklikneme takto:"]
[]
[]
[]
[]
[]
[]
[]
[]
[]
[]
[]
[]
[]
[]
[]
[]
[]
[]
[]
[]
[]
[]
[]
[]
[]
[]
[null,"Dáme OK. Keď nie sú k dispozícii Analytické nástroje a Analytické nástroje - VBA"]
[null,"musíme ich doinštalovať."]
[]
[null,"V iných verziách som to netestoval."]
[]
[null,"Problémy s kompatibilitou verzií EXCELU."]
[]
[null,"Makrá som programoval a odladil pôvodne v EXCELI 2003."]
[null,"V tejto verzii programy pracujú bez problémov."]
[]
[null,"Testovanie v iných verziách ukázalo, že môžu vniknúť určité problémy s vyššími verziami."]
[null,"Po prvom seminári 9. 10. 2017 som programy upravil, aby pracovali správne vo vyšších verziách."]
[]
[null,"Ďalšie testovanie."]
[]
[null," 1. Testovanie pod OFFICE 2007 PRO pod operačných systémom Windows XP."]
[null," ","Programy pracovali bez problémov."]
[null," 2. Testovanie pod OFFICE 2013 pod operačným systémom Windows 10."]
[null,null,"Programy pracovali bez problémov."]
[null," 3. Testovanie pod OFFICE 2007 pod operačným systémom Windows 10."]
[null,null,"Programy A, B, C pracovali bez problémov. Ale v programoch D, E, F, teda verziách"]
[null," ","s histogramami, program nevytvorí histogram. Pritom na niektorých PC programy pracujú"]
[null,null,"správne aj pod EXCEL 2007. Nie je jasné prečo."]
[]
[null,"Odporúčaný postup."]
[]
[null," 1. Natiahneme do nášho EXCELU súbor *.xls. Vyššie verzie ho načítajú."]
[null," 2. Vyskúšame, či pracuje správne. Vo verziách A, B, D, E takto:"]
[]
[null," ","a.) Prejdeme do Listu Q_10 a stlačíme tlačidlo „Prelož otázku do Sumy_All_Q“."]
[null," ",null,"Po chvíli sa objaví oznam:"]
[]
[]
[]
[]
[]
[]
[]
[]
[]
[]
[]
[]
[]
[null," ","b.) Stlačíme Áno. Program zbehne a dá oznam:"]
[]
[]
[]
[]
[]
[]
[]
[]
[]
[]
[]
[]
[]
[]
[null," ","c.) Stlačíme OK."]
[]
[null,"Vo verziách C, F, I, H overíme či program pracuje správne takto:"]
[]
[null,null,"a.) Prejdeme do Listu „Sumy_All_Q“"]
[null,null,"b.) Stlačíme tlačidlo „Preložiť do Target grafov“. Program zbehne a dá oznam o voľbe výstupu."]
[]
[null,null,"Verzia C:",null,null,null,null,null,"Verzia F:"]
[]
[]
[]
[]
[]
[]
[]
[]
[]
[]
[]
[]
[]
[]
[]
[]
[]
[]
[]
[]
[]
[null," ","c.) Vyberieme niektorú z možností – pri verzii F zvolíme 4 aby sme videli, či sú histogramy "]
[null,null,"nakreslené správne – a dáme OK. Objaví sa záverečný oznam:"]
[]
[]
[]
[]
[]
[]
[]
[]
[]
[]
[]
[]
[]
[]
[null," 3. Prekontrolujeme Histogramy. Keď sú zelené čiary vodorovné napríklad takto:"]
[]
[]
[]
[]
[]
[]
[]
[]
[]
[]
[]
[]
[]
[]
[]
[]
[]
[null,null,"znamená to, že doplnok ATPVBAEN.XLAM nepracuje správne. Dôvod zatiaľ nepoznám. "]
[]
[null," 4. Potom súbor uložíme ako „Zošit programu EXCEL podporujúci makrá“."]
[null," 5. Tento súbor má príponu *.xlsm."]
[null," 6. Ďalej pracujeme s týmto súborom."]
[]
[null,"Koniec technického návodu."]
[]
[null,"V Banskej Bystrici dňa 6.2.2018 "]
[]
[null,"Stanislav Fila"]

{"sheet":"Pomo","index":29,"n_rows":292,"n_cols":55,"rows_kept":292,"cut":false,"hidden":false,"merged":[]}
[]
[null,null,"Dáta pre ladenie",null,"Soc_Trieda_14_14.xls"]
[null,null,null,null,1,2,3,4,5,6,7,8,9,10,11,12,13,14,15,16,17,18,19,20,21,22,23,24,25,26,27,28,null,"Prameň:"]
[null,1,"\"01_Oso m\"","Q_1_P",null,null,null,null,1,null,null,null,null,3,2,null,null,null,null,null,null,null,null,null,null,null,null,null,null,null,null,null,null,"Walsh, Donald  and Walsh, Richard : Walsh`s Classroom Sociometrics. ",null,null,null,null,null,null,null,null,null,null,"Q_1_N",null,null,null,null,null,null,null,null,null,"Q_1_P_vs_N"]
[null,2,"\"02_Oso m\"",null,null,null,null,null,null,null,null,1,3,null,2,null,null,null,null,null,null,null,null,null,null,null,null,null,null,null,null,null,null," ","Roscoe Middle School, Illinois, USA, 2004"]
[null,3,"\"03_Oso m\"",null,null,null,null,null,null,null,null,null,2,null,null,3,null,null,null,null,null,null,null,null,null,null,null,null,null,null,null,1,null," ","http://www.classroomsociometrics.com/"]
[null,4,"\"04_Oso m\"",null,null,null,null,null,null,null,null,null,null,null,null,null,null,null,null,null,null,null,null,null,null,null,3,null,1,null,null,2]
[null,5,"\"05_Oso m\"",null,1,null,null,null,null,null,3,null,2,null,null,null,null,null,null,null,null,null,null,null,null,null,null,null,null,null,null,null,null,"Q_1_P"]
[null,6,"\"*06_Oso m\"",null,null,null,null,null,null,null,null,null,null,3,1,2]
[null,7,"\"07_Oso m\"",null,null,null,null,null,3,null,null,null,1,null,null,null,null,null,null,null,null,null,null,null,null,null,null,null,null,null,null,2]
[null,8,"\"08_Oso m\"",null,null,null,null,null,null,null,2,null,3,null,null,null,null,null,null,null,null,null,null,null,null,null,null,null,null,null,null,1]
[null,9,"\"09_Oso f\"",null,null,null,2,null,null,null,3,null,null,null,null,null,null,null,null,null,null,null,null,null,null,null,null,null,null,null,null,1]
[null,10,"\"**10_Oso m\"",null,1,null,null,null,2,null,null,3]
[null,11,"\"11_Oso m\"",null,null,null,null,null,null,null,2,1,null,null,null,null,null,null,null,null,null,null,null,null,null,null,null,null,null,null,null,3]
[null,12,"\"12_Oso m\"",null,null,null,null,null,null,null,null,null,null,null,null,null,null,null,null,null,null,null,null,2,3,null,1]
[null,13,"\"13_Oso m\"",null,null,null,null,2,null,null,null,null,null,null,null,3,null,1]
[null,14,"\"14_Oso m\"",null,null,null,null,null,null,null,null,3,2,null,null,null,1]
[null,15,"\"15_Oso f\"",null,null,null,null,null,null,null,null,null,null,null,null,null,null,null,null,null,null,null,null,null,null,3,2,null,null,1]
[null,16,"\"16_Oso f\"",null,null,null,null,null,null,null,null,null,null,null,null,null,null,null,null,null,null,null,null,null,null,3,null,2,null,null,1]
[null,17,"\"17_Oso f\"",null,null,null,null,null,null,null,null,null,null,null,null,null,null,null,null,2,null,null,null,null,null,1,null,null,null,null,3]
[null,18,"\"18_Oso f\"",null,null,null,null,null,null,null,null,null,null,null,null,null,null,null,null,null,null,null,null,2,null,null,3,null,null,null,1]
[null,19,"\"19_Oso f\"",null,null,null,null,null,null,null,null,null,null,null,null,null,null,null,null,null,null,1,null,null,null,null,3,null,null,null,2]
[null,20,"\"20_Oso f\"",null,null,null,null,null,null,null,null,null,null,null,null,null,null,null,null,null,null,2,null,null,null,null,3,null,null,null,1]
[null,21,"\"21_Oso f\"",null,null,null,null,null,null,null,null,null,null,null,null,null,null,null,null,null,null,null,null,null,null,3,null,1,null,null,2]
[null,22,"\"22_Oso f\"",null,null,null,null,null,null,null,null,null,null,null,null,null,null,null,null,null,null,null,null,null,null,null,2,null,1,null,3]
[null,23,"\"23_Oso f\"",null,null,null,null,null,3,null,null,null,null,null,null,null,null,null,null,null,null,1,null,null,null,null,null,null,2]
[null,24,"\"24_Oso f\"",null,null,null,null,null,null,null,null,null,null,null,null,null,null,null,null,null,null,null,1,null,2,null,null,null,null,3]
[null,25,"\"25_Oso f\"",null,null,null,null,null,null,null,null,null,null,null,null,null,null,null,null,null,null,null,null,null,null,2,1,null,null,null,3]
[null,26,"\"26_Oso f\"",null,null,null,null,null,null,null,null,null,null,null,null,null,null,1,null,null,null,null,null,null,null,null,3,2]
[null,27,"\"27_Oso f\"",null,null,null,null,null,null,null,null,null,null,null,null,null,null,null,null,2,null,1,null,null,null,null,3]
[null,28,"\"28_Oso f\""]
[]
[null,1,"\"01_Oso m\"","Q_1_N",null,null,null,null,null,null,null,null,null,null,null,null,null,null,null,2,1,null,null,null,null,null,3]
[null,2,"\"02_Oso m\"",null,null,null,null,3,null,2,null,null,null,1]
[null,3,"\"03_Oso m\"",null,null,null,null,null,2,3,null,null,null,1]
[null,4,"\"04_Oso m\"",null,null,null,null,null,null,null,null,null,null,2,null,null,null,null,null,null,null,null,null,null,1,null,null,3]
[null,5,"\"05_Oso m\"",null,null,null,null,2,null,null,null,null,null,null,null,3,null,null,null,null,null,null,null,null,null,null,null,null,null,null,1]
[null,6,"\"*06_Oso m\"",null,null,null,null,null,null,null,null,null,null,null,null,null,null,null,null,null,1,null,null,2,null,3]
[null,7,"\"07_Oso m\"",null,null,3,null,null,null,1,null,null,null,2]
[null,8,"\"08_Oso m\"",null,null,null,null,null,null,2,null,null,null,3,null,null,null,null,null,null,null,null,null,null,null,null,null,1]
[null,9,"\"09_Oso f\"",null,null,null,null,null,null,null,null,null,null,null,null,null,null,null,3,null,null,null,null,null,null,null,1,null,2]
[null,10,"\"**10_Oso m\"",null,null,null,null,2,null,null,null,null,null,null,null,null,null,null,null,1,null,3]
[null,11,"\"11_Oso m\"",null,null,1,null,2,null,null,null,null,null,3]
[null,12,"\"12_Oso m\"",null,null,3,null,null,2,null,null,null,null,null,null,null,null,null,null,null,null,null,null,null,null,1]
[null,13,"\"13_Oso m\"",null,null,null,null,null,null,1,null,null,null,null,null,null,null,null,null,null,null,null,null,null,2]
[null,14,"\"14_Oso m\"",null,null,1,null,null,null,3,null,null,null,2]
[null,15,"\"15_Oso f\"",null,null,null,null,3,null,1,null,null,null,2]
[null,16,"\"16_Oso f\"",null,null,3,null,null,null,2,null,null,null,1]
[null,17,"\"17_Oso f\"",null,null,null,null,null,null,1,null,3,null,2]
[null,18,"\"18_Oso f\"",null,null,3,null,null,null,2,null,null,null,1]
[null,19,"\"19_Oso f\"",null,null,1,null,null,null,2,null,null,null,3]
[null,20,"\"20_Oso f\"",null,null,null,null,3,null,1,null,null,null,2]
[null,21,"\"21_Oso f\"",null,null,1,null,null,null,3,null,null,null,2]
[null,22,"\"22_Oso f\"",null,null,3,null,null,null,2,null,null,null,1]
[null,23,"\"23_Oso f\"",null,null,2,null,null,null,1,null,null,null,3]
[null,24,"\"24_Oso f\"",null,null,null,null,null,null,1,null,null,null,3,null,2]
[null,25,"\"25_Oso f\"",null,null,3,null,null,null,1,null,null,null,2]
[null,26,"\"26_Oso f\"",null,null,1,null,null,null,2,null,null,null,3]
[null,27,"\"27_Oso f\"",null,null,null,null,null,null,1,null,null,null,2,null,3]
[null,28,"\"28_Oso f\""]
[]
[null,1,"\"01_Oso m\"","Q_2_P",null,null,null,null,1,null,3,null,null,null,2,null,null,null,null,null,null,null,null,null,null,null,null,null,null,null,null,null,null,"Q_2_P",null,null,null,null,null,null,null,null,null,null,"Q_2_N",null,null,null,null,null,null,null,null,null,"Q_2_P_vs_N"]
[null,2,"\"02_Oso m\"",null,null,null,null,null,null,null,3,1,2]
[null,3,"\"03_Oso m\"",null,null,null,null,null,null,null,1,null,null,null,null,null,null,null,null,null,null,null,null,null,null,null,2,null,null,null,null,3]
[null,4,"\"04_Oso m\"",null,null,null,null,null,null,null,null,null,1,null,null,null,3,2]
[null,5,"\"05_Oso m\"",null,1,null,null,null,null,null,null,null,2,null,null,null,null,null,null,null,null,null,null,null,null,null,null,null,null,null,null,3]
[null,6,"\"*06_Oso m\"",null,null,null,null,null,null,null,null,null,null,null,null,null,null,null,null,null,null,null,null,null,null,null,3,null,2,1]
[null,7,"\"07_Oso m\"",null,null,null,2,null,null,null,null,null,1,null,null,null,null,null,null,null,null,null,null,null,null,null,null,null,null,null,null,3]
[null,8,"\"08_Oso m\"",null,null,null,null,null,null,null,1,null,2,null,null,null,null,null,null,null,null,null,null,null,null,null,null,null,null,null,null,3]
[null,9,"\"09_Oso f\"",null,null,null,1,null,null,null,3,null,null,null,null,null,null,null,null,null,null,null,null,null,null,null,null,null,null,null,null,2]
[null,10,"\"**10_Oso m\"",null,null,null,2,null,null,null,null,null,3,null,null,null,null,null,null,null,null,null,null,null,null,null,1]
[null,11,"\"11_Oso m\"",null,null,null,null,null,null,null,1,2,null,null,null,null,null,null,null,null,null,null,null,null,null,null,null,null,null,null,null,3]
[null,12,"\"12_Oso m\"",null,null,null,null,null,null,null,null,3,null,null,null,null,null,null,null,null,null,null,null,null,null,null,1,null,null,null,2]
[null,13,"\"13_Oso m\"",null,null,null,null,3,null,null,null,null,null,null,null,null,null,1,null,null,null,null,null,null,null,null,null,null,null,null,null,2]
[null,14,"\"14_Oso m\"",null,null,null,null,null,null,null,null,1,2,null,null,null,null,null,null,null,null,null,null,null,null,null,null,null,null,null,null,3]
[null,15,"\"15_Oso f\"",null,null,null,null,null,null,null,null,null,null,null,null,null,null,null,null,null,null,null,null,null,null,null,3,null,2,1]
[null,16,"\"16_Oso f\"",null,null,null,null,null,null,null,null,null,null,null,null,null,null,null,null,null,null,null,null,null,null,null,3,null,2,null,1]
[null,17,"\"17_Oso f\"",null,null,null,null,null,null,null,null,null,null,null,null,null,null,null,1,null,null,null,null,null,null,null,null,null,null,2,3]
[null,18,"\"18_Oso f\"",null,null,null,null,null,null,null,null,null,null,null,null,null,null,null,null,null,null,null,2,null,null,null,1,null,null,null,3]
[null,19,"\"19_Oso f\"",null,null,null,null,null,null,null,null,null,null,null,null,null,null,null,null,null,null,1,null,null,null,null,2,null,null,null,3]
[null,20,"\"20_Oso f\"",null,null,null,null,null,null,null,null,null,null,null,null,null,null,null,null,null,null,1,null,null,null,null,3,null,2]
[null,21,"\"21_Oso f\"",null,null,null,null,null,null,null,null,null,null,null,null,null,null,null,null,null,null,3,null,null,null,null,2,null,1]
[null,22,"\"22_Oso f\"",null,null,null,null,null,null,null,null,null,null,null,null,null,null,null,null,null,null,null,null,null,null,null,2,null,3,1]
[null,23,"\"23_Oso f\"",null,null,null,null,null,null,null,null,null,null,null,null,null,null,null,null,null,null,3,null,2,null,null,null,null,1]
[null,24,"\"24_Oso f\"",null,null,null,null,null,null,null,null,null,null,null,null,null,null,null,null,null,null,null,3,null,1,null,null,null,null,2]
[null,25,"\"25_Oso f\"",null,null,null,null,null,null,null,null,null,null,null,null,null,null,null,null,null,null,null,null,null,null,3,1,null,null,2]
[null,26,"\"26_Oso f\"",null,null,null,null,null,null,null,null,null,null,null,null,null,null,null,3,null,null,null,null,null,null,null,2,null,1]
[null,27,"\"27_Oso f\"",null,null,null,null,null,null,null,null,null,null,null,null,null,null,null,null,null,null,2,null,null,null,null,1,null,3]
[null,28,"\"28_Oso f\""]
[]
[null,1,"\"01_Oso m\"","Q_2_N",null,null,null,null,null,null,null,null,null,null,null,null,null,null,null,null,1,null,null,null,null,null,3,null,null,null,2]
[null,2,"\"02_Oso m\"",null,null,null,null,3,null,2,null,null,null,1]
[null,3,"\"03_Oso m\"",null,null,null,null,2,null,3,null,null,null,1]
[null,4,"\"04_Oso m\"",null,null,1,null,null,null,3,null,null,null,2]
[null,5,"\"05_Oso m\"",null,null,null,null,3,null,1,null,null,null,2]
[null,6,"\"*06_Oso m\"",null,null,2,null,3,null,null,null,null,null,null,null,null,null,null,null,null,null,null,null,null,null,null,null,1]
[null,7,"\"07_Oso m\"",null,null,3,null,null,null,1,null,null,null,2]
[null,8,"\"08_Oso m\"",null,null,null,null,3,null,1,null,null,null,2]
[null,9,"\"09_Oso f\"",null,null,null,null,null,null,null,null,null,null,null,null,null,null,null,2,null,3,null,null,null,null,null,1]
[null,10,"\"**10_Oso m\"",null,null,3,null,null,null,1,null,null,null,null,null,2]
[null,11,"\"11_Oso m\"",null,null,1,null,2,null,null,null,null,null,3]
[null,12,"\"12_Oso m\"",null,null,null,null,null,1,2,null,null,null,3]
[null,13,"\"13_Oso m\"",null,null,null,null,null,null,2,null,null,null,1,null,3]
[null,14,"\"14_Oso m\"",null,null,1,null,null,null,3,null,null,null,2]
[null,15,"\"15_Oso f\"",null,null,3,null,null,null,1,null,null,null,2]
[null,16,"\"16_Oso f\"",null,null,3,null,null,null,2,null,null,null,1]
[null,17,"\"17_Oso f\"",null,3,null,null,null,null,1,null,2]
[null,18,"\"18_Oso f\"",null,null,3,null,null,null,1,null,null,null,2]
[null,19,"\"19_Oso f\"",null,null,1,null,null,null,2,null,null,null,3]
[null,20,"\"20_Oso f\"",null,null,null,null,null,null,1,null,null,null,2,null,3]
[null,21,"\"21_Oso f\"",null,null,1,null,null,null,2,null,null,null,3]
[null,22,"\"22_Oso f\"",null,null,null,null,null,2,1,null,null,null,3]
[null,23,"\"23_Oso f\"",null,null,null,null,null,null,1,null,null,null,null,null,2,null,null,null,null,null,null,null,null,null,null,null,null,null,null,3]
[null,24,"\"24_Oso f\"",null,null,1,null,2,null,null,null,null,null,null,null,null,null,null,null,null,null,null,null,3]
[null,25,"\"25_Oso f\"",null,null,null,null,2,3,1]
[null,26,"\"26_Oso f\"",null,null,null,null,1,null,null,null,null,null,null,null,null,null,null,null,2,3]
[null,27,"\"27_Oso f\"",null,null,1,null,2,null,null,null,null,null,3]
[null,28,"\"28_Oso f\""]
[]
[null,1,"\"01_Oso m\"","Q_3_P",null,null,null,null,1,null,null,null,null,2,3,null,null,null,null,null,null,null,null,null,null,null,null,null,null,null,null,null,null,"Q_3_P",null,null,null,null,null,null,null,null,null,null,"Q_3_N",null,null,null,null,null,null,null,null,null,"Q_3_P_vs_N"]
[null,2,"\"02_Oso m\"",null,null,null,null,null,null,null,3,2,1]
[null,3,"\"03_Oso m\"",null,null,null,null,null,null,null,3,null,2,null,null,null,null,null,null,null,null,null,null,null,null,null,null,null,null,null,null,1]
[null,4,"\"04_Oso m\"",null,null,null,null,null,1,null,null,null,3,null,null,2]
[null,5,"\"05_Oso m\"",null,null,null,null,null,null,2,null,null,null,1,null,null,null,null,null,null,null,null,null,null,null,null,null,null,null,null,null,3]
[null,6,"\"*06_Oso m\"",null,null,null,null,null,null,null,null,null,null,3,1,2]
[null,7,"\"07_Oso m\"",null,null,null,3,null,null,null,null,1,null,null,2]
[null,8,"\"08_Oso m\"",null,null,null,null,null,null,null,null,null,3,null,1,2]
[null,9,"\"09_Oso f\"",null,null,null,3,null,null,null,2,null,null,null,null,null,null,null,null,null,null,null,null,null,null,null,null,null,null,null,null,1]
[null,10,"\"**10_Oso m\"",null,3,null,null,null,2,1]
[null,11,"\"11_Oso m\"",null,null,null,null,null,null,null,2,1,null,null,null,null,null,null,null,null,null,null,null,null,null,null,null,null,null,null,null,3]
[null,12,"\"12_Oso m\"",null,null,null,null,null,null,null,null,null,null,null,null,null,null,null,null,null,null,null,null,2,null,null,1,null,null,null,3]
[null,13,"\"13_Oso m\"",null,null,null,null,null,null,null,null,null,2,null,null,3,null,1]
[null,14,"\"14_Oso m\"",null,null,null,null,null,null,null,null,1,null,null,null,null,null,null,null,null,null,null,null,null,null,null,2,null,null,3]
[null,15,"\"15_Oso f\"",null,null,null,null,null,null,null,null,null,null,null,null,null,null,null,null,null,null,null,null,null,null,1,3,null,2]
[null,16,"\"16_Oso f\"",null,null,null,null,null,null,null,null,null,null,null,null,null,null,null,null,null,null,3,null,1,null,null,null,null,null,null,2]
[null,17,"\"17_Oso f\"",null,null,null,null,null,null,null,null,null,null,null,null,null,null,null,null,1,null,null,null,null,3,2]
[null,18,"\"18_Oso f\"",null,null,null,null,null,null,null,null,null,null,null,null,null,null,null,null,3,null,null,null,null,null,null,2,null,null,null,1]
[null,19,"\"19_Oso f\"",null,null,null,null,null,null,null,null,null,null,null,null,null,null,null,null,null,1,null,null,null,null,null,3,null,null,null,2]
[null,20,"\"20_Oso f\"",null,null,null,null,null,null,null,null,null,null,null,null,null,null,null,null,null,null,3,null,null,null,null,2,null,null,null,1]
[null,21,"\"21_Oso f\"",null,null,null,null,null,null,null,null,null,null,null,null,null,null,null,null,null,null,2,3,null,null,null,null,1]
[null,22,"\"22_Oso f\"",null,null,null,null,null,null,null,null,null,null,null,null,null,null,null,null,2,null,null,null,null,1,null,3]
[null,23,"\"23_Oso f\"",null,null,null,null,null,3,null,null,null,null,null,null,null,null,null,null,null,null,2,null,null,null,null,null,null,1]
[null,24,"\"24_Oso f\"",null,null,null,null,null,null,null,null,null,null,null,null,null,null,null,2,null,null,null,null,null,3,null,null,null,1]
[null,25,"\"25_Oso f\"",null,null,null,null,null,null,null,null,null,null,null,null,null,null,null,null,3,null,null,null,null,null,null,1,null,null,null,2]
[null,26,"\"26_Oso f\"",null,null,null,null,null,null,null,null,null,null,null,null,null,null,null,null,null,null,null,null,1,2,3]
[null,27,"\"27_Oso f\"",null,null,null,null,null,null,null,null,null,null,null,null,null,null,null,null,null,null,3,1,null,null,null,2]
[null,28,"\"28_Oso f\""]
[]
[null,1,"\"01_Oso m\"","Q_3_N",null,null,null,null,null,null,null,null,null,null,null,null,null,null,null,null,2,null,null,3,null,null,null,null,null,null,1]
[null,2,"\"02_Oso m\"",null,null,null,null,3,null,null,null,null,null,1,2]
[null,3,"\"03_Oso m\"",null,null,3,null,null,1,null,null,null,null,null,null,null,null,null,null,null,null,null,null,null,null,null,null,null,null,null,2]
[null,4,"\"04_Oso m\"",null,null,null,null,null,null,null,null,null,null,null,null,null,null,null,null,null,null,null,null,null,2,null,null,1,null,null,3]
[null,5,"\"05_Oso m\"",null,null,null,null,2,null,null,null,null,null,null,null,null,null,null,null,null,null,null,3,null,null,null,null,1]
[null,6,"\"*06_Oso m\"",null,null,null,null,null,null,null,null,null,null,null,null,null,null,null,2,3,1]
[null,7,"\"07_Oso m\"",null,null,2,null,null,3,null,null,null,null,null,null,null,null,null,null,null,null,null,null,null,null,null,null,null,null,null,1]
[null,8,"\"08_Oso m\"",null,null,null,null,3,null,1,null,null,null,2]
[null,9,"\"09_Oso f\"",null,null,null,null,null,null,null,null,null,null,null,null,null,null,null,3,null,null,null,null,null,null,null,1,null,2]
[null,10,"\"**10_Oso m\"",null,null,null,null,null,null,null,null,null,null,null,null,null,null,null,null,null,null,3,null,null,null,null,null,null,2,null,1]
[null,11,"\"11_Oso m\"",null,null,2,null,1,null,null,null,null,null,3]
[null,12,"\"12_Oso m\"",null,null,1,null,null,null,null,null,3,null,null,null,null,null,null,null,null,null,2]
[null,13,"\"13_Oso m\"",null,null,null,null,null,null,1,null,null,null,3,null,null,null,null,null,null,null,null,null,null,null,null,null,null,null,null,2]
[null,14,"\"14_Oso m\"",null,null,1,null,null,null,3,null,null,null,2]
[null,15,"\"15_Oso f\"",null,null,3,null,null,null,1,null,null,null,2]
[null,16,"\"16_Oso f\"",null,null,3,null,null,null,2,null,null,null,1]
[null,17,"\"17_Oso f\"",null,2,null,null,null,null,1,null,null,null,3]
[null,18,"\"18_Oso f\"",null,null,3,null,null,null,2,null,null,null,1]
[null,19,"\"19_Oso f\"",null,null,1,null,null,null,2,null,null,null,3]
[null,20,"\"20_Oso f\"",null,null,null,null,1,null,2,3]
[null,21,"\"21_Oso f\"",null,null,1,null,null,null,3,null,null,null,2]
[null,22,"\"22_Oso f\"",null,null,null,null,3,null,1,null,null,null,2]
[null,23,"\"23_Oso f\"",null,null,null,null,null,null,2,3,null,null,1]
[null,24,"\"24_Oso f\"",null,null,null,null,null,null,null,null,null,null,null,null,null,null,null,null,3,null,null,null,2,null,1]
[null,25,"\"25_Oso f\"",null,null,null,null,null,null,1,null,null,null,2,null,3]
[null,26,"\"26_Oso f\"",null,null,2,null,null,null,1,null,null,null,3]
[null,27,"\"27_Oso f\"",null,null,1,null,null,null,2,null,null,null,3]
[null,28,"\"28_Oso f\""]
[]
[null,1,"\"01_Oso m\"","Q_4_P",null,null,null,null,null,null,null,null,null,null,null,null,null,null,1,null,null,null,null,null,null,null,3,null,null,2,null,null,null,"Q_4_P",null,null,null,null,null,null,null,null,null,null,"Q_4_N",null,null,null,null,null,null,null,null,null,"Q_4_P_vs_N"]
[null,2,"\"02_Oso m\"",null,null,null,null,null,null,null,3,null,null,null,null,null,null,null,null,null,null,null,null,null,null,null,1,null,2]
[null,3,"\"03_Oso m\"",null,null,null,null,null,null,null,null,null,null,null,null,null,null,null,null,null,null,null,null,null,null,null,1,null,null,2,null,3]
[null,4,"\"04_Oso m\"",null,null,null,null,null,null,null,null,null,2,null,null,null,null,null,1,null,null,null,null,null,null,null,3]
[null,5,"\"05_Oso m\"",null,null,null,null,null,null,null,null,null,3,null,null,null,null,null,null,null,null,null,null,null,null,null,2,null,null,null,null,1]
[null,6,"\"*06_Oso m\"",null,null,null,null,null,null,null,null,3,null,null,null,null,null,null,null,null,null,null,null,null,null,null,1,null,null,2]
[null,7,"\"07_Oso m\"",null,null,null,null,null,null,null,null,null,null,null,null,null,null,null,3,null,null,null,null,null,null,null,1,null,null,2]
[null,8,"\"08_Oso m\"",null,null,null,null,null,null,null,null,null,3,null,null,null,null,null,null,null,null,null,null,null,null,null,1,null,null,2]
[null,9,"\"09_Oso f\"",null,null,null,null,null,null,null,null,null,null,null,null,null,null,null,null,null,null,null,null,null,null,null,1,null,3,null,null,2]
[null,10,"\"**10_Oso m\"",null,null,null,null,null,null,null,null,null,1,null,null,null,null,null,null,null,null,null,null,null,null,null,3,null,null,null,null,2]
[null,11,"\"11_Oso m\"",null,null,null,null,null,null,null,2,null,1,null,null,null,null,null,null,null,null,null,null,null,null,null,null,null,null,null,null,3]
[null,12,"\"12_Oso m\"",null,null,null,null,null,null,null,null,null,3,null,null,null,null,null,null,null,null,null,null,null,null,null,1,null,null,null,null,2]
[null,13,"\"13_Oso m\"",null,null,null,null,null,null,null,null,null,null,null,null,null,null,null,null,null,null,null,null,null,null,null,1,null,2,null,null,3]
[null,14,"\"14_Oso m\"",null,null,null,null,null,null,null,null,null,3,null,null,null,null,null,null,null,null,null,null,null,null,null,1,null,null,null,null,2]
[null,15,"\"15_Oso f\"",null,null,null,null,null,3,null,null,null,null,null,null,null,null,null,null,null,null,null,null,null,null,null,2,null,1]
[null,16,"\"16_Oso f\"",null,null,null,null,null,null,null,null,null,null,null,null,null,null,null,1,null,null,null,null,null,null,null,2,null,3]
[null,17,"\"17_Oso f\"",null,null,null,null,null,null,null,null,null,null,null,null,null,null,null,1,null,null,null,null,null,null,null,3,null,null,2]
[null,18,"\"18_Oso f\"",null,null,null,null,null,null,null,null,null,null,null,null,null,null,null,null,null,null,null,null,2,null,null,1,null,3]
[null,19,"\"19_Oso f\"",null,null,null,null,null,null,null,null,null,3,null,null,null,null,null,null,null,null,null,null,null,null,null,1,null,2]
[null,20,"\"20_Oso f\"",null,null,null,null,null,null,null,null,null,2,null,null,null,null,null,null,null,null,3,null,null,null,null,1]
[null,21,"\"21_Oso f\"",null,null,null,null,null,null,null,null,null,2,null,null,null,null,null,null,null,null,null,null,null,null,null,1,null,3]
[null,22,"\"22_Oso f\"",null,null,null,null,null,null,null,null,null,null,null,null,null,null,null,null,null,null,null,null,null,null,null,2,null,1,3]
[null,23,"\"23_Oso f\"",null,null,null,null,null,3,null,null,null,null,null,null,null,null,null,null,null,null,1,null,2]
[null,24,"\"24_Oso f\"",null,null,null,null,null,null,null,null,null,null,null,null,null,null,null,3,null,null,null,null,null,null,null,1,null,2]
[null,25,"\"25_Oso f\"",null,null,null,null,null,null,null,null,null,null,null,null,null,null,null,2,null,null,null,null,null,null,null,1,null,null,3]
[null,26,"\"26_Oso f\"",null,null,null,null,null,null,null,null,null,null,null,null,null,null,null,3,null,null,null,null,null,null,null,1,null,2]
[null,27,"\"27_Oso f\"",null,null,null,null,null,null,null,null,null,null,null,null,null,null,null,null,null,null,null,null,3,null,null,1,null,2]
[null,28,"\"28_Oso f\""]
[]
[null,1,"\"01_Oso m\"","Q_4_N",null,null,null,null,null,2,null,3,null,1]
[null,2,"\"02_Oso m\"",null,null,null,null,2,null,3,null,null,null,1]
[null,3,"\"03_Oso m\"",null,null,null,null,3,null,1,null,null,null,2]
[null,4,"\"04_Oso m\"",null,null,3,null,null,null,2,null,null,null,1]
[null,5,"\"05_Oso m\"",null,null,3,null,null,null,null,null,null,null,null,null,null,null,null,null,null,null,null,null,null,null,null,null,2,null,null,1]
[null,6,"\"*06_Oso m\"",null,null,2,null,3,null,null,null,null,null,null,null,null,null,null,null,null,null,null,null,null,null,null,null,1]
[null,7,"\"07_Oso m\"",null,null,2,null,null,null,1,null,null,null,3]
[null,8,"\"08_Oso m\"",null,null,null,null,3,null,2,null,null,null,1]
[null,9,"\"09_Oso f\"",null,null,1,null,null,null,3,null,null,null,2]
[null,10,"\"**10_Oso m\"",null,null,1,null,null,null,null,null,null,null,null,null,null,null,null,null,null,null,2,null,null,null,null,null,null,3]
[null,11,"\"11_Oso m\"",null,null,2,null,3,null,null,null,null,null,1]
[null,12,"\"12_Oso m\"",null,null,3,null,null,null,1,null,null,null,2]
[null,13,"\"13_Oso m\"",null,null,3,null,null,null,1,null,null,null,2]
[null,14,"\"14_Oso m\"",null,null,1,null,null,null,3,null,null,null,2]
[null,15,"\"15_Oso f\"",null,null,3,null,null,null,1,null,null,null,2]
[null,16,"\"16_Oso f\"",null,null,3,null,null,null,2,null,null,null,1]
[null,17,"\"17_Oso f\"",null,null,null,null,null,null,null,null,null,null,3,null,null,null,null,null,1,null,null,null,null,null,null,null,null,null,null,2]
[null,18,"\"18_Oso f\"",null,null,2,null,null,null,3,null,null,null,1]
[null,19,"\"19_Oso f\"",null,null,1,null,null,null,2,null,null,null,3]
[null,20,"\"20_Oso f\"",null,null,2,null,null,null,null,null,1,null,null,null,null,null,null,null,null,null,null,null,null,null,null,null,3]
[null,21,"\"21_Oso f\"",null,null,1,null,null,null,3,null,null,null,2]
[null,22,"\"22_Oso f\"",null,null,3,null,null,null,2,null,null,null,1]
[null,23,"\"23_Oso f\"",null,null,1,null,null,null,null,null,2,null,null,null,null,null,null,null,null,null,null,null,null,null,null,null,3]
[null,24,"\"24_Oso f\"",null,null,1,null,null,2,null,null,null,null,null,null,null,null,null,null,null,3]
[null,25,"\"25_Oso f\"",null,null,null,null,null,null,1,null,null,null,2,null,3]
[null,26,"\"26_Oso f\"",null,null,null,null,null,null,null,null,null,null,null,3,1,2]
[null,27,"\"27_Oso f\"",null,null,3,null,null,null,2,null,null,null,1]
[null,28,"\"28_Oso f\""]
[]
[null,1,"\"01_Oso m\"","Q_5_P",null,null,null,null,1,null,3,null,null,null,2,null,null,null,null,null,null,null,null,null,null,null,null,null,null,null,null,null,null,"Q_5_P",null,null,null,null,null,null,null,null,null,null,"Q_5_N",null,null,null,null,null,null,null,null,null,"Q_5_P_vs_N"]
[null,2,"\"02_Oso m\"",null,null,null,null,null,null,null,2,null,3,null,null,null,null,null,null,null,null,null,null,null,null,null,1]
[null,3,"\"03_Oso m\"",null,null,null,null,null,null,null,3,null,2,null,null,null,null,null,null,null,null,null,null,null,null,null,null,null,null,null,null,1]
[null,4,"\"04_Oso m\"",null,null,null,null,null,null,null,null,null,null,null,2,null,null,null,null,null,null,null,null,null,null,null,3,null,null,null,null,1]
[null,5,"\"05_Oso m\"",null,2,null,null,null,null,null,null,null,null,1,null,null,null,null,null,null,null,null,null,null,null,null,null,null,null,null,null,3]
[null,6,"\"*06_Oso m\"",null,null,null,null,null,null,null,null,null,null,null,1]
[null,7,"\"07_Oso m\"",null,null,null,null,null,null,null,null,1,null,null,2,null,null,3]
[null,8,"\"08_Oso m\"",null,null,null,null,null,null,null,null,null,1,null,null,null,null,null,null,null,null,null,null,null,null,null,3,null,null,2]
[null,9,"\"09_Oso f\"",null,null,null,2,null,null,null,3,null,null,null,null,null,null,null,null,null,null,null,null,null,null,null,null,null,null,null,null,1]
[null,10,"\"**10_Oso m\"",null,1,null,null,null,2,3]
[null,11,"\"11_Oso m\"",null,null,null,null,null,null,null,1,3,null,null,null,null,null,null,null,null,null,null,null,null,null,null,null,null,null,null,null,2]
[null,12,"\"12_Oso m\"",null,null,null,null,null,null,null,null,null,null,null,null,null,2,1,null,null,null,null,null,3]
[null,13,"\"13_Oso m\"",null,null,null,null,2,null,null,null,null,null,null,null,3,null,1]
[null,14,"\"14_Oso m\"",null,null,null,null,null,null,null,null,2,null,null,null,3,1]
[null,15,"\"15_Oso f\"",null,null,null,null,null,null,null,null,null,null,null,null,null,null,null,null,null,null,null,null,null,null,3,1,null,2]
[null,16,"\"16_Oso f\"",null,null,null,null,null,null,null,null,null,null,null,null,null,null,null,null,null,null,null,null,null,null,null,3,null,2,null,1]
[null,17,"\"17_Oso f\"",null,null,null,null,null,null,null,null,null,null,null,null,null,null,null,null,null,null,null,null,null,3,1,null,null,null,null,2]
[null,18,"\"18_Oso f\"",null,null,null,null,null,null,null,null,null,null,null,null,null,null,null,null,null,null,null,2,null,null,null,3,null,null,null,1]
[null,19,"\"19_Oso f\"",null,null,null,null,null,null,null,null,null,null,null,null,null,null,null,null,null,null,1,null,null,null,null,2,null,null,null,3]
[null,20,"\"20_Oso f\"",null,null,null,null,null,null,null,null,null,null,null,null,null,null,null,null,null,null,1,null,null,null,null,2,null,3]
[null,21,"\"21_Oso f\"",null,null,null,null,null,null,null,null,null,null,null,null,null,null,null,null,null,null,2,null,null,null,3,null,1]
[null,22,"\"22_Oso f\"",null,null,null,null,null,null,null,null,null,null,null,null,null,null,null,null,null,null,null,null,null,null,null,3,null,1,null,2]
[null,23,"\"23_Oso f\"",null,null,null,null,null,null,null,null,null,null,null,null,null,null,null,null,null,null,2,null,null,null,null,null,null,1,null,3]
[null,24,"\"24_Oso f\"",null,null,null,null,null,null,null,null,null,null,null,null,null,null,null,null,null,null,null,3,null,1,null,null,null,null,2]
[null,25,"\"25_Oso f\"",null,null,null,null,null,null,null,null,null,null,null,null,null,null,null,null,null,null,null,null,3,2,null,1]
[null,26,"\"26_Oso f\"",null,null,null,null,null,null,null,null,null,null,null,null,null,null,null,null,null,null,null,2,null,null,null,null,1,3]
[null,27,"\"27_Oso f\"",null,null,null,null,null,null,null,null,null,null,null,null,null,null,null,null,null,null,1,3,null,null,null,2]
[null,28,"\"28_Oso f\""]
[]
[null,1,"\"01_Oso m\"","Q_5_N",null,null,null,2,null,null,null,null,null,null,null,3,null,null,null,null,null,null,null,null,null,null,null,null,null,null,1]
[null,2,"\"02_Oso m\"",null,null,null,null,1,null,2,null,null,null,3]
[null,3,"\"03_Oso m\"",null,3,null,null,1,2]
[null,4,"\"04_Oso m\"",null,null,null,2,null,null,null,null,null,null,null,null,null,null,null,null,null,null,null,1,null,null,null,null,3]
[null,5,"\"05_Oso m\"",null,null,3,null,1,null,null,null,null,null,null,null,null,null,null,null,null,null,null,2]
[null,6,"\"*06_Oso m\"",null,null,null,null,null,null,null,null,null,null,null,null,null,null,null,null,null,null,null,null,3,null,null,1,null,2]
[null,7,"\"07_Oso m\"",null,null,null,null,null,null,null,null,null,null,null,null,null,null,null,null,null,null,null,null,null,1,null,3,null,null,null,2]
[null,8,"\"08_Oso m\"",null,null,null,1,null,null,3,null,null,null,2]
[null,9,"\"09_Oso f\"",null,null,null,null,null,null,1,null,null,null,2,null,null,null,null,3]
[null,10,"\"**10_Oso m\"",null,null,null,null,null,null,null,null,null,null,null,null,null,null,null,null,null,null,null,null,null,null,null,3,null,2,null,1]
[null,11,"\"11_Oso m\"",null,null,1,null,2,null,null,null,null,null,3]
[null,12,"\"12_Oso m\"",null,null,2,null,null,1,null,null,null,null,3]
[null,13,"\"13_Oso m\"",null,null,null,null,null,null,1,null,null,null,2,null,null,null,null,null,null,null,null,null,null,null,null,null,null,3]
[null,14,"\"14_Oso m\"",null,null,1,null,null,3,null,null,null,null,2]
[null,15,"\"15_Oso f\"",null,null,null,null,null,null,null,null,null,null,null,null,null,null,null,null,1,null,null,null,null,null,null,null,3,null,null,2]
[null,16,"\"16_Oso f\"",null,null,3,null,null,null,2,null,null,null,1]
[null,17,"\"17_Oso f\"",null,null,null,null,null,null,1,null,null,null,2,null,null,null,null,null,3]
[null,18,"\"18_Oso f\"",null,null,3,null,null,null,2,null,null,null,1]
[null,19,"\"19_Oso f\"",null,null,1,null,null,null,2,null,null,null,3]
[null,20,"\"20_Oso f\"",null,null,null,null,2,null,3,null,null,null,null,null,null,null,null,null,null,null,null,null,null,null,1]
[null,21,"\"21_Oso f\"",null,null,1,null,null,null,3,null,null,null,2]
[null,22,"\"22_Oso f\"",null,null,null,null,2,1,null,null,null,null,null,null,3]
[null,23,"\"23_Oso f\"",null,null,null,null,null,null,null,2,null,null,3,null,null,null,null,null,null,null,null,null,null,null,1]
[null,24,"\"24_Oso f\"",null,null,null,null,null,null,null,null,null,null,null,null,null,null,null,null,null,3,null,null,2,null,1]
[null,25,"\"25_Oso f\"",null,null,null,null,null,3,1,null,null,null,2]
[null,26,"\"26_Oso f\"",null,null,null,null,null,1,3,2]
[null,27,"\"27_Oso f\"",null,null,null,null,null,3,1,null,null,null,2]
[null,28,"\"28_Oso f\""]

{"sheet":"Pomo_1","index":30,"n_rows":97,"n_cols":26,"rows_kept":97,"cut":false,"hidden":false,"merged":[]}
["Testovacie dáta 5.A"]
[]
["Q_1",null,null,1,2,3,4,5,6,7,8,9,10,11,12,13,14,null,null,null,null,null,"Hlavička sgm. Nemazať!",null,null,"\"Version 01.00\",\"Škola\",\"Psychológ\",\"Obdobie\",\"Dátum\",\"Trieda\""]
["Q_1_P",1,"\"01_Oso f\"",null,null,null,null,null,null,null,null,null,null,null,null,null,null,null,null,null,null,null,null,null,null,"Názvy do grafov↓"]
[null,2,"\"02_Oso m\"",null,null,null,3,null,null,1,2,null,null,null,null,null,null,null,null,null,null,null,null,"P","\"1.Medzi mojich kamarátov v triede patrí\"","1. Kamarát "]
[null,3,"\"03_Oso m\"",null,null,null,null,1,null,null,null,null,null,null,2,3,null,null,null,null,null,null,null,"N","\"2.Ako priateľov by som si zo spolužiakov nevybral\"","2. Kamarát - nie"]
[null,4,"\"04_Osor m\"",null,2,null,null,3,null,1]
[null,5,"\"05_Oso m\"",null,null,null,null,null,null,null,null,null,null,null,null,null,null,null,null,null,null,null,null,"P","\"8. Kto zastáva slabších?\"","8. Zastáva slabších"]
[null,6,"\"06_Oso m\"",null,null,null,null,null,null,2,3,null,null,null,1,null,null,null,null,null,null,null,null,"N","\"7. V triede ubližuje slabším?\"","7. Kto ubližuje"]
[null,7,"\"07_Oso m\"",null,1,null,null,null,3,null,2]
[null,8,"\"08_Oso m\"",null,2,null,null,null,3,1,null,null,null,null,null,null,null,null,null,null,null,null,null,"P","\"11.Veľa žiakov v triede má rado \"","11. Majú radi"]
[null,9,"\"09_Oso f\"",2,null,null,null,null,null,null,null,null,3,1,null,null,null,null,null,null,null,null,null,"N","\"12. V triede sa nikto nechce kamarátiť s \"","12. Nechcú sa kamarátiť"]
[null,10,"\"10_Oso f\"",2,null,null,null,null,null,null,3,null,null,1]
[null,11,"\"11_Oso f\"",null,null,null,null,null,null,null,null,null,null,null,null,null,null,null,null,null,null,null,null,"P","\"4. Nezadaná.\"","Nezadaná"]
[null,12,"\"12_Oso m\"",null,null,3,null,1,null,null,null,null,null,null,null,2,null,null,null,null,null,null,null,"N","\"4. Nezadaná.\""]
[null,13,"\"13_Oso m\""]
[null,14,"\"14_Oso m\"",null,null,null,null,null,null,null,null,null,null,null,null,null,null,null,null,null,null,null,null,"P","\"5. Nezadaná.\"","Nezadaná"]
[null,null,null,null,null,null,null,null,null,null,null,null,null,null,null,null,null,null,null,null,null,null,null,"N","\"5. Nezadaná.\""]
["Q_2",null,null,1,2,3,4,5,6,7,8,9,10,11,12,13,14]
["Q_1_N",1,"\"01_Oso f\""]
[null,2,"\"02_Oso m\"",null,null,null,null,null,null,null,null,null,null,null,null,null,null,null,null,null,null,null,"Hlavička sgm. Nemazať!",null,null,"\"Version 01.00\",\"Škola\",\"Psychológ\",\"Obdobie\",\"Dátum\",\"Trieda\""]
[null,3,"\"03_Oso m\"",null,null,null,null,null,null,null,null,null,null,null,null,null,null,null,null,null,null,null,null,null,null,"Názvy do grafov↓"]
[null,4,"\"04_Osor m\"",null,null,null,null,null,null,null,null,null,null,null,null,null,null,null,null,null,null,null,null,"P","\"1. S kým z triedy by si chcel sedieť v jednej lavici?\"","Sedieť"]
[null,5,"\"05_Oso m\"",null,null,null,null,null,null,null,null,null,null,null,null,null,null,null,null,null,null,null,null,"N","\"1. S kým z triedy by si nechcel sedieť v jednej lavici?\""]
[null,6,"\"06_Oso m\""]
[null,7,"\"07_Oso m\"",null,null,null,null,null,null,null,null,null,null,null,null,null,null,null,null,null,null,null,null,"P","\"2. S kým z triedy by si najradšej písaval úlohy a učieval sa?\"","Učiť sa"]
[null,8,"\"08_Oso m\"",null,null,null,null,null,null,null,null,null,null,null,null,null,null,null,null,null,null,null,null,"N","\"2. S kým z triedy by si v žiadnom prípade nechcel písavať úlohy a učievať sa?\""]
[null,9,"\"09_Oso f\"",null,null,null,null,null,3]
[null,10,"\"10_Oso f\"",null,null,2,null,3,null,null,null,null,null,null,null,1,null,null,null,null,null,null,null,"P","\"3. S kým z triedy by si chcel stráviť prázdniny na pustom ostrove?\"","Pustý ostrov"]
[null,11,"\"11_Oso f\"",null,null,null,null,null,null,null,null,null,null,null,null,null,null,null,null,null,null,null,null,"N","\"3. S kým z triedy by si nechcel stráviť prázdniny na pustom ostrove?\""]
[null,12,"\"12_Oso m\""]
[null,13,"\"13_Oso m\"",null,null,null,null,null,null,null,null,null,null,null,null,null,null,null,null,null,null,null,null,"P","\"4. Kto by najlepšie dokázal hájiť záujmy triedy?\"","Hájiť záujmy"]
[null,14,"\"14_Oso m\"",null,null,null,null,null,null,null,null,null,null,null,null,null,null,null,null,null,null,null,null,"N","\"4. Koho by si vôbec nevybral na hájenie záujmov triedy?\""]
[]
["Q_7",null,null,1,2,3,4,5,6,7,8,9,10,11,12,13,14,null,null,null,null,null,null,"P","\"5. Komu z triedy by si zveril svoje tajomstvo?\"","Tajomstvo"]
["Q_2_P",1,"\"01_Oso f\"",null,null,null,null,null,null,null,null,null,null,null,null,null,null,null,null,null,null,null,null,"N","\"5. Komu z triedy by si nikdy nezveril svoje tajomstvo?\""]
[null,2,"\"02_Oso m\""]
[null,3,"\"03_Oso m\"",null,null,null,null,null,1]
[null,4,"\"04_Osor m\""]
[null,5,"\"05_Oso m\""]
[null,6,"\"06_Oso m\""]
[null,7,"\"07_Oso m\""]
[null,8,"\"08_Oso m\"",null,null,null,null,2,null,null,null,null,null,null,3]
[null,9,"\"09_Oso f\"",null,null,null,null,null,1]
[null,10,"\"10_Oso f\"",null,null,null,null,1,3,null,null,2]
[null,11,"\"11_Oso f\"",null,null,null,null,2,null,null,null,null,null,null,1,3]
[null,12,"\"12_Oso m\""]
[null,13,"\"13_Oso m\""]
[null,14,"\"14_Oso m\""]
[]
["Q_8",null,null,1,2,3,4,5,6,7,8,9,10,11,12,13,14]
["Q_2_N",1,"\"01_Oso f\""]
[null,2,"\"02_Oso m\""]
[null,3,"\"03_Oso m\""]
[null,4,"\"04_Osor m\"",null,null,null,null,1,null,null,null,3,2]
[null,5,"\"05_Oso m\""]
[null,6,"\"06_Oso m\"",null,null,null,null,null,null,null,null,3]
[null,7,"\"07_Oso m\""]
[null,8,"\"08_Oso m\""]
[null,9,"\"09_Oso f\"",1,null,null,null,null,null,null,null,null,2]
[null,10,"\"10_Oso f\"",null,3,null,null,null,null,null,1,null,null,1]
[null,11,"\"11_Oso f\"",3,null,null,null,null,null,null,null,2,1]
[null,12,"\"12_Oso m\""]
[null,13,"\"13_Oso m\""]
[null,14,"\"14_Oso m\""]
[]
["Q_11",null,null,1,2,3,4,5,6,7,8,9,10,11,12,13,14]
["Q_3_P",1,"\"01_Oso f\""]
[null,2,"\"02_Oso m\""]
[null,3,"\"03_Oso m\"",null,null,null,null,1]
[null,4,"\"04_Osor m\""]
[null,5,"\"05_Oso m\""]
[null,6,"\"06_Oso m\""]
[null,7,"\"07_Oso m\""]
[null,8,"\"08_Oso m\"",null,null,null,null,1]
[null,9,"\"09_Oso f\"",null,null,null,null,1]
[null,10,"\"10_Oso f\"",null,null,null,null,2,null,null,null,1]
[null,11,"\"11_Oso f\"",null,null,null,null,null,null,null,null,1]
[null,12,"\"12_Oso m\""]
[null,13,"\"13_Oso m\""]
[null,14,"\"14_Oso m\""]
[]
["Q_12",null,null,1,2,3,4,5,6,7,8,9,10,11,12,13,14]
["Q_3_N",1,"\"01_Oso f\""]
[null,2,"\"02_Oso m\""]
[null,3,"\"03_Oso m\""]
[null,4,"\"04_Osor m\""]
[null,5,"\"05_Oso m\""]
[null,6,"\"06_Oso m\""]
[null,7,"\"07_Oso m\""]
[null,8,"\"08_Oso m\""]
[null,9,"\"09_Oso f\""]
[null,10,"\"10_Oso f\"",null,null,null,null,null,null,null,1]
[null,11,"\"11_Oso f\""]
[null,12,"\"12_Oso m\""]
[null,13,"\"13_Oso m\""]
[null,14,"\"14_Oso m\""]